{"text_format":"1","workbook":"xlsx","n_sheets":11,"sheets":["Cover","Introduction","Screenshots","Statistics","Conformance Statement","Success Criteria","Colour Contrast Analysis","Non-text Contrast","Changelog","Comboboxes","Data Table"],"not_rendered":{"charts":0,"images":48,"macros":1,"external_links":1,"defined_names":57,"comments":0,"pivot_tables":0},"unopened":[],"bounds":{"document_bytes":16777216,"sheet_cells":100000,"rows_first":2000,"rows_last":500,"rows_between":2000,"halvings":0,"cell_chars":16384,"cell_head_chars":4096},"cells_cut":0,"cells_raw":0,"read":"whole","date_system":"1900"}

{"sheet":"Cover","index":0,"n_rows":0,"n_cols":0,"rows_kept":0,"cut":false,"hidden":true,"merged":[[0,0,0,3]]}

{"sheet":"Introduction","index":1,"n_rows":8,"n_cols":2,"rows_kept":8,"cut":false,"hidden":false,"merged":[]}
["This worksheet contains a single column of text. It explains the content of the other worksheets in this document and how they relate to each other.\n\nOn each worksheet, a cell in column A contains the phrase \"End of content\" to indicate that there are no more rows of content. A cell in row 1 contains the phrase \"End of content\" to indicate that there are no more columns of content.\n","End of content."]
["The Screenshots worksheet\nEach column contains screenshots of the components and pages that were tested. The columns are in the same order as the Success Criteria worksheet.\n"]
["The Statistics worksheet\nRows 2 to 11 contain the meta information for the project, such as the project name, report version number, the tester's name, report date, details of the test environment and the scope of testing (WCAG level A, AA or AAA). This information is in columns A to S.\nRows 13 and below contain details of what was tested and the number of WCAG non-conformances.\nColumns B, C and D contain a list of the names and URLs of the components, pages, documents and mobile app screens that were tested.\nColumns E to T contain the numbers of passes and non-conformances for each component, page, document and mobile app screen. Separate figures are shown for level A, AA, AAA and the total.\n"]
["The Conformance Statement worksheet\nIf the document contains a Conformance Statement worksheet, it will contain a single column of text. It includes the scope of the statement, the level of conformance, any accessibility limitations and a list of the technologies that are relied on for conformance.\n"]
["The Success Criteria worksheet\nThis contains the test results, which are highly granular, showing the results for each WCAG success criterion for each page.\nColumns A to D contain a list of all the WCAG success criteria that were tested. For each success criterion, column A contains a link to the corresponding page on the W3C website.\nColumns E to EX contain the test results for each component, page, document or mobile app screen.\nRows 1 and 2 contain the page number and the date it was first tested.\nRow 3 contains the page names.\nRow 4 contains the URLs.\nRow 5 contains the number of non-conformances at WCAG level A, AA and AAA.\nRow 6 contains a link to the corresponding screenshot on the Screenshots worksheet. Not every column will contain this link.\nRows 8 and below contain the test results. Each WCAG success criterion occupies two rows. The first row contains the status, such as Pass, Non-conformant or Not Applicable. The second row contains an explanation and recommendations. Two success criteria, for Colour Contrast and Non-text Contrast, have a third row to accommodate the tester's comments in addition to the automatically generated content on the two previous rows.\n"]
["The Colour Contrast Analysis worksheet\nThis contains a record of every combination of text colour and background colour that is used on each page. Each combination is on a separate row from row 5 downwards.\nThe results on this worksheet automatically populate the relevant cells in the Success Criteria worksheet.\nColumn A contains a description of what the text is used for, such as headings, body text, links etc.\nColumn B contains a small screenshot of an example of that combination of text colour and background colour.\nColumn C contains the text colour in Hex format.\nColumn D contains the background colour in Hex format.\nColumn E specifies whether the text is large or small, as defined by WCAG.\nColumns F to U are intentionally hidden because they contain calculations.\nColumn V contains the calculated colour contrast ratio.\nColumn W contains the exemption status.\nColumn X contains the Pass / Fail result.\nColumn Y specifies whether the text is in an image or a video or if it is actual text.\nColumns Z to FS show which combinations of text and background colours occur on which pages.\nIn columns Z to FS, row 1 contains the page name, row 2 contains the URL, row 3 contains the page number and row 4 contains the number of combinations that are non-conformant on that page.\n"]
["The Non-text Contrast worksheet\nThis contains a record of the adjacent colours of every non-text item on each page. Each combination is on a separate row from row 5 downwards.\nThe results on this worksheet automatically populate the relevant cells in the Success Criteria worksheet.\nColumn A contains a description of the item, such as an icon, form control or focus indicator.\nColumn B specifies which colours are being compared.\nColumn C contains a small screenshot of an example of the non-text item.\nColumn D contains a graphical representation of our recommendation if there is not sufficient colour contrast.\nColumn E contains our written recommendation if there is not sufficient colour contrast.\nColumns F and G contain the two adjacent colours in Hex format.\nColumns H to W are intentionally hidden because they contain calculations.\nColumn X contains the calculated colour contrast ratio.\nColumn Y contains the exemption status.\nColumn Z contains the Pass / Fail result.\nColumns Z to FS show which combinations of text and background colours occur on which pages.\nIn columns AA to FT, row 1 contains the page name, row 2 contains the URL, row 3 contains the page number and row 4 contains the number of combinations that are non-conformant on that page.\n"]
["End of content."]

{"sheet":"Screenshots","index":2,"n_rows":68,"n_cols":151,"rows_kept":68,"cut":false,"hidden":false,"merged":[]}
[{"$f":"\"Page # \" & COLUMN(A1) & \": \" & 'Success Criteria'!E3","v":"Page # 1: Home"},{"$f":"\"Page # \" & COLUMN(B1) & \": \" & 'Success Criteria'!F3","v":"Page # 2: Submission form page 1"},{"$f":"\"Page # \" & COLUMN(C1) & \": \" & 'Success Criteria'!G3","v":"Page # 3: Submission form page 2"},{"$f":"\"Page # \" & COLUMN(D1) & \": \" & 'Success Criteria'!H3","v":"Page # 4: Submission form page 3"},{"$f":"\"Page # \" & COLUMN(E1) & \": \" & 'Success Criteria'!I3","v":"Page # 5: Gallery page"},{"$f":"\"Page # \" & COLUMN(F1) & \": \" & 'Success Criteria'!J3","v":"Page # 6: "},{"$f":"\"Page # \" & COLUMN(G1) & \": \" & 'Success Criteria'!K3","v":"Page # 7: Page 7"},{"$f":"\"Page # \" & COLUMN(H1) & \": \" & 'Success Criteria'!L3","v":"Page # 8: Page 8"},{"$f":"\"Page # \" & COLUMN(I1) & \": \" & 'Success Criteria'!M3","v":"Page # 9: Page 9"},{"$f":"\"Page # \" & COLUMN(J1) & \": \" & 'Success Criteria'!N3","v":"Page # 10: Page 10"},{"$f":"\"Page # \" & COLUMN(K1) & \": \" & 'Success Criteria'!O3","v":"Page # 11: Page 11"},{"$f":"\"Page # \" & COLUMN(L1) & \": \" & 'Success Criteria'!P3","v":"Page # 12: Page 12"},{"$f":"\"Page # \" & COLUMN(M1) & \": \" & 'Success Criteria'!Q3","v":"Page # 13: Page 13"},{"$f":"\"Page # \" & COLUMN(N1) & \": \" & 'Success Criteria'!R3","v":"Page # 14: Page 14"},{"$f":"\"Page # \" & COLUMN(O1) & \": \" & 'Success Criteria'!S3","v":"Page # 15: Page 15"},{"$f":"\"Page # \" & COLUMN(P1) & \": \" & 'Success Criteria'!T3","v":"Page # 16: Page 16"},{"$f":"\"Page # \" & COLUMN(Q1) & \": \" & 'Success Criteria'!U3","v":"Page # 17: Page 17"},{"$f":"\"Page # \" & COLUMN(R1) & \": \" & 'Success Criteria'!V3","v":"Page # 18: Page 18"},{"$f":"\"Page # \" & COLUMN(S1) & \": \" & 'Success Criteria'!W3","v":"Page # 19: Page 19"},{"$f":"\"Page # \" & COLUMN(T1) & \": \" & 'Success Criteria'!X3","v":"Page # 20: Page 20"},{"$f":"\"Page # \" & COLUMN(U1) & \": \" & 'Success Criteria'!Y3","v":"Page # 21: Page 21"},{"$f":"\"Page # \" & COLUMN(V1) & \": \" & 'Success Criteria'!Z3","v":"Page # 22: Page 22"},{"$f":"\"Page # \" & COLUMN(W1) & \": \" & 'Success Criteria'!AA3","v":"Page # 23: Page 23"},{"$f":"\"Page # \" & COLUMN(X1) & \": \" & 'Success Criteria'!AB3","v":"Page # 24: Page 24"},{"$f":"\"Page # \" & COLUMN(Y1) & \": \" & 'Success Criteria'!AC3","v":"Page # 25: Page 25"},{"$f":"\"Page # \" & COLUMN(Z1) & \": \" & 'Success Criteria'!AD3","v":"Page # 26: Page 26"},{"$f":"\"Page # \" & COLUMN(AA1) & \": \" & 'Success Criteria'!AE3","v":"Page # 27: Page 27"},{"$f":"\"Page # \" & COLUMN(AB1) & \": \" & 'Success Criteria'!AF3","v":"Page # 28: Page 28"},{"$f":"\"Page # \" & COLUMN(AC1) & \": \" & 'Success Criteria'!AG3","v":"Page # 29: Page 29"},{"$f":"\"Page # \" & COLUMN(AD1) & \": \" & 'Success Criteria'!AH3","v":"Page # 30: Page 30"},{"$f":"\"Page # \" & COLUMN(AE1) & \": \" & 'Success Criteria'!AI3","v":"Page # 31: Page 31"},{"$f":"\"Page # \" & COLUMN(AF1) & \": \" & 'Success Criteria'!AJ3","v":"Page # 32: Page 32"},{"$f":"\"Page # \" & COLUMN(AG1) & \": \" & 'Success Criteria'!AK3","v":"Page # 33: Page 33"},{"$f":"\"Page # \" & COLUMN(AH1) & \": \" & 'Success Criteria'!AL3","v":"Page # 34: Page 34"},{"$f":"\"Page # \" & COLUMN(AI1) & \": \" & 'Success Criteria'!AM3","v":"Page # 35: Page 35"},{"$f":"\"Page # \" & COLUMN(AJ1) & \": \" & 'Success Criteria'!AN3","v":"Page # 36: Page 36"},{"$f":"\"Page # \" & COLUMN(AK1) & \": \" & 'Success Criteria'!AO3","v":"Page # 37: Page 37"},{"$f":"\"Page # \" & COLUMN(AL1) & \": \" & 'Success Criteria'!AP3","v":"Page # 38: Page 38"},{"$f":"\"Page # \" & COLUMN(AM1) & \": \" & 'Success Criteria'!AQ3","v":"Page # 39: Page 39"},{"$f":"\"Page # \" & COLUMN(AN1) & \": \" & 'Success Criteria'!AR3","v":"Page # 40: Page 40"},{"$f":"\"Page # \" & COLUMN(AO1) & \": \" & 'Success Criteria'!AS3","v":"Page # 41: Page 41"},{"$f":"\"Page # \" & COLUMN(AP1) & \": \" & 'Success Criteria'!AT3","v":"Page # 42: Page 42"},{"$f":"\"Page # \" & COLUMN(AQ1) & \": \" & 'Success Criteria'!AU3","v":"Page # 43: Page 43"},{"$f":"\"Page # \" & COLUMN(AR1) & \": \" & 'Success Criteria'!AV3","v":"Page # 44: Page 44"},{"$f":"\"Page # \" & COLUMN(AS1) & \": \" & 'Success Criteria'!AW3","v":"Page # 45: Page 45"},{"$f":"\"Page # \" & COLUMN(AT1) & \": \" & 'Success Criteria'!AX3","v":"Page # 46: Page 46"},{"$f":"\"Page # \" & COLUMN(AU1) & \": \" & 'Success Criteria'!AY3","v":"Page # 47: Page 47"},{"$f":"\"Page # \" & COLUMN(AV1) & \": \" & 'Success Criteria'!AZ3","v":"Page # 48: Page 48"},{"$f":"\"Page # \" & COLUMN(AW1) & \": \" & 'Success Criteria'!BA3","v":"Page # 49: Page 49"},{"$f":"\"Page # \" & COLUMN(AX1) & \": \" & 'Success Criteria'!BB3","v":"Page # 50: Page 50"},{"$f":"\"Page # \" & COLUMN(AY1) & \": \" & 'Success Criteria'!BC3","v":"Page # 51: Page 51"},{"$f":"\"Page # \" & COLUMN(AZ1) & \": \" & 'Success Criteria'!BD3","v":"Page # 52: Page 52"},{"$f":"\"Page # \" & COLUMN(BA1) & \": \" & 'Success Criteria'!BE3","v":"Page # 53: Page 53"},{"$f":"\"Page # \" & COLUMN(BB1) & \": \" & 'Success Criteria'!BF3","v":"Page # 54: Page 54"},{"$f":"\"Page # \" & COLUMN(BC1) & \": \" & 'Success Criteria'!BG3","v":"Page # 55: Page 55"},{"$f":"\"Page # \" & COLUMN(BD1) & \": \" & 'Success Criteria'!BH3","v":"Page # 56: Page 56"},{"$f":"\"Page # \" & COLUMN(BE1) & \": \" & 'Success Criteria'!BI3","v":"Page # 57: Page 57"},{"$f":"\"Page # \" & COLUMN(BF1) & \": \" & 'Success Criteria'!BJ3","v":"Page # 58: Page 58"},{"$f":"\"Page # \" & COLUMN(BG1) & \": \" & 'Success Criteria'!BK3","v":"Page # 59: Page 59"},{"$f":"\"Page # \" & COLUMN(BH1) & \": \" & 'Success Criteria'!BL3","v":"Page # 60: Page 60"},{"$f":"\"Page # \" & COLUMN(BI1) & \": \" & 'Success Criteria'!BM3","v":"Page # 61: Page 61"},{"$f":"\"Page # \" & COLUMN(BJ1) & \": \" & 'Success Criteria'!BN3","v":"Page # 62: Page 62"},{"$f":"\"Page # \" & COLUMN(BK1) & \": \" & 'Success Criteria'!BO3","v":"Page # 63: Page 63"},{"$f":"\"Page # \" & COLUMN(BL1) & \": \" & 'Success Criteria'!BP3","v":"Page # 64: Page 64"},{"$f":"\"Page # \" & COLUMN(BM1) & \": \" & 'Success Criteria'!BQ3","v":"Page # 65: Page 65"},{"$f":"\"Page # \" & COLUMN(BN1) & \": \" & 'Success Criteria'!BR3","v":"Page # 66: Page 66"},{"$f":"\"Page # \" & COLUMN(BO1) & \": \" & 'Success Criteria'!BS3","v":"Page # 67: Page 67"},{"$f":"\"Page # \" & COLUMN(BP1) & \": \" & 'Success Criteria'!BT3","v":"Page # 68: Page 68"},{"$f":"\"Page # \" & COLUMN(BQ1) & \": \" & 'Success Criteria'!BU3","v":"Page # 69: Page 69"},{"$f":"\"Page # \" & COLUMN(BR1) & \": \" & 'Success Criteria'!BV3","v":"Page # 70: Page 70"},{"$f":"\"Page # \" & COLUMN(BS1) & \": \" & 'Success Criteria'!BW3","v":"Page # 71: Page 71"},{"$f":"\"Page # \" & COLUMN(BT1) & \": \" & 'Success Criteria'!BX3","v":"Page # 72: Page 72"},{"$f":"\"Page # \" & COLUMN(BU1) & \": \" & 'Success Criteria'!BY3","v":"Page # 73: Page 73"},{"$f":"\"Page # \" & COLUMN(BV1) & \": \" & 'Success Criteria'!BZ3","v":"Page # 74: Page 74"},{"$f":"\"Page # \" & COLUMN(BW1) & \": \" & 'Success Criteria'!CA3","v":"Page # 75: Page 75"},{"$f":"\"Page # \" & COLUMN(BX1) & \": \" & 'Success Criteria'!CB3","v":"Page # 76: Page 76"},{"$f":"\"Page # \" & COLUMN(BY1) & \": \" & 'Success Criteria'!CC3","v":"Page # 77: Page 77"},{"$f":"\"Page # \" & COLUMN(BZ1) & \": \" & 'Success Criteria'!CD3","v":"Page # 78: Page 78"},{"$f":"\"Page # \" & COLUMN(CA1) & \": \" & 'Success Criteria'!CE3","v":"Page # 79: Page 79"},{"$f":"\"Page # \" & COLUMN(CB1) & \": \" & 'Success Criteria'!CF3","v":"Page # 80: Page 80"},{"$f":"\"Page # \" & COLUMN(CC1) & \": \" & 'Success Criteria'!CG3","v":"Page # 81: Page 81"},{"$f":"\"Page # \" & COLUMN(CD1) & \": \" & 'Success Criteria'!CH3","v":"Page # 82: Page 82"},{"$f":"\"Page # \" & COLUMN(CE1) & \": \" & 'Success Criteria'!CI3","v":"Page # 83: Page 83"},{"$f":"\"Page # \" & COLUMN(CF1) & \": \" & 'Success Criteria'!CJ3","v":"Page # 84: Page 84"},{"$f":"\"Page # \" & COLUMN(CG1) & \": \" & 'Success Criteria'!CK3","v":"Page # 85: Page 85"},{"$f":"\"Page # \" & COLUMN(CH1) & \": \" & 'Success Criteria'!CL3","v":"Page # 86: Page 86"},{"$f":"\"Page # \" & COLUMN(CI1) & \": \" & 'Success Criteria'!CM3","v":"Page # 87: Page 87"},{"$f":"\"Page # \" & COLUMN(CJ1) & \": \" & 'Success Criteria'!CN3","v":"Page # 88: Page 88"},{"$f":"\"Page # \" & COLUMN(CK1) & \": \" & 'Success Criteria'!CO3","v":"Page # 89: Page 89"},{"$f":"\"Page # \" & COLUMN(CL1) & \": \" & 'Success Criteria'!CP3","v":"Page # 90: Page 90"},{"$f":"\"Page # \" & COLUMN(CM1) & \": \" & 'Success Criteria'!CQ3","v":"Page # 91: Page 91"},{"$f":"\"Page # \" & COLUMN(CN1) & \": \" & 'Success Criteria'!CR3","v":"Page # 92: Page 92"},{"$f":"\"Page # \" & COLUMN(CO1) & \": \" & 'Success Criteria'!CS3","v":"Page # 93: Page 93"},{"$f":"\"Page # \" & COLUMN(CP1) & \": \" & 'Success Criteria'!CT3","v":"Page # 94: Page 94"},{"$f":"\"Page # \" & COLUMN(CQ1) & \": \" & 'Success Criteria'!CU3","v":"Page # 95: Page 95"},{"$f":"\"Page # \" & COLUMN(CR1) & \": \" & 'Success Criteria'!CV3","v":"Page # 96: Page 96"},{"$f":"\"Page # \" & COLUMN(CS1) & \": \" & 'Success Criteria'!CW3","v":"Page # 97: Page 97"},{"$f":"\"Page # \" & COLUMN(CT1) & \": \" & 'Success Criteria'!CX3","v":"Page # 98: Page 98"},{"$f":"\"Page # \" & COLUMN(CU1) & \": \" & 'Success Criteria'!CY3","v":"Page # 99: Page 99"},{"$f":"\"Page # \" & COLUMN(CV1) & \": \" & 'Success Criteria'!CZ3","v":"Page # 100: Page 100"},{"$f":"\"Page # \" & COLUMN(CW1) & \": \" & 'Success Criteria'!DA3","v":"Page # 101: Page 101"},{"$f":"\"Page # \" & COLUMN(CX1) & \": \" & 'Success Criteria'!DB3","v":"Page # 102: Page 102"},{"$f":"\"Page # \" & COLUMN(CY1) & \": \" & 'Success Criteria'!DC3","v":"Page # 103: Page 103"},{"$f":"\"Page # \" & COLUMN(CZ1) & \": \" & 'Success Criteria'!DD3","v":"Page # 104: Page 104"},{"$f":"\"Page # \" & COLUMN(DA1) & \": \" & 'Success Criteria'!DE3","v":"Page # 105: Page 105"},{"$f":"\"Page # \" & COLUMN(DB1) & \": \" & 'Success Criteria'!DF3","v":"Page # 106: Page 106"},{"$f":"\"Page # \" & COLUMN(DC1) & \": \" & 'Success Criteria'!DG3","v":"Page # 107: Page 107"},{"$f":"\"Page # \" & COLUMN(DD1) & \": \" & 'Success Criteria'!DH3","v":"Page # 108: Page 108"},{"$f":"\"Page # \" & COLUMN(DE1) & \": \" & 'Success Criteria'!DI3","v":"Page # 109: Page 109"},{"$f":"\"Page # \" & COLUMN(DF1) & \": \" & 'Success Criteria'!DJ3","v":"Page # 110: Page 110"},{"$f":"\"Page # \" & COLUMN(DG1) & \": \" & 'Success Criteria'!DK3","v":"Page # 111: Page 111"},{"$f":"\"Page # \" & COLUMN(DH1) & \": \" & 'Success Criteria'!DL3","v":"Page # 112: Page 112"},{"$f":"\"Page # \" & COLUMN(DI1) & \": \" & 'Success Criteria'!DM3","v":"Page # 113: Page 113"},{"$f":"\"Page # \" & COLUMN(DJ1) & \": \" & 'Success Criteria'!DN3","v":"Page # 114: Page 114"},{"$f":"\"Page # \" & COLUMN(DK1) & \": \" & 'Success Criteria'!DO3","v":"Page # 115: Page 115"},{"$f":"\"Page # \" & COLUMN(DL1) & \": \" & 'Success Criteria'!DP3","v":"Page # 116: Page 116"},{"$f":"\"Page # \" & COLUMN(DM1) & \": \" & 'Success Criteria'!DQ3","v":"Page # 117: Page 117"},{"$f":"\"Page # \" & COLUMN(DN1) & \": \" & 'Success Criteria'!DR3","v":"Page # 118: Page 118"},{"$f":"\"Page # \" & COLUMN(DO1) & \": \" & 'Success Criteria'!DS3","v":"Page # 119: Page 119"},{"$f":"\"Page # \" & COLUMN(DP1) & \": \" & 'Success Criteria'!DT3","v":"Page # 120: Page 120"},{"$f":"\"Page # \" & COLUMN(DQ1) & \": \" & 'Success Criteria'!DU3","v":"Page # 121: Page 121"},{"$f":"\"Page # \" & COLUMN(DR1) & \": \" & 'Success Criteria'!DV3","v":"Page # 122: Page 122"},{"$f":"\"Page # \" & COLUMN(DS1) & \": \" & 'Success Criteria'!DW3","v":"Page # 123: Page 123"},{"$f":"\"Page # \" & COLUMN(DT1) & \": \" & 'Success Criteria'!DX3","v":"Page # 124: Page 124"},{"$f":"\"Page # \" & COLUMN(DU1) & \": \" & 'Success Criteria'!DY3","v":"Page # 125: Page 125"},{"$f":"\"Page # \" & COLUMN(DV1) & \": \" & 'Success Criteria'!DZ3","v":"Page # 126: Page 126"},{"$f":"\"Page # \" & COLUMN(DW1) & \": \" & 'Success Criteria'!EA3","v":"Page # 127: Page 127"},{"$f":"\"Page # \" & COLUMN(DX1) & \": \" & 'Success Criteria'!EB3","v":"Page # 128: Page 128"},{"$f":"\"Page # \" & COLUMN(DY1) & \": \" & 'Success Criteria'!EC3","v":"Page # 129: Page 129"},{"$f":"\"Page # \" & COLUMN(DZ1) & \": \" & 'Success Criteria'!ED3","v":"Page # 130: Page 130"},{"$f":"\"Page # \" & COLUMN(EA1) & \": \" & 'Success Criteria'!EE3","v":"Page # 131: Page 131"},{"$f":"\"Page # \" & COLUMN(EB1) & \": \" & 'Success Criteria'!EF3","v":"Page # 132: Page 132"},{"$f":"\"Page # \" & COLUMN(EC1) & \": \" & 'Success Criteria'!EG3","v":"Page # 133: Page 133"},{"$f":"\"Page # \" & COLUMN(ED1) & \": \" & 'Success Criteria'!EH3","v":"Page # 134: Page 134"},{"$f":"\"Page # \" & COLUMN(EE1) & \": \" & 'Success Criteria'!EI3","v":"Page # 135: Page 135"},{"$f":"\"Page # \" & COLUMN(EF1) & \": \" & 'Success Criteria'!EJ3","v":"Page # 136: Page 136"},{"$f":"\"Page # \" & COLUMN(EG1) & \": \" & 'Success Criteria'!EK3","v":"Page # 137: Page 137"},{"$f":"\"Page # \" & COLUMN(EH1) & \": \" & 'Success Criteria'!EL3","v":"Page # 138: Page 138"},{"$f":"\"Page # \" & COLUMN(EI1) & \": \" & 'Success Criteria'!EM3","v":"Page # 139: Page 139"},{"$f":"\"Page # \" & COLUMN(EJ1) & \": \" & 'Success Criteria'!EN3","v":"Page # 140: Page 140"},{"$f":"\"Page # \" & COLUMN(EK1) & \": \" & 'Success Criteria'!EO3","v":"Page # 141: Page 141"},{"$f":"\"Page # \" & COLUMN(EL1) & \": \" & 'Success Criteria'!EP3","v":"Page # 142: Page 142"},{"$f":"\"Page # \" & COLUMN(EM1) & \": \" & 'Success Criteria'!EQ3","v":"Page # 143: Page 143"},{"$f":"\"Page # \" & COLUMN(EN1) & \": \" & 'Success Criteria'!ER3","v":"Page # 144: Page 144"},{"$f":"\"Page # \" & COLUMN(EO1) & \": \" & 'Success Criteria'!ES3","v":"Page # 145: Page 145"},{"$f":"\"Page # \" & COLUMN(EP1) & \": \" & 'Success Criteria'!ET3","v":"Page # 146: Page 146"},{"$f":"\"Page # \" & COLUMN(EQ1) & \": \" & 'Success Criteria'!EU3","v":"Page # 147: Page 147"},{"$f":"\"Page # \" & COLUMN(ER1) & \": \" & 'Success Criteria'!EV3","v":"Page # 148: Page 148"},{"$f":"\"Page # \" & COLUMN(ES1) & \": \" & 'Success Criteria'!EW3","v":"Page # 149: Page 149"},{"$f":"\"Page # \" & COLUMN(ET1) & \": \" & 'Success Criteria'!EX3","v":"Page # 150: Page 150"},"End of content"]
[]
[]
[]
[]
[]
[]
[]
[]
[]
[]
[]
[]
[]
[]
[]
[]
[]
[]
[]
[]
[]
[]
[]
[]
[]
[]
[]
[]
[]
[]
[]
[]
[null,null,"After adding entries, they are displayed in a table as shown below."]
[]
[]
[]
[]
[]
[]
[]
[]
[]
[]
[]
[]
[]
[]
[]
[]
[]
[]
[]
[]
[]
[]
[]
[]
[]
[]
[]
[]
[]
[]
[]
[]
[]
[null,null,null,null,"When an image is clicked, a carousel opens in an overlay as shown below."]

{"sheet":"Statistics","index":3,"n_rows":170,"n_cols":27,"rows_kept":170,"cut":false,"hidden":false,"merged":[[1,2,1,7],[2,2,2,7],[3,2,3,7],[1,16,1,17],[2,16,2,17],[3,16,3,17],[4,16,4,17],[1,8,1,11],[2,12,2,15],[3,12,3,15],[4,12,4,15],[2,8,2,11],[3,8,3,11],[4,8,4,11],[5,8,5,11],[12,0,12,3],[5,2,5,7],[8,2,8,7],[7,8,7,11],[9,2,9,7],[9,8,9,11],[8,8,8,11],[8,12,8,15],[168,0,168,2],[167,0,167,2],[12,4,12,7],[12,8,12,11],[165,8,165,11],[165,4,165,7],[12,23,13,23],[12,22,13,22],[9,12,9,15],[12,24,13,24],[165,16,165,19],[12,16,12,19],[12,12,12,15],[165,12,165,15],[0,21,0,22],[1,21,10,26],[6,12,6,15],[0,0,0,15],[12,26,13,26],[12,25,13,25],[12,21,13,21],[6,8,6,11],[10,2,10,7],[10,8,10,11],[10,12,10,15],[6,2,6,7],[7,2,7,7],[4,2,4,7],[7,12,7,15],[5,12,5,15]]}
["\nWCAG 2.1 website accessibility audit\nStatistics",null,null,null,null,null,null,null,null,null,null,null,null,null,null,null,null,null,null,null,"End of content","Tidy Document"]
["Client",null,"Greater London Authority",null,null,null,null,null,"Test Environment",null,null,null,null,null,null,null,"Scope",null,null,null,null,"Hide these columns before delivery to the client\n\nMany cells are protected and cannot be edited. Unprotect the worksheet to delete columns or rows.\nDo not add columns or rows.\n\nSee Steve Green if amendments are necessary."]
["Website or Mobile App Name",null,"Fourth Plinth Schools Awards",null,null,null,null,null,"Primary Operating System",null,null,null,"Windows 10",null,null,null,"Level A",null,"Yes"]
["URL or Mobile App Version Number",null,"https://wwwtest.london.gov.uk/programmes-strategies/arts-and-culture/current-culture-projects/fourth-plinth-trafalgar-square",null,null,null,null,null,"Primary Browser",null,null,null,"Chrome v108.0.5359.125",null,null,null,"Level AA",null,"Yes"]
["Quotation Number",null,"006010",null,null,null,null,null,"Primary Screen Reader",null,null,null,"JAWS 2021",null,null,null,"Level AAA",null,"No"]
["Report Version Number",null,"3",null,null,null,null,null,"Screen Size",null,null,null,"27\""]
["Testing Last Conducted By",null,"Steve Green",null,null,null,null,null,"Screen Resolution",null,null,null,"1920x1080px"]
["Testing Last Conducted On",null,"2023-01-04",null,null,null,null,null,"Secondary Browser 1",null,null,null,"Firefox"]
["Report Last Reviewed By",null,null,null,null,null,null,null,"Secondary Browser 2",null,null,null,"Safari"]
["Report Last Reviewed On",null,null,null,null,null,null,null,"Secondary Browser 3"]
[null,null,null,null,null,null,null,null,"Primary PDF Reader",null,null,null,"N/A"]
[]
[null,null,null,null,"Level A",null,null,null,"Level AA",null,null,null,"Level AAA",null,null,null,"Total",null,null,null,null,"Level A Checkpoints Done ","Level A Checkpoints Complete ","Level AA Checkpoints Done ","Level AA Checkpoints Complete ","Level AAA Checkpoints Done ","Level AAA Checkpoints Complete "]
["ID","Page Name","Page URL","Page or Component","Pass","Fail","N/A","Not tested","Pass","Fail","N/A ","Not tested","Pass","Fail","N/A ","Not tested","Pass","Fail","N/A ","Not tested"]
[1,"Home","https://wwwtest.london.gov.uk/programmes-strategies/arts-and-culture/current-culture-projects/fourth-plinth-trafalgar-square","HTML Page",{"$f":"SUM(COUNTIF(INDIRECT(\"'Success Criteria'!\" & ADDRESS(8,A15+4)):INDIRECT(\"'Success Criteria'!\" & ADDRESS(70,A15+4)),\"PASS\"),COUNTIF(INDIRECT(\"'Success Criteria'!\" & ADDRESS(8,A15+4)):INDIRECT(\"'Success Criteria'!\" & ADDRESS(70,A15+4)),\"PASS with comments\"))","v":18},{"$f":"COUNTIF(INDIRECT(\"'Success Criteria'!\" & ADDRESS(8,A15+4)):INDIRECT(\"'Success Criteria'!\" & ADDRESS(70,A15+4)),\"NON conformant\")","v":1},{"$f":"COUNTIF(INDIRECT(\"'Success Criteria'!\" & ADDRESS(8,A15+4)):INDIRECT(\"'Success Criteria'!\" & ADDRESS(70,A15+4)),\"N/A\")","v":11},{"$f":"COUNTIF(INDIRECT(\"'Success Criteria'!\" & ADDRESS(8,A15+4)):INDIRECT(\"'Success Criteria'!\" & ADDRESS(70,A15+4)),\"not tested\")","v":0},{"$f":"SUM(COUNTIF(INDIRECT(\"'Success Criteria'!\" & ADDRESS(74,A15+4)):INDIRECT(\"'Success Criteria'!\" & ADDRESS(117,A15+4)),\"PASS\"),COUNTIF(INDIRECT(\"'Success Criteria'!\" & ADDRESS(74,A15+4)):INDIRECT(\"'Success Criteria'!\" & ADDRESS(117,A15+4)),\"PASS with comments\"))","v":11},{"$f":"COUNTIF(INDIRECT(\"'Success Criteria'!\" & ADDRESS(74,A15+4)):INDIRECT(\"'Success Criteria'!\" & ADDRESS(117,A15+4)),\"NON conformant\")","v":0},{"$f":"COUNTIF(INDIRECT(\"'Success Criteria'!\" & ADDRESS(74,A15+4)):INDIRECT(\"'Success Criteria'!\" & ADDRESS(117,A15+4)),\"N/A\")","v":9},{"$f":"COUNTIF(INDIRECT(\"'Success Criteria'!\" & ADDRESS(74,A15+4)):INDIRECT(\"'Success Criteria'!\" & ADDRESS(117,A15+4)),\"not tested\")","v":0},{"$f":"SUM(COUNTIF(INDIRECT(\"'Success Criteria'!\" & ADDRESS(122,A15+4)):INDIRECT(\"'Success Criteria'!\" & ADDRESS(176,A15+4)),\"PASS\"),COUNTIF(INDIRECT(\"'Success Criteria'!\" & ADDRESS(122,A15+4)):INDIRECT(\"'Success Criteria'!\" & ADDRESS(176,A15+4)),\"PASS with comments\"))","v":0},{"$f":"COUNTIF(INDIRECT(\"'Success Criteria'!\" & ADDRESS(122,A15+4)):INDIRECT(\"'Success Criteria'!\" & ADDRESS(176,A15+4)),\"NON conformant\")","v":0},{"$f":"COUNTIF(INDIRECT(\"'Success Criteria'!\" & ADDRESS(122,A15+4)):INDIRECT(\"'Success Criteria'!\" & ADDRESS(176,A15+4)),\"N/A\")","v":0},{"$f":"COUNTIF(INDIRECT(\"'Success Criteria'!\" & ADDRESS(122,A15+4)):INDIRECT(\"'Success Criteria'!\" & ADDRESS(176,A15+4)),\"not tested\")","v":28},{"$f":"SUM(E15+I15+M15)","v":29},{"$f":"SUM(F15+J15+N15)","v":1},{"$f":"SUM(G15+K15+O15)","v":20},{"$f":"SUM(H15+L15+P15)","v":28},null,{"$f":"SUM(E15:H15)","v":30},{"$f":"IF(V15=30,1,\"\")","v":1},{"$f":"SUM($I15:$L15)","v":20},{"$f":"IF(X15=20,1,\"\")","v":1},{"$f":"SUM($M15:$P15)","v":28},{"$f":"IF(Z15=28,1,\"\")","v":1}]
[2,"Submission form page 1","https://wwwtest.london.gov.uk/programmes-strategies/arts-and-culture/current-culture-projects/fourth-plinth-trafalgar-square/fourth-plinth-schools-awards-2023-submissions-form","HTML Page",{"$f":"SUM(COUNTIF(INDIRECT(\"'Success Criteria'!\" & ADDRESS(8,A16+4)):INDIRECT(\"'Success Criteria'!\" & ADDRESS(70,A16+4)),\"PASS\"),COUNTIF(INDIRECT(\"'Success Criteria'!\" & ADDRESS(8,A16+4)):INDIRECT(\"'Success Criteria'!\" & ADDRESS(70,A16+4)),\"PASS with comments\"))","v":20},{"$f":"COUNTIF(INDIRECT(\"'Success Criteria'!\" & ADDRESS(8,A16+4)):INDIRECT(\"'Success Criteria'!\" & ADDRESS(70,A16+4)),\"NON conformant\")","v":2},{"$f":"COUNTIF(INDIRECT(\"'Success Criteria'!\" & ADDRESS(8,A16+4)):INDIRECT(\"'Success Criteria'!\" & ADDRESS(70,A16+4)),\"N/A\")","v":8},{"$f":"COUNTIF(INDIRECT(\"'Success Criteria'!\" & ADDRESS(8,A16+4)):INDIRECT(\"'Success Criteria'!\" & ADDRESS(70,A16+4)),\"not tested\")","v":0},{"$f":"SUM(COUNTIF(INDIRECT(\"'Success Criteria'!\" & ADDRESS(74,A16+4)):INDIRECT(\"'Success Criteria'!\" & ADDRESS(117,A16+4)),\"PASS\"),COUNTIF(INDIRECT(\"'Success Criteria'!\" & ADDRESS(74,A16+4)):INDIRECT(\"'Success Criteria'!\" & ADDRESS(117,A16+4)),\"PASS with comments\"))","v":9},{"$f":"COUNTIF(INDIRECT(\"'Success Criteria'!\" & ADDRESS(74,A16+4)):INDIRECT(\"'Success Criteria'!\" & ADDRESS(117,A16+4)),\"NON conformant\")","v":4},{"$f":"COUNTIF(INDIRECT(\"'Success Criteria'!\" & ADDRESS(74,A16+4)):INDIRECT(\"'Success Criteria'!\" & ADDRESS(117,A16+4)),\"N/A\")","v":7},{"$f":"COUNTIF(INDIRECT(\"'Success Criteria'!\" & ADDRESS(74,A16+4)):INDIRECT(\"'Success Criteria'!\" & ADDRESS(117,A16+4)),\"not tested\")","v":0},{"$f":"SUM(COUNTIF(INDIRECT(\"'Success Criteria'!\" & ADDRESS(122,A16+4)):INDIRECT(\"'Success Criteria'!\" & ADDRESS(176,A16+4)),\"PASS\"),COUNTIF(INDIRECT(\"'Success Criteria'!\" & ADDRESS(122,A16+4)):INDIRECT(\"'Success Criteria'!\" & ADDRESS(176,A16+4)),\"PASS with comments\"))","v":0},{"$f":"COUNTIF(INDIRECT(\"'Success Criteria'!\" & ADDRESS(122,A16+4)):INDIRECT(\"'Success Criteria'!\" & ADDRESS(176,A16+4)),\"NON conformant\")","v":0},{"$f":"COUNTIF(INDIRECT(\"'Success Criteria'!\" & ADDRESS(122,A16+4)):INDIRECT(\"'Success Criteria'!\" & ADDRESS(176,A16+4)),\"N/A\")","v":0},{"$f":"COUNTIF(INDIRECT(\"'Success Criteria'!\" & ADDRESS(122,A16+4)):INDIRECT(\"'Success Criteria'!\" & ADDRESS(176,A16+4)),\"not tested\")","v":28},{"$f":"SUM(E16+I16+M16)","v":29},{"$f":"SUM(F16+J16+N16)","v":6},15,28,null,30,1,{"$f":"SUM($I16:$L16)","v":20},1,{"$f":"SUM($M16:$P16)","v":28},{"$f":"IF(Z16=28,1,\"\")","v":1}]
[3,"Submission form page 2","https://wwwtest.london.gov.uk/programmes-strategies/arts-and-culture/current-culture-projects/fourth-plinth-trafalgar-square/fourth-plinth-schools-awards-2023-submissions-form","HTML Page",{"$f":"SUM(COUNTIF(INDIRECT(\"'Success Criteria'!\" & ADDRESS(8,A17+4)):INDIRECT(\"'Success Criteria'!\" & ADDRESS(70,A17+4)),\"PASS\"),COUNTIF(INDIRECT(\"'Success Criteria'!\" & ADDRESS(8,A17+4)):INDIRECT(\"'Success Criteria'!\" & ADDRESS(70,A17+4)),\"PASS with comments\"))","v":18},{"$f":"COUNTIF(INDIRECT(\"'Success Criteria'!\" & ADDRESS(8,A17+4)):INDIRECT(\"'Success Criteria'!\" & ADDRESS(70,A17+4)),\"NON conformant\")","v":4},{"$f":"COUNTIF(INDIRECT(\"'Success Criteria'!\" & ADDRESS(8,A17+4)):INDIRECT(\"'Success Criteria'!\" & ADDRESS(70,A17+4)),\"N/A\")","v":8},{"$f":"COUNTIF(INDIRECT(\"'Success Criteria'!\" & ADDRESS(8,A17+4)):INDIRECT(\"'Success Criteria'!\" & ADDRESS(70,A17+4)),\"not tested\")","v":0},{"$f":"SUM(COUNTIF(INDIRECT(\"'Success Criteria'!\" & ADDRESS(74,A17+4)):INDIRECT(\"'Success Criteria'!\" & ADDRESS(117,A17+4)),\"PASS\"),COUNTIF(INDIRECT(\"'Success Criteria'!\" & ADDRESS(74,A17+4)):INDIRECT(\"'Success Criteria'!\" & ADDRESS(117,A17+4)),\"PASS with comments\"))","v":7},{"$f":"COUNTIF(INDIRECT(\"'Success Criteria'!\" & ADDRESS(74,A17+4)):INDIRECT(\"'Success Criteria'!\" & ADDRESS(117,A17+4)),\"NON conformant\")","v":4},{"$f":"COUNTIF(INDIRECT(\"'Success Criteria'!\" & ADDRESS(74,A17+4)):INDIRECT(\"'Success Criteria'!\" & ADDRESS(117,A17+4)),\"N/A\")","v":9},{"$f":"COUNTIF(INDIRECT(\"'Success Criteria'!\" & ADDRESS(74,A17+4)):INDIRECT(\"'Success Criteria'!\" & ADDRESS(117,A17+4)),\"not tested\")","v":0},{"$f":"SUM(COUNTIF(INDIRECT(\"'Success Criteria'!\" & ADDRESS(122,A17+4)):INDIRECT(\"'Success Criteria'!\" & ADDRESS(176,A17+4)),\"PASS\"),COUNTIF(INDIRECT(\"'Success Criteria'!\" & ADDRESS(122,A17+4)):INDIRECT(\"'Success Criteria'!\" & ADDRESS(176,A17+4)),\"PASS with comments\"))","v":0},{"$f":"COUNTIF(INDIRECT(\"'Success Criteria'!\" & ADDRESS(122,A17+4)):INDIRECT(\"'Success Criteria'!\" & ADDRESS(176,A17+4)),\"NON conformant\")","v":0},{"$f":"COUNTIF(INDIRECT(\"'Success Criteria'!\" & ADDRESS(122,A17+4)):INDIRECT(\"'Success Criteria'!\" & ADDRESS(176,A17+4)),\"N/A\")","v":0},{"$f":"COUNTIF(INDIRECT(\"'Success Criteria'!\" & ADDRESS(122,A17+4)):INDIRECT(\"'Success Criteria'!\" & ADDRESS(176,A17+4)),\"not tested\")","v":28},25,8,17,28,null,30,1,20,1,28,1]
[4,"Submission form page 3","https://wwwtest.london.gov.uk/programmes-strategies/arts-and-culture/current-culture-projects/fourth-plinth-trafalgar-square/fourth-plinth-schools-awards-2023-submissions-form","HTML Page",{"$f":"SUM(COUNTIF(INDIRECT(\"'Success Criteria'!\" & ADDRESS(8,A18+4)):INDIRECT(\"'Success Criteria'!\" & ADDRESS(70,A18+4)),\"PASS\"),COUNTIF(INDIRECT(\"'Success Criteria'!\" & ADDRESS(8,A18+4)):INDIRECT(\"'Success Criteria'!\" & ADDRESS(70,A18+4)),\"PASS with comments\"))","v":17},{"$f":"COUNTIF(INDIRECT(\"'Success Criteria'!\" & ADDRESS(8,A18+4)):INDIRECT(\"'Success Criteria'!\" & ADDRESS(70,A18+4)),\"NON conformant\")","v":2},{"$f":"COUNTIF(INDIRECT(\"'Success Criteria'!\" & ADDRESS(8,A18+4)):INDIRECT(\"'Success Criteria'!\" & ADDRESS(70,A18+4)),\"N/A\")","v":11},{"$f":"COUNTIF(INDIRECT(\"'Success Criteria'!\" & ADDRESS(8,A18+4)):INDIRECT(\"'Success Criteria'!\" & ADDRESS(70,A18+4)),\"not tested\")","v":0},{"$f":"SUM(COUNTIF(INDIRECT(\"'Success Criteria'!\" & ADDRESS(74,A18+4)):INDIRECT(\"'Success Criteria'!\" & ADDRESS(117,A18+4)),\"PASS\"),COUNTIF(INDIRECT(\"'Success Criteria'!\" & ADDRESS(74,A18+4)):INDIRECT(\"'Success Criteria'!\" & ADDRESS(117,A18+4)),\"PASS with comments\"))","v":9},{"$f":"COUNTIF(INDIRECT(\"'Success Criteria'!\" & ADDRESS(74,A18+4)):INDIRECT(\"'Success Criteria'!\" & ADDRESS(117,A18+4)),\"NON conformant\")","v":1},{"$f":"COUNTIF(INDIRECT(\"'Success Criteria'!\" & ADDRESS(74,A18+4)):INDIRECT(\"'Success Criteria'!\" & ADDRESS(117,A18+4)),\"N/A\")","v":10},{"$f":"COUNTIF(INDIRECT(\"'Success Criteria'!\" & ADDRESS(74,A18+4)):INDIRECT(\"'Success Criteria'!\" & ADDRESS(117,A18+4)),\"not tested\")","v":0},{"$f":"SUM(COUNTIF(INDIRECT(\"'Success Criteria'!\" & ADDRESS(122,A18+4)):INDIRECT(\"'Success Criteria'!\" & ADDRESS(176,A18+4)),\"PASS\"),COUNTIF(INDIRECT(\"'Success Criteria'!\" & ADDRESS(122,A18+4)):INDIRECT(\"'Success Criteria'!\" & ADDRESS(176,A18+4)),\"PASS with comments\"))","v":0},{"$f":"COUNTIF(INDIRECT(\"'Success Criteria'!\" & ADDRESS(122,A18+4)):INDIRECT(\"'Success Criteria'!\" & ADDRESS(176,A18+4)),\"NON conformant\")","v":0},{"$f":"COUNTIF(INDIRECT(\"'Success Criteria'!\" & ADDRESS(122,A18+4)):INDIRECT(\"'Success Criteria'!\" & ADDRESS(176,A18+4)),\"N/A\")","v":0},{"$f":"COUNTIF(INDIRECT(\"'Success Criteria'!\" & ADDRESS(122,A18+4)):INDIRECT(\"'Success Criteria'!\" & ADDRESS(176,A18+4)),\"not tested\")","v":28},26,3,21,28,null,30,1,20,1,28,1]
[5,"Gallery page","https://wwwtest.london.gov.uk/programmes-strategies/arts-and-culture/current-culture-projects/fourth-plinth-trafalgar-square/fourth-plinth-schools-awards-2023-gallery","HTML Page",{"$f":"SUM(COUNTIF(INDIRECT(\"'Success Criteria'!\" & ADDRESS(8,A19+4)):INDIRECT(\"'Success Criteria'!\" & ADDRESS(70,A19+4)),\"PASS\"),COUNTIF(INDIRECT(\"'Success Criteria'!\" & ADDRESS(8,A19+4)):INDIRECT(\"'Success Criteria'!\" & ADDRESS(70,A19+4)),\"PASS with comments\"))","v":14},{"$f":"COUNTIF(INDIRECT(\"'Success Criteria'!\" & ADDRESS(8,A19+4)):INDIRECT(\"'Success Criteria'!\" & ADDRESS(70,A19+4)),\"NON conformant\")","v":5},{"$f":"COUNTIF(INDIRECT(\"'Success Criteria'!\" & ADDRESS(8,A19+4)):INDIRECT(\"'Success Criteria'!\" & ADDRESS(70,A19+4)),\"N/A\")","v":11},{"$f":"COUNTIF(INDIRECT(\"'Success Criteria'!\" & ADDRESS(8,A19+4)):INDIRECT(\"'Success Criteria'!\" & ADDRESS(70,A19+4)),\"not tested\")","v":0},{"$f":"SUM(COUNTIF(INDIRECT(\"'Success Criteria'!\" & ADDRESS(74,A19+4)):INDIRECT(\"'Success Criteria'!\" & ADDRESS(117,A19+4)),\"PASS\"),COUNTIF(INDIRECT(\"'Success Criteria'!\" & ADDRESS(74,A19+4)):INDIRECT(\"'Success Criteria'!\" & ADDRESS(117,A19+4)),\"PASS with comments\"))","v":11},{"$f":"COUNTIF(INDIRECT(\"'Success Criteria'!\" & ADDRESS(74,A19+4)):INDIRECT(\"'Success Criteria'!\" & ADDRESS(117,A19+4)),\"NON conformant\")","v":0},{"$f":"COUNTIF(INDIRECT(\"'Success Criteria'!\" & ADDRESS(74,A19+4)):INDIRECT(\"'Success Criteria'!\" & ADDRESS(117,A19+4)),\"N/A\")","v":9},{"$f":"COUNTIF(INDIRECT(\"'Success Criteria'!\" & ADDRESS(74,A19+4)):INDIRECT(\"'Success Criteria'!\" & ADDRESS(117,A19+4)),\"not tested\")","v":0},{"$f":"SUM(COUNTIF(INDIRECT(\"'Success Criteria'!\" & ADDRESS(122,A19+4)):INDIRECT(\"'Success Criteria'!\" & ADDRESS(176,A19+4)),\"PASS\"),COUNTIF(INDIRECT(\"'Success Criteria'!\" & ADDRESS(122,A19+4)):INDIRECT(\"'Success Criteria'!\" & ADDRESS(176,A19+4)),\"PASS with comments\"))","v":0},{"$f":"COUNTIF(INDIRECT(\"'Success Criteria'!\" & ADDRESS(122,A19+4)):INDIRECT(\"'Success Criteria'!\" & ADDRESS(176,A19+4)),\"NON conformant\")","v":0},{"$f":"COUNTIF(INDIRECT(\"'Success Criteria'!\" & ADDRESS(122,A19+4)):INDIRECT(\"'Success Criteria'!\" & ADDRESS(176,A19+4)),\"N/A\")","v":0},{"$f":"COUNTIF(INDIRECT(\"'Success Criteria'!\" & ADDRESS(122,A19+4)):INDIRECT(\"'Success Criteria'!\" & ADDRESS(176,A19+4)),\"not tested\")","v":28},25,5,20,28,null,30,1,20,1,28,1]
[6,null,null,"Please select",{"$f":"SUM(COUNTIF(INDIRECT(\"'Success Criteria'!\" & ADDRESS(8,A20+4)):INDIRECT(\"'Success Criteria'!\" & ADDRESS(70,A20+4)),\"PASS\"),COUNTIF(INDIRECT(\"'Success Criteria'!\" & ADDRESS(8,A20+4)):INDIRECT(\"'Success Criteria'!\" & ADDRESS(70,A20+4)),\"PASS with comments\"))","v":0},{"$f":"COUNTIF(INDIRECT(\"'Success Criteria'!\" & ADDRESS(8,A20+4)):INDIRECT(\"'Success Criteria'!\" & ADDRESS(70,A20+4)),\"NON conformant\")","v":0},{"$f":"COUNTIF(INDIRECT(\"'Success Criteria'!\" & ADDRESS(8,A20+4)):INDIRECT(\"'Success Criteria'!\" & ADDRESS(70,A20+4)),\"N/A\")","v":0},{"$f":"COUNTIF(INDIRECT(\"'Success Criteria'!\" & ADDRESS(8,A20+4)):INDIRECT(\"'Success Criteria'!\" & ADDRESS(70,A20+4)),\"not tested\")","v":0},{"$f":"SUM(COUNTIF(INDIRECT(\"'Success Criteria'!\" & ADDRESS(74,A20+4)):INDIRECT(\"'Success Criteria'!\" & ADDRESS(117,A20+4)),\"PASS\"),COUNTIF(INDIRECT(\"'Success Criteria'!\" & ADDRESS(74,A20+4)):INDIRECT(\"'Success Criteria'!\" & ADDRESS(117,A20+4)),\"PASS with comments\"))","v":2},{"$f":"COUNTIF(INDIRECT(\"'Success Criteria'!\" & ADDRESS(74,A20+4)):INDIRECT(\"'Success Criteria'!\" & ADDRESS(117,A20+4)),\"NON conformant\")","v":0},{"$f":"COUNTIF(INDIRECT(\"'Success Criteria'!\" & ADDRESS(74,A20+4)):INDIRECT(\"'Success Criteria'!\" & ADDRESS(117,A20+4)),\"N/A\")","v":0},{"$f":"COUNTIF(INDIRECT(\"'Success Criteria'!\" & ADDRESS(74,A20+4)):INDIRECT(\"'Success Criteria'!\" & ADDRESS(117,A20+4)),\"not tested\")","v":0},{"$f":"SUM(COUNTIF(INDIRECT(\"'Success Criteria'!\" & ADDRESS(122,A20+4)):INDIRECT(\"'Success Criteria'!\" & ADDRESS(176,A20+4)),\"PASS\"),COUNTIF(INDIRECT(\"'Success Criteria'!\" & ADDRESS(122,A20+4)):INDIRECT(\"'Success Criteria'!\" & ADDRESS(176,A20+4)),\"PASS with comments\"))","v":0},{"$f":"COUNTIF(INDIRECT(\"'Success Criteria'!\" & ADDRESS(122,A20+4)):INDIRECT(\"'Success Criteria'!\" & ADDRESS(176,A20+4)),\"NON conformant\")","v":0},{"$f":"COUNTIF(INDIRECT(\"'Success Criteria'!\" & ADDRESS(122,A20+4)):INDIRECT(\"'Success Criteria'!\" & ADDRESS(176,A20+4)),\"N/A\")","v":0},{"$f":"COUNTIF(INDIRECT(\"'Success Criteria'!\" & ADDRESS(122,A20+4)):INDIRECT(\"'Success Criteria'!\" & ADDRESS(176,A20+4)),\"not tested\")","v":28},2,0,0,28,null,0,"",2,"",28,1]
[7,"Page 7","URL 7","Please select",{"$f":"SUM(COUNTIF(INDIRECT(\"'Success Criteria'!\" & ADDRESS(8,A21+4)):INDIRECT(\"'Success Criteria'!\" & ADDRESS(70,A21+4)),\"PASS\"),COUNTIF(INDIRECT(\"'Success Criteria'!\" & ADDRESS(8,A21+4)):INDIRECT(\"'Success Criteria'!\" & ADDRESS(70,A21+4)),\"PASS with comments\"))","v":0},{"$f":"COUNTIF(INDIRECT(\"'Success Criteria'!\" & ADDRESS(8,A21+4)):INDIRECT(\"'Success Criteria'!\" & ADDRESS(70,A21+4)),\"NON conformant\")","v":0},{"$f":"COUNTIF(INDIRECT(\"'Success Criteria'!\" & ADDRESS(8,A21+4)):INDIRECT(\"'Success Criteria'!\" & ADDRESS(70,A21+4)),\"N/A\")","v":0},{"$f":"COUNTIF(INDIRECT(\"'Success Criteria'!\" & ADDRESS(8,A21+4)):INDIRECT(\"'Success Criteria'!\" & ADDRESS(70,A21+4)),\"not tested\")","v":0},{"$f":"SUM(COUNTIF(INDIRECT(\"'Success Criteria'!\" & ADDRESS(74,A21+4)):INDIRECT(\"'Success Criteria'!\" & ADDRESS(117,A21+4)),\"PASS\"),COUNTIF(INDIRECT(\"'Success Criteria'!\" & ADDRESS(74,A21+4)):INDIRECT(\"'Success Criteria'!\" & ADDRESS(117,A21+4)),\"PASS with comments\"))","v":2},{"$f":"COUNTIF(INDIRECT(\"'Success Criteria'!\" & ADDRESS(74,A21+4)):INDIRECT(\"'Success Criteria'!\" & ADDRESS(117,A21+4)),\"NON conformant\")","v":0},{"$f":"COUNTIF(INDIRECT(\"'Success Criteria'!\" & ADDRESS(74,A21+4)):INDIRECT(\"'Success Criteria'!\" & ADDRESS(117,A21+4)),\"N/A\")","v":0},{"$f":"COUNTIF(INDIRECT(\"'Success Criteria'!\" & ADDRESS(74,A21+4)):INDIRECT(\"'Success Criteria'!\" & ADDRESS(117,A21+4)),\"not tested\")","v":0},{"$f":"SUM(COUNTIF(INDIRECT(\"'Success Criteria'!\" & ADDRESS(122,A21+4)):INDIRECT(\"'Success Criteria'!\" & ADDRESS(176,A21+4)),\"PASS\"),COUNTIF(INDIRECT(\"'Success Criteria'!\" & ADDRESS(122,A21+4)):INDIRECT(\"'Success Criteria'!\" & ADDRESS(176,A21+4)),\"PASS with comments\"))","v":0},{"$f":"COUNTIF(INDIRECT(\"'Success Criteria'!\" & ADDRESS(122,A21+4)):INDIRECT(\"'Success Criteria'!\" & ADDRESS(176,A21+4)),\"NON conformant\")","v":0},{"$f":"COUNTIF(INDIRECT(\"'Success Criteria'!\" & ADDRESS(122,A21+4)):INDIRECT(\"'Success Criteria'!\" & ADDRESS(176,A21+4)),\"N/A\")","v":0},{"$f":"COUNTIF(INDIRECT(\"'Success Criteria'!\" & ADDRESS(122,A21+4)):INDIRECT(\"'Success Criteria'!\" & ADDRESS(176,A21+4)),\"not tested\")","v":28},2,0,0,28,null,0,"",2,"",28,1]
[8,"Page 8","URL 8","Please select",{"$f":"SUM(COUNTIF(INDIRECT(\"'Success Criteria'!\" & ADDRESS(8,A22+4)):INDIRECT(\"'Success Criteria'!\" & ADDRESS(70,A22+4)),\"PASS\"),COUNTIF(INDIRECT(\"'Success Criteria'!\" & ADDRESS(8,A22+4)):INDIRECT(\"'Success Criteria'!\" & ADDRESS(70,A22+4)),\"PASS with comments\"))","v":0},{"$f":"COUNTIF(INDIRECT(\"'Success Criteria'!\" & ADDRESS(8,A22+4)):INDIRECT(\"'Success Criteria'!\" & ADDRESS(70,A22+4)),\"NON conformant\")","v":0},{"$f":"COUNTIF(INDIRECT(\"'Success Criteria'!\" & ADDRESS(8,A22+4)):INDIRECT(\"'Success Criteria'!\" & ADDRESS(70,A22+4)),\"N/A\")","v":0},{"$f":"COUNTIF(INDIRECT(\"'Success Criteria'!\" & ADDRESS(8,A22+4)):INDIRECT(\"'Success Criteria'!\" & ADDRESS(70,A22+4)),\"not tested\")","v":0},{"$f":"SUM(COUNTIF(INDIRECT(\"'Success Criteria'!\" & ADDRESS(74,A22+4)):INDIRECT(\"'Success Criteria'!\" & ADDRESS(117,A22+4)),\"PASS\"),COUNTIF(INDIRECT(\"'Success Criteria'!\" & ADDRESS(74,A22+4)):INDIRECT(\"'Success Criteria'!\" & ADDRESS(117,A22+4)),\"PASS with comments\"))","v":2},{"$f":"COUNTIF(INDIRECT(\"'Success Criteria'!\" & ADDRESS(74,A22+4)):INDIRECT(\"'Success Criteria'!\" & ADDRESS(117,A22+4)),\"NON conformant\")","v":0},{"$f":"COUNTIF(INDIRECT(\"'Success Criteria'!\" & ADDRESS(74,A22+4)):INDIRECT(\"'Success Criteria'!\" & ADDRESS(117,A22+4)),\"N/A\")","v":0},{"$f":"COUNTIF(INDIRECT(\"'Success Criteria'!\" & ADDRESS(74,A22+4)):INDIRECT(\"'Success Criteria'!\" & ADDRESS(117,A22+4)),\"not tested\")","v":0},{"$f":"SUM(COUNTIF(INDIRECT(\"'Success Criteria'!\" & ADDRESS(122,A22+4)):INDIRECT(\"'Success Criteria'!\" & ADDRESS(176,A22+4)),\"PASS\"),COUNTIF(INDIRECT(\"'Success Criteria'!\" & ADDRESS(122,A22+4)):INDIRECT(\"'Success Criteria'!\" & ADDRESS(176,A22+4)),\"PASS with comments\"))","v":0},{"$f":"COUNTIF(INDIRECT(\"'Success Criteria'!\" & ADDRESS(122,A22+4)):INDIRECT(\"'Success Criteria'!\" & ADDRESS(176,A22+4)),\"NON conformant\")","v":0},{"$f":"COUNTIF(INDIRECT(\"'Success Criteria'!\" & ADDRESS(122,A22+4)):INDIRECT(\"'Success Criteria'!\" & ADDRESS(176,A22+4)),\"N/A\")","v":0},{"$f":"COUNTIF(INDIRECT(\"'Success Criteria'!\" & ADDRESS(122,A22+4)):INDIRECT(\"'Success Criteria'!\" & ADDRESS(176,A22+4)),\"not tested\")","v":28},2,0,0,28,null,0,"",2,"",28,1]
[9,"Page 9","URL 9","Please select",{"$f":"SUM(COUNTIF(INDIRECT(\"'Success Criteria'!\" & ADDRESS(8,A23+4)):INDIRECT(\"'Success Criteria'!\" & ADDRESS(70,A23+4)),\"PASS\"),COUNTIF(INDIRECT(\"'Success Criteria'!\" & ADDRESS(8,A23+4)):INDIRECT(\"'Success Criteria'!\" & ADDRESS(70,A23+4)),\"PASS with comments\"))","v":0},{"$f":"COUNTIF(INDIRECT(\"'Success Criteria'!\" & ADDRESS(8,A23+4)):INDIRECT(\"'Success Criteria'!\" & ADDRESS(70,A23+4)),\"NON conformant\")","v":0},{"$f":"COUNTIF(INDIRECT(\"'Success Criteria'!\" & ADDRESS(8,A23+4)):INDIRECT(\"'Success Criteria'!\" & ADDRESS(70,A23+4)),\"N/A\")","v":0},{"$f":"COUNTIF(INDIRECT(\"'Success Criteria'!\" & ADDRESS(8,A23+4)):INDIRECT(\"'Success Criteria'!\" & ADDRESS(70,A23+4)),\"not tested\")","v":0},{"$f":"SUM(COUNTIF(INDIRECT(\"'Success Criteria'!\" & ADDRESS(74,A23+4)):INDIRECT(\"'Success Criteria'!\" & ADDRESS(117,A23+4)),\"PASS\"),COUNTIF(INDIRECT(\"'Success Criteria'!\" & ADDRESS(74,A23+4)):INDIRECT(\"'Success Criteria'!\" & ADDRESS(117,A23+4)),\"PASS with comments\"))","v":2},{"$f":"COUNTIF(INDIRECT(\"'Success Criteria'!\" & ADDRESS(74,A23+4)):INDIRECT(\"'Success Criteria'!\" & ADDRESS(117,A23+4)),\"NON conformant\")","v":0},{"$f":"COUNTIF(INDIRECT(\"'Success Criteria'!\" & ADDRESS(74,A23+4)):INDIRECT(\"'Success Criteria'!\" & ADDRESS(117,A23+4)),\"N/A\")","v":0},{"$f":"COUNTIF(INDIRECT(\"'Success Criteria'!\" & ADDRESS(74,A23+4)):INDIRECT(\"'Success Criteria'!\" & ADDRESS(117,A23+4)),\"not tested\")","v":0},{"$f":"SUM(COUNTIF(INDIRECT(\"'Success Criteria'!\" & ADDRESS(122,A23+4)):INDIRECT(\"'Success Criteria'!\" & ADDRESS(176,A23+4)),\"PASS\"),COUNTIF(INDIRECT(\"'Success Criteria'!\" & ADDRESS(122,A23+4)):INDIRECT(\"'Success Criteria'!\" & ADDRESS(176,A23+4)),\"PASS with comments\"))","v":0},{"$f":"COUNTIF(INDIRECT(\"'Success Criteria'!\" & ADDRESS(122,A23+4)):INDIRECT(\"'Success Criteria'!\" & ADDRESS(176,A23+4)),\"NON conformant\")","v":0},{"$f":"COUNTIF(INDIRECT(\"'Success Criteria'!\" & ADDRESS(122,A23+4)):INDIRECT(\"'Success Criteria'!\" & ADDRESS(176,A23+4)),\"N/A\")","v":0},{"$f":"COUNTIF(INDIRECT(\"'Success Criteria'!\" & ADDRESS(122,A23+4)):INDIRECT(\"'Success Criteria'!\" & ADDRESS(176,A23+4)),\"not tested\")","v":28},2,0,0,28,null,0,"",2,"",28,1]
[10,"Page 10","URL 10","Please select",{"$f":"SUM(COUNTIF(INDIRECT(\"'Success Criteria'!\" & ADDRESS(8,A24+4)):INDIRECT(\"'Success Criteria'!\" & ADDRESS(70,A24+4)),\"PASS\"),COUNTIF(INDIRECT(\"'Success Criteria'!\" & ADDRESS(8,A24+4)):INDIRECT(\"'Success Criteria'!\" & ADDRESS(70,A24+4)),\"PASS with comments\"))","v":0},{"$f":"COUNTIF(INDIRECT(\"'Success Criteria'!\" & ADDRESS(8,A24+4)):INDIRECT(\"'Success Criteria'!\" & ADDRESS(70,A24+4)),\"NON conformant\")","v":0},{"$f":"COUNTIF(INDIRECT(\"'Success Criteria'!\" & ADDRESS(8,A24+4)):INDIRECT(\"'Success Criteria'!\" & ADDRESS(70,A24+4)),\"N/A\")","v":0},{"$f":"COUNTIF(INDIRECT(\"'Success Criteria'!\" & ADDRESS(8,A24+4)):INDIRECT(\"'Success Criteria'!\" & ADDRESS(70,A24+4)),\"not tested\")","v":0},{"$f":"SUM(COUNTIF(INDIRECT(\"'Success Criteria'!\" & ADDRESS(74,A24+4)):INDIRECT(\"'Success Criteria'!\" & ADDRESS(117,A24+4)),\"PASS\"),COUNTIF(INDIRECT(\"'Success Criteria'!\" & ADDRESS(74,A24+4)):INDIRECT(\"'Success Criteria'!\" & ADDRESS(117,A24+4)),\"PASS with comments\"))","v":2},{"$f":"COUNTIF(INDIRECT(\"'Success Criteria'!\" & ADDRESS(74,A24+4)):INDIRECT(\"'Success Criteria'!\" & ADDRESS(117,A24+4)),\"NON conformant\")","v":0},{"$f":"COUNTIF(INDIRECT(\"'Success Criteria'!\" & ADDRESS(74,A24+4)):INDIRECT(\"'Success Criteria'!\" & ADDRESS(117,A24+4)),\"N/A\")","v":0},{"$f":"COUNTIF(INDIRECT(\"'Success Criteria'!\" & ADDRESS(74,A24+4)):INDIRECT(\"'Success Criteria'!\" & ADDRESS(117,A24+4)),\"not tested\")","v":0},{"$f":"SUM(COUNTIF(INDIRECT(\"'Success Criteria'!\" & ADDRESS(122,A24+4)):INDIRECT(\"'Success Criteria'!\" & ADDRESS(176,A24+4)),\"PASS\"),COUNTIF(INDIRECT(\"'Success Criteria'!\" & ADDRESS(122,A24+4)):INDIRECT(\"'Success Criteria'!\" & ADDRESS(176,A24+4)),\"PASS with comments\"))","v":0},{"$f":"COUNTIF(INDIRECT(\"'Success Criteria'!\" & ADDRESS(122,A24+4)):INDIRECT(\"'Success Criteria'!\" & ADDRESS(176,A24+4)),\"NON conformant\")","v":0},{"$f":"COUNTIF(INDIRECT(\"'Success Criteria'!\" & ADDRESS(122,A24+4)):INDIRECT(\"'Success Criteria'!\" & ADDRESS(176,A24+4)),\"N/A\")","v":0},{"$f":"COUNTIF(INDIRECT(\"'Success Criteria'!\" & ADDRESS(122,A24+4)):INDIRECT(\"'Success Criteria'!\" & ADDRESS(176,A24+4)),\"not tested\")","v":28},2,0,0,28,null,0,"",2,"",28,1]
[11,"Page 11","URL 11","Please select",{"$f":"SUM(COUNTIF(INDIRECT(\"'Success Criteria'!\" & ADDRESS(8,A25+4)):INDIRECT(\"'Success Criteria'!\" & ADDRESS(70,A25+4)),\"PASS\"),COUNTIF(INDIRECT(\"'Success Criteria'!\" & ADDRESS(8,A25+4)):INDIRECT(\"'Success Criteria'!\" & ADDRESS(70,A25+4)),\"PASS with comments\"))","v":0},{"$f":"COUNTIF(INDIRECT(\"'Success Criteria'!\" & ADDRESS(8,A25+4)):INDIRECT(\"'Success Criteria'!\" & ADDRESS(70,A25+4)),\"NON conformant\")","v":0},{"$f":"COUNTIF(INDIRECT(\"'Success Criteria'!\" & ADDRESS(8,A25+4)):INDIRECT(\"'Success Criteria'!\" & ADDRESS(70,A25+4)),\"N/A\")","v":0},{"$f":"COUNTIF(INDIRECT(\"'Success Criteria'!\" & ADDRESS(8,A25+4)):INDIRECT(\"'Success Criteria'!\" & ADDRESS(70,A25+4)),\"not tested\")","v":0},{"$f":"SUM(COUNTIF(INDIRECT(\"'Success Criteria'!\" & ADDRESS(74,A25+4)):INDIRECT(\"'Success Criteria'!\" & ADDRESS(117,A25+4)),\"PASS\"),COUNTIF(INDIRECT(\"'Success Criteria'!\" & ADDRESS(74,A25+4)):INDIRECT(\"'Success Criteria'!\" & ADDRESS(117,A25+4)),\"PASS with comments\"))","v":2},{"$f":"COUNTIF(INDIRECT(\"'Success Criteria'!\" & ADDRESS(74,A25+4)):INDIRECT(\"'Success Criteria'!\" & ADDRESS(117,A25+4)),\"NON conformant\")","v":0},{"$f":"COUNTIF(INDIRECT(\"'Success Criteria'!\" & ADDRESS(74,A25+4)):INDIRECT(\"'Success Criteria'!\" & ADDRESS(117,A25+4)),\"N/A\")","v":0},{"$f":"COUNTIF(INDIRECT(\"'Success Criteria'!\" & ADDRESS(74,A25+4)):INDIRECT(\"'Success Criteria'!\" & ADDRESS(117,A25+4)),\"not tested\")","v":0},{"$f":"SUM(COUNTIF(INDIRECT(\"'Success Criteria'!\" & ADDRESS(122,A25+4)):INDIRECT(\"'Success Criteria'!\" & ADDRESS(176,A25+4)),\"PASS\"),COUNTIF(INDIRECT(\"'Success Criteria'!\" & ADDRESS(122,A25+4)):INDIRECT(\"'Success Criteria'!\" & ADDRESS(176,A25+4)),\"PASS with comments\"))","v":0},{"$f":"COUNTIF(INDIRECT(\"'Success Criteria'!\" & ADDRESS(122,A25+4)):INDIRECT(\"'Success Criteria'!\" & ADDRESS(176,A25+4)),\"NON conformant\")","v":0},{"$f":"COUNTIF(INDIRECT(\"'Success Criteria'!\" & ADDRESS(122,A25+4)):INDIRECT(\"'Success Criteria'!\" & ADDRESS(176,A25+4)),\"N/A\")","v":0},{"$f":"COUNTIF(INDIRECT(\"'Success Criteria'!\" & ADDRESS(122,A25+4)):INDIRECT(\"'Success Criteria'!\" & ADDRESS(176,A25+4)),\"not tested\")","v":28},2,0,0,28,null,0,"",2,"",28,1]
[12,"Page 12","URL 12","Please select",{"$f":"SUM(COUNTIF(INDIRECT(\"'Success Criteria'!\" & ADDRESS(8,A26+4)):INDIRECT(\"'Success Criteria'!\" & ADDRESS(70,A26+4)),\"PASS\"),COUNTIF(INDIRECT(\"'Success Criteria'!\" & ADDRESS(8,A26+4)):INDIRECT(\"'Success Criteria'!\" & ADDRESS(70,A26+4)),\"PASS with comments\"))","v":0},{"$f":"COUNTIF(INDIRECT(\"'Success Criteria'!\" & ADDRESS(8,A26+4)):INDIRECT(\"'Success Criteria'!\" & ADDRESS(70,A26+4)),\"NON conformant\")","v":0},{"$f":"COUNTIF(INDIRECT(\"'Success Criteria'!\" & ADDRESS(8,A26+4)):INDIRECT(\"'Success Criteria'!\" & ADDRESS(70,A26+4)),\"N/A\")","v":0},{"$f":"COUNTIF(INDIRECT(\"'Success Criteria'!\" & ADDRESS(8,A26+4)):INDIRECT(\"'Success Criteria'!\" & ADDRESS(70,A26+4)),\"not tested\")","v":0},{"$f":"SUM(COUNTIF(INDIRECT(\"'Success Criteria'!\" & ADDRESS(74,A26+4)):INDIRECT(\"'Success Criteria'!\" & ADDRESS(117,A26+4)),\"PASS\"),COUNTIF(INDIRECT(\"'Success Criteria'!\" & ADDRESS(74,A26+4)):INDIRECT(\"'Success Criteria'!\" & ADDRESS(117,A26+4)),\"PASS with comments\"))","v":2},{"$f":"COUNTIF(INDIRECT(\"'Success Criteria'!\" & ADDRESS(74,A26+4)):INDIRECT(\"'Success Criteria'!\" & ADDRESS(117,A26+4)),\"NON conformant\")","v":0},{"$f":"COUNTIF(INDIRECT(\"'Success Criteria'!\" & ADDRESS(74,A26+4)):INDIRECT(\"'Success Criteria'!\" & ADDRESS(117,A26+4)),\"N/A\")","v":0},{"$f":"COUNTIF(INDIRECT(\"'Success Criteria'!\" & ADDRESS(74,A26+4)):INDIRECT(\"'Success Criteria'!\" & ADDRESS(117,A26+4)),\"not tested\")","v":0},{"$f":"SUM(COUNTIF(INDIRECT(\"'Success Criteria'!\" & ADDRESS(122,A26+4)):INDIRECT(\"'Success Criteria'!\" & ADDRESS(176,A26+4)),\"PASS\"),COUNTIF(INDIRECT(\"'Success Criteria'!\" & ADDRESS(122,A26+4)):INDIRECT(\"'Success Criteria'!\" & ADDRESS(176,A26+4)),\"PASS with comments\"))","v":0},{"$f":"COUNTIF(INDIRECT(\"'Success Criteria'!\" & ADDRESS(122,A26+4)):INDIRECT(\"'Success Criteria'!\" & ADDRESS(176,A26+4)),\"NON conformant\")","v":0},{"$f":"COUNTIF(INDIRECT(\"'Success Criteria'!\" & ADDRESS(122,A26+4)):INDIRECT(\"'Success Criteria'!\" & ADDRESS(176,A26+4)),\"N/A\")","v":0},{"$f":"COUNTIF(INDIRECT(\"'Success Criteria'!\" & ADDRESS(122,A26+4)):INDIRECT(\"'Success Criteria'!\" & ADDRESS(176,A26+4)),\"not tested\")","v":28},2,0,0,28,null,0,"",2,"",28,1]
[13,"Page 13","URL 13","Please select",{"$f":"SUM(COUNTIF(INDIRECT(\"'Success Criteria'!\" & ADDRESS(8,A27+4)):INDIRECT(\"'Success Criteria'!\" & ADDRESS(70,A27+4)),\"PASS\"),COUNTIF(INDIRECT(\"'Success Criteria'!\" & ADDRESS(8,A27+4)):INDIRECT(\"'Success Criteria'!\" & ADDRESS(70,A27+4)),\"PASS with comments\"))","v":0},{"$f":"COUNTIF(INDIRECT(\"'Success Criteria'!\" & ADDRESS(8,A27+4)):INDIRECT(\"'Success Criteria'!\" & ADDRESS(70,A27+4)),\"NON conformant\")","v":0},{"$f":"COUNTIF(INDIRECT(\"'Success Criteria'!\" & ADDRESS(8,A27+4)):INDIRECT(\"'Success Criteria'!\" & ADDRESS(70,A27+4)),\"N/A\")","v":0},{"$f":"COUNTIF(INDIRECT(\"'Success Criteria'!\" & ADDRESS(8,A27+4)):INDIRECT(\"'Success Criteria'!\" & ADDRESS(70,A27+4)),\"not tested\")","v":0},{"$f":"SUM(COUNTIF(INDIRECT(\"'Success Criteria'!\" & ADDRESS(74,A27+4)):INDIRECT(\"'Success Criteria'!\" & ADDRESS(117,A27+4)),\"PASS\"),COUNTIF(INDIRECT(\"'Success Criteria'!\" & ADDRESS(74,A27+4)):INDIRECT(\"'Success Criteria'!\" & ADDRESS(117,A27+4)),\"PASS with comments\"))","v":2},{"$f":"COUNTIF(INDIRECT(\"'Success Criteria'!\" & ADDRESS(74,A27+4)):INDIRECT(\"'Success Criteria'!\" & ADDRESS(117,A27+4)),\"NON conformant\")","v":0},{"$f":"COUNTIF(INDIRECT(\"'Success Criteria'!\" & ADDRESS(74,A27+4)):INDIRECT(\"'Success Criteria'!\" & ADDRESS(117,A27+4)),\"N/A\")","v":0},{"$f":"COUNTIF(INDIRECT(\"'Success Criteria'!\" & ADDRESS(74,A27+4)):INDIRECT(\"'Success Criteria'!\" & ADDRESS(117,A27+4)),\"not tested\")","v":0},{"$f":"SUM(COUNTIF(INDIRECT(\"'Success Criteria'!\" & ADDRESS(122,A27+4)):INDIRECT(\"'Success Criteria'!\" & ADDRESS(176,A27+4)),\"PASS\"),COUNTIF(INDIRECT(\"'Success Criteria'!\" & ADDRESS(122,A27+4)):INDIRECT(\"'Success Criteria'!\" & ADDRESS(176,A27+4)),\"PASS with comments\"))","v":0},{"$f":"COUNTIF(INDIRECT(\"'Success Criteria'!\" & ADDRESS(122,A27+4)):INDIRECT(\"'Success Criteria'!\" & ADDRESS(176,A27+4)),\"NON conformant\")","v":0},{"$f":"COUNTIF(INDIRECT(\"'Success Criteria'!\" & ADDRESS(122,A27+4)):INDIRECT(\"'Success Criteria'!\" & ADDRESS(176,A27+4)),\"N/A\")","v":0},{"$f":"COUNTIF(INDIRECT(\"'Success Criteria'!\" & ADDRESS(122,A27+4)):INDIRECT(\"'Success Criteria'!\" & ADDRESS(176,A27+4)),\"not tested\")","v":28},2,0,0,28,null,0,"",2,"",28,1]
[14,"Page 14","URL 14","Please select",{"$f":"SUM(COUNTIF(INDIRECT(\"'Success Criteria'!\" & ADDRESS(8,A28+4)):INDIRECT(\"'Success Criteria'!\" & ADDRESS(70,A28+4)),\"PASS\"),COUNTIF(INDIRECT(\"'Success Criteria'!\" & ADDRESS(8,A28+4)):INDIRECT(\"'Success Criteria'!\" & ADDRESS(70,A28+4)),\"PASS with comments\"))","v":0},{"$f":"COUNTIF(INDIRECT(\"'Success Criteria'!\" & ADDRESS(8,A28+4)):INDIRECT(\"'Success Criteria'!\" & ADDRESS(70,A28+4)),\"NON conformant\")","v":0},{"$f":"COUNTIF(INDIRECT(\"'Success Criteria'!\" & ADDRESS(8,A28+4)):INDIRECT(\"'Success Criteria'!\" & ADDRESS(70,A28+4)),\"N/A\")","v":0},{"$f":"COUNTIF(INDIRECT(\"'Success Criteria'!\" & ADDRESS(8,A28+4)):INDIRECT(\"'Success Criteria'!\" & ADDRESS(70,A28+4)),\"not tested\")","v":0},{"$f":"SUM(COUNTIF(INDIRECT(\"'Success Criteria'!\" & ADDRESS(74,A28+4)):INDIRECT(\"'Success Criteria'!\" & ADDRESS(117,A28+4)),\"PASS\"),COUNTIF(INDIRECT(\"'Success Criteria'!\" & ADDRESS(74,A28+4)):INDIRECT(\"'Success Criteria'!\" & ADDRESS(117,A28+4)),\"PASS with comments\"))","v":2},{"$f":"COUNTIF(INDIRECT(\"'Success Criteria'!\" & ADDRESS(74,A28+4)):INDIRECT(\"'Success Criteria'!\" & ADDRESS(117,A28+4)),\"NON conformant\")","v":0},{"$f":"COUNTIF(INDIRECT(\"'Success Criteria'!\" & ADDRESS(74,A28+4)):INDIRECT(\"'Success Criteria'!\" & ADDRESS(117,A28+4)),\"N/A\")","v":0},{"$f":"COUNTIF(INDIRECT(\"'Success Criteria'!\" & ADDRESS(74,A28+4)):INDIRECT(\"'Success Criteria'!\" & ADDRESS(117,A28+4)),\"not tested\")","v":0},{"$f":"SUM(COUNTIF(INDIRECT(\"'Success Criteria'!\" & ADDRESS(122,A28+4)):INDIRECT(\"'Success Criteria'!\" & ADDRESS(176,A28+4)),\"PASS\"),COUNTIF(INDIRECT(\"'Success Criteria'!\" & ADDRESS(122,A28+4)):INDIRECT(\"'Success Criteria'!\" & ADDRESS(176,A28+4)),\"PASS with comments\"))","v":0},{"$f":"COUNTIF(INDIRECT(\"'Success Criteria'!\" & ADDRESS(122,A28+4)):INDIRECT(\"'Success Criteria'!\" & ADDRESS(176,A28+4)),\"NON conformant\")","v":0},{"$f":"COUNTIF(INDIRECT(\"'Success Criteria'!\" & ADDRESS(122,A28+4)):INDIRECT(\"'Success Criteria'!\" & ADDRESS(176,A28+4)),\"N/A\")","v":0},{"$f":"COUNTIF(INDIRECT(\"'Success Criteria'!\" & ADDRESS(122,A28+4)):INDIRECT(\"'Success Criteria'!\" & ADDRESS(176,A28+4)),\"not tested\")","v":28},2,0,0,28,null,0,"",2,"",28,1]
[15,"Page 15","URL 15","Please select",{"$f":"SUM(COUNTIF(INDIRECT(\"'Success Criteria'!\" & ADDRESS(8,A29+4)):INDIRECT(\"'Success Criteria'!\" & ADDRESS(70,A29+4)),\"PASS\"),COUNTIF(INDIRECT(\"'Success Criteria'!\" & ADDRESS(8,A29+4)):INDIRECT(\"'Success Criteria'!\" & ADDRESS(70,A29+4)),\"PASS with comments\"))","v":0},{"$f":"COUNTIF(INDIRECT(\"'Success Criteria'!\" & ADDRESS(8,A29+4)):INDIRECT(\"'Success Criteria'!\" & ADDRESS(70,A29+4)),\"NON conformant\")","v":0},{"$f":"COUNTIF(INDIRECT(\"'Success Criteria'!\" & ADDRESS(8,A29+4)):INDIRECT(\"'Success Criteria'!\" & ADDRESS(70,A29+4)),\"N/A\")","v":0},{"$f":"COUNTIF(INDIRECT(\"'Success Criteria'!\" & ADDRESS(8,A29+4)):INDIRECT(\"'Success Criteria'!\" & ADDRESS(70,A29+4)),\"not tested\")","v":0},{"$f":"SUM(COUNTIF(INDIRECT(\"'Success Criteria'!\" & ADDRESS(74,A29+4)):INDIRECT(\"'Success Criteria'!\" & ADDRESS(117,A29+4)),\"PASS\"),COUNTIF(INDIRECT(\"'Success Criteria'!\" & ADDRESS(74,A29+4)):INDIRECT(\"'Success Criteria'!\" & ADDRESS(117,A29+4)),\"PASS with comments\"))","v":2},{"$f":"COUNTIF(INDIRECT(\"'Success Criteria'!\" & ADDRESS(74,A29+4)):INDIRECT(\"'Success Criteria'!\" & ADDRESS(117,A29+4)),\"NON conformant\")","v":0},{"$f":"COUNTIF(INDIRECT(\"'Success Criteria'!\" & ADDRESS(74,A29+4)):INDIRECT(\"'Success Criteria'!\" & ADDRESS(117,A29+4)),\"N/A\")","v":0},{"$f":"COUNTIF(INDIRECT(\"'Success Criteria'!\" & ADDRESS(74,A29+4)):INDIRECT(\"'Success Criteria'!\" & ADDRESS(117,A29+4)),\"not tested\")","v":0},{"$f":"SUM(COUNTIF(INDIRECT(\"'Success Criteria'!\" & ADDRESS(122,A29+4)):INDIRECT(\"'Success Criteria'!\" & ADDRESS(176,A29+4)),\"PASS\"),COUNTIF(INDIRECT(\"'Success Criteria'!\" & ADDRESS(122,A29+4)):INDIRECT(\"'Success Criteria'!\" & ADDRESS(176,A29+4)),\"PASS with comments\"))","v":0},{"$f":"COUNTIF(INDIRECT(\"'Success Criteria'!\" & ADDRESS(122,A29+4)):INDIRECT(\"'Success Criteria'!\" & ADDRESS(176,A29+4)),\"NON conformant\")","v":0},{"$f":"COUNTIF(INDIRECT(\"'Success Criteria'!\" & ADDRESS(122,A29+4)):INDIRECT(\"'Success Criteria'!\" & ADDRESS(176,A29+4)),\"N/A\")","v":0},{"$f":"COUNTIF(INDIRECT(\"'Success Criteria'!\" & ADDRESS(122,A29+4)):INDIRECT(\"'Success Criteria'!\" & ADDRESS(176,A29+4)),\"not tested\")","v":28},2,0,0,28,null,0,"",2,"",28,1]
[16,"Page 16","URL 16","Please select",{"$f":"SUM(COUNTIF(INDIRECT(\"'Success Criteria'!\" & ADDRESS(8,A30+4)):INDIRECT(\"'Success Criteria'!\" & ADDRESS(70,A30+4)),\"PASS\"),COUNTIF(INDIRECT(\"'Success Criteria'!\" & ADDRESS(8,A30+4)):INDIRECT(\"'Success Criteria'!\" & ADDRESS(70,A30+4)),\"PASS with comments\"))","v":0},{"$f":"COUNTIF(INDIRECT(\"'Success Criteria'!\" & ADDRESS(8,A30+4)):INDIRECT(\"'Success Criteria'!\" & ADDRESS(70,A30+4)),\"NON conformant\")","v":0},{"$f":"COUNTIF(INDIRECT(\"'Success Criteria'!\" & ADDRESS(8,A30+4)):INDIRECT(\"'Success Criteria'!\" & ADDRESS(70,A30+4)),\"N/A\")","v":0},{"$f":"COUNTIF(INDIRECT(\"'Success Criteria'!\" & ADDRESS(8,A30+4)):INDIRECT(\"'Success Criteria'!\" & ADDRESS(70,A30+4)),\"not tested\")","v":0},{"$f":"SUM(COUNTIF(INDIRECT(\"'Success Criteria'!\" & ADDRESS(74,A30+4)):INDIRECT(\"'Success Criteria'!\" & ADDRESS(117,A30+4)),\"PASS\"),COUNTIF(INDIRECT(\"'Success Criteria'!\" & ADDRESS(74,A30+4)):INDIRECT(\"'Success Criteria'!\" & ADDRESS(117,A30+4)),\"PASS with comments\"))","v":2},{"$f":"COUNTIF(INDIRECT(\"'Success Criteria'!\" & ADDRESS(74,A30+4)):INDIRECT(\"'Success Criteria'!\" & ADDRESS(117,A30+4)),\"NON conformant\")","v":0},{"$f":"COUNTIF(INDIRECT(\"'Success Criteria'!\" & ADDRESS(74,A30+4)):INDIRECT(\"'Success Criteria'!\" & ADDRESS(117,A30+4)),\"N/A\")","v":0},{"$f":"COUNTIF(INDIRECT(\"'Success Criteria'!\" & ADDRESS(74,A30+4)):INDIRECT(\"'Success Criteria'!\" & ADDRESS(117,A30+4)),\"not tested\")","v":0},{"$f":"SUM(COUNTIF(INDIRECT(\"'Success Criteria'!\" & ADDRESS(122,A30+4)):INDIRECT(\"'Success Criteria'!\" & ADDRESS(176,A30+4)),\"PASS\"),COUNTIF(INDIRECT(\"'Success Criteria'!\" & ADDRESS(122,A30+4)):INDIRECT(\"'Success Criteria'!\" & ADDRESS(176,A30+4)),\"PASS with comments\"))","v":0},{"$f":"COUNTIF(INDIRECT(\"'Success Criteria'!\" & ADDRESS(122,A30+4)):INDIRECT(\"'Success Criteria'!\" & ADDRESS(176,A30+4)),\"NON conformant\")","v":0},{"$f":"COUNTIF(INDIRECT(\"'Success Criteria'!\" & ADDRESS(122,A30+4)):INDIRECT(\"'Success Criteria'!\" & ADDRESS(176,A30+4)),\"N/A\")","v":0},{"$f":"COUNTIF(INDIRECT(\"'Success Criteria'!\" & ADDRESS(122,A30+4)):INDIRECT(\"'Success Criteria'!\" & ADDRESS(176,A30+4)),\"not tested\")","v":28},2,0,0,28,null,0,"",2,"",28,1]
[17,"Page 17","URL 17","Please select",{"$f":"SUM(COUNTIF(INDIRECT(\"'Success Criteria'!\" & ADDRESS(8,A31+4)):INDIRECT(\"'Success Criteria'!\" & ADDRESS(70,A31+4)),\"PASS\"),COUNTIF(INDIRECT(\"'Success Criteria'!\" & ADDRESS(8,A31+4)):INDIRECT(\"'Success Criteria'!\" & ADDRESS(70,A31+4)),\"PASS with comments\"))","v":0},{"$f":"COUNTIF(INDIRECT(\"'Success Criteria'!\" & ADDRESS(8,A31+4)):INDIRECT(\"'Success Criteria'!\" & ADDRESS(70,A31+4)),\"NON conformant\")","v":0},{"$f":"COUNTIF(INDIRECT(\"'Success Criteria'!\" & ADDRESS(8,A31+4)):INDIRECT(\"'Success Criteria'!\" & ADDRESS(70,A31+4)),\"N/A\")","v":0},{"$f":"COUNTIF(INDIRECT(\"'Success Criteria'!\" & ADDRESS(8,A31+4)):INDIRECT(\"'Success Criteria'!\" & ADDRESS(70,A31+4)),\"not tested\")","v":0},{"$f":"SUM(COUNTIF(INDIRECT(\"'Success Criteria'!\" & ADDRESS(74,A31+4)):INDIRECT(\"'Success Criteria'!\" & ADDRESS(117,A31+4)),\"PASS\"),COUNTIF(INDIRECT(\"'Success Criteria'!\" & ADDRESS(74,A31+4)):INDIRECT(\"'Success Criteria'!\" & ADDRESS(117,A31+4)),\"PASS with comments\"))","v":2},{"$f":"COUNTIF(INDIRECT(\"'Success Criteria'!\" & ADDRESS(74,A31+4)):INDIRECT(\"'Success Criteria'!\" & ADDRESS(117,A31+4)),\"NON conformant\")","v":0},{"$f":"COUNTIF(INDIRECT(\"'Success Criteria'!\" & ADDRESS(74,A31+4)):INDIRECT(\"'Success Criteria'!\" & ADDRESS(117,A31+4)),\"N/A\")","v":0},{"$f":"COUNTIF(INDIRECT(\"'Success Criteria'!\" & ADDRESS(74,A31+4)):INDIRECT(\"'Success Criteria'!\" & ADDRESS(117,A31+4)),\"not tested\")","v":0},{"$f":"SUM(COUNTIF(INDIRECT(\"'Success Criteria'!\" & ADDRESS(122,A31+4)):INDIRECT(\"'Success Criteria'!\" & ADDRESS(176,A31+4)),\"PASS\"),COUNTIF(INDIRECT(\"'Success Criteria'!\" & ADDRESS(122,A31+4)):INDIRECT(\"'Success Criteria'!\" & ADDRESS(176,A31+4)),\"PASS with comments\"))","v":0},{"$f":"COUNTIF(INDIRECT(\"'Success Criteria'!\" & ADDRESS(122,A31+4)):INDIRECT(\"'Success Criteria'!\" & ADDRESS(176,A31+4)),\"NON conformant\")","v":0},{"$f":"COUNTIF(INDIRECT(\"'Success Criteria'!\" & ADDRESS(122,A31+4)):INDIRECT(\"'Success Criteria'!\" & ADDRESS(176,A31+4)),\"N/A\")","v":0},{"$f":"COUNTIF(INDIRECT(\"'Success Criteria'!\" & ADDRESS(122,A31+4)):INDIRECT(\"'Success Criteria'!\" & ADDRESS(176,A31+4)),\"not tested\")","v":28},2,0,0,28,null,0,"",2,"",28,1]
[18,"Page 18","URL 18","Please select",{"$f":"SUM(COUNTIF(INDIRECT(\"'Success Criteria'!\" & ADDRESS(8,A32+4)):INDIRECT(\"'Success Criteria'!\" & ADDRESS(70,A32+4)),\"PASS\"),COUNTIF(INDIRECT(\"'Success Criteria'!\" & ADDRESS(8,A32+4)):INDIRECT(\"'Success Criteria'!\" & ADDRESS(70,A32+4)),\"PASS with comments\"))","v":0},{"$f":"COUNTIF(INDIRECT(\"'Success Criteria'!\" & ADDRESS(8,A32+4)):INDIRECT(\"'Success Criteria'!\" & ADDRESS(70,A32+4)),\"NON conformant\")","v":0},{"$f":"COUNTIF(INDIRECT(\"'Success Criteria'!\" & ADDRESS(8,A32+4)):INDIRECT(\"'Success Criteria'!\" & ADDRESS(70,A32+4)),\"N/A\")","v":0},{"$f":"COUNTIF(INDIRECT(\"'Success Criteria'!\" & ADDRESS(8,A32+4)):INDIRECT(\"'Success Criteria'!\" & ADDRESS(70,A32+4)),\"not tested\")","v":0},{"$f":"SUM(COUNTIF(INDIRECT(\"'Success Criteria'!\" & ADDRESS(74,A32+4)):INDIRECT(\"'Success Criteria'!\" & ADDRESS(117,A32+4)),\"PASS\"),COUNTIF(INDIRECT(\"'Success Criteria'!\" & ADDRESS(74,A32+4)):INDIRECT(\"'Success Criteria'!\" & ADDRESS(117,A32+4)),\"PASS with comments\"))","v":2},{"$f":"COUNTIF(INDIRECT(\"'Success Criteria'!\" & ADDRESS(74,A32+4)):INDIRECT(\"'Success Criteria'!\" & ADDRESS(117,A32+4)),\"NON conformant\")","v":0},{"$f":"COUNTIF(INDIRECT(\"'Success Criteria'!\" & ADDRESS(74,A32+4)):INDIRECT(\"'Success Criteria'!\" & ADDRESS(117,A32+4)),\"N/A\")","v":0},{"$f":"COUNTIF(INDIRECT(\"'Success Criteria'!\" & ADDRESS(74,A32+4)):INDIRECT(\"'Success Criteria'!\" & ADDRESS(117,A32+4)),\"not tested\")","v":0},{"$f":"SUM(COUNTIF(INDIRECT(\"'Success Criteria'!\" & ADDRESS(122,A32+4)):INDIRECT(\"'Success Criteria'!\" & ADDRESS(176,A32+4)),\"PASS\"),COUNTIF(INDIRECT(\"'Success Criteria'!\" & ADDRESS(122,A32+4)):INDIRECT(\"'Success Criteria'!\" & ADDRESS(176,A32+4)),\"PASS with comments\"))","v":0},{"$f":"COUNTIF(INDIRECT(\"'Success Criteria'!\" & ADDRESS(122,A32+4)):INDIRECT(\"'Success Criteria'!\" & ADDRESS(176,A32+4)),\"NON conformant\")","v":0},{"$f":"COUNTIF(INDIRECT(\"'Success Criteria'!\" & ADDRESS(122,A32+4)):INDIRECT(\"'Success Criteria'!\" & ADDRESS(176,A32+4)),\"N/A\")","v":0},{"$f":"COUNTIF(INDIRECT(\"'Success Criteria'!\" & ADDRESS(122,A32+4)):INDIRECT(\"'Success Criteria'!\" & ADDRESS(176,A32+4)),\"not tested\")","v":28},2,0,0,28,null,0,"",2,"",28,1]
[19,"Page 19","URL 19","Please select",{"$f":"SUM(COUNTIF(INDIRECT(\"'Success Criteria'!\" & ADDRESS(8,A33+4)):INDIRECT(\"'Success Criteria'!\" & ADDRESS(70,A33+4)),\"PASS\"),COUNTIF(INDIRECT(\"'Success Criteria'!\" & ADDRESS(8,A33+4)):INDIRECT(\"'Success Criteria'!\" & ADDRESS(70,A33+4)),\"PASS with comments\"))","v":0},{"$f":"COUNTIF(INDIRECT(\"'Success Criteria'!\" & ADDRESS(8,A33+4)):INDIRECT(\"'Success Criteria'!\" & ADDRESS(70,A33+4)),\"NON conformant\")","v":0},{"$f":"COUNTIF(INDIRECT(\"'Success Criteria'!\" & ADDRESS(8,A33+4)):INDIRECT(\"'Success Criteria'!\" & ADDRESS(70,A33+4)),\"N/A\")","v":0},{"$f":"COUNTIF(INDIRECT(\"'Success Criteria'!\" & ADDRESS(8,A33+4)):INDIRECT(\"'Success Criteria'!\" & ADDRESS(70,A33+4)),\"not tested\")","v":0},{"$f":"SUM(COUNTIF(INDIRECT(\"'Success Criteria'!\" & ADDRESS(74,A33+4)):INDIRECT(\"'Success Criteria'!\" & ADDRESS(117,A33+4)),\"PASS\"),COUNTIF(INDIRECT(\"'Success Criteria'!\" & ADDRESS(74,A33+4)):INDIRECT(\"'Success Criteria'!\" & ADDRESS(117,A33+4)),\"PASS with comments\"))","v":2},{"$f":"COUNTIF(INDIRECT(\"'Success Criteria'!\" & ADDRESS(74,A33+4)):INDIRECT(\"'Success Criteria'!\" & ADDRESS(117,A33+4)),\"NON conformant\")","v":0},{"$f":"COUNTIF(INDIRECT(\"'Success Criteria'!\" & ADDRESS(74,A33+4)):INDIRECT(\"'Success Criteria'!\" & ADDRESS(117,A33+4)),\"N/A\")","v":0},{"$f":"COUNTIF(INDIRECT(\"'Success Criteria'!\" & ADDRESS(74,A33+4)):INDIRECT(\"'Success Criteria'!\" & ADDRESS(117,A33+4)),\"not tested\")","v":0},{"$f":"SUM(COUNTIF(INDIRECT(\"'Success Criteria'!\" & ADDRESS(122,A33+4)):INDIRECT(\"'Success Criteria'!\" & ADDRESS(176,A33+4)),\"PASS\"),COUNTIF(INDIRECT(\"'Success Criteria'!\" & ADDRESS(122,A33+4)):INDIRECT(\"'Success Criteria'!\" & ADDRESS(176,A33+4)),\"PASS with comments\"))","v":0},{"$f":"COUNTIF(INDIRECT(\"'Success Criteria'!\" & ADDRESS(122,A33+4)):INDIRECT(\"'Success Criteria'!\" & ADDRESS(176,A33+4)),\"NON conformant\")","v":0},{"$f":"COUNTIF(INDIRECT(\"'Success Criteria'!\" & ADDRESS(122,A33+4)):INDIRECT(\"'Success Criteria'!\" & ADDRESS(176,A33+4)),\"N/A\")","v":0},{"$f":"COUNTIF(INDIRECT(\"'Success Criteria'!\" & ADDRESS(122,A33+4)):INDIRECT(\"'Success Criteria'!\" & ADDRESS(176,A33+4)),\"not tested\")","v":28},2,0,0,28,null,0,"",2,"",28,1]
[20,"Page 20","URL 20","Please select",{"$f":"SUM(COUNTIF(INDIRECT(\"'Success Criteria'!\" & ADDRESS(8,A34+4)):INDIRECT(\"'Success Criteria'!\" & ADDRESS(70,A34+4)),\"PASS\"),COUNTIF(INDIRECT(\"'Success Criteria'!\" & ADDRESS(8,A34+4)):INDIRECT(\"'Success Criteria'!\" & ADDRESS(70,A34+4)),\"PASS with comments\"))","v":0},{"$f":"COUNTIF(INDIRECT(\"'Success Criteria'!\" & ADDRESS(8,A34+4)):INDIRECT(\"'Success Criteria'!\" & ADDRESS(70,A34+4)),\"NON conformant\")","v":0},{"$f":"COUNTIF(INDIRECT(\"'Success Criteria'!\" & ADDRESS(8,A34+4)):INDIRECT(\"'Success Criteria'!\" & ADDRESS(70,A34+4)),\"N/A\")","v":0},{"$f":"COUNTIF(INDIRECT(\"'Success Criteria'!\" & ADDRESS(8,A34+4)):INDIRECT(\"'Success Criteria'!\" & ADDRESS(70,A34+4)),\"not tested\")","v":0},{"$f":"SUM(COUNTIF(INDIRECT(\"'Success Criteria'!\" & ADDRESS(74,A34+4)):INDIRECT(\"'Success Criteria'!\" & ADDRESS(117,A34+4)),\"PASS\"),COUNTIF(INDIRECT(\"'Success Criteria'!\" & ADDRESS(74,A34+4)):INDIRECT(\"'Success Criteria'!\" & ADDRESS(117,A34+4)),\"PASS with comments\"))","v":2},{"$f":"COUNTIF(INDIRECT(\"'Success Criteria'!\" & ADDRESS(74,A34+4)):INDIRECT(\"'Success Criteria'!\" & ADDRESS(117,A34+4)),\"NON conformant\")","v":0},{"$f":"COUNTIF(INDIRECT(\"'Success Criteria'!\" & ADDRESS(74,A34+4)):INDIRECT(\"'Success Criteria'!\" & ADDRESS(117,A34+4)),\"N/A\")","v":0},{"$f":"COUNTIF(INDIRECT(\"'Success Criteria'!\" & ADDRESS(74,A34+4)):INDIRECT(\"'Success Criteria'!\" & ADDRESS(117,A34+4)),\"not tested\")","v":0},{"$f":"SUM(COUNTIF(INDIRECT(\"'Success Criteria'!\" & ADDRESS(122,A34+4)):INDIRECT(\"'Success Criteria'!\" & ADDRESS(176,A34+4)),\"PASS\"),COUNTIF(INDIRECT(\"'Success Criteria'!\" & ADDRESS(122,A34+4)):INDIRECT(\"'Success Criteria'!\" & ADDRESS(176,A34+4)),\"PASS with comments\"))","v":0},{"$f":"COUNTIF(INDIRECT(\"'Success Criteria'!\" & ADDRESS(122,A34+4)):INDIRECT(\"'Success Criteria'!\" & ADDRESS(176,A34+4)),\"NON conformant\")","v":0},{"$f":"COUNTIF(INDIRECT(\"'Success Criteria'!\" & ADDRESS(122,A34+4)):INDIRECT(\"'Success Criteria'!\" & ADDRESS(176,A34+4)),\"N/A\")","v":0},{"$f":"COUNTIF(INDIRECT(\"'Success Criteria'!\" & ADDRESS(122,A34+4)):INDIRECT(\"'Success Criteria'!\" & ADDRESS(176,A34+4)),\"not tested\")","v":28},2,0,0,28,null,0,"",2,"",28,1]
[21,"Page 21","URL 21","Please select",{"$f":"SUM(COUNTIF(INDIRECT(\"'Success Criteria'!\" & ADDRESS(8,A35+4)):INDIRECT(\"'Success Criteria'!\" & ADDRESS(70,A35+4)),\"PASS\"),COUNTIF(INDIRECT(\"'Success Criteria'!\" & ADDRESS(8,A35+4)):INDIRECT(\"'Success Criteria'!\" & ADDRESS(70,A35+4)),\"PASS with comments\"))","v":0},{"$f":"COUNTIF(INDIRECT(\"'Success Criteria'!\" & ADDRESS(8,A35+4)):INDIRECT(\"'Success Criteria'!\" & ADDRESS(70,A35+4)),\"NON conformant\")","v":0},{"$f":"COUNTIF(INDIRECT(\"'Success Criteria'!\" & ADDRESS(8,A35+4)):INDIRECT(\"'Success Criteria'!\" & ADDRESS(70,A35+4)),\"N/A\")","v":0},{"$f":"COUNTIF(INDIRECT(\"'Success Criteria'!\" & ADDRESS(8,A35+4)):INDIRECT(\"'Success Criteria'!\" & ADDRESS(70,A35+4)),\"not tested\")","v":0},{"$f":"SUM(COUNTIF(INDIRECT(\"'Success Criteria'!\" & ADDRESS(74,A35+4)):INDIRECT(\"'Success Criteria'!\" & ADDRESS(117,A35+4)),\"PASS\"),COUNTIF(INDIRECT(\"'Success Criteria'!\" & ADDRESS(74,A35+4)):INDIRECT(\"'Success Criteria'!\" & ADDRESS(117,A35+4)),\"PASS with comments\"))","v":2},{"$f":"COUNTIF(INDIRECT(\"'Success Criteria'!\" & ADDRESS(74,A35+4)):INDIRECT(\"'Success Criteria'!\" & ADDRESS(117,A35+4)),\"NON conformant\")","v":0},{"$f":"COUNTIF(INDIRECT(\"'Success Criteria'!\" & ADDRESS(74,A35+4)):INDIRECT(\"'Success Criteria'!\" & ADDRESS(117,A35+4)),\"N/A\")","v":0},{"$f":"COUNTIF(INDIRECT(\"'Success Criteria'!\" & ADDRESS(74,A35+4)):INDIRECT(\"'Success Criteria'!\" & ADDRESS(117,A35+4)),\"not tested\")","v":0},{"$f":"SUM(COUNTIF(INDIRECT(\"'Success Criteria'!\" & ADDRESS(122,A35+4)):INDIRECT(\"'Success Criteria'!\" & ADDRESS(176,A35+4)),\"PASS\"),COUNTIF(INDIRECT(\"'Success Criteria'!\" & ADDRESS(122,A35+4)):INDIRECT(\"'Success Criteria'!\" & ADDRESS(176,A35+4)),\"PASS with comments\"))","v":0},{"$f":"COUNTIF(INDIRECT(\"'Success Criteria'!\" & ADDRESS(122,A35+4)):INDIRECT(\"'Success Criteria'!\" & ADDRESS(176,A35+4)),\"NON conformant\")","v":0},{"$f":"COUNTIF(INDIRECT(\"'Success Criteria'!\" & ADDRESS(122,A35+4)):INDIRECT(\"'Success Criteria'!\" & ADDRESS(176,A35+4)),\"N/A\")","v":0},{"$f":"COUNTIF(INDIRECT(\"'Success Criteria'!\" & ADDRESS(122,A35+4)):INDIRECT(\"'Success Criteria'!\" & ADDRESS(176,A35+4)),\"not tested\")","v":28},2,0,0,28,null,0,"",2,"",28,1]
[22,"Page 22","URL 22","Please select",{"$f":"SUM(COUNTIF(INDIRECT(\"'Success Criteria'!\" & ADDRESS(8,A36+4)):INDIRECT(\"'Success Criteria'!\" & ADDRESS(70,A36+4)),\"PASS\"),COUNTIF(INDIRECT(\"'Success Criteria'!\" & ADDRESS(8,A36+4)):INDIRECT(\"'Success Criteria'!\" & ADDRESS(70,A36+4)),\"PASS with comments\"))","v":0},{"$f":"COUNTIF(INDIRECT(\"'Success Criteria'!\" & ADDRESS(8,A36+4)):INDIRECT(\"'Success Criteria'!\" & ADDRESS(70,A36+4)),\"NON conformant\")","v":0},{"$f":"COUNTIF(INDIRECT(\"'Success Criteria'!\" & ADDRESS(8,A36+4)):INDIRECT(\"'Success Criteria'!\" & ADDRESS(70,A36+4)),\"N/A\")","v":0},{"$f":"COUNTIF(INDIRECT(\"'Success Criteria'!\" & ADDRESS(8,A36+4)):INDIRECT(\"'Success Criteria'!\" & ADDRESS(70,A36+4)),\"not tested\")","v":0},{"$f":"SUM(COUNTIF(INDIRECT(\"'Success Criteria'!\" & ADDRESS(74,A36+4)):INDIRECT(\"'Success Criteria'!\" & ADDRESS(117,A36+4)),\"PASS\"),COUNTIF(INDIRECT(\"'Success Criteria'!\" & ADDRESS(74,A36+4)):INDIRECT(\"'Success Criteria'!\" & ADDRESS(117,A36+4)),\"PASS with comments\"))","v":2},{"$f":"COUNTIF(INDIRECT(\"'Success Criteria'!\" & ADDRESS(74,A36+4)):INDIRECT(\"'Success Criteria'!\" & ADDRESS(117,A36+4)),\"NON conformant\")","v":0},{"$f":"COUNTIF(INDIRECT(\"'Success Criteria'!\" & ADDRESS(74,A36+4)):INDIRECT(\"'Success Criteria'!\" & ADDRESS(117,A36+4)),\"N/A\")","v":0},{"$f":"COUNTIF(INDIRECT(\"'Success Criteria'!\" & ADDRESS(74,A36+4)):INDIRECT(\"'Success Criteria'!\" & ADDRESS(117,A36+4)),\"not tested\")","v":0},{"$f":"SUM(COUNTIF(INDIRECT(\"'Success Criteria'!\" & ADDRESS(122,A36+4)):INDIRECT(\"'Success Criteria'!\" & ADDRESS(176,A36+4)),\"PASS\"),COUNTIF(INDIRECT(\"'Success Criteria'!\" & ADDRESS(122,A36+4)):INDIRECT(\"'Success Criteria'!\" & ADDRESS(176,A36+4)),\"PASS with comments\"))","v":0},{"$f":"COUNTIF(INDIRECT(\"'Success Criteria'!\" & ADDRESS(122,A36+4)):INDIRECT(\"'Success Criteria'!\" & ADDRESS(176,A36+4)),\"NON conformant\")","v":0},{"$f":"COUNTIF(INDIRECT(\"'Success Criteria'!\" & ADDRESS(122,A36+4)):INDIRECT(\"'Success Criteria'!\" & ADDRESS(176,A36+4)),\"N/A\")","v":0},{"$f":"COUNTIF(INDIRECT(\"'Success Criteria'!\" & ADDRESS(122,A36+4)):INDIRECT(\"'Success Criteria'!\" & ADDRESS(176,A36+4)),\"not tested\")","v":28},2,0,0,28,null,0,"",2,"",28,1]
[23,"Page 23","URL 23","Please select",{"$f":"SUM(COUNTIF(INDIRECT(\"'Success Criteria'!\" & ADDRESS(8,A37+4)):INDIRECT(\"'Success Criteria'!\" & ADDRESS(70,A37+4)),\"PASS\"),COUNTIF(INDIRECT(\"'Success Criteria'!\" & ADDRESS(8,A37+4)):INDIRECT(\"'Success Criteria'!\" & ADDRESS(70,A37+4)),\"PASS with comments\"))","v":0},{"$f":"COUNTIF(INDIRECT(\"'Success Criteria'!\" & ADDRESS(8,A37+4)):INDIRECT(\"'Success Criteria'!\" & ADDRESS(70,A37+4)),\"NON conformant\")","v":0},{"$f":"COUNTIF(INDIRECT(\"'Success Criteria'!\" & ADDRESS(8,A37+4)):INDIRECT(\"'Success Criteria'!\" & ADDRESS(70,A37+4)),\"N/A\")","v":0},{"$f":"COUNTIF(INDIRECT(\"'Success Criteria'!\" & ADDRESS(8,A37+4)):INDIRECT(\"'Success Criteria'!\" & ADDRESS(70,A37+4)),\"not tested\")","v":0},{"$f":"SUM(COUNTIF(INDIRECT(\"'Success Criteria'!\" & ADDRESS(74,A37+4)):INDIRECT(\"'Success Criteria'!\" & ADDRESS(117,A37+4)),\"PASS\"),COUNTIF(INDIRECT(\"'Success Criteria'!\" & ADDRESS(74,A37+4)):INDIRECT(\"'Success Criteria'!\" & ADDRESS(117,A37+4)),\"PASS with comments\"))","v":2},{"$f":"COUNTIF(INDIRECT(\"'Success Criteria'!\" & ADDRESS(74,A37+4)):INDIRECT(\"'Success Criteria'!\" & ADDRESS(117,A37+4)),\"NON conformant\")","v":0},{"$f":"COUNTIF(INDIRECT(\"'Success Criteria'!\" & ADDRESS(74,A37+4)):INDIRECT(\"'Success Criteria'!\" & ADDRESS(117,A37+4)),\"N/A\")","v":0},{"$f":"COUNTIF(INDIRECT(\"'Success Criteria'!\" & ADDRESS(74,A37+4)):INDIRECT(\"'Success Criteria'!\" & ADDRESS(117,A37+4)),\"not tested\")","v":0},{"$f":"SUM(COUNTIF(INDIRECT(\"'Success Criteria'!\" & ADDRESS(122,A37+4)):INDIRECT(\"'Success Criteria'!\" & ADDRESS(176,A37+4)),\"PASS\"),COUNTIF(INDIRECT(\"'Success Criteria'!\" & ADDRESS(122,A37+4)):INDIRECT(\"'Success Criteria'!\" & ADDRESS(176,A37+4)),\"PASS with comments\"))","v":0},{"$f":"COUNTIF(INDIRECT(\"'Success Criteria'!\" & ADDRESS(122,A37+4)):INDIRECT(\"'Success Criteria'!\" & ADDRESS(176,A37+4)),\"NON conformant\")","v":0},{"$f":"COUNTIF(INDIRECT(\"'Success Criteria'!\" & ADDRESS(122,A37+4)):INDIRECT(\"'Success Criteria'!\" & ADDRESS(176,A37+4)),\"N/A\")","v":0},{"$f":"COUNTIF(INDIRECT(\"'Success Criteria'!\" & ADDRESS(122,A37+4)):INDIRECT(\"'Success Criteria'!\" & ADDRESS(176,A37+4)),\"not tested\")","v":28},2,0,0,28,null,0,"",2,"",28,1]
[24,"Page 24","URL 24","Please select",{"$f":"SUM(COUNTIF(INDIRECT(\"'Success Criteria'!\" & ADDRESS(8,A38+4)):INDIRECT(\"'Success Criteria'!\" & ADDRESS(70,A38+4)),\"PASS\"),COUNTIF(INDIRECT(\"'Success Criteria'!\" & ADDRESS(8,A38+4)):INDIRECT(\"'Success Criteria'!\" & ADDRESS(70,A38+4)),\"PASS with comments\"))","v":0},{"$f":"COUNTIF(INDIRECT(\"'Success Criteria'!\" & ADDRESS(8,A38+4)):INDIRECT(\"'Success Criteria'!\" & ADDRESS(70,A38+4)),\"NON conformant\")","v":0},{"$f":"COUNTIF(INDIRECT(\"'Success Criteria'!\" & ADDRESS(8,A38+4)):INDIRECT(\"'Success Criteria'!\" & ADDRESS(70,A38+4)),\"N/A\")","v":0},{"$f":"COUNTIF(INDIRECT(\"'Success Criteria'!\" & ADDRESS(8,A38+4)):INDIRECT(\"'Success Criteria'!\" & ADDRESS(70,A38+4)),\"not tested\")","v":0},{"$f":"SUM(COUNTIF(INDIRECT(\"'Success Criteria'!\" & ADDRESS(74,A38+4)):INDIRECT(\"'Success Criteria'!\" & ADDRESS(117,A38+4)),\"PASS\"),COUNTIF(INDIRECT(\"'Success Criteria'!\" & ADDRESS(74,A38+4)):INDIRECT(\"'Success Criteria'!\" & ADDRESS(117,A38+4)),\"PASS with comments\"))","v":2},{"$f":"COUNTIF(INDIRECT(\"'Success Criteria'!\" & ADDRESS(74,A38+4)):INDIRECT(\"'Success Criteria'!\" & ADDRESS(117,A38+4)),\"NON conformant\")","v":0},{"$f":"COUNTIF(INDIRECT(\"'Success Criteria'!\" & ADDRESS(74,A38+4)):INDIRECT(\"'Success Criteria'!\" & ADDRESS(117,A38+4)),\"N/A\")","v":0},{"$f":"COUNTIF(INDIRECT(\"'Success Criteria'!\" & ADDRESS(74,A38+4)):INDIRECT(\"'Success Criteria'!\" & ADDRESS(117,A38+4)),\"not tested\")","v":0},{"$f":"SUM(COUNTIF(INDIRECT(\"'Success Criteria'!\" & ADDRESS(122,A38+4)):INDIRECT(\"'Success Criteria'!\" & ADDRESS(176,A38+4)),\"PASS\"),COUNTIF(INDIRECT(\"'Success Criteria'!\" & ADDRESS(122,A38+4)):INDIRECT(\"'Success Criteria'!\" & ADDRESS(176,A38+4)),\"PASS with comments\"))","v":0},{"$f":"COUNTIF(INDIRECT(\"'Success Criteria'!\" & ADDRESS(122,A38+4)):INDIRECT(\"'Success Criteria'!\" & ADDRESS(176,A38+4)),\"NON conformant\")","v":0},{"$f":"COUNTIF(INDIRECT(\"'Success Criteria'!\" & ADDRESS(122,A38+4)):INDIRECT(\"'Success Criteria'!\" & ADDRESS(176,A38+4)),\"N/A\")","v":0},{"$f":"COUNTIF(INDIRECT(\"'Success Criteria'!\" & ADDRESS(122,A38+4)):INDIRECT(\"'Success Criteria'!\" & ADDRESS(176,A38+4)),\"not tested\")","v":28},2,0,0,28,null,0,"",2,"",28,1]
[25,"Page 25","URL 25","Please select",{"$f":"SUM(COUNTIF(INDIRECT(\"'Success Criteria'!\" & ADDRESS(8,A39+4)):INDIRECT(\"'Success Criteria'!\" & ADDRESS(70,A39+4)),\"PASS\"),COUNTIF(INDIRECT(\"'Success Criteria'!\" & ADDRESS(8,A39+4)):INDIRECT(\"'Success Criteria'!\" & ADDRESS(70,A39+4)),\"PASS with comments\"))","v":0},{"$f":"COUNTIF(INDIRECT(\"'Success Criteria'!\" & ADDRESS(8,A39+4)):INDIRECT(\"'Success Criteria'!\" & ADDRESS(70,A39+4)),\"NON conformant\")","v":0},{"$f":"COUNTIF(INDIRECT(\"'Success Criteria'!\" & ADDRESS(8,A39+4)):INDIRECT(\"'Success Criteria'!\" & ADDRESS(70,A39+4)),\"N/A\")","v":0},{"$f":"COUNTIF(INDIRECT(\"'Success Criteria'!\" & ADDRESS(8,A39+4)):INDIRECT(\"'Success Criteria'!\" & ADDRESS(70,A39+4)),\"not tested\")","v":0},{"$f":"SUM(COUNTIF(INDIRECT(\"'Success Criteria'!\" & ADDRESS(74,A39+4)):INDIRECT(\"'Success Criteria'!\" & ADDRESS(117,A39+4)),\"PASS\"),COUNTIF(INDIRECT(\"'Success Criteria'!\" & ADDRESS(74,A39+4)):INDIRECT(\"'Success Criteria'!\" & ADDRESS(117,A39+4)),\"PASS with comments\"))","v":2},{"$f":"COUNTIF(INDIRECT(\"'Success Criteria'!\" & ADDRESS(74,A39+4)):INDIRECT(\"'Success Criteria'!\" & ADDRESS(117,A39+4)),\"NON conformant\")","v":0},{"$f":"COUNTIF(INDIRECT(\"'Success Criteria'!\" & ADDRESS(74,A39+4)):INDIRECT(\"'Success Criteria'!\" & ADDRESS(117,A39+4)),\"N/A\")","v":0},{"$f":"COUNTIF(INDIRECT(\"'Success Criteria'!\" & ADDRESS(74,A39+4)):INDIRECT(\"'Success Criteria'!\" & ADDRESS(117,A39+4)),\"not tested\")","v":0},{"$f":"SUM(COUNTIF(INDIRECT(\"'Success Criteria'!\" & ADDRESS(122,A39+4)):INDIRECT(\"'Success Criteria'!\" & ADDRESS(176,A39+4)),\"PASS\"),COUNTIF(INDIRECT(\"'Success Criteria'!\" & ADDRESS(122,A39+4)):INDIRECT(\"'Success Criteria'!\" & ADDRESS(176,A39+4)),\"PASS with comments\"))","v":0},{"$f":"COUNTIF(INDIRECT(\"'Success Criteria'!\" & ADDRESS(122,A39+4)):INDIRECT(\"'Success Criteria'!\" & ADDRESS(176,A39+4)),\"NON conformant\")","v":0},{"$f":"COUNTIF(INDIRECT(\"'Success Criteria'!\" & ADDRESS(122,A39+4)):INDIRECT(\"'Success Criteria'!\" & ADDRESS(176,A39+4)),\"N/A\")","v":0},{"$f":"COUNTIF(INDIRECT(\"'Success Criteria'!\" & ADDRESS(122,A39+4)):INDIRECT(\"'Success Criteria'!\" & ADDRESS(176,A39+4)),\"not tested\")","v":28},2,0,0,28,null,0,"",2,"",28,1]
[26,"Page 26","URL 26","Please select",{"$f":"SUM(COUNTIF(INDIRECT(\"'Success Criteria'!\" & ADDRESS(8,A40+4)):INDIRECT(\"'Success Criteria'!\" & ADDRESS(70,A40+4)),\"PASS\"),COUNTIF(INDIRECT(\"'Success Criteria'!\" & ADDRESS(8,A40+4)):INDIRECT(\"'Success Criteria'!\" & ADDRESS(70,A40+4)),\"PASS with comments\"))","v":0},{"$f":"COUNTIF(INDIRECT(\"'Success Criteria'!\" & ADDRESS(8,A40+4)):INDIRECT(\"'Success Criteria'!\" & ADDRESS(70,A40+4)),\"NON conformant\")","v":0},{"$f":"COUNTIF(INDIRECT(\"'Success Criteria'!\" & ADDRESS(8,A40+4)):INDIRECT(\"'Success Criteria'!\" & ADDRESS(70,A40+4)),\"N/A\")","v":0},{"$f":"COUNTIF(INDIRECT(\"'Success Criteria'!\" & ADDRESS(8,A40+4)):INDIRECT(\"'Success Criteria'!\" & ADDRESS(70,A40+4)),\"not tested\")","v":0},{"$f":"SUM(COUNTIF(INDIRECT(\"'Success Criteria'!\" & ADDRESS(74,A40+4)):INDIRECT(\"'Success Criteria'!\" & ADDRESS(117,A40+4)),\"PASS\"),COUNTIF(INDIRECT(\"'Success Criteria'!\" & ADDRESS(74,A40+4)):INDIRECT(\"'Success Criteria'!\" & ADDRESS(117,A40+4)),\"PASS with comments\"))","v":2},{"$f":"COUNTIF(INDIRECT(\"'Success Criteria'!\" & ADDRESS(74,A40+4)):INDIRECT(\"'Success Criteria'!\" & ADDRESS(117,A40+4)),\"NON conformant\")","v":0},{"$f":"COUNTIF(INDIRECT(\"'Success Criteria'!\" & ADDRESS(74,A40+4)):INDIRECT(\"'Success Criteria'!\" & ADDRESS(117,A40+4)),\"N/A\")","v":0},{"$f":"COUNTIF(INDIRECT(\"'Success Criteria'!\" & ADDRESS(74,A40+4)):INDIRECT(\"'Success Criteria'!\" & ADDRESS(117,A40+4)),\"not tested\")","v":0},{"$f":"SUM(COUNTIF(INDIRECT(\"'Success Criteria'!\" & ADDRESS(122,A40+4)):INDIRECT(\"'Success Criteria'!\" & ADDRESS(176,A40+4)),\"PASS\"),COUNTIF(INDIRECT(\"'Success Criteria'!\" & ADDRESS(122,A40+4)):INDIRECT(\"'Success Criteria'!\" & ADDRESS(176,A40+4)),\"PASS with comments\"))","v":0},{"$f":"COUNTIF(INDIRECT(\"'Success Criteria'!\" & ADDRESS(122,A40+4)):INDIRECT(\"'Success Criteria'!\" & ADDRESS(176,A40+4)),\"NON conformant\")","v":0},{"$f":"COUNTIF(INDIRECT(\"'Success Criteria'!\" & ADDRESS(122,A40+4)):INDIRECT(\"'Success Criteria'!\" & ADDRESS(176,A40+4)),\"N/A\")","v":0},{"$f":"COUNTIF(INDIRECT(\"'Success Criteria'!\" & ADDRESS(122,A40+4)):INDIRECT(\"'Success Criteria'!\" & ADDRESS(176,A40+4)),\"not tested\")","v":28},2,0,0,28,null,0,"",2,"",28,1]
[27,"Page 27","URL 27","Please select",{"$f":"SUM(COUNTIF(INDIRECT(\"'Success Criteria'!\" & ADDRESS(8,A41+4)):INDIRECT(\"'Success Criteria'!\" & ADDRESS(70,A41+4)),\"PASS\"),COUNTIF(INDIRECT(\"'Success Criteria'!\" & ADDRESS(8,A41+4)):INDIRECT(\"'Success Criteria'!\" & ADDRESS(70,A41+4)),\"PASS with comments\"))","v":0},{"$f":"COUNTIF(INDIRECT(\"'Success Criteria'!\" & ADDRESS(8,A41+4)):INDIRECT(\"'Success Criteria'!\" & ADDRESS(70,A41+4)),\"NON conformant\")","v":0},{"$f":"COUNTIF(INDIRECT(\"'Success Criteria'!\" & ADDRESS(8,A41+4)):INDIRECT(\"'Success Criteria'!\" & ADDRESS(70,A41+4)),\"N/A\")","v":0},{"$f":"COUNTIF(INDIRECT(\"'Success Criteria'!\" & ADDRESS(8,A41+4)):INDIRECT(\"'Success Criteria'!\" & ADDRESS(70,A41+4)),\"not tested\")","v":0},{"$f":"SUM(COUNTIF(INDIRECT(\"'Success Criteria'!\" & ADDRESS(74,A41+4)):INDIRECT(\"'Success Criteria'!\" & ADDRESS(117,A41+4)),\"PASS\"),COUNTIF(INDIRECT(\"'Success Criteria'!\" & ADDRESS(74,A41+4)):INDIRECT(\"'Success Criteria'!\" & ADDRESS(117,A41+4)),\"PASS with comments\"))","v":2},{"$f":"COUNTIF(INDIRECT(\"'Success Criteria'!\" & ADDRESS(74,A41+4)):INDIRECT(\"'Success Criteria'!\" & ADDRESS(117,A41+4)),\"NON conformant\")","v":0},{"$f":"COUNTIF(INDIRECT(\"'Success Criteria'!\" & ADDRESS(74,A41+4)):INDIRECT(\"'Success Criteria'!\" & ADDRESS(117,A41+4)),\"N/A\")","v":0},{"$f":"COUNTIF(INDIRECT(\"'Success Criteria'!\" & ADDRESS(74,A41+4)):INDIRECT(\"'Success Criteria'!\" & ADDRESS(117,A41+4)),\"not tested\")","v":0},{"$f":"SUM(COUNTIF(INDIRECT(\"'Success Criteria'!\" & ADDRESS(122,A41+4)):INDIRECT(\"'Success Criteria'!\" & ADDRESS(176,A41+4)),\"PASS\"),COUNTIF(INDIRECT(\"'Success Criteria'!\" & ADDRESS(122,A41+4)):INDIRECT(\"'Success Criteria'!\" & ADDRESS(176,A41+4)),\"PASS with comments\"))","v":0},{"$f":"COUNTIF(INDIRECT(\"'Success Criteria'!\" & ADDRESS(122,A41+4)):INDIRECT(\"'Success Criteria'!\" & ADDRESS(176,A41+4)),\"NON conformant\")","v":0},{"$f":"COUNTIF(INDIRECT(\"'Success Criteria'!\" & ADDRESS(122,A41+4)):INDIRECT(\"'Success Criteria'!\" & ADDRESS(176,A41+4)),\"N/A\")","v":0},{"$f":"COUNTIF(INDIRECT(\"'Success Criteria'!\" & ADDRESS(122,A41+4)):INDIRECT(\"'Success Criteria'!\" & ADDRESS(176,A41+4)),\"not tested\")","v":28},2,0,0,28,null,0,"",2,"",28,1]
[28,"Page 28","URL 28","Please select",{"$f":"SUM(COUNTIF(INDIRECT(\"'Success Criteria'!\" & ADDRESS(8,A42+4)):INDIRECT(\"'Success Criteria'!\" & ADDRESS(70,A42+4)),\"PASS\"),COUNTIF(INDIRECT(\"'Success Criteria'!\" & ADDRESS(8,A42+4)):INDIRECT(\"'Success Criteria'!\" & ADDRESS(70,A42+4)),\"PASS with comments\"))","v":0},{"$f":"COUNTIF(INDIRECT(\"'Success Criteria'!\" & ADDRESS(8,A42+4)):INDIRECT(\"'Success Criteria'!\" & ADDRESS(70,A42+4)),\"NON conformant\")","v":0},{"$f":"COUNTIF(INDIRECT(\"'Success Criteria'!\" & ADDRESS(8,A42+4)):INDIRECT(\"'Success Criteria'!\" & ADDRESS(70,A42+4)),\"N/A\")","v":0},{"$f":"COUNTIF(INDIRECT(\"'Success Criteria'!\" & ADDRESS(8,A42+4)):INDIRECT(\"'Success Criteria'!\" & ADDRESS(70,A42+4)),\"not tested\")","v":0},{"$f":"SUM(COUNTIF(INDIRECT(\"'Success Criteria'!\" & ADDRESS(74,A42+4)):INDIRECT(\"'Success Criteria'!\" & ADDRESS(117,A42+4)),\"PASS\"),COUNTIF(INDIRECT(\"'Success Criteria'!\" & ADDRESS(74,A42+4)):INDIRECT(\"'Success Criteria'!\" & ADDRESS(117,A42+4)),\"PASS with comments\"))","v":2},{"$f":"COUNTIF(INDIRECT(\"'Success Criteria'!\" & ADDRESS(74,A42+4)):INDIRECT(\"'Success Criteria'!\" & ADDRESS(117,A42+4)),\"NON conformant\")","v":0},{"$f":"COUNTIF(INDIRECT(\"'Success Criteria'!\" & ADDRESS(74,A42+4)):INDIRECT(\"'Success Criteria'!\" & ADDRESS(117,A42+4)),\"N/A\")","v":0},{"$f":"COUNTIF(INDIRECT(\"'Success Criteria'!\" & ADDRESS(74,A42+4)):INDIRECT(\"'Success Criteria'!\" & ADDRESS(117,A42+4)),\"not tested\")","v":0},{"$f":"SUM(COUNTIF(INDIRECT(\"'Success Criteria'!\" & ADDRESS(122,A42+4)):INDIRECT(\"'Success Criteria'!\" & ADDRESS(176,A42+4)),\"PASS\"),COUNTIF(INDIRECT(\"'Success Criteria'!\" & ADDRESS(122,A42+4)):INDIRECT(\"'Success Criteria'!\" & ADDRESS(176,A42+4)),\"PASS with comments\"))","v":0},{"$f":"COUNTIF(INDIRECT(\"'Success Criteria'!\" & ADDRESS(122,A42+4)):INDIRECT(\"'Success Criteria'!\" & ADDRESS(176,A42+4)),\"NON conformant\")","v":0},{"$f":"COUNTIF(INDIRECT(\"'Success Criteria'!\" & ADDRESS(122,A42+4)):INDIRECT(\"'Success Criteria'!\" & ADDRESS(176,A42+4)),\"N/A\")","v":0},{"$f":"COUNTIF(INDIRECT(\"'Success Criteria'!\" & ADDRESS(122,A42+4)):INDIRECT(\"'Success Criteria'!\" & ADDRESS(176,A42+4)),\"not tested\")","v":28},2,0,0,28,null,0,"",2,"",28,1]
[29,"Page 29","URL 29","Please select",{"$f":"SUM(COUNTIF(INDIRECT(\"'Success Criteria'!\" & ADDRESS(8,A43+4)):INDIRECT(\"'Success Criteria'!\" & ADDRESS(70,A43+4)),\"PASS\"),COUNTIF(INDIRECT(\"'Success Criteria'!\" & ADDRESS(8,A43+4)):INDIRECT(\"'Success Criteria'!\" & ADDRESS(70,A43+4)),\"PASS with comments\"))","v":0},{"$f":"COUNTIF(INDIRECT(\"'Success Criteria'!\" & ADDRESS(8,A43+4)):INDIRECT(\"'Success Criteria'!\" & ADDRESS(70,A43+4)),\"NON conformant\")","v":0},{"$f":"COUNTIF(INDIRECT(\"'Success Criteria'!\" & ADDRESS(8,A43+4)):INDIRECT(\"'Success Criteria'!\" & ADDRESS(70,A43+4)),\"N/A\")","v":0},{"$f":"COUNTIF(INDIRECT(\"'Success Criteria'!\" & ADDRESS(8,A43+4)):INDIRECT(\"'Success Criteria'!\" & ADDRESS(70,A43+4)),\"not tested\")","v":0},{"$f":"SUM(COUNTIF(INDIRECT(\"'Success Criteria'!\" & ADDRESS(74,A43+4)):INDIRECT(\"'Success Criteria'!\" & ADDRESS(117,A43+4)),\"PASS\"),COUNTIF(INDIRECT(\"'Success Criteria'!\" & ADDRESS(74,A43+4)):INDIRECT(\"'Success Criteria'!\" & ADDRESS(117,A43+4)),\"PASS with comments\"))","v":2},{"$f":"COUNTIF(INDIRECT(\"'Success Criteria'!\" & ADDRESS(74,A43+4)):INDIRECT(\"'Success Criteria'!\" & ADDRESS(117,A43+4)),\"NON conformant\")","v":0},{"$f":"COUNTIF(INDIRECT(\"'Success Criteria'!\" & ADDRESS(74,A43+4)):INDIRECT(\"'Success Criteria'!\" & ADDRESS(117,A43+4)),\"N/A\")","v":0},{"$f":"COUNTIF(INDIRECT(\"'Success Criteria'!\" & ADDRESS(74,A43+4)):INDIRECT(\"'Success Criteria'!\" & ADDRESS(117,A43+4)),\"not tested\")","v":0},{"$f":"SUM(COUNTIF(INDIRECT(\"'Success Criteria'!\" & ADDRESS(122,A43+4)):INDIRECT(\"'Success Criteria'!\" & ADDRESS(176,A43+4)),\"PASS\"),COUNTIF(INDIRECT(\"'Success Criteria'!\" & ADDRESS(122,A43+4)):INDIRECT(\"'Success Criteria'!\" & ADDRESS(176,A43+4)),\"PASS with comments\"))","v":0},{"$f":"COUNTIF(INDIRECT(\"'Success Criteria'!\" & ADDRESS(122,A43+4)):INDIRECT(\"'Success Criteria'!\" & ADDRESS(176,A43+4)),\"NON conformant\")","v":0},{"$f":"COUNTIF(INDIRECT(\"'Success Criteria'!\" & ADDRESS(122,A43+4)):INDIRECT(\"'Success Criteria'!\" & ADDRESS(176,A43+4)),\"N/A\")","v":0},{"$f":"COUNTIF(INDIRECT(\"'Success Criteria'!\" & ADDRESS(122,A43+4)):INDIRECT(\"'Success Criteria'!\" & ADDRESS(176,A43+4)),\"not tested\")","v":28},2,0,0,28,null,0,"",2,"",28,1]
[30,"Page 30","URL 30","Please select",{"$f":"SUM(COUNTIF(INDIRECT(\"'Success Criteria'!\" & ADDRESS(8,A44+4)):INDIRECT(\"'Success Criteria'!\" & ADDRESS(70,A44+4)),\"PASS\"),COUNTIF(INDIRECT(\"'Success Criteria'!\" & ADDRESS(8,A44+4)):INDIRECT(\"'Success Criteria'!\" & ADDRESS(70,A44+4)),\"PASS with comments\"))","v":0},{"$f":"COUNTIF(INDIRECT(\"'Success Criteria'!\" & ADDRESS(8,A44+4)):INDIRECT(\"'Success Criteria'!\" & ADDRESS(70,A44+4)),\"NON conformant\")","v":0},{"$f":"COUNTIF(INDIRECT(\"'Success Criteria'!\" & ADDRESS(8,A44+4)):INDIRECT(\"'Success Criteria'!\" & ADDRESS(70,A44+4)),\"N/A\")","v":0},{"$f":"COUNTIF(INDIRECT(\"'Success Criteria'!\" & ADDRESS(8,A44+4)):INDIRECT(\"'Success Criteria'!\" & ADDRESS(70,A44+4)),\"not tested\")","v":0},{"$f":"SUM(COUNTIF(INDIRECT(\"'Success Criteria'!\" & ADDRESS(74,A44+4)):INDIRECT(\"'Success Criteria'!\" & ADDRESS(117,A44+4)),\"PASS\"),COUNTIF(INDIRECT(\"'Success Criteria'!\" & ADDRESS(74,A44+4)):INDIRECT(\"'Success Criteria'!\" & ADDRESS(117,A44+4)),\"PASS with comments\"))","v":2},{"$f":"COUNTIF(INDIRECT(\"'Success Criteria'!\" & ADDRESS(74,A44+4)):INDIRECT(\"'Success Criteria'!\" & ADDRESS(117,A44+4)),\"NON conformant\")","v":0},{"$f":"COUNTIF(INDIRECT(\"'Success Criteria'!\" & ADDRESS(74,A44+4)):INDIRECT(\"'Success Criteria'!\" & ADDRESS(117,A44+4)),\"N/A\")","v":0},{"$f":"COUNTIF(INDIRECT(\"'Success Criteria'!\" & ADDRESS(74,A44+4)):INDIRECT(\"'Success Criteria'!\" & ADDRESS(117,A44+4)),\"not tested\")","v":0},{"$f":"SUM(COUNTIF(INDIRECT(\"'Success Criteria'!\" & ADDRESS(122,A44+4)):INDIRECT(\"'Success Criteria'!\" & ADDRESS(176,A44+4)),\"PASS\"),COUNTIF(INDIRECT(\"'Success Criteria'!\" & ADDRESS(122,A44+4)):INDIRECT(\"'Success Criteria'!\" & ADDRESS(176,A44+4)),\"PASS with comments\"))","v":0},{"$f":"COUNTIF(INDIRECT(\"'Success Criteria'!\" & ADDRESS(122,A44+4)):INDIRECT(\"'Success Criteria'!\" & ADDRESS(176,A44+4)),\"NON conformant\")","v":0},{"$f":"COUNTIF(INDIRECT(\"'Success Criteria'!\" & ADDRESS(122,A44+4)):INDIRECT(\"'Success Criteria'!\" & ADDRESS(176,A44+4)),\"N/A\")","v":0},{"$f":"COUNTIF(INDIRECT(\"'Success Criteria'!\" & ADDRESS(122,A44+4)):INDIRECT(\"'Success Criteria'!\" & ADDRESS(176,A44+4)),\"not tested\")","v":28},2,0,0,28,null,0,"",2,"",28,1]
[31,"Page 31","URL 31","Please select",{"$f":"SUM(COUNTIF(INDIRECT(\"'Success Criteria'!\" & ADDRESS(8,A45+4)):INDIRECT(\"'Success Criteria'!\" & ADDRESS(70,A45+4)),\"PASS\"),COUNTIF(INDIRECT(\"'Success Criteria'!\" & ADDRESS(8,A45+4)):INDIRECT(\"'Success Criteria'!\" & ADDRESS(70,A45+4)),\"PASS with comments\"))","v":0},{"$f":"COUNTIF(INDIRECT(\"'Success Criteria'!\" & ADDRESS(8,A45+4)):INDIRECT(\"'Success Criteria'!\" & ADDRESS(70,A45+4)),\"NON conformant\")","v":0},{"$f":"COUNTIF(INDIRECT(\"'Success Criteria'!\" & ADDRESS(8,A45+4)):INDIRECT(\"'Success Criteria'!\" & ADDRESS(70,A45+4)),\"N/A\")","v":0},{"$f":"COUNTIF(INDIRECT(\"'Success Criteria'!\" & ADDRESS(8,A45+4)):INDIRECT(\"'Success Criteria'!\" & ADDRESS(70,A45+4)),\"not tested\")","v":0},{"$f":"SUM(COUNTIF(INDIRECT(\"'Success Criteria'!\" & ADDRESS(74,A45+4)):INDIRECT(\"'Success Criteria'!\" & ADDRESS(117,A45+4)),\"PASS\"),COUNTIF(INDIRECT(\"'Success Criteria'!\" & ADDRESS(74,A45+4)):INDIRECT(\"'Success Criteria'!\" & ADDRESS(117,A45+4)),\"PASS with comments\"))","v":2},{"$f":"COUNTIF(INDIRECT(\"'Success Criteria'!\" & ADDRESS(74,A45+4)):INDIRECT(\"'Success Criteria'!\" & ADDRESS(117,A45+4)),\"NON conformant\")","v":0},{"$f":"COUNTIF(INDIRECT(\"'Success Criteria'!\" & ADDRESS(74,A45+4)):INDIRECT(\"'Success Criteria'!\" & ADDRESS(117,A45+4)),\"N/A\")","v":0},{"$f":"COUNTIF(INDIRECT(\"'Success Criteria'!\" & ADDRESS(74,A45+4)):INDIRECT(\"'Success Criteria'!\" & ADDRESS(117,A45+4)),\"not tested\")","v":0},{"$f":"SUM(COUNTIF(INDIRECT(\"'Success Criteria'!\" & ADDRESS(122,A45+4)):INDIRECT(\"'Success Criteria'!\" & ADDRESS(176,A45+4)),\"PASS\"),COUNTIF(INDIRECT(\"'Success Criteria'!\" & ADDRESS(122,A45+4)):INDIRECT(\"'Success Criteria'!\" & ADDRESS(176,A45+4)),\"PASS with comments\"))","v":0},{"$f":"COUNTIF(INDIRECT(\"'Success Criteria'!\" & ADDRESS(122,A45+4)):INDIRECT(\"'Success Criteria'!\" & ADDRESS(176,A45+4)),\"NON conformant\")","v":0},{"$f":"COUNTIF(INDIRECT(\"'Success Criteria'!\" & ADDRESS(122,A45+4)):INDIRECT(\"'Success Criteria'!\" & ADDRESS(176,A45+4)),\"N/A\")","v":0},{"$f":"COUNTIF(INDIRECT(\"'Success Criteria'!\" & ADDRESS(122,A45+4)):INDIRECT(\"'Success Criteria'!\" & ADDRESS(176,A45+4)),\"not tested\")","v":28},2,0,0,28,null,0,"",2,"",28,1]
[32,"Page 32","URL 32","Please select",{"$f":"SUM(COUNTIF(INDIRECT(\"'Success Criteria'!\" & ADDRESS(8,A46+4)):INDIRECT(\"'Success Criteria'!\" & ADDRESS(70,A46+4)),\"PASS\"),COUNTIF(INDIRECT(\"'Success Criteria'!\" & ADDRESS(8,A46+4)):INDIRECT(\"'Success Criteria'!\" & ADDRESS(70,A46+4)),\"PASS with comments\"))","v":0},{"$f":"COUNTIF(INDIRECT(\"'Success Criteria'!\" & ADDRESS(8,A46+4)):INDIRECT(\"'Success Criteria'!\" & ADDRESS(70,A46+4)),\"NON conformant\")","v":0},{"$f":"COUNTIF(INDIRECT(\"'Success Criteria'!\" & ADDRESS(8,A46+4)):INDIRECT(\"'Success Criteria'!\" & ADDRESS(70,A46+4)),\"N/A\")","v":0},{"$f":"COUNTIF(INDIRECT(\"'Success Criteria'!\" & ADDRESS(8,A46+4)):INDIRECT(\"'Success Criteria'!\" & ADDRESS(70,A46+4)),\"not tested\")","v":0},{"$f":"SUM(COUNTIF(INDIRECT(\"'Success Criteria'!\" & ADDRESS(74,A46+4)):INDIRECT(\"'Success Criteria'!\" & ADDRESS(117,A46+4)),\"PASS\"),COUNTIF(INDIRECT(\"'Success Criteria'!\" & ADDRESS(74,A46+4)):INDIRECT(\"'Success Criteria'!\" & ADDRESS(117,A46+4)),\"PASS with comments\"))","v":2},{"$f":"COUNTIF(INDIRECT(\"'Success Criteria'!\" & ADDRESS(74,A46+4)):INDIRECT(\"'Success Criteria'!\" & ADDRESS(117,A46+4)),\"NON conformant\")","v":0},{"$f":"COUNTIF(INDIRECT(\"'Success Criteria'!\" & ADDRESS(74,A46+4)):INDIRECT(\"'Success Criteria'!\" & ADDRESS(117,A46+4)),\"N/A\")","v":0},{"$f":"COUNTIF(INDIRECT(\"'Success Criteria'!\" & ADDRESS(74,A46+4)):INDIRECT(\"'Success Criteria'!\" & ADDRESS(117,A46+4)),\"not tested\")","v":0},{"$f":"SUM(COUNTIF(INDIRECT(\"'Success Criteria'!\" & ADDRESS(122,A46+4)):INDIRECT(\"'Success Criteria'!\" & ADDRESS(176,A46+4)),\"PASS\"),COUNTIF(INDIRECT(\"'Success Criteria'!\" & ADDRESS(122,A46+4)):INDIRECT(\"'Success Criteria'!\" & ADDRESS(176,A46+4)),\"PASS with comments\"))","v":0},{"$f":"COUNTIF(INDIRECT(\"'Success Criteria'!\" & ADDRESS(122,A46+4)):INDIRECT(\"'Success Criteria'!\" & ADDRESS(176,A46+4)),\"NON conformant\")","v":0},{"$f":"COUNTIF(INDIRECT(\"'Success Criteria'!\" & ADDRESS(122,A46+4)):INDIRECT(\"'Success Criteria'!\" & ADDRESS(176,A46+4)),\"N/A\")","v":0},{"$f":"COUNTIF(INDIRECT(\"'Success Criteria'!\" & ADDRESS(122,A46+4)):INDIRECT(\"'Success Criteria'!\" & ADDRESS(176,A46+4)),\"not tested\")","v":28},2,0,0,28,null,0,"",2,"",28,1]
[33,"Page 33","URL 33","Please select",{"$f":"SUM(COUNTIF(INDIRECT(\"'Success Criteria'!\" & ADDRESS(8,A47+4)):INDIRECT(\"'Success Criteria'!\" & ADDRESS(70,A47+4)),\"PASS\"),COUNTIF(INDIRECT(\"'Success Criteria'!\" & ADDRESS(8,A47+4)):INDIRECT(\"'Success Criteria'!\" & ADDRESS(70,A47+4)),\"PASS with comments\"))","v":0},{"$f":"COUNTIF(INDIRECT(\"'Success Criteria'!\" & ADDRESS(8,A47+4)):INDIRECT(\"'Success Criteria'!\" & ADDRESS(70,A47+4)),\"NON conformant\")","v":0},{"$f":"COUNTIF(INDIRECT(\"'Success Criteria'!\" & ADDRESS(8,A47+4)):INDIRECT(\"'Success Criteria'!\" & ADDRESS(70,A47+4)),\"N/A\")","v":0},{"$f":"COUNTIF(INDIRECT(\"'Success Criteria'!\" & ADDRESS(8,A47+4)):INDIRECT(\"'Success Criteria'!\" & ADDRESS(70,A47+4)),\"not tested\")","v":0},{"$f":"SUM(COUNTIF(INDIRECT(\"'Success Criteria'!\" & ADDRESS(74,A47+4)):INDIRECT(\"'Success Criteria'!\" & ADDRESS(117,A47+4)),\"PASS\"),COUNTIF(INDIRECT(\"'Success Criteria'!\" & ADDRESS(74,A47+4)):INDIRECT(\"'Success Criteria'!\" & ADDRESS(117,A47+4)),\"PASS with comments\"))","v":2},{"$f":"COUNTIF(INDIRECT(\"'Success Criteria'!\" & ADDRESS(74,A47+4)):INDIRECT(\"'Success Criteria'!\" & ADDRESS(117,A47+4)),\"NON conformant\")","v":0},{"$f":"COUNTIF(INDIRECT(\"'Success Criteria'!\" & ADDRESS(74,A47+4)):INDIRECT(\"'Success Criteria'!\" & ADDRESS(117,A47+4)),\"N/A\")","v":0},{"$f":"COUNTIF(INDIRECT(\"'Success Criteria'!\" & ADDRESS(74,A47+4)):INDIRECT(\"'Success Criteria'!\" & ADDRESS(117,A47+4)),\"not tested\")","v":0},{"$f":"SUM(COUNTIF(INDIRECT(\"'Success Criteria'!\" & ADDRESS(122,A47+4)):INDIRECT(\"'Success Criteria'!\" & ADDRESS(176,A47+4)),\"PASS\"),COUNTIF(INDIRECT(\"'Success Criteria'!\" & ADDRESS(122,A47+4)):INDIRECT(\"'Success Criteria'!\" & ADDRESS(176,A47+4)),\"PASS with comments\"))","v":0},{"$f":"COUNTIF(INDIRECT(\"'Success Criteria'!\" & ADDRESS(122,A47+4)):INDIRECT(\"'Success Criteria'!\" & ADDRESS(176,A47+4)),\"NON conformant\")","v":0},{"$f":"COUNTIF(INDIRECT(\"'Success Criteria'!\" & ADDRESS(122,A47+4)):INDIRECT(\"'Success Criteria'!\" & ADDRESS(176,A47+4)),\"N/A\")","v":0},{"$f":"COUNTIF(INDIRECT(\"'Success Criteria'!\" & ADDRESS(122,A47+4)):INDIRECT(\"'Success Criteria'!\" & ADDRESS(176,A47+4)),\"not tested\")","v":28},2,0,0,28,null,{"$f":"SUM(E47:H47)","v":0},{"$f":"IF(V47=30,1,\"\")","v":""},2,"",28,1]
[34,"Page 34","URL 34","Please select",{"$f":"SUM(COUNTIF(INDIRECT(\"'Success Criteria'!\" & ADDRESS(8,A48+4)):INDIRECT(\"'Success Criteria'!\" & ADDRESS(70,A48+4)),\"PASS\"),COUNTIF(INDIRECT(\"'Success Criteria'!\" & ADDRESS(8,A48+4)):INDIRECT(\"'Success Criteria'!\" & ADDRESS(70,A48+4)),\"PASS with comments\"))","v":0},{"$f":"COUNTIF(INDIRECT(\"'Success Criteria'!\" & ADDRESS(8,A48+4)):INDIRECT(\"'Success Criteria'!\" & ADDRESS(70,A48+4)),\"NON conformant\")","v":0},{"$f":"COUNTIF(INDIRECT(\"'Success Criteria'!\" & ADDRESS(8,A48+4)):INDIRECT(\"'Success Criteria'!\" & ADDRESS(70,A48+4)),\"N/A\")","v":0},{"$f":"COUNTIF(INDIRECT(\"'Success Criteria'!\" & ADDRESS(8,A48+4)):INDIRECT(\"'Success Criteria'!\" & ADDRESS(70,A48+4)),\"not tested\")","v":0},{"$f":"SUM(COUNTIF(INDIRECT(\"'Success Criteria'!\" & ADDRESS(74,A48+4)):INDIRECT(\"'Success Criteria'!\" & ADDRESS(117,A48+4)),\"PASS\"),COUNTIF(INDIRECT(\"'Success Criteria'!\" & ADDRESS(74,A48+4)):INDIRECT(\"'Success Criteria'!\" & ADDRESS(117,A48+4)),\"PASS with comments\"))","v":2},{"$f":"COUNTIF(INDIRECT(\"'Success Criteria'!\" & ADDRESS(74,A48+4)):INDIRECT(\"'Success Criteria'!\" & ADDRESS(117,A48+4)),\"NON conformant\")","v":0},{"$f":"COUNTIF(INDIRECT(\"'Success Criteria'!\" & ADDRESS(74,A48+4)):INDIRECT(\"'Success Criteria'!\" & ADDRESS(117,A48+4)),\"N/A\")","v":0},{"$f":"COUNTIF(INDIRECT(\"'Success Criteria'!\" & ADDRESS(74,A48+4)):INDIRECT(\"'Success Criteria'!\" & ADDRESS(117,A48+4)),\"not tested\")","v":0},{"$f":"SUM(COUNTIF(INDIRECT(\"'Success Criteria'!\" & ADDRESS(122,A48+4)):INDIRECT(\"'Success Criteria'!\" & ADDRESS(176,A48+4)),\"PASS\"),COUNTIF(INDIRECT(\"'Success Criteria'!\" & ADDRESS(122,A48+4)):INDIRECT(\"'Success Criteria'!\" & ADDRESS(176,A48+4)),\"PASS with comments\"))","v":0},{"$f":"COUNTIF(INDIRECT(\"'Success Criteria'!\" & ADDRESS(122,A48+4)):INDIRECT(\"'Success Criteria'!\" & ADDRESS(176,A48+4)),\"NON conformant\")","v":0},{"$f":"COUNTIF(INDIRECT(\"'Success Criteria'!\" & ADDRESS(122,A48+4)):INDIRECT(\"'Success Criteria'!\" & ADDRESS(176,A48+4)),\"N/A\")","v":0},{"$f":"COUNTIF(INDIRECT(\"'Success Criteria'!\" & ADDRESS(122,A48+4)):INDIRECT(\"'Success Criteria'!\" & ADDRESS(176,A48+4)),\"not tested\")","v":28},2,0,0,28,null,0,"",2,"",28,1]
[35,"Page 35","URL 35","Please select",{"$f":"SUM(COUNTIF(INDIRECT(\"'Success Criteria'!\" & ADDRESS(8,A49+4)):INDIRECT(\"'Success Criteria'!\" & ADDRESS(70,A49+4)),\"PASS\"),COUNTIF(INDIRECT(\"'Success Criteria'!\" & ADDRESS(8,A49+4)):INDIRECT(\"'Success Criteria'!\" & ADDRESS(70,A49+4)),\"PASS with comments\"))","v":0},{"$f":"COUNTIF(INDIRECT(\"'Success Criteria'!\" & ADDRESS(8,A49+4)):INDIRECT(\"'Success Criteria'!\" & ADDRESS(70,A49+4)),\"NON conformant\")","v":0},{"$f":"COUNTIF(INDIRECT(\"'Success Criteria'!\" & ADDRESS(8,A49+4)):INDIRECT(\"'Success Criteria'!\" & ADDRESS(70,A49+4)),\"N/A\")","v":0},{"$f":"COUNTIF(INDIRECT(\"'Success Criteria'!\" & ADDRESS(8,A49+4)):INDIRECT(\"'Success Criteria'!\" & ADDRESS(70,A49+4)),\"not tested\")","v":0},{"$f":"SUM(COUNTIF(INDIRECT(\"'Success Criteria'!\" & ADDRESS(74,A49+4)):INDIRECT(\"'Success Criteria'!\" & ADDRESS(117,A49+4)),\"PASS\"),COUNTIF(INDIRECT(\"'Success Criteria'!\" & ADDRESS(74,A49+4)):INDIRECT(\"'Success Criteria'!\" & ADDRESS(117,A49+4)),\"PASS with comments\"))","v":2},{"$f":"COUNTIF(INDIRECT(\"'Success Criteria'!\" & ADDRESS(74,A49+4)):INDIRECT(\"'Success Criteria'!\" & ADDRESS(117,A49+4)),\"NON conformant\")","v":0},{"$f":"COUNTIF(INDIRECT(\"'Success Criteria'!\" & ADDRESS(74,A49+4)):INDIRECT(\"'Success Criteria'!\" & ADDRESS(117,A49+4)),\"N/A\")","v":0},{"$f":"COUNTIF(INDIRECT(\"'Success Criteria'!\" & ADDRESS(74,A49+4)):INDIRECT(\"'Success Criteria'!\" & ADDRESS(117,A49+4)),\"not tested\")","v":0},{"$f":"SUM(COUNTIF(INDIRECT(\"'Success Criteria'!\" & ADDRESS(122,A49+4)):INDIRECT(\"'Success Criteria'!\" & ADDRESS(176,A49+4)),\"PASS\"),COUNTIF(INDIRECT(\"'Success Criteria'!\" & ADDRESS(122,A49+4)):INDIRECT(\"'Success Criteria'!\" & ADDRESS(176,A49+4)),\"PASS with comments\"))","v":0},{"$f":"COUNTIF(INDIRECT(\"'Success Criteria'!\" & ADDRESS(122,A49+4)):INDIRECT(\"'Success Criteria'!\" & ADDRESS(176,A49+4)),\"NON conformant\")","v":0},{"$f":"COUNTIF(INDIRECT(\"'Success Criteria'!\" & ADDRESS(122,A49+4)):INDIRECT(\"'Success Criteria'!\" & ADDRESS(176,A49+4)),\"N/A\")","v":0},{"$f":"COUNTIF(INDIRECT(\"'Success Criteria'!\" & ADDRESS(122,A49+4)):INDIRECT(\"'Success Criteria'!\" & ADDRESS(176,A49+4)),\"not tested\")","v":28},2,0,0,28,null,0,"",2,"",28,1]
[36,"Page 36","URL 36","Please select",{"$f":"SUM(COUNTIF(INDIRECT(\"'Success Criteria'!\" & ADDRESS(8,A50+4)):INDIRECT(\"'Success Criteria'!\" & ADDRESS(70,A50+4)),\"PASS\"),COUNTIF(INDIRECT(\"'Success Criteria'!\" & ADDRESS(8,A50+4)):INDIRECT(\"'Success Criteria'!\" & ADDRESS(70,A50+4)),\"PASS with comments\"))","v":0},{"$f":"COUNTIF(INDIRECT(\"'Success Criteria'!\" & ADDRESS(8,A50+4)):INDIRECT(\"'Success Criteria'!\" & ADDRESS(70,A50+4)),\"NON conformant\")","v":0},{"$f":"COUNTIF(INDIRECT(\"'Success Criteria'!\" & ADDRESS(8,A50+4)):INDIRECT(\"'Success Criteria'!\" & ADDRESS(70,A50+4)),\"N/A\")","v":0},{"$f":"COUNTIF(INDIRECT(\"'Success Criteria'!\" & ADDRESS(8,A50+4)):INDIRECT(\"'Success Criteria'!\" & ADDRESS(70,A50+4)),\"not tested\")","v":0},{"$f":"SUM(COUNTIF(INDIRECT(\"'Success Criteria'!\" & ADDRESS(74,A50+4)):INDIRECT(\"'Success Criteria'!\" & ADDRESS(117,A50+4)),\"PASS\"),COUNTIF(INDIRECT(\"'Success Criteria'!\" & ADDRESS(74,A50+4)):INDIRECT(\"'Success Criteria'!\" & ADDRESS(117,A50+4)),\"PASS with comments\"))","v":2},{"$f":"COUNTIF(INDIRECT(\"'Success Criteria'!\" & ADDRESS(74,A50+4)):INDIRECT(\"'Success Criteria'!\" & ADDRESS(117,A50+4)),\"NON conformant\")","v":0},{"$f":"COUNTIF(INDIRECT(\"'Success Criteria'!\" & ADDRESS(74,A50+4)):INDIRECT(\"'Success Criteria'!\" & ADDRESS(117,A50+4)),\"N/A\")","v":0},{"$f":"COUNTIF(INDIRECT(\"'Success Criteria'!\" & ADDRESS(74,A50+4)):INDIRECT(\"'Success Criteria'!\" & ADDRESS(117,A50+4)),\"not tested\")","v":0},{"$f":"SUM(COUNTIF(INDIRECT(\"'Success Criteria'!\" & ADDRESS(122,A50+4)):INDIRECT(\"'Success Criteria'!\" & ADDRESS(176,A50+4)),\"PASS\"),COUNTIF(INDIRECT(\"'Success Criteria'!\" & ADDRESS(122,A50+4)):INDIRECT(\"'Success Criteria'!\" & ADDRESS(176,A50+4)),\"PASS with comments\"))","v":0},{"$f":"COUNTIF(INDIRECT(\"'Success Criteria'!\" & ADDRESS(122,A50+4)):INDIRECT(\"'Success Criteria'!\" & ADDRESS(176,A50+4)),\"NON conformant\")","v":0},{"$f":"COUNTIF(INDIRECT(\"'Success Criteria'!\" & ADDRESS(122,A50+4)):INDIRECT(\"'Success Criteria'!\" & ADDRESS(176,A50+4)),\"N/A\")","v":0},{"$f":"COUNTIF(INDIRECT(\"'Success Criteria'!\" & ADDRESS(122,A50+4)):INDIRECT(\"'Success Criteria'!\" & ADDRESS(176,A50+4)),\"not tested\")","v":28},2,0,0,28,null,0,"",2,"",28,1]
[37,"Page 37","URL 37","Please select",{"$f":"SUM(COUNTIF(INDIRECT(\"'Success Criteria'!\" & ADDRESS(8,A51+4)):INDIRECT(\"'Success Criteria'!\" & ADDRESS(70,A51+4)),\"PASS\"),COUNTIF(INDIRECT(\"'Success Criteria'!\" & ADDRESS(8,A51+4)):INDIRECT(\"'Success Criteria'!\" & ADDRESS(70,A51+4)),\"PASS with comments\"))","v":0},{"$f":"COUNTIF(INDIRECT(\"'Success Criteria'!\" & ADDRESS(8,A51+4)):INDIRECT(\"'Success Criteria'!\" & ADDRESS(70,A51+4)),\"NON conformant\")","v":0},{"$f":"COUNTIF(INDIRECT(\"'Success Criteria'!\" & ADDRESS(8,A51+4)):INDIRECT(\"'Success Criteria'!\" & ADDRESS(70,A51+4)),\"N/A\")","v":0},{"$f":"COUNTIF(INDIRECT(\"'Success Criteria'!\" & ADDRESS(8,A51+4)):INDIRECT(\"'Success Criteria'!\" & ADDRESS(70,A51+4)),\"not tested\")","v":0},{"$f":"SUM(COUNTIF(INDIRECT(\"'Success Criteria'!\" & ADDRESS(74,A51+4)):INDIRECT(\"'Success Criteria'!\" & ADDRESS(117,A51+4)),\"PASS\"),COUNTIF(INDIRECT(\"'Success Criteria'!\" & ADDRESS(74,A51+4)):INDIRECT(\"'Success Criteria'!\" & ADDRESS(117,A51+4)),\"PASS with comments\"))","v":2},{"$f":"COUNTIF(INDIRECT(\"'Success Criteria'!\" & ADDRESS(74,A51+4)):INDIRECT(\"'Success Criteria'!\" & ADDRESS(117,A51+4)),\"NON conformant\")","v":0},{"$f":"COUNTIF(INDIRECT(\"'Success Criteria'!\" & ADDRESS(74,A51+4)):INDIRECT(\"'Success Criteria'!\" & ADDRESS(117,A51+4)),\"N/A\")","v":0},{"$f":"COUNTIF(INDIRECT(\"'Success Criteria'!\" & ADDRESS(74,A51+4)):INDIRECT(\"'Success Criteria'!\" & ADDRESS(117,A51+4)),\"not tested\")","v":0},{"$f":"SUM(COUNTIF(INDIRECT(\"'Success Criteria'!\" & ADDRESS(122,A51+4)):INDIRECT(\"'Success Criteria'!\" & ADDRESS(176,A51+4)),\"PASS\"),COUNTIF(INDIRECT(\"'Success Criteria'!\" & ADDRESS(122,A51+4)):INDIRECT(\"'Success Criteria'!\" & ADDRESS(176,A51+4)),\"PASS with comments\"))","v":0},{"$f":"COUNTIF(INDIRECT(\"'Success Criteria'!\" & ADDRESS(122,A51+4)):INDIRECT(\"'Success Criteria'!\" & ADDRESS(176,A51+4)),\"NON conformant\")","v":0},{"$f":"COUNTIF(INDIRECT(\"'Success Criteria'!\" & ADDRESS(122,A51+4)):INDIRECT(\"'Success Criteria'!\" & ADDRESS(176,A51+4)),\"N/A\")","v":0},{"$f":"COUNTIF(INDIRECT(\"'Success Criteria'!\" & ADDRESS(122,A51+4)):INDIRECT(\"'Success Criteria'!\" & ADDRESS(176,A51+4)),\"not tested\")","v":28},2,0,0,28,null,0,"",2,"",28,1]
[38,"Page 38","URL 38","Please select",{"$f":"SUM(COUNTIF(INDIRECT(\"'Success Criteria'!\" & ADDRESS(8,A52+4)):INDIRECT(\"'Success Criteria'!\" & ADDRESS(70,A52+4)),\"PASS\"),COUNTIF(INDIRECT(\"'Success Criteria'!\" & ADDRESS(8,A52+4)):INDIRECT(\"'Success Criteria'!\" & ADDRESS(70,A52+4)),\"PASS with comments\"))","v":0},{"$f":"COUNTIF(INDIRECT(\"'Success Criteria'!\" & ADDRESS(8,A52+4)):INDIRECT(\"'Success Criteria'!\" & ADDRESS(70,A52+4)),\"NON conformant\")","v":0},{"$f":"COUNTIF(INDIRECT(\"'Success Criteria'!\" & ADDRESS(8,A52+4)):INDIRECT(\"'Success Criteria'!\" & ADDRESS(70,A52+4)),\"N/A\")","v":0},{"$f":"COUNTIF(INDIRECT(\"'Success Criteria'!\" & ADDRESS(8,A52+4)):INDIRECT(\"'Success Criteria'!\" & ADDRESS(70,A52+4)),\"not tested\")","v":0},{"$f":"SUM(COUNTIF(INDIRECT(\"'Success Criteria'!\" & ADDRESS(74,A52+4)):INDIRECT(\"'Success Criteria'!\" & ADDRESS(117,A52+4)),\"PASS\"),COUNTIF(INDIRECT(\"'Success Criteria'!\" & ADDRESS(74,A52+4)):INDIRECT(\"'Success Criteria'!\" & ADDRESS(117,A52+4)),\"PASS with comments\"))","v":2},{"$f":"COUNTIF(INDIRECT(\"'Success Criteria'!\" & ADDRESS(74,A52+4)):INDIRECT(\"'Success Criteria'!\" & ADDRESS(117,A52+4)),\"NON conformant\")","v":0},{"$f":"COUNTIF(INDIRECT(\"'Success Criteria'!\" & ADDRESS(74,A52+4)):INDIRECT(\"'Success Criteria'!\" & ADDRESS(117,A52+4)),\"N/A\")","v":0},{"$f":"COUNTIF(INDIRECT(\"'Success Criteria'!\" & ADDRESS(74,A52+4)):INDIRECT(\"'Success Criteria'!\" & ADDRESS(117,A52+4)),\"not tested\")","v":0},{"$f":"SUM(COUNTIF(INDIRECT(\"'Success Criteria'!\" & ADDRESS(122,A52+4)):INDIRECT(\"'Success Criteria'!\" & ADDRESS(176,A52+4)),\"PASS\"),COUNTIF(INDIRECT(\"'Success Criteria'!\" & ADDRESS(122,A52+4)):INDIRECT(\"'Success Criteria'!\" & ADDRESS(176,A52+4)),\"PASS with comments\"))","v":0},{"$f":"COUNTIF(INDIRECT(\"'Success Criteria'!\" & ADDRESS(122,A52+4)):INDIRECT(\"'Success Criteria'!\" & ADDRESS(176,A52+4)),\"NON conformant\")","v":0},{"$f":"COUNTIF(INDIRECT(\"'Success Criteria'!\" & ADDRESS(122,A52+4)):INDIRECT(\"'Success Criteria'!\" & ADDRESS(176,A52+4)),\"N/A\")","v":0},{"$f":"COUNTIF(INDIRECT(\"'Success Criteria'!\" & ADDRESS(122,A52+4)):INDIRECT(\"'Success Criteria'!\" & ADDRESS(176,A52+4)),\"not tested\")","v":28},2,0,0,28,null,0,"",2,"",28,1]
[39,"Page 39","URL 39","Please select",{"$f":"SUM(COUNTIF(INDIRECT(\"'Success Criteria'!\" & ADDRESS(8,A53+4)):INDIRECT(\"'Success Criteria'!\" & ADDRESS(70,A53+4)),\"PASS\"),COUNTIF(INDIRECT(\"'Success Criteria'!\" & ADDRESS(8,A53+4)):INDIRECT(\"'Success Criteria'!\" & ADDRESS(70,A53+4)),\"PASS with comments\"))","v":0},{"$f":"COUNTIF(INDIRECT(\"'Success Criteria'!\" & ADDRESS(8,A53+4)):INDIRECT(\"'Success Criteria'!\" & ADDRESS(70,A53+4)),\"NON conformant\")","v":0},{"$f":"COUNTIF(INDIRECT(\"'Success Criteria'!\" & ADDRESS(8,A53+4)):INDIRECT(\"'Success Criteria'!\" & ADDRESS(70,A53+4)),\"N/A\")","v":0},{"$f":"COUNTIF(INDIRECT(\"'Success Criteria'!\" & ADDRESS(8,A53+4)):INDIRECT(\"'Success Criteria'!\" & ADDRESS(70,A53+4)),\"not tested\")","v":0},{"$f":"SUM(COUNTIF(INDIRECT(\"'Success Criteria'!\" & ADDRESS(74,A53+4)):INDIRECT(\"'Success Criteria'!\" & ADDRESS(117,A53+4)),\"PASS\"),COUNTIF(INDIRECT(\"'Success Criteria'!\" & ADDRESS(74,A53+4)):INDIRECT(\"'Success Criteria'!\" & ADDRESS(117,A53+4)),\"PASS with comments\"))","v":2},{"$f":"COUNTIF(INDIRECT(\"'Success Criteria'!\" & ADDRESS(74,A53+4)):INDIRECT(\"'Success Criteria'!\" & ADDRESS(117,A53+4)),\"NON conformant\")","v":0},{"$f":"COUNTIF(INDIRECT(\"'Success Criteria'!\" & ADDRESS(74,A53+4)):INDIRECT(\"'Success Criteria'!\" & ADDRESS(117,A53+4)),\"N/A\")","v":0},{"$f":"COUNTIF(INDIRECT(\"'Success Criteria'!\" & ADDRESS(74,A53+4)):INDIRECT(\"'Success Criteria'!\" & ADDRESS(117,A53+4)),\"not tested\")","v":0},{"$f":"SUM(COUNTIF(INDIRECT(\"'Success Criteria'!\" & ADDRESS(122,A53+4)):INDIRECT(\"'Success Criteria'!\" & ADDRESS(176,A53+4)),\"PASS\"),COUNTIF(INDIRECT(\"'Success Criteria'!\" & ADDRESS(122,A53+4)):INDIRECT(\"'Success Criteria'!\" & ADDRESS(176,A53+4)),\"PASS with comments\"))","v":0},{"$f":"COUNTIF(INDIRECT(\"'Success Criteria'!\" & ADDRESS(122,A53+4)):INDIRECT(\"'Success Criteria'!\" & ADDRESS(176,A53+4)),\"NON conformant\")","v":0},{"$f":"COUNTIF(INDIRECT(\"'Success Criteria'!\" & ADDRESS(122,A53+4)):INDIRECT(\"'Success Criteria'!\" & ADDRESS(176,A53+4)),\"N/A\")","v":0},{"$f":"COUNTIF(INDIRECT(\"'Success Criteria'!\" & ADDRESS(122,A53+4)):INDIRECT(\"'Success Criteria'!\" & ADDRESS(176,A53+4)),\"not tested\")","v":28},2,0,0,28,null,0,"",2,"",28,1]
[40,"Page 40","URL 40","Please select",{"$f":"SUM(COUNTIF(INDIRECT(\"'Success Criteria'!\" & ADDRESS(8,A54+4)):INDIRECT(\"'Success Criteria'!\" & ADDRESS(70,A54+4)),\"PASS\"),COUNTIF(INDIRECT(\"'Success Criteria'!\" & ADDRESS(8,A54+4)):INDIRECT(\"'Success Criteria'!\" & ADDRESS(70,A54+4)),\"PASS with comments\"))","v":0},{"$f":"COUNTIF(INDIRECT(\"'Success Criteria'!\" & ADDRESS(8,A54+4)):INDIRECT(\"'Success Criteria'!\" & ADDRESS(70,A54+4)),\"NON conformant\")","v":0},{"$f":"COUNTIF(INDIRECT(\"'Success Criteria'!\" & ADDRESS(8,A54+4)):INDIRECT(\"'Success Criteria'!\" & ADDRESS(70,A54+4)),\"N/A\")","v":0},{"$f":"COUNTIF(INDIRECT(\"'Success Criteria'!\" & ADDRESS(8,A54+4)):INDIRECT(\"'Success Criteria'!\" & ADDRESS(70,A54+4)),\"not tested\")","v":0},{"$f":"SUM(COUNTIF(INDIRECT(\"'Success Criteria'!\" & ADDRESS(74,A54+4)):INDIRECT(\"'Success Criteria'!\" & ADDRESS(117,A54+4)),\"PASS\"),COUNTIF(INDIRECT(\"'Success Criteria'!\" & ADDRESS(74,A54+4)):INDIRECT(\"'Success Criteria'!\" & ADDRESS(117,A54+4)),\"PASS with comments\"))","v":2},{"$f":"COUNTIF(INDIRECT(\"'Success Criteria'!\" & ADDRESS(74,A54+4)):INDIRECT(\"'Success Criteria'!\" & ADDRESS(117,A54+4)),\"NON conformant\")","v":0},{"$f":"COUNTIF(INDIRECT(\"'Success Criteria'!\" & ADDRESS(74,A54+4)):INDIRECT(\"'Success Criteria'!\" & ADDRESS(117,A54+4)),\"N/A\")","v":0},{"$f":"COUNTIF(INDIRECT(\"'Success Criteria'!\" & ADDRESS(74,A54+4)):INDIRECT(\"'Success Criteria'!\" & ADDRESS(117,A54+4)),\"not tested\")","v":0},{"$f":"SUM(COUNTIF(INDIRECT(\"'Success Criteria'!\" & ADDRESS(122,A54+4)):INDIRECT(\"'Success Criteria'!\" & ADDRESS(176,A54+4)),\"PASS\"),COUNTIF(INDIRECT(\"'Success Criteria'!\" & ADDRESS(122,A54+4)):INDIRECT(\"'Success Criteria'!\" & ADDRESS(176,A54+4)),\"PASS with comments\"))","v":0},{"$f":"COUNTIF(INDIRECT(\"'Success Criteria'!\" & ADDRESS(122,A54+4)):INDIRECT(\"'Success Criteria'!\" & ADDRESS(176,A54+4)),\"NON conformant\")","v":0},{"$f":"COUNTIF(INDIRECT(\"'Success Criteria'!\" & ADDRESS(122,A54+4)):INDIRECT(\"'Success Criteria'!\" & ADDRESS(176,A54+4)),\"N/A\")","v":0},{"$f":"COUNTIF(INDIRECT(\"'Success Criteria'!\" & ADDRESS(122,A54+4)):INDIRECT(\"'Success Criteria'!\" & ADDRESS(176,A54+4)),\"not tested\")","v":28},2,0,0,28,null,0,"",2,"",28,1]
[41,"Page 41","URL 41","Please select",{"$f":"SUM(COUNTIF(INDIRECT(\"'Success Criteria'!\" & ADDRESS(8,A55+4)):INDIRECT(\"'Success Criteria'!\" & ADDRESS(70,A55+4)),\"PASS\"),COUNTIF(INDIRECT(\"'Success Criteria'!\" & ADDRESS(8,A55+4)):INDIRECT(\"'Success Criteria'!\" & ADDRESS(70,A55+4)),\"PASS with comments\"))","v":0},{"$f":"COUNTIF(INDIRECT(\"'Success Criteria'!\" & ADDRESS(8,A55+4)):INDIRECT(\"'Success Criteria'!\" & ADDRESS(70,A55+4)),\"NON conformant\")","v":0},{"$f":"COUNTIF(INDIRECT(\"'Success Criteria'!\" & ADDRESS(8,A55+4)):INDIRECT(\"'Success Criteria'!\" & ADDRESS(70,A55+4)),\"N/A\")","v":0},{"$f":"COUNTIF(INDIRECT(\"'Success Criteria'!\" & ADDRESS(8,A55+4)):INDIRECT(\"'Success Criteria'!\" & ADDRESS(70,A55+4)),\"not tested\")","v":0},{"$f":"SUM(COUNTIF(INDIRECT(\"'Success Criteria'!\" & ADDRESS(74,A55+4)):INDIRECT(\"'Success Criteria'!\" & ADDRESS(117,A55+4)),\"PASS\"),COUNTIF(INDIRECT(\"'Success Criteria'!\" & ADDRESS(74,A55+4)):INDIRECT(\"'Success Criteria'!\" & ADDRESS(117,A55+4)),\"PASS with comments\"))","v":2},{"$f":"COUNTIF(INDIRECT(\"'Success Criteria'!\" & ADDRESS(74,A55+4)):INDIRECT(\"'Success Criteria'!\" & ADDRESS(117,A55+4)),\"NON conformant\")","v":0},{"$f":"COUNTIF(INDIRECT(\"'Success Criteria'!\" & ADDRESS(74,A55+4)):INDIRECT(\"'Success Criteria'!\" & ADDRESS(117,A55+4)),\"N/A\")","v":0},{"$f":"COUNTIF(INDIRECT(\"'Success Criteria'!\" & ADDRESS(74,A55+4)):INDIRECT(\"'Success Criteria'!\" & ADDRESS(117,A55+4)),\"not tested\")","v":0},{"$f":"SUM(COUNTIF(INDIRECT(\"'Success Criteria'!\" & ADDRESS(122,A55+4)):INDIRECT(\"'Success Criteria'!\" & ADDRESS(176,A55+4)),\"PASS\"),COUNTIF(INDIRECT(\"'Success Criteria'!\" & ADDRESS(122,A55+4)):INDIRECT(\"'Success Criteria'!\" & ADDRESS(176,A55+4)),\"PASS with comments\"))","v":0},{"$f":"COUNTIF(INDIRECT(\"'Success Criteria'!\" & ADDRESS(122,A55+4)):INDIRECT(\"'Success Criteria'!\" & ADDRESS(176,A55+4)),\"NON conformant\")","v":0},{"$f":"COUNTIF(INDIRECT(\"'Success Criteria'!\" & ADDRESS(122,A55+4)):INDIRECT(\"'Success Criteria'!\" & ADDRESS(176,A55+4)),\"N/A\")","v":0},{"$f":"COUNTIF(INDIRECT(\"'Success Criteria'!\" & ADDRESS(122,A55+4)):INDIRECT(\"'Success Criteria'!\" & ADDRESS(176,A55+4)),\"not tested\")","v":28},2,0,0,28,null,0,"",2,"",28,1]
[42,"Page 42","URL 42","Please select",{"$f":"SUM(COUNTIF(INDIRECT(\"'Success Criteria'!\" & ADDRESS(8,A56+4)):INDIRECT(\"'Success Criteria'!\" & ADDRESS(70,A56+4)),\"PASS\"),COUNTIF(INDIRECT(\"'Success Criteria'!\" & ADDRESS(8,A56+4)):INDIRECT(\"'Success Criteria'!\" & ADDRESS(70,A56+4)),\"PASS with comments\"))","v":0},{"$f":"COUNTIF(INDIRECT(\"'Success Criteria'!\" & ADDRESS(8,A56+4)):INDIRECT(\"'Success Criteria'!\" & ADDRESS(70,A56+4)),\"NON conformant\")","v":0},{"$f":"COUNTIF(INDIRECT(\"'Success Criteria'!\" & ADDRESS(8,A56+4)):INDIRECT(\"'Success Criteria'!\" & ADDRESS(70,A56+4)),\"N/A\")","v":0},{"$f":"COUNTIF(INDIRECT(\"'Success Criteria'!\" & ADDRESS(8,A56+4)):INDIRECT(\"'Success Criteria'!\" & ADDRESS(70,A56+4)),\"not tested\")","v":0},{"$f":"SUM(COUNTIF(INDIRECT(\"'Success Criteria'!\" & ADDRESS(74,A56+4)):INDIRECT(\"'Success Criteria'!\" & ADDRESS(117,A56+4)),\"PASS\"),COUNTIF(INDIRECT(\"'Success Criteria'!\" & ADDRESS(74,A56+4)):INDIRECT(\"'Success Criteria'!\" & ADDRESS(117,A56+4)),\"PASS with comments\"))","v":2},{"$f":"COUNTIF(INDIRECT(\"'Success Criteria'!\" & ADDRESS(74,A56+4)):INDIRECT(\"'Success Criteria'!\" & ADDRESS(117,A56+4)),\"NON conformant\")","v":0},{"$f":"COUNTIF(INDIRECT(\"'Success Criteria'!\" & ADDRESS(74,A56+4)):INDIRECT(\"'Success Criteria'!\" & ADDRESS(117,A56+4)),\"N/A\")","v":0},{"$f":"COUNTIF(INDIRECT(\"'Success Criteria'!\" & ADDRESS(74,A56+4)):INDIRECT(\"'Success Criteria'!\" & ADDRESS(117,A56+4)),\"not tested\")","v":0},{"$f":"SUM(COUNTIF(INDIRECT(\"'Success Criteria'!\" & ADDRESS(122,A56+4)):INDIRECT(\"'Success Criteria'!\" & ADDRESS(176,A56+4)),\"PASS\"),COUNTIF(INDIRECT(\"'Success Criteria'!\" & ADDRESS(122,A56+4)):INDIRECT(\"'Success Criteria'!\" & ADDRESS(176,A56+4)),\"PASS with comments\"))","v":0},{"$f":"COUNTIF(INDIRECT(\"'Success Criteria'!\" & ADDRESS(122,A56+4)):INDIRECT(\"'Success Criteria'!\" & ADDRESS(176,A56+4)),\"NON conformant\")","v":0},{"$f":"COUNTIF(INDIRECT(\"'Success Criteria'!\" & ADDRESS(122,A56+4)):INDIRECT(\"'Success Criteria'!\" & ADDRESS(176,A56+4)),\"N/A\")","v":0},{"$f":"COUNTIF(INDIRECT(\"'Success Criteria'!\" & ADDRESS(122,A56+4)):INDIRECT(\"'Success Criteria'!\" & ADDRESS(176,A56+4)),\"not tested\")","v":28},2,0,0,28,null,0,"",2,"",28,1]
[43,"Page 43","URL 43","Please select",{"$f":"SUM(COUNTIF(INDIRECT(\"'Success Criteria'!\" & ADDRESS(8,A57+4)):INDIRECT(\"'Success Criteria'!\" & ADDRESS(70,A57+4)),\"PASS\"),COUNTIF(INDIRECT(\"'Success Criteria'!\" & ADDRESS(8,A57+4)):INDIRECT(\"'Success Criteria'!\" & ADDRESS(70,A57+4)),\"PASS with comments\"))","v":0},{"$f":"COUNTIF(INDIRECT(\"'Success Criteria'!\" & ADDRESS(8,A57+4)):INDIRECT(\"'Success Criteria'!\" & ADDRESS(70,A57+4)),\"NON conformant\")","v":0},{"$f":"COUNTIF(INDIRECT(\"'Success Criteria'!\" & ADDRESS(8,A57+4)):INDIRECT(\"'Success Criteria'!\" & ADDRESS(70,A57+4)),\"N/A\")","v":0},{"$f":"COUNTIF(INDIRECT(\"'Success Criteria'!\" & ADDRESS(8,A57+4)):INDIRECT(\"'Success Criteria'!\" & ADDRESS(70,A57+4)),\"not tested\")","v":0},{"$f":"SUM(COUNTIF(INDIRECT(\"'Success Criteria'!\" & ADDRESS(74,A57+4)):INDIRECT(\"'Success Criteria'!\" & ADDRESS(117,A57+4)),\"PASS\"),COUNTIF(INDIRECT(\"'Success Criteria'!\" & ADDRESS(74,A57+4)):INDIRECT(\"'Success Criteria'!\" & ADDRESS(117,A57+4)),\"PASS with comments\"))","v":2},{"$f":"COUNTIF(INDIRECT(\"'Success Criteria'!\" & ADDRESS(74,A57+4)):INDIRECT(\"'Success Criteria'!\" & ADDRESS(117,A57+4)),\"NON conformant\")","v":0},{"$f":"COUNTIF(INDIRECT(\"'Success Criteria'!\" & ADDRESS(74,A57+4)):INDIRECT(\"'Success Criteria'!\" & ADDRESS(117,A57+4)),\"N/A\")","v":0},{"$f":"COUNTIF(INDIRECT(\"'Success Criteria'!\" & ADDRESS(74,A57+4)):INDIRECT(\"'Success Criteria'!\" & ADDRESS(117,A57+4)),\"not tested\")","v":0},{"$f":"SUM(COUNTIF(INDIRECT(\"'Success Criteria'!\" & ADDRESS(122,A57+4)):INDIRECT(\"'Success Criteria'!\" & ADDRESS(176,A57+4)),\"PASS\"),COUNTIF(INDIRECT(\"'Success Criteria'!\" & ADDRESS(122,A57+4)):INDIRECT(\"'Success Criteria'!\" & ADDRESS(176,A57+4)),\"PASS with comments\"))","v":0},{"$f":"COUNTIF(INDIRECT(\"'Success Criteria'!\" & ADDRESS(122,A57+4)):INDIRECT(\"'Success Criteria'!\" & ADDRESS(176,A57+4)),\"NON conformant\")","v":0},{"$f":"COUNTIF(INDIRECT(\"'Success Criteria'!\" & ADDRESS(122,A57+4)):INDIRECT(\"'Success Criteria'!\" & ADDRESS(176,A57+4)),\"N/A\")","v":0},{"$f":"COUNTIF(INDIRECT(\"'Success Criteria'!\" & ADDRESS(122,A57+4)):INDIRECT(\"'Success Criteria'!\" & ADDRESS(176,A57+4)),\"not tested\")","v":28},2,0,0,28,null,0,"",2,"",28,1]
[44,"Page 44","URL 44","Please select",{"$f":"SUM(COUNTIF(INDIRECT(\"'Success Criteria'!\" & ADDRESS(8,A58+4)):INDIRECT(\"'Success Criteria'!\" & ADDRESS(70,A58+4)),\"PASS\"),COUNTIF(INDIRECT(\"'Success Criteria'!\" & ADDRESS(8,A58+4)):INDIRECT(\"'Success Criteria'!\" & ADDRESS(70,A58+4)),\"PASS with comments\"))","v":0},{"$f":"COUNTIF(INDIRECT(\"'Success Criteria'!\" & ADDRESS(8,A58+4)):INDIRECT(\"'Success Criteria'!\" & ADDRESS(70,A58+4)),\"NON conformant\")","v":0},{"$f":"COUNTIF(INDIRECT(\"'Success Criteria'!\" & ADDRESS(8,A58+4)):INDIRECT(\"'Success Criteria'!\" & ADDRESS(70,A58+4)),\"N/A\")","v":0},{"$f":"COUNTIF(INDIRECT(\"'Success Criteria'!\" & ADDRESS(8,A58+4)):INDIRECT(\"'Success Criteria'!\" & ADDRESS(70,A58+4)),\"not tested\")","v":0},{"$f":"SUM(COUNTIF(INDIRECT(\"'Success Criteria'!\" & ADDRESS(74,A58+4)):INDIRECT(\"'Success Criteria'!\" & ADDRESS(117,A58+4)),\"PASS\"),COUNTIF(INDIRECT(\"'Success Criteria'!\" & ADDRESS(74,A58+4)):INDIRECT(\"'Success Criteria'!\" & ADDRESS(117,A58+4)),\"PASS with comments\"))","v":2},{"$f":"COUNTIF(INDIRECT(\"'Success Criteria'!\" & ADDRESS(74,A58+4)):INDIRECT(\"'Success Criteria'!\" & ADDRESS(117,A58+4)),\"NON conformant\")","v":0},{"$f":"COUNTIF(INDIRECT(\"'Success Criteria'!\" & ADDRESS(74,A58+4)):INDIRECT(\"'Success Criteria'!\" & ADDRESS(117,A58+4)),\"N/A\")","v":0},{"$f":"COUNTIF(INDIRECT(\"'Success Criteria'!\" & ADDRESS(74,A58+4)):INDIRECT(\"'Success Criteria'!\" & ADDRESS(117,A58+4)),\"not tested\")","v":0},{"$f":"SUM(COUNTIF(INDIRECT(\"'Success Criteria'!\" & ADDRESS(122,A58+4)):INDIRECT(\"'Success Criteria'!\" & ADDRESS(176,A58+4)),\"PASS\"),COUNTIF(INDIRECT(\"'Success Criteria'!\" & ADDRESS(122,A58+4)):INDIRECT(\"'Success Criteria'!\" & ADDRESS(176,A58+4)),\"PASS with comments\"))","v":0},{"$f":"COUNTIF(INDIRECT(\"'Success Criteria'!\" & ADDRESS(122,A58+4)):INDIRECT(\"'Success Criteria'!\" & ADDRESS(176,A58+4)),\"NON conformant\")","v":0},{"$f":"COUNTIF(INDIRECT(\"'Success Criteria'!\" & ADDRESS(122,A58+4)):INDIRECT(\"'Success Criteria'!\" & ADDRESS(176,A58+4)),\"N/A\")","v":0},{"$f":"COUNTIF(INDIRECT(\"'Success Criteria'!\" & ADDRESS(122,A58+4)):INDIRECT(\"'Success Criteria'!\" & ADDRESS(176,A58+4)),\"not tested\")","v":28},2,0,0,28,null,0,"",2,"",28,1]
[45,"Page 45","URL 45","Please select",{"$f":"SUM(COUNTIF(INDIRECT(\"'Success Criteria'!\" & ADDRESS(8,A59+4)):INDIRECT(\"'Success Criteria'!\" & ADDRESS(70,A59+4)),\"PASS\"),COUNTIF(INDIRECT(\"'Success Criteria'!\" & ADDRESS(8,A59+4)):INDIRECT(\"'Success Criteria'!\" & ADDRESS(70,A59+4)),\"PASS with comments\"))","v":0},{"$f":"COUNTIF(INDIRECT(\"'Success Criteria'!\" & ADDRESS(8,A59+4)):INDIRECT(\"'Success Criteria'!\" & ADDRESS(70,A59+4)),\"NON conformant\")","v":0},{"$f":"COUNTIF(INDIRECT(\"'Success Criteria'!\" & ADDRESS(8,A59+4)):INDIRECT(\"'Success Criteria'!\" & ADDRESS(70,A59+4)),\"N/A\")","v":0},{"$f":"COUNTIF(INDIRECT(\"'Success Criteria'!\" & ADDRESS(8,A59+4)):INDIRECT(\"'Success Criteria'!\" & ADDRESS(70,A59+4)),\"not tested\")","v":0},{"$f":"SUM(COUNTIF(INDIRECT(\"'Success Criteria'!\" & ADDRESS(74,A59+4)):INDIRECT(\"'Success Criteria'!\" & ADDRESS(117,A59+4)),\"PASS\"),COUNTIF(INDIRECT(\"'Success Criteria'!\" & ADDRESS(74,A59+4)):INDIRECT(\"'Success Criteria'!\" & ADDRESS(117,A59+4)),\"PASS with comments\"))","v":2},{"$f":"COUNTIF(INDIRECT(\"'Success Criteria'!\" & ADDRESS(74,A59+4)):INDIRECT(\"'Success Criteria'!\" & ADDRESS(117,A59+4)),\"NON conformant\")","v":0},{"$f":"COUNTIF(INDIRECT(\"'Success Criteria'!\" & ADDRESS(74,A59+4)):INDIRECT(\"'Success Criteria'!\" & ADDRESS(117,A59+4)),\"N/A\")","v":0},{"$f":"COUNTIF(INDIRECT(\"'Success Criteria'!\" & ADDRESS(74,A59+4)):INDIRECT(\"'Success Criteria'!\" & ADDRESS(117,A59+4)),\"not tested\")","v":0},{"$f":"SUM(COUNTIF(INDIRECT(\"'Success Criteria'!\" & ADDRESS(122,A59+4)):INDIRECT(\"'Success Criteria'!\" & ADDRESS(176,A59+4)),\"PASS\"),COUNTIF(INDIRECT(\"'Success Criteria'!\" & ADDRESS(122,A59+4)):INDIRECT(\"'Success Criteria'!\" & ADDRESS(176,A59+4)),\"PASS with comments\"))","v":0},{"$f":"COUNTIF(INDIRECT(\"'Success Criteria'!\" & ADDRESS(122,A59+4)):INDIRECT(\"'Success Criteria'!\" & ADDRESS(176,A59+4)),\"NON conformant\")","v":0},{"$f":"COUNTIF(INDIRECT(\"'Success Criteria'!\" & ADDRESS(122,A59+4)):INDIRECT(\"'Success Criteria'!\" & ADDRESS(176,A59+4)),\"N/A\")","v":0},{"$f":"COUNTIF(INDIRECT(\"'Success Criteria'!\" & ADDRESS(122,A59+4)):INDIRECT(\"'Success Criteria'!\" & ADDRESS(176,A59+4)),\"not tested\")","v":28},2,0,0,28,null,0,"",2,"",28,1]
[46,"Page 46","URL 46","Please select",{"$f":"SUM(COUNTIF(INDIRECT(\"'Success Criteria'!\" & ADDRESS(8,A60+4)):INDIRECT(\"'Success Criteria'!\" & ADDRESS(70,A60+4)),\"PASS\"),COUNTIF(INDIRECT(\"'Success Criteria'!\" & ADDRESS(8,A60+4)):INDIRECT(\"'Success Criteria'!\" & ADDRESS(70,A60+4)),\"PASS with comments\"))","v":0},{"$f":"COUNTIF(INDIRECT(\"'Success Criteria'!\" & ADDRESS(8,A60+4)):INDIRECT(\"'Success Criteria'!\" & ADDRESS(70,A60+4)),\"NON conformant\")","v":0},{"$f":"COUNTIF(INDIRECT(\"'Success Criteria'!\" & ADDRESS(8,A60+4)):INDIRECT(\"'Success Criteria'!\" & ADDRESS(70,A60+4)),\"N/A\")","v":0},{"$f":"COUNTIF(INDIRECT(\"'Success Criteria'!\" & ADDRESS(8,A60+4)):INDIRECT(\"'Success Criteria'!\" & ADDRESS(70,A60+4)),\"not tested\")","v":0},{"$f":"SUM(COUNTIF(INDIRECT(\"'Success Criteria'!\" & ADDRESS(74,A60+4)):INDIRECT(\"'Success Criteria'!\" & ADDRESS(117,A60+4)),\"PASS\"),COUNTIF(INDIRECT(\"'Success Criteria'!\" & ADDRESS(74,A60+4)):INDIRECT(\"'Success Criteria'!\" & ADDRESS(117,A60+4)),\"PASS with comments\"))","v":2},{"$f":"COUNTIF(INDIRECT(\"'Success Criteria'!\" & ADDRESS(74,A60+4)):INDIRECT(\"'Success Criteria'!\" & ADDRESS(117,A60+4)),\"NON conformant\")","v":0},{"$f":"COUNTIF(INDIRECT(\"'Success Criteria'!\" & ADDRESS(74,A60+4)):INDIRECT(\"'Success Criteria'!\" & ADDRESS(117,A60+4)),\"N/A\")","v":0},{"$f":"COUNTIF(INDIRECT(\"'Success Criteria'!\" & ADDRESS(74,A60+4)):INDIRECT(\"'Success Criteria'!\" & ADDRESS(117,A60+4)),\"not tested\")","v":0},{"$f":"SUM(COUNTIF(INDIRECT(\"'Success Criteria'!\" & ADDRESS(122,A60+4)):INDIRECT(\"'Success Criteria'!\" & ADDRESS(176,A60+4)),\"PASS\"),COUNTIF(INDIRECT(\"'Success Criteria'!\" & ADDRESS(122,A60+4)):INDIRECT(\"'Success Criteria'!\" & ADDRESS(176,A60+4)),\"PASS with comments\"))","v":0},{"$f":"COUNTIF(INDIRECT(\"'Success Criteria'!\" & ADDRESS(122,A60+4)):INDIRECT(\"'Success Criteria'!\" & ADDRESS(176,A60+4)),\"NON conformant\")","v":0},{"$f":"COUNTIF(INDIRECT(\"'Success Criteria'!\" & ADDRESS(122,A60+4)):INDIRECT(\"'Success Criteria'!\" & ADDRESS(176,A60+4)),\"N/A\")","v":0},{"$f":"COUNTIF(INDIRECT(\"'Success Criteria'!\" & ADDRESS(122,A60+4)):INDIRECT(\"'Success Criteria'!\" & ADDRESS(176,A60+4)),\"not tested\")","v":28},2,0,0,28,null,0,"",2,"",28,1]
[47,"Page 47","URL 47","Please select",{"$f":"SUM(COUNTIF(INDIRECT(\"'Success Criteria'!\" & ADDRESS(8,A61+4)):INDIRECT(\"'Success Criteria'!\" & ADDRESS(70,A61+4)),\"PASS\"),COUNTIF(INDIRECT(\"'Success Criteria'!\" & ADDRESS(8,A61+4)):INDIRECT(\"'Success Criteria'!\" & ADDRESS(70,A61+4)),\"PASS with comments\"))","v":0},{"$f":"COUNTIF(INDIRECT(\"'Success Criteria'!\" & ADDRESS(8,A61+4)):INDIRECT(\"'Success Criteria'!\" & ADDRESS(70,A61+4)),\"NON conformant\")","v":0},{"$f":"COUNTIF(INDIRECT(\"'Success Criteria'!\" & ADDRESS(8,A61+4)):INDIRECT(\"'Success Criteria'!\" & ADDRESS(70,A61+4)),\"N/A\")","v":0},{"$f":"COUNTIF(INDIRECT(\"'Success Criteria'!\" & ADDRESS(8,A61+4)):INDIRECT(\"'Success Criteria'!\" & ADDRESS(70,A61+4)),\"not tested\")","v":0},{"$f":"SUM(COUNTIF(INDIRECT(\"'Success Criteria'!\" & ADDRESS(74,A61+4)):INDIRECT(\"'Success Criteria'!\" & ADDRESS(117,A61+4)),\"PASS\"),COUNTIF(INDIRECT(\"'Success Criteria'!\" & ADDRESS(74,A61+4)):INDIRECT(\"'Success Criteria'!\" & ADDRESS(117,A61+4)),\"PASS with comments\"))","v":2},{"$f":"COUNTIF(INDIRECT(\"'Success Criteria'!\" & ADDRESS(74,A61+4)):INDIRECT(\"'Success Criteria'!\" & ADDRESS(117,A61+4)),\"NON conformant\")","v":0},{"$f":"COUNTIF(INDIRECT(\"'Success Criteria'!\" & ADDRESS(74,A61+4)):INDIRECT(\"'Success Criteria'!\" & ADDRESS(117,A61+4)),\"N/A\")","v":0},{"$f":"COUNTIF(INDIRECT(\"'Success Criteria'!\" & ADDRESS(74,A61+4)):INDIRECT(\"'Success Criteria'!\" & ADDRESS(117,A61+4)),\"not tested\")","v":0},{"$f":"SUM(COUNTIF(INDIRECT(\"'Success Criteria'!\" & ADDRESS(122,A61+4)):INDIRECT(\"'Success Criteria'!\" & ADDRESS(176,A61+4)),\"PASS\"),COUNTIF(INDIRECT(\"'Success Criteria'!\" & ADDRESS(122,A61+4)):INDIRECT(\"'Success Criteria'!\" & ADDRESS(176,A61+4)),\"PASS with comments\"))","v":0},{"$f":"COUNTIF(INDIRECT(\"'Success Criteria'!\" & ADDRESS(122,A61+4)):INDIRECT(\"'Success Criteria'!\" & ADDRESS(176,A61+4)),\"NON conformant\")","v":0},{"$f":"COUNTIF(INDIRECT(\"'Success Criteria'!\" & ADDRESS(122,A61+4)):INDIRECT(\"'Success Criteria'!\" & ADDRESS(176,A61+4)),\"N/A\")","v":0},{"$f":"COUNTIF(INDIRECT(\"'Success Criteria'!\" & ADDRESS(122,A61+4)):INDIRECT(\"'Success Criteria'!\" & ADDRESS(176,A61+4)),\"not tested\")","v":28},2,0,0,28,null,0,"",2,"",28,1]
[48,"Page 48","URL 48","Please select",{"$f":"SUM(COUNTIF(INDIRECT(\"'Success Criteria'!\" & ADDRESS(8,A62+4)):INDIRECT(\"'Success Criteria'!\" & ADDRESS(70,A62+4)),\"PASS\"),COUNTIF(INDIRECT(\"'Success Criteria'!\" & ADDRESS(8,A62+4)):INDIRECT(\"'Success Criteria'!\" & ADDRESS(70,A62+4)),\"PASS with comments\"))","v":0},{"$f":"COUNTIF(INDIRECT(\"'Success Criteria'!\" & ADDRESS(8,A62+4)):INDIRECT(\"'Success Criteria'!\" & ADDRESS(70,A62+4)),\"NON conformant\")","v":0},{"$f":"COUNTIF(INDIRECT(\"'Success Criteria'!\" & ADDRESS(8,A62+4)):INDIRECT(\"'Success Criteria'!\" & ADDRESS(70,A62+4)),\"N/A\")","v":0},{"$f":"COUNTIF(INDIRECT(\"'Success Criteria'!\" & ADDRESS(8,A62+4)):INDIRECT(\"'Success Criteria'!\" & ADDRESS(70,A62+4)),\"not tested\")","v":0},{"$f":"SUM(COUNTIF(INDIRECT(\"'Success Criteria'!\" & ADDRESS(74,A62+4)):INDIRECT(\"'Success Criteria'!\" & ADDRESS(117,A62+4)),\"PASS\"),COUNTIF(INDIRECT(\"'Success Criteria'!\" & ADDRESS(74,A62+4)):INDIRECT(\"'Success Criteria'!\" & ADDRESS(117,A62+4)),\"PASS with comments\"))","v":2},{"$f":"COUNTIF(INDIRECT(\"'Success Criteria'!\" & ADDRESS(74,A62+4)):INDIRECT(\"'Success Criteria'!\" & ADDRESS(117,A62+4)),\"NON conformant\")","v":0},{"$f":"COUNTIF(INDIRECT(\"'Success Criteria'!\" & ADDRESS(74,A62+4)):INDIRECT(\"'Success Criteria'!\" & ADDRESS(117,A62+4)),\"N/A\")","v":0},{"$f":"COUNTIF(INDIRECT(\"'Success Criteria'!\" & ADDRESS(74,A62+4)):INDIRECT(\"'Success Criteria'!\" & ADDRESS(117,A62+4)),\"not tested\")","v":0},{"$f":"SUM(COUNTIF(INDIRECT(\"'Success Criteria'!\" & ADDRESS(122,A62+4)):INDIRECT(\"'Success Criteria'!\" & ADDRESS(176,A62+4)),\"PASS\"),COUNTIF(INDIRECT(\"'Success Criteria'!\" & ADDRESS(122,A62+4)):INDIRECT(\"'Success Criteria'!\" & ADDRESS(176,A62+4)),\"PASS with comments\"))","v":0},{"$f":"COUNTIF(INDIRECT(\"'Success Criteria'!\" & ADDRESS(122,A62+4)):INDIRECT(\"'Success Criteria'!\" & ADDRESS(176,A62+4)),\"NON conformant\")","v":0},{"$f":"COUNTIF(INDIRECT(\"'Success Criteria'!\" & ADDRESS(122,A62+4)):INDIRECT(\"'Success Criteria'!\" & ADDRESS(176,A62+4)),\"N/A\")","v":0},{"$f":"COUNTIF(INDIRECT(\"'Success Criteria'!\" & ADDRESS(122,A62+4)):INDIRECT(\"'Success Criteria'!\" & ADDRESS(176,A62+4)),\"not tested\")","v":28},2,0,0,28,null,0,"",2,"",28,1]
[49,"Page 49","URL 49","Please select",{"$f":"SUM(COUNTIF(INDIRECT(\"'Success Criteria'!\" & ADDRESS(8,A63+4)):INDIRECT(\"'Success Criteria'!\" & ADDRESS(70,A63+4)),\"PASS\"),COUNTIF(INDIRECT(\"'Success Criteria'!\" & ADDRESS(8,A63+4)):INDIRECT(\"'Success Criteria'!\" & ADDRESS(70,A63+4)),\"PASS with comments\"))","v":0},{"$f":"COUNTIF(INDIRECT(\"'Success Criteria'!\" & ADDRESS(8,A63+4)):INDIRECT(\"'Success Criteria'!\" & ADDRESS(70,A63+4)),\"NON conformant\")","v":0},{"$f":"COUNTIF(INDIRECT(\"'Success Criteria'!\" & ADDRESS(8,A63+4)):INDIRECT(\"'Success Criteria'!\" & ADDRESS(70,A63+4)),\"N/A\")","v":0},{"$f":"COUNTIF(INDIRECT(\"'Success Criteria'!\" & ADDRESS(8,A63+4)):INDIRECT(\"'Success Criteria'!\" & ADDRESS(70,A63+4)),\"not tested\")","v":0},{"$f":"SUM(COUNTIF(INDIRECT(\"'Success Criteria'!\" & ADDRESS(74,A63+4)):INDIRECT(\"'Success Criteria'!\" & ADDRESS(117,A63+4)),\"PASS\"),COUNTIF(INDIRECT(\"'Success Criteria'!\" & ADDRESS(74,A63+4)):INDIRECT(\"'Success Criteria'!\" & ADDRESS(117,A63+4)),\"PASS with comments\"))","v":2},{"$f":"COUNTIF(INDIRECT(\"'Success Criteria'!\" & ADDRESS(74,A63+4)):INDIRECT(\"'Success Criteria'!\" & ADDRESS(117,A63+4)),\"NON conformant\")","v":0},{"$f":"COUNTIF(INDIRECT(\"'Success Criteria'!\" & ADDRESS(74,A63+4)):INDIRECT(\"'Success Criteria'!\" & ADDRESS(117,A63+4)),\"N/A\")","v":0},{"$f":"COUNTIF(INDIRECT(\"'Success Criteria'!\" & ADDRESS(74,A63+4)):INDIRECT(\"'Success Criteria'!\" & ADDRESS(117,A63+4)),\"not tested\")","v":0},{"$f":"SUM(COUNTIF(INDIRECT(\"'Success Criteria'!\" & ADDRESS(122,A63+4)):INDIRECT(\"'Success Criteria'!\" & ADDRESS(176,A63+4)),\"PASS\"),COUNTIF(INDIRECT(\"'Success Criteria'!\" & ADDRESS(122,A63+4)):INDIRECT(\"'Success Criteria'!\" & ADDRESS(176,A63+4)),\"PASS with comments\"))","v":0},{"$f":"COUNTIF(INDIRECT(\"'Success Criteria'!\" & ADDRESS(122,A63+4)):INDIRECT(\"'Success Criteria'!\" & ADDRESS(176,A63+4)),\"NON conformant\")","v":0},{"$f":"COUNTIF(INDIRECT(\"'Success Criteria'!\" & ADDRESS(122,A63+4)):INDIRECT(\"'Success Criteria'!\" & ADDRESS(176,A63+4)),\"N/A\")","v":0},{"$f":"COUNTIF(INDIRECT(\"'Success Criteria'!\" & ADDRESS(122,A63+4)):INDIRECT(\"'Success Criteria'!\" & ADDRESS(176,A63+4)),\"not tested\")","v":28},2,0,0,28,null,0,"",2,"",28,1]
[50,"Page 50","URL 50","Please select",{"$f":"SUM(COUNTIF(INDIRECT(\"'Success Criteria'!\" & ADDRESS(8,A64+4)):INDIRECT(\"'Success Criteria'!\" & ADDRESS(70,A64+4)),\"PASS\"),COUNTIF(INDIRECT(\"'Success Criteria'!\" & ADDRESS(8,A64+4)):INDIRECT(\"'Success Criteria'!\" & ADDRESS(70,A64+4)),\"PASS with comments\"))","v":0},{"$f":"COUNTIF(INDIRECT(\"'Success Criteria'!\" & ADDRESS(8,A64+4)):INDIRECT(\"'Success Criteria'!\" & ADDRESS(70,A64+4)),\"NON conformant\")","v":0},{"$f":"COUNTIF(INDIRECT(\"'Success Criteria'!\" & ADDRESS(8,A64+4)):INDIRECT(\"'Success Criteria'!\" & ADDRESS(70,A64+4)),\"N/A\")","v":0},{"$f":"COUNTIF(INDIRECT(\"'Success Criteria'!\" & ADDRESS(8,A64+4)):INDIRECT(\"'Success Criteria'!\" & ADDRESS(70,A64+4)),\"not tested\")","v":0},{"$f":"SUM(COUNTIF(INDIRECT(\"'Success Criteria'!\" & ADDRESS(74,A64+4)):INDIRECT(\"'Success Criteria'!\" & ADDRESS(117,A64+4)),\"PASS\"),COUNTIF(INDIRECT(\"'Success Criteria'!\" & ADDRESS(74,A64+4)):INDIRECT(\"'Success Criteria'!\" & ADDRESS(117,A64+4)),\"PASS with comments\"))","v":2},{"$f":"COUNTIF(INDIRECT(\"'Success Criteria'!\" & ADDRESS(74,A64+4)):INDIRECT(\"'Success Criteria'!\" & ADDRESS(117,A64+4)),\"NON conformant\")","v":0},{"$f":"COUNTIF(INDIRECT(\"'Success Criteria'!\" & ADDRESS(74,A64+4)):INDIRECT(\"'Success Criteria'!\" & ADDRESS(117,A64+4)),\"N/A\")","v":0},{"$f":"COUNTIF(INDIRECT(\"'Success Criteria'!\" & ADDRESS(74,A64+4)):INDIRECT(\"'Success Criteria'!\" & ADDRESS(117,A64+4)),\"not tested\")","v":0},{"$f":"SUM(COUNTIF(INDIRECT(\"'Success Criteria'!\" & ADDRESS(122,A64+4)):INDIRECT(\"'Success Criteria'!\" & ADDRESS(176,A64+4)),\"PASS\"),COUNTIF(INDIRECT(\"'Success Criteria'!\" & ADDRESS(122,A64+4)):INDIRECT(\"'Success Criteria'!\" & ADDRESS(176,A64+4)),\"PASS with comments\"))","v":0},{"$f":"COUNTIF(INDIRECT(\"'Success Criteria'!\" & ADDRESS(122,A64+4)):INDIRECT(\"'Success Criteria'!\" & ADDRESS(176,A64+4)),\"NON conformant\")","v":0},{"$f":"COUNTIF(INDIRECT(\"'Success Criteria'!\" & ADDRESS(122,A64+4)):INDIRECT(\"'Success Criteria'!\" & ADDRESS(176,A64+4)),\"N/A\")","v":0},{"$f":"COUNTIF(INDIRECT(\"'Success Criteria'!\" & ADDRESS(122,A64+4)):INDIRECT(\"'Success Criteria'!\" & ADDRESS(176,A64+4)),\"not tested\")","v":28},2,0,0,28,null,0,"",2,"",28,1]
[51,"Page 51","URL 51","Please select",{"$f":"SUM(COUNTIF(INDIRECT(\"'Success Criteria'!\" & ADDRESS(8,A65+4)):INDIRECT(\"'Success Criteria'!\" & ADDRESS(70,A65+4)),\"PASS\"),COUNTIF(INDIRECT(\"'Success Criteria'!\" & ADDRESS(8,A65+4)):INDIRECT(\"'Success Criteria'!\" & ADDRESS(70,A65+4)),\"PASS with comments\"))","v":0},{"$f":"COUNTIF(INDIRECT(\"'Success Criteria'!\" & ADDRESS(8,A65+4)):INDIRECT(\"'Success Criteria'!\" & ADDRESS(70,A65+4)),\"NON conformant\")","v":0},{"$f":"COUNTIF(INDIRECT(\"'Success Criteria'!\" & ADDRESS(8,A65+4)):INDIRECT(\"'Success Criteria'!\" & ADDRESS(70,A65+4)),\"N/A\")","v":0},{"$f":"COUNTIF(INDIRECT(\"'Success Criteria'!\" & ADDRESS(8,A65+4)):INDIRECT(\"'Success Criteria'!\" & ADDRESS(70,A65+4)),\"not tested\")","v":0},{"$f":"SUM(COUNTIF(INDIRECT(\"'Success Criteria'!\" & ADDRESS(74,A65+4)):INDIRECT(\"'Success Criteria'!\" & ADDRESS(117,A65+4)),\"PASS\"),COUNTIF(INDIRECT(\"'Success Criteria'!\" & ADDRESS(74,A65+4)):INDIRECT(\"'Success Criteria'!\" & ADDRESS(117,A65+4)),\"PASS with comments\"))","v":2},{"$f":"COUNTIF(INDIRECT(\"'Success Criteria'!\" & ADDRESS(74,A65+4)):INDIRECT(\"'Success Criteria'!\" & ADDRESS(117,A65+4)),\"NON conformant\")","v":0},{"$f":"COUNTIF(INDIRECT(\"'Success Criteria'!\" & ADDRESS(74,A65+4)):INDIRECT(\"'Success Criteria'!\" & ADDRESS(117,A65+4)),\"N/A\")","v":0},{"$f":"COUNTIF(INDIRECT(\"'Success Criteria'!\" & ADDRESS(74,A65+4)):INDIRECT(\"'Success Criteria'!\" & ADDRESS(117,A65+4)),\"not tested\")","v":0},{"$f":"SUM(COUNTIF(INDIRECT(\"'Success Criteria'!\" & ADDRESS(122,A65+4)):INDIRECT(\"'Success Criteria'!\" & ADDRESS(176,A65+4)),\"PASS\"),COUNTIF(INDIRECT(\"'Success Criteria'!\" & ADDRESS(122,A65+4)):INDIRECT(\"'Success Criteria'!\" & ADDRESS(176,A65+4)),\"PASS with comments\"))","v":0},{"$f":"COUNTIF(INDIRECT(\"'Success Criteria'!\" & ADDRESS(122,A65+4)):INDIRECT(\"'Success Criteria'!\" & ADDRESS(176,A65+4)),\"NON conformant\")","v":0},{"$f":"COUNTIF(INDIRECT(\"'Success Criteria'!\" & ADDRESS(122,A65+4)):INDIRECT(\"'Success Criteria'!\" & ADDRESS(176,A65+4)),\"N/A\")","v":0},{"$f":"COUNTIF(INDIRECT(\"'Success Criteria'!\" & ADDRESS(122,A65+4)):INDIRECT(\"'Success Criteria'!\" & ADDRESS(176,A65+4)),\"not tested\")","v":28},2,{"$f":"SUM(F65+J65+N65)","v":0},0,28,null,{"$f":"SUM(E65:H65)","v":0},{"$f":"IF(V65=30,1,\"\")","v":""},2,{"$f":"IF(X65=20,1,\"\")","v":""},28,{"$f":"IF(Z65=28,1,\"\")","v":1}]
[52,"Page 52","URL 52","Please select",{"$f":"SUM(COUNTIF(INDIRECT(\"'Success Criteria'!\" & ADDRESS(8,A66+4)):INDIRECT(\"'Success Criteria'!\" & ADDRESS(70,A66+4)),\"PASS\"),COUNTIF(INDIRECT(\"'Success Criteria'!\" & ADDRESS(8,A66+4)):INDIRECT(\"'Success Criteria'!\" & ADDRESS(70,A66+4)),\"PASS with comments\"))","v":0},{"$f":"COUNTIF(INDIRECT(\"'Success Criteria'!\" & ADDRESS(8,A66+4)):INDIRECT(\"'Success Criteria'!\" & ADDRESS(70,A66+4)),\"NON conformant\")","v":0},{"$f":"COUNTIF(INDIRECT(\"'Success Criteria'!\" & ADDRESS(8,A66+4)):INDIRECT(\"'Success Criteria'!\" & ADDRESS(70,A66+4)),\"N/A\")","v":0},{"$f":"COUNTIF(INDIRECT(\"'Success Criteria'!\" & ADDRESS(8,A66+4)):INDIRECT(\"'Success Criteria'!\" & ADDRESS(70,A66+4)),\"not tested\")","v":0},{"$f":"SUM(COUNTIF(INDIRECT(\"'Success Criteria'!\" & ADDRESS(74,A66+4)):INDIRECT(\"'Success Criteria'!\" & ADDRESS(117,A66+4)),\"PASS\"),COUNTIF(INDIRECT(\"'Success Criteria'!\" & ADDRESS(74,A66+4)):INDIRECT(\"'Success Criteria'!\" & ADDRESS(117,A66+4)),\"PASS with comments\"))","v":2},{"$f":"COUNTIF(INDIRECT(\"'Success Criteria'!\" & ADDRESS(74,A66+4)):INDIRECT(\"'Success Criteria'!\" & ADDRESS(117,A66+4)),\"NON conformant\")","v":0},{"$f":"COUNTIF(INDIRECT(\"'Success Criteria'!\" & ADDRESS(74,A66+4)):INDIRECT(\"'Success Criteria'!\" & ADDRESS(117,A66+4)),\"N/A\")","v":0},{"$f":"COUNTIF(INDIRECT(\"'Success Criteria'!\" & ADDRESS(74,A66+4)):INDIRECT(\"'Success Criteria'!\" & ADDRESS(117,A66+4)),\"not tested\")","v":0},{"$f":"SUM(COUNTIF(INDIRECT(\"'Success Criteria'!\" & ADDRESS(122,A66+4)):INDIRECT(\"'Success Criteria'!\" & ADDRESS(176,A66+4)),\"PASS\"),COUNTIF(INDIRECT(\"'Success Criteria'!\" & ADDRESS(122,A66+4)):INDIRECT(\"'Success Criteria'!\" & ADDRESS(176,A66+4)),\"PASS with comments\"))","v":0},{"$f":"COUNTIF(INDIRECT(\"'Success Criteria'!\" & ADDRESS(122,A66+4)):INDIRECT(\"'Success Criteria'!\" & ADDRESS(176,A66+4)),\"NON conformant\")","v":0},{"$f":"COUNTIF(INDIRECT(\"'Success Criteria'!\" & ADDRESS(122,A66+4)):INDIRECT(\"'Success Criteria'!\" & ADDRESS(176,A66+4)),\"N/A\")","v":0},{"$f":"COUNTIF(INDIRECT(\"'Success Criteria'!\" & ADDRESS(122,A66+4)):INDIRECT(\"'Success Criteria'!\" & ADDRESS(176,A66+4)),\"not tested\")","v":28},2,0,0,28,null,0,"",2,"",28,1]
[53,"Page 53","URL 53","Please select",{"$f":"SUM(COUNTIF(INDIRECT(\"'Success Criteria'!\" & ADDRESS(8,A67+4)):INDIRECT(\"'Success Criteria'!\" & ADDRESS(70,A67+4)),\"PASS\"),COUNTIF(INDIRECT(\"'Success Criteria'!\" & ADDRESS(8,A67+4)):INDIRECT(\"'Success Criteria'!\" & ADDRESS(70,A67+4)),\"PASS with comments\"))","v":0},{"$f":"COUNTIF(INDIRECT(\"'Success Criteria'!\" & ADDRESS(8,A67+4)):INDIRECT(\"'Success Criteria'!\" & ADDRESS(70,A67+4)),\"NON conformant\")","v":0},{"$f":"COUNTIF(INDIRECT(\"'Success Criteria'!\" & ADDRESS(8,A67+4)):INDIRECT(\"'Success Criteria'!\" & ADDRESS(70,A67+4)),\"N/A\")","v":0},{"$f":"COUNTIF(INDIRECT(\"'Success Criteria'!\" & ADDRESS(8,A67+4)):INDIRECT(\"'Success Criteria'!\" & ADDRESS(70,A67+4)),\"not tested\")","v":0},{"$f":"SUM(COUNTIF(INDIRECT(\"'Success Criteria'!\" & ADDRESS(74,A67+4)):INDIRECT(\"'Success Criteria'!\" & ADDRESS(117,A67+4)),\"PASS\"),COUNTIF(INDIRECT(\"'Success Criteria'!\" & ADDRESS(74,A67+4)):INDIRECT(\"'Success Criteria'!\" & ADDRESS(117,A67+4)),\"PASS with comments\"))","v":2},{"$f":"COUNTIF(INDIRECT(\"'Success Criteria'!\" & ADDRESS(74,A67+4)):INDIRECT(\"'Success Criteria'!\" & ADDRESS(117,A67+4)),\"NON conformant\")","v":0},{"$f":"COUNTIF(INDIRECT(\"'Success Criteria'!\" & ADDRESS(74,A67+4)):INDIRECT(\"'Success Criteria'!\" & ADDRESS(117,A67+4)),\"N/A\")","v":0},{"$f":"COUNTIF(INDIRECT(\"'Success Criteria'!\" & ADDRESS(74,A67+4)):INDIRECT(\"'Success Criteria'!\" & ADDRESS(117,A67+4)),\"not tested\")","v":0},{"$f":"SUM(COUNTIF(INDIRECT(\"'Success Criteria'!\" & ADDRESS(122,A67+4)):INDIRECT(\"'Success Criteria'!\" & ADDRESS(176,A67+4)),\"PASS\"),COUNTIF(INDIRECT(\"'Success Criteria'!\" & ADDRESS(122,A67+4)):INDIRECT(\"'Success Criteria'!\" & ADDRESS(176,A67+4)),\"PASS with comments\"))","v":0},{"$f":"COUNTIF(INDIRECT(\"'Success Criteria'!\" & ADDRESS(122,A67+4)):INDIRECT(\"'Success Criteria'!\" & ADDRESS(176,A67+4)),\"NON conformant\")","v":0},{"$f":"COUNTIF(INDIRECT(\"'Success Criteria'!\" & ADDRESS(122,A67+4)):INDIRECT(\"'Success Criteria'!\" & ADDRESS(176,A67+4)),\"N/A\")","v":0},{"$f":"COUNTIF(INDIRECT(\"'Success Criteria'!\" & ADDRESS(122,A67+4)):INDIRECT(\"'Success Criteria'!\" & ADDRESS(176,A67+4)),\"not tested\")","v":28},2,0,0,28,null,0,"",2,"",28,1]
[54,"Page 54","URL 54","Please select",{"$f":"SUM(COUNTIF(INDIRECT(\"'Success Criteria'!\" & ADDRESS(8,A68+4)):INDIRECT(\"'Success Criteria'!\" & ADDRESS(70,A68+4)),\"PASS\"),COUNTIF(INDIRECT(\"'Success Criteria'!\" & ADDRESS(8,A68+4)):INDIRECT(\"'Success Criteria'!\" & ADDRESS(70,A68+4)),\"PASS with comments\"))","v":0},{"$f":"COUNTIF(INDIRECT(\"'Success Criteria'!\" & ADDRESS(8,A68+4)):INDIRECT(\"'Success Criteria'!\" & ADDRESS(70,A68+4)),\"NON conformant\")","v":0},{"$f":"COUNTIF(INDIRECT(\"'Success Criteria'!\" & ADDRESS(8,A68+4)):INDIRECT(\"'Success Criteria'!\" & ADDRESS(70,A68+4)),\"N/A\")","v":0},{"$f":"COUNTIF(INDIRECT(\"'Success Criteria'!\" & ADDRESS(8,A68+4)):INDIRECT(\"'Success Criteria'!\" & ADDRESS(70,A68+4)),\"not tested\")","v":0},{"$f":"SUM(COUNTIF(INDIRECT(\"'Success Criteria'!\" & ADDRESS(74,A68+4)):INDIRECT(\"'Success Criteria'!\" & ADDRESS(117,A68+4)),\"PASS\"),COUNTIF(INDIRECT(\"'Success Criteria'!\" & ADDRESS(74,A68+4)):INDIRECT(\"'Success Criteria'!\" & ADDRESS(117,A68+4)),\"PASS with comments\"))","v":2},{"$f":"COUNTIF(INDIRECT(\"'Success Criteria'!\" & ADDRESS(74,A68+4)):INDIRECT(\"'Success Criteria'!\" & ADDRESS(117,A68+4)),\"NON conformant\")","v":0},{"$f":"COUNTIF(INDIRECT(\"'Success Criteria'!\" & ADDRESS(74,A68+4)):INDIRECT(\"'Success Criteria'!\" & ADDRESS(117,A68+4)),\"N/A\")","v":0},{"$f":"COUNTIF(INDIRECT(\"'Success Criteria'!\" & ADDRESS(74,A68+4)):INDIRECT(\"'Success Criteria'!\" & ADDRESS(117,A68+4)),\"not tested\")","v":0},{"$f":"SUM(COUNTIF(INDIRECT(\"'Success Criteria'!\" & ADDRESS(122,A68+4)):INDIRECT(\"'Success Criteria'!\" & ADDRESS(176,A68+4)),\"PASS\"),COUNTIF(INDIRECT(\"'Success Criteria'!\" & ADDRESS(122,A68+4)):INDIRECT(\"'Success Criteria'!\" & ADDRESS(176,A68+4)),\"PASS with comments\"))","v":0},{"$f":"COUNTIF(INDIRECT(\"'Success Criteria'!\" & ADDRESS(122,A68+4)):INDIRECT(\"'Success Criteria'!\" & ADDRESS(176,A68+4)),\"NON conformant\")","v":0},{"$f":"COUNTIF(INDIRECT(\"'Success Criteria'!\" & ADDRESS(122,A68+4)):INDIRECT(\"'Success Criteria'!\" & ADDRESS(176,A68+4)),\"N/A\")","v":0},{"$f":"COUNTIF(INDIRECT(\"'Success Criteria'!\" & ADDRESS(122,A68+4)):INDIRECT(\"'Success Criteria'!\" & ADDRESS(176,A68+4)),\"not tested\")","v":28},2,0,0,28,null,0,"",2,"",28,1]
[55,"Page 55","URL 55","Please select",{"$f":"SUM(COUNTIF(INDIRECT(\"'Success Criteria'!\" & ADDRESS(8,A69+4)):INDIRECT(\"'Success Criteria'!\" & ADDRESS(70,A69+4)),\"PASS\"),COUNTIF(INDIRECT(\"'Success Criteria'!\" & ADDRESS(8,A69+4)):INDIRECT(\"'Success Criteria'!\" & ADDRESS(70,A69+4)),\"PASS with comments\"))","v":0},{"$f":"COUNTIF(INDIRECT(\"'Success Criteria'!\" & ADDRESS(8,A69+4)):INDIRECT(\"'Success Criteria'!\" & ADDRESS(70,A69+4)),\"NON conformant\")","v":0},{"$f":"COUNTIF(INDIRECT(\"'Success Criteria'!\" & ADDRESS(8,A69+4)):INDIRECT(\"'Success Criteria'!\" & ADDRESS(70,A69+4)),\"N/A\")","v":0},{"$f":"COUNTIF(INDIRECT(\"'Success Criteria'!\" & ADDRESS(8,A69+4)):INDIRECT(\"'Success Criteria'!\" & ADDRESS(70,A69+4)),\"not tested\")","v":0},{"$f":"SUM(COUNTIF(INDIRECT(\"'Success Criteria'!\" & ADDRESS(74,A69+4)):INDIRECT(\"'Success Criteria'!\" & ADDRESS(117,A69+4)),\"PASS\"),COUNTIF(INDIRECT(\"'Success Criteria'!\" & ADDRESS(74,A69+4)):INDIRECT(\"'Success Criteria'!\" & ADDRESS(117,A69+4)),\"PASS with comments\"))","v":2},{"$f":"COUNTIF(INDIRECT(\"'Success Criteria'!\" & ADDRESS(74,A69+4)):INDIRECT(\"'Success Criteria'!\" & ADDRESS(117,A69+4)),\"NON conformant\")","v":0},{"$f":"COUNTIF(INDIRECT(\"'Success Criteria'!\" & ADDRESS(74,A69+4)):INDIRECT(\"'Success Criteria'!\" & ADDRESS(117,A69+4)),\"N/A\")","v":0},{"$f":"COUNTIF(INDIRECT(\"'Success Criteria'!\" & ADDRESS(74,A69+4)):INDIRECT(\"'Success Criteria'!\" & ADDRESS(117,A69+4)),\"not tested\")","v":0},{"$f":"SUM(COUNTIF(INDIRECT(\"'Success Criteria'!\" & ADDRESS(122,A69+4)):INDIRECT(\"'Success Criteria'!\" & ADDRESS(176,A69+4)),\"PASS\"),COUNTIF(INDIRECT(\"'Success Criteria'!\" & ADDRESS(122,A69+4)):INDIRECT(\"'Success Criteria'!\" & ADDRESS(176,A69+4)),\"PASS with comments\"))","v":0},{"$f":"COUNTIF(INDIRECT(\"'Success Criteria'!\" & ADDRESS(122,A69+4)):INDIRECT(\"'Success Criteria'!\" & ADDRESS(176,A69+4)),\"NON conformant\")","v":0},{"$f":"COUNTIF(INDIRECT(\"'Success Criteria'!\" & ADDRESS(122,A69+4)):INDIRECT(\"'Success Criteria'!\" & ADDRESS(176,A69+4)),\"N/A\")","v":0},{"$f":"COUNTIF(INDIRECT(\"'Success Criteria'!\" & ADDRESS(122,A69+4)):INDIRECT(\"'Success Criteria'!\" & ADDRESS(176,A69+4)),\"not tested\")","v":28},2,0,0,28,null,0,"",2,"",28,1]
[56,"Page 56","URL 56","Please select",{"$f":"SUM(COUNTIF(INDIRECT(\"'Success Criteria'!\" & ADDRESS(8,A70+4)):INDIRECT(\"'Success Criteria'!\" & ADDRESS(70,A70+4)),\"PASS\"),COUNTIF(INDIRECT(\"'Success Criteria'!\" & ADDRESS(8,A70+4)):INDIRECT(\"'Success Criteria'!\" & ADDRESS(70,A70+4)),\"PASS with comments\"))","v":0},{"$f":"COUNTIF(INDIRECT(\"'Success Criteria'!\" & ADDRESS(8,A70+4)):INDIRECT(\"'Success Criteria'!\" & ADDRESS(70,A70+4)),\"NON conformant\")","v":0},{"$f":"COUNTIF(INDIRECT(\"'Success Criteria'!\" & ADDRESS(8,A70+4)):INDIRECT(\"'Success Criteria'!\" & ADDRESS(70,A70+4)),\"N/A\")","v":0},{"$f":"COUNTIF(INDIRECT(\"'Success Criteria'!\" & ADDRESS(8,A70+4)):INDIRECT(\"'Success Criteria'!\" & ADDRESS(70,A70+4)),\"not tested\")","v":0},{"$f":"SUM(COUNTIF(INDIRECT(\"'Success Criteria'!\" & ADDRESS(74,A70+4)):INDIRECT(\"'Success Criteria'!\" & ADDRESS(117,A70+4)),\"PASS\"),COUNTIF(INDIRECT(\"'Success Criteria'!\" & ADDRESS(74,A70+4)):INDIRECT(\"'Success Criteria'!\" & ADDRESS(117,A70+4)),\"PASS with comments\"))","v":2},{"$f":"COUNTIF(INDIRECT(\"'Success Criteria'!\" & ADDRESS(74,A70+4)):INDIRECT(\"'Success Criteria'!\" & ADDRESS(117,A70+4)),\"NON conformant\")","v":0},{"$f":"COUNTIF(INDIRECT(\"'Success Criteria'!\" & ADDRESS(74,A70+4)):INDIRECT(\"'Success Criteria'!\" & ADDRESS(117,A70+4)),\"N/A\")","v":0},{"$f":"COUNTIF(INDIRECT(\"'Success Criteria'!\" & ADDRESS(74,A70+4)):INDIRECT(\"'Success Criteria'!\" & ADDRESS(117,A70+4)),\"not tested\")","v":0},{"$f":"SUM(COUNTIF(INDIRECT(\"'Success Criteria'!\" & ADDRESS(122,A70+4)):INDIRECT(\"'Success Criteria'!\" & ADDRESS(176,A70+4)),\"PASS\"),COUNTIF(INDIRECT(\"'Success Criteria'!\" & ADDRESS(122,A70+4)):INDIRECT(\"'Success Criteria'!\" & ADDRESS(176,A70+4)),\"PASS with comments\"))","v":0},{"$f":"COUNTIF(INDIRECT(\"'Success Criteria'!\" & ADDRESS(122,A70+4)):INDIRECT(\"'Success Criteria'!\" & ADDRESS(176,A70+4)),\"NON conformant\")","v":0},{"$f":"COUNTIF(INDIRECT(\"'Success Criteria'!\" & ADDRESS(122,A70+4)):INDIRECT(\"'Success Criteria'!\" & ADDRESS(176,A70+4)),\"N/A\")","v":0},{"$f":"COUNTIF(INDIRECT(\"'Success Criteria'!\" & ADDRESS(122,A70+4)):INDIRECT(\"'Success Criteria'!\" & ADDRESS(176,A70+4)),\"not tested\")","v":28},2,0,0,28,null,0,"",2,"",28,1]
[57,"Page 57","URL 57","Please select",{"$f":"SUM(COUNTIF(INDIRECT(\"'Success Criteria'!\" & ADDRESS(8,A71+4)):INDIRECT(\"'Success Criteria'!\" & ADDRESS(70,A71+4)),\"PASS\"),COUNTIF(INDIRECT(\"'Success Criteria'!\" & ADDRESS(8,A71+4)):INDIRECT(\"'Success Criteria'!\" & ADDRESS(70,A71+4)),\"PASS with comments\"))","v":0},{"$f":"COUNTIF(INDIRECT(\"'Success Criteria'!\" & ADDRESS(8,A71+4)):INDIRECT(\"'Success Criteria'!\" & ADDRESS(70,A71+4)),\"NON conformant\")","v":0},{"$f":"COUNTIF(INDIRECT(\"'Success Criteria'!\" & ADDRESS(8,A71+4)):INDIRECT(\"'Success Criteria'!\" & ADDRESS(70,A71+4)),\"N/A\")","v":0},{"$f":"COUNTIF(INDIRECT(\"'Success Criteria'!\" & ADDRESS(8,A71+4)):INDIRECT(\"'Success Criteria'!\" & ADDRESS(70,A71+4)),\"not tested\")","v":0},{"$f":"SUM(COUNTIF(INDIRECT(\"'Success Criteria'!\" & ADDRESS(74,A71+4)):INDIRECT(\"'Success Criteria'!\" & ADDRESS(117,A71+4)),\"PASS\"),COUNTIF(INDIRECT(\"'Success Criteria'!\" & ADDRESS(74,A71+4)):INDIRECT(\"'Success Criteria'!\" & ADDRESS(117,A71+4)),\"PASS with comments\"))","v":2},{"$f":"COUNTIF(INDIRECT(\"'Success Criteria'!\" & ADDRESS(74,A71+4)):INDIRECT(\"'Success Criteria'!\" & ADDRESS(117,A71+4)),\"NON conformant\")","v":0},{"$f":"COUNTIF(INDIRECT(\"'Success Criteria'!\" & ADDRESS(74,A71+4)):INDIRECT(\"'Success Criteria'!\" & ADDRESS(117,A71+4)),\"N/A\")","v":0},{"$f":"COUNTIF(INDIRECT(\"'Success Criteria'!\" & ADDRESS(74,A71+4)):INDIRECT(\"'Success Criteria'!\" & ADDRESS(117,A71+4)),\"not tested\")","v":0},{"$f":"SUM(COUNTIF(INDIRECT(\"'Success Criteria'!\" & ADDRESS(122,A71+4)):INDIRECT(\"'Success Criteria'!\" & ADDRESS(176,A71+4)),\"PASS\"),COUNTIF(INDIRECT(\"'Success Criteria'!\" & ADDRESS(122,A71+4)):INDIRECT(\"'Success Criteria'!\" & ADDRESS(176,A71+4)),\"PASS with comments\"))","v":0},{"$f":"COUNTIF(INDIRECT(\"'Success Criteria'!\" & ADDRESS(122,A71+4)):INDIRECT(\"'Success Criteria'!\" & ADDRESS(176,A71+4)),\"NON conformant\")","v":0},{"$f":"COUNTIF(INDIRECT(\"'Success Criteria'!\" & ADDRESS(122,A71+4)):INDIRECT(\"'Success Criteria'!\" & ADDRESS(176,A71+4)),\"N/A\")","v":0},{"$f":"COUNTIF(INDIRECT(\"'Success Criteria'!\" & ADDRESS(122,A71+4)):INDIRECT(\"'Success Criteria'!\" & ADDRESS(176,A71+4)),\"not tested\")","v":28},2,0,0,28,null,0,"",2,"",28,1]
[58,"Page 58","URL 58","Please select",{"$f":"SUM(COUNTIF(INDIRECT(\"'Success Criteria'!\" & ADDRESS(8,A72+4)):INDIRECT(\"'Success Criteria'!\" & ADDRESS(70,A72+4)),\"PASS\"),COUNTIF(INDIRECT(\"'Success Criteria'!\" & ADDRESS(8,A72+4)):INDIRECT(\"'Success Criteria'!\" & ADDRESS(70,A72+4)),\"PASS with comments\"))","v":0},{"$f":"COUNTIF(INDIRECT(\"'Success Criteria'!\" & ADDRESS(8,A72+4)):INDIRECT(\"'Success Criteria'!\" & ADDRESS(70,A72+4)),\"NON conformant\")","v":0},{"$f":"COUNTIF(INDIRECT(\"'Success Criteria'!\" & ADDRESS(8,A72+4)):INDIRECT(\"'Success Criteria'!\" & ADDRESS(70,A72+4)),\"N/A\")","v":0},{"$f":"COUNTIF(INDIRECT(\"'Success Criteria'!\" & ADDRESS(8,A72+4)):INDIRECT(\"'Success Criteria'!\" & ADDRESS(70,A72+4)),\"not tested\")","v":0},{"$f":"SUM(COUNTIF(INDIRECT(\"'Success Criteria'!\" & ADDRESS(74,A72+4)):INDIRECT(\"'Success Criteria'!\" & ADDRESS(117,A72+4)),\"PASS\"),COUNTIF(INDIRECT(\"'Success Criteria'!\" & ADDRESS(74,A72+4)):INDIRECT(\"'Success Criteria'!\" & ADDRESS(117,A72+4)),\"PASS with comments\"))","v":2},{"$f":"COUNTIF(INDIRECT(\"'Success Criteria'!\" & ADDRESS(74,A72+4)):INDIRECT(\"'Success Criteria'!\" & ADDRESS(117,A72+4)),\"NON conformant\")","v":0},{"$f":"COUNTIF(INDIRECT(\"'Success Criteria'!\" & ADDRESS(74,A72+4)):INDIRECT(\"'Success Criteria'!\" & ADDRESS(117,A72+4)),\"N/A\")","v":0},{"$f":"COUNTIF(INDIRECT(\"'Success Criteria'!\" & ADDRESS(74,A72+4)):INDIRECT(\"'Success Criteria'!\" & ADDRESS(117,A72+4)),\"not tested\")","v":0},{"$f":"SUM(COUNTIF(INDIRECT(\"'Success Criteria'!\" & ADDRESS(122,A72+4)):INDIRECT(\"'Success Criteria'!\" & ADDRESS(176,A72+4)),\"PASS\"),COUNTIF(INDIRECT(\"'Success Criteria'!\" & ADDRESS(122,A72+4)):INDIRECT(\"'Success Criteria'!\" & ADDRESS(176,A72+4)),\"PASS with comments\"))","v":0},{"$f":"COUNTIF(INDIRECT(\"'Success Criteria'!\" & ADDRESS(122,A72+4)):INDIRECT(\"'Success Criteria'!\" & ADDRESS(176,A72+4)),\"NON conformant\")","v":0},{"$f":"COUNTIF(INDIRECT(\"'Success Criteria'!\" & ADDRESS(122,A72+4)):INDIRECT(\"'Success Criteria'!\" & ADDRESS(176,A72+4)),\"N/A\")","v":0},{"$f":"COUNTIF(INDIRECT(\"'Success Criteria'!\" & ADDRESS(122,A72+4)):INDIRECT(\"'Success Criteria'!\" & ADDRESS(176,A72+4)),\"not tested\")","v":28},2,0,0,28,null,0,"",2,"",28,1]
[59,"Page 59","URL 59","Please select",{"$f":"SUM(COUNTIF(INDIRECT(\"'Success Criteria'!\" & ADDRESS(8,A73+4)):INDIRECT(\"'Success Criteria'!\" & ADDRESS(70,A73+4)),\"PASS\"),COUNTIF(INDIRECT(\"'Success Criteria'!\" & ADDRESS(8,A73+4)):INDIRECT(\"'Success Criteria'!\" & ADDRESS(70,A73+4)),\"PASS with comments\"))","v":0},{"$f":"COUNTIF(INDIRECT(\"'Success Criteria'!\" & ADDRESS(8,A73+4)):INDIRECT(\"'Success Criteria'!\" & ADDRESS(70,A73+4)),\"NON conformant\")","v":0},{"$f":"COUNTIF(INDIRECT(\"'Success Criteria'!\" & ADDRESS(8,A73+4)):INDIRECT(\"'Success Criteria'!\" & ADDRESS(70,A73+4)),\"N/A\")","v":0},{"$f":"COUNTIF(INDIRECT(\"'Success Criteria'!\" & ADDRESS(8,A73+4)):INDIRECT(\"'Success Criteria'!\" & ADDRESS(70,A73+4)),\"not tested\")","v":0},{"$f":"SUM(COUNTIF(INDIRECT(\"'Success Criteria'!\" & ADDRESS(74,A73+4)):INDIRECT(\"'Success Criteria'!\" & ADDRESS(117,A73+4)),\"PASS\"),COUNTIF(INDIRECT(\"'Success Criteria'!\" & ADDRESS(74,A73+4)):INDIRECT(\"'Success Criteria'!\" & ADDRESS(117,A73+4)),\"PASS with comments\"))","v":2},{"$f":"COUNTIF(INDIRECT(\"'Success Criteria'!\" & ADDRESS(74,A73+4)):INDIRECT(\"'Success Criteria'!\" & ADDRESS(117,A73+4)),\"NON conformant\")","v":0},{"$f":"COUNTIF(INDIRECT(\"'Success Criteria'!\" & ADDRESS(74,A73+4)):INDIRECT(\"'Success Criteria'!\" & ADDRESS(117,A73+4)),\"N/A\")","v":0},{"$f":"COUNTIF(INDIRECT(\"'Success Criteria'!\" & ADDRESS(74,A73+4)):INDIRECT(\"'Success Criteria'!\" & ADDRESS(117,A73+4)),\"not tested\")","v":0},{"$f":"SUM(COUNTIF(INDIRECT(\"'Success Criteria'!\" & ADDRESS(122,A73+4)):INDIRECT(\"'Success Criteria'!\" & ADDRESS(176,A73+4)),\"PASS\"),COUNTIF(INDIRECT(\"'Success Criteria'!\" & ADDRESS(122,A73+4)):INDIRECT(\"'Success Criteria'!\" & ADDRESS(176,A73+4)),\"PASS with comments\"))","v":0},{"$f":"COUNTIF(INDIRECT(\"'Success Criteria'!\" & ADDRESS(122,A73+4)):INDIRECT(\"'Success Criteria'!\" & ADDRESS(176,A73+4)),\"NON conformant\")","v":0},{"$f":"COUNTIF(INDIRECT(\"'Success Criteria'!\" & ADDRESS(122,A73+4)):INDIRECT(\"'Success Criteria'!\" & ADDRESS(176,A73+4)),\"N/A\")","v":0},{"$f":"COUNTIF(INDIRECT(\"'Success Criteria'!\" & ADDRESS(122,A73+4)):INDIRECT(\"'Success Criteria'!\" & ADDRESS(176,A73+4)),\"not tested\")","v":28},2,0,0,28,null,0,"",2,"",28,1]
[60,"Page 60","URL 60","Please select",{"$f":"SUM(COUNTIF(INDIRECT(\"'Success Criteria'!\" & ADDRESS(8,A74+4)):INDIRECT(\"'Success Criteria'!\" & ADDRESS(70,A74+4)),\"PASS\"),COUNTIF(INDIRECT(\"'Success Criteria'!\" & ADDRESS(8,A74+4)):INDIRECT(\"'Success Criteria'!\" & ADDRESS(70,A74+4)),\"PASS with comments\"))","v":0},{"$f":"COUNTIF(INDIRECT(\"'Success Criteria'!\" & ADDRESS(8,A74+4)):INDIRECT(\"'Success Criteria'!\" & ADDRESS(70,A74+4)),\"NON conformant\")","v":0},{"$f":"COUNTIF(INDIRECT(\"'Success Criteria'!\" & ADDRESS(8,A74+4)):INDIRECT(\"'Success Criteria'!\" & ADDRESS(70,A74+4)),\"N/A\")","v":0},{"$f":"COUNTIF(INDIRECT(\"'Success Criteria'!\" & ADDRESS(8,A74+4)):INDIRECT(\"'Success Criteria'!\" & ADDRESS(70,A74+4)),\"not tested\")","v":0},{"$f":"SUM(COUNTIF(INDIRECT(\"'Success Criteria'!\" & ADDRESS(74,A74+4)):INDIRECT(\"'Success Criteria'!\" & ADDRESS(117,A74+4)),\"PASS\"),COUNTIF(INDIRECT(\"'Success Criteria'!\" & ADDRESS(74,A74+4)):INDIRECT(\"'Success Criteria'!\" & ADDRESS(117,A74+4)),\"PASS with comments\"))","v":2},{"$f":"COUNTIF(INDIRECT(\"'Success Criteria'!\" & ADDRESS(74,A74+4)):INDIRECT(\"'Success Criteria'!\" & ADDRESS(117,A74+4)),\"NON conformant\")","v":0},{"$f":"COUNTIF(INDIRECT(\"'Success Criteria'!\" & ADDRESS(74,A74+4)):INDIRECT(\"'Success Criteria'!\" & ADDRESS(117,A74+4)),\"N/A\")","v":0},{"$f":"COUNTIF(INDIRECT(\"'Success Criteria'!\" & ADDRESS(74,A74+4)):INDIRECT(\"'Success Criteria'!\" & ADDRESS(117,A74+4)),\"not tested\")","v":0},{"$f":"SUM(COUNTIF(INDIRECT(\"'Success Criteria'!\" & ADDRESS(122,A74+4)):INDIRECT(\"'Success Criteria'!\" & ADDRESS(176,A74+4)),\"PASS\"),COUNTIF(INDIRECT(\"'Success Criteria'!\" & ADDRESS(122,A74+4)):INDIRECT(\"'Success Criteria'!\" & ADDRESS(176,A74+4)),\"PASS with comments\"))","v":0},{"$f":"COUNTIF(INDIRECT(\"'Success Criteria'!\" & ADDRESS(122,A74+4)):INDIRECT(\"'Success Criteria'!\" & ADDRESS(176,A74+4)),\"NON conformant\")","v":0},{"$f":"COUNTIF(INDIRECT(\"'Success Criteria'!\" & ADDRESS(122,A74+4)):INDIRECT(\"'Success Criteria'!\" & ADDRESS(176,A74+4)),\"N/A\")","v":0},{"$f":"COUNTIF(INDIRECT(\"'Success Criteria'!\" & ADDRESS(122,A74+4)):INDIRECT(\"'Success Criteria'!\" & ADDRESS(176,A74+4)),\"not tested\")","v":28},2,0,0,28,null,0,"",2,"",28,1]
[61,"Page 61","URL 61","Please select",{"$f":"SUM(COUNTIF(INDIRECT(\"'Success Criteria'!\" & ADDRESS(8,A75+4)):INDIRECT(\"'Success Criteria'!\" & ADDRESS(70,A75+4)),\"PASS\"),COUNTIF(INDIRECT(\"'Success Criteria'!\" & ADDRESS(8,A75+4)):INDIRECT(\"'Success Criteria'!\" & ADDRESS(70,A75+4)),\"PASS with comments\"))","v":0},{"$f":"COUNTIF(INDIRECT(\"'Success Criteria'!\" & ADDRESS(8,A75+4)):INDIRECT(\"'Success Criteria'!\" & ADDRESS(70,A75+4)),\"NON conformant\")","v":0},{"$f":"COUNTIF(INDIRECT(\"'Success Criteria'!\" & ADDRESS(8,A75+4)):INDIRECT(\"'Success Criteria'!\" & ADDRESS(70,A75+4)),\"N/A\")","v":0},{"$f":"COUNTIF(INDIRECT(\"'Success Criteria'!\" & ADDRESS(8,A75+4)):INDIRECT(\"'Success Criteria'!\" & ADDRESS(70,A75+4)),\"not tested\")","v":0},{"$f":"SUM(COUNTIF(INDIRECT(\"'Success Criteria'!\" & ADDRESS(74,A75+4)):INDIRECT(\"'Success Criteria'!\" & ADDRESS(117,A75+4)),\"PASS\"),COUNTIF(INDIRECT(\"'Success Criteria'!\" & ADDRESS(74,A75+4)):INDIRECT(\"'Success Criteria'!\" & ADDRESS(117,A75+4)),\"PASS with comments\"))","v":2},{"$f":"COUNTIF(INDIRECT(\"'Success Criteria'!\" & ADDRESS(74,A75+4)):INDIRECT(\"'Success Criteria'!\" & ADDRESS(117,A75+4)),\"NON conformant\")","v":0},{"$f":"COUNTIF(INDIRECT(\"'Success Criteria'!\" & ADDRESS(74,A75+4)):INDIRECT(\"'Success Criteria'!\" & ADDRESS(117,A75+4)),\"N/A\")","v":0},{"$f":"COUNTIF(INDIRECT(\"'Success Criteria'!\" & ADDRESS(74,A75+4)):INDIRECT(\"'Success Criteria'!\" & ADDRESS(117,A75+4)),\"not tested\")","v":0},{"$f":"SUM(COUNTIF(INDIRECT(\"'Success Criteria'!\" & ADDRESS(122,A75+4)):INDIRECT(\"'Success Criteria'!\" & ADDRESS(176,A75+4)),\"PASS\"),COUNTIF(INDIRECT(\"'Success Criteria'!\" & ADDRESS(122,A75+4)):INDIRECT(\"'Success Criteria'!\" & ADDRESS(176,A75+4)),\"PASS with comments\"))","v":0},{"$f":"COUNTIF(INDIRECT(\"'Success Criteria'!\" & ADDRESS(122,A75+4)):INDIRECT(\"'Success Criteria'!\" & ADDRESS(176,A75+4)),\"NON conformant\")","v":0},{"$f":"COUNTIF(INDIRECT(\"'Success Criteria'!\" & ADDRESS(122,A75+4)):INDIRECT(\"'Success Criteria'!\" & ADDRESS(176,A75+4)),\"N/A\")","v":0},{"$f":"COUNTIF(INDIRECT(\"'Success Criteria'!\" & ADDRESS(122,A75+4)):INDIRECT(\"'Success Criteria'!\" & ADDRESS(176,A75+4)),\"not tested\")","v":28},2,0,0,28,null,0,"",2,"",28,1]
[62,"Page 62","URL 62","Please select",{"$f":"SUM(COUNTIF(INDIRECT(\"'Success Criteria'!\" & ADDRESS(8,A76+4)):INDIRECT(\"'Success Criteria'!\" & ADDRESS(70,A76+4)),\"PASS\"),COUNTIF(INDIRECT(\"'Success Criteria'!\" & ADDRESS(8,A76+4)):INDIRECT(\"'Success Criteria'!\" & ADDRESS(70,A76+4)),\"PASS with comments\"))","v":0},{"$f":"COUNTIF(INDIRECT(\"'Success Criteria'!\" & ADDRESS(8,A76+4)):INDIRECT(\"'Success Criteria'!\" & ADDRESS(70,A76+4)),\"NON conformant\")","v":0},{"$f":"COUNTIF(INDIRECT(\"'Success Criteria'!\" & ADDRESS(8,A76+4)):INDIRECT(\"'Success Criteria'!\" & ADDRESS(70,A76+4)),\"N/A\")","v":0},{"$f":"COUNTIF(INDIRECT(\"'Success Criteria'!\" & ADDRESS(8,A76+4)):INDIRECT(\"'Success Criteria'!\" & ADDRESS(70,A76+4)),\"not tested\")","v":0},{"$f":"SUM(COUNTIF(INDIRECT(\"'Success Criteria'!\" & ADDRESS(74,A76+4)):INDIRECT(\"'Success Criteria'!\" & ADDRESS(117,A76+4)),\"PASS\"),COUNTIF(INDIRECT(\"'Success Criteria'!\" & ADDRESS(74,A76+4)):INDIRECT(\"'Success Criteria'!\" & ADDRESS(117,A76+4)),\"PASS with comments\"))","v":2},{"$f":"COUNTIF(INDIRECT(\"'Success Criteria'!\" & ADDRESS(74,A76+4)):INDIRECT(\"'Success Criteria'!\" & ADDRESS(117,A76+4)),\"NON conformant\")","v":0},{"$f":"COUNTIF(INDIRECT(\"'Success Criteria'!\" & ADDRESS(74,A76+4)):INDIRECT(\"'Success Criteria'!\" & ADDRESS(117,A76+4)),\"N/A\")","v":0},{"$f":"COUNTIF(INDIRECT(\"'Success Criteria'!\" & ADDRESS(74,A76+4)):INDIRECT(\"'Success Criteria'!\" & ADDRESS(117,A76+4)),\"not tested\")","v":0},{"$f":"SUM(COUNTIF(INDIRECT(\"'Success Criteria'!\" & ADDRESS(122,A76+4)):INDIRECT(\"'Success Criteria'!\" & ADDRESS(176,A76+4)),\"PASS\"),COUNTIF(INDIRECT(\"'Success Criteria'!\" & ADDRESS(122,A76+4)):INDIRECT(\"'Success Criteria'!\" & ADDRESS(176,A76+4)),\"PASS with comments\"))","v":0},{"$f":"COUNTIF(INDIRECT(\"'Success Criteria'!\" & ADDRESS(122,A76+4)):INDIRECT(\"'Success Criteria'!\" & ADDRESS(176,A76+4)),\"NON conformant\")","v":0},{"$f":"COUNTIF(INDIRECT(\"'Success Criteria'!\" & ADDRESS(122,A76+4)):INDIRECT(\"'Success Criteria'!\" & ADDRESS(176,A76+4)),\"N/A\")","v":0},{"$f":"COUNTIF(INDIRECT(\"'Success Criteria'!\" & ADDRESS(122,A76+4)):INDIRECT(\"'Success Criteria'!\" & ADDRESS(176,A76+4)),\"not tested\")","v":28},2,0,0,28,null,0,"",2,"",28,1]
[63,"Page 63","URL 63","Please select",{"$f":"SUM(COUNTIF(INDIRECT(\"'Success Criteria'!\" & ADDRESS(8,A77+4)):INDIRECT(\"'Success Criteria'!\" & ADDRESS(70,A77+4)),\"PASS\"),COUNTIF(INDIRECT(\"'Success Criteria'!\" & ADDRESS(8,A77+4)):INDIRECT(\"'Success Criteria'!\" & ADDRESS(70,A77+4)),\"PASS with comments\"))","v":0},{"$f":"COUNTIF(INDIRECT(\"'Success Criteria'!\" & ADDRESS(8,A77+4)):INDIRECT(\"'Success Criteria'!\" & ADDRESS(70,A77+4)),\"NON conformant\")","v":0},{"$f":"COUNTIF(INDIRECT(\"'Success Criteria'!\" & ADDRESS(8,A77+4)):INDIRECT(\"'Success Criteria'!\" & ADDRESS(70,A77+4)),\"N/A\")","v":0},{"$f":"COUNTIF(INDIRECT(\"'Success Criteria'!\" & ADDRESS(8,A77+4)):INDIRECT(\"'Success Criteria'!\" & ADDRESS(70,A77+4)),\"not tested\")","v":0},{"$f":"SUM(COUNTIF(INDIRECT(\"'Success Criteria'!\" & ADDRESS(74,A77+4)):INDIRECT(\"'Success Criteria'!\" & ADDRESS(117,A77+4)),\"PASS\"),COUNTIF(INDIRECT(\"'Success Criteria'!\" & ADDRESS(74,A77+4)):INDIRECT(\"'Success Criteria'!\" & ADDRESS(117,A77+4)),\"PASS with comments\"))","v":2},{"$f":"COUNTIF(INDIRECT(\"'Success Criteria'!\" & ADDRESS(74,A77+4)):INDIRECT(\"'Success Criteria'!\" & ADDRESS(117,A77+4)),\"NON conformant\")","v":0},{"$f":"COUNTIF(INDIRECT(\"'Success Criteria'!\" & ADDRESS(74,A77+4)):INDIRECT(\"'Success Criteria'!\" & ADDRESS(117,A77+4)),\"N/A\")","v":0},{"$f":"COUNTIF(INDIRECT(\"'Success Criteria'!\" & ADDRESS(74,A77+4)):INDIRECT(\"'Success Criteria'!\" & ADDRESS(117,A77+4)),\"not tested\")","v":0},{"$f":"SUM(COUNTIF(INDIRECT(\"'Success Criteria'!\" & ADDRESS(122,A77+4)):INDIRECT(\"'Success Criteria'!\" & ADDRESS(176,A77+4)),\"PASS\"),COUNTIF(INDIRECT(\"'Success Criteria'!\" & ADDRESS(122,A77+4)):INDIRECT(\"'Success Criteria'!\" & ADDRESS(176,A77+4)),\"PASS with comments\"))","v":0},{"$f":"COUNTIF(INDIRECT(\"'Success Criteria'!\" & ADDRESS(122,A77+4)):INDIRECT(\"'Success Criteria'!\" & ADDRESS(176,A77+4)),\"NON conformant\")","v":0},{"$f":"COUNTIF(INDIRECT(\"'Success Criteria'!\" & ADDRESS(122,A77+4)):INDIRECT(\"'Success Criteria'!\" & ADDRESS(176,A77+4)),\"N/A\")","v":0},{"$f":"COUNTIF(INDIRECT(\"'Success Criteria'!\" & ADDRESS(122,A77+4)):INDIRECT(\"'Success Criteria'!\" & ADDRESS(176,A77+4)),\"not tested\")","v":28},2,0,0,28,null,0,"",2,"",28,1]
[64,"Page 64","URL 64","Please select",{"$f":"SUM(COUNTIF(INDIRECT(\"'Success Criteria'!\" & ADDRESS(8,A78+4)):INDIRECT(\"'Success Criteria'!\" & ADDRESS(70,A78+4)),\"PASS\"),COUNTIF(INDIRECT(\"'Success Criteria'!\" & ADDRESS(8,A78+4)):INDIRECT(\"'Success Criteria'!\" & ADDRESS(70,A78+4)),\"PASS with comments\"))","v":0},{"$f":"COUNTIF(INDIRECT(\"'Success Criteria'!\" & ADDRESS(8,A78+4)):INDIRECT(\"'Success Criteria'!\" & ADDRESS(70,A78+4)),\"NON conformant\")","v":0},{"$f":"COUNTIF(INDIRECT(\"'Success Criteria'!\" & ADDRESS(8,A78+4)):INDIRECT(\"'Success Criteria'!\" & ADDRESS(70,A78+4)),\"N/A\")","v":0},{"$f":"COUNTIF(INDIRECT(\"'Success Criteria'!\" & ADDRESS(8,A78+4)):INDIRECT(\"'Success Criteria'!\" & ADDRESS(70,A78+4)),\"not tested\")","v":0},{"$f":"SUM(COUNTIF(INDIRECT(\"'Success Criteria'!\" & ADDRESS(74,A78+4)):INDIRECT(\"'Success Criteria'!\" & ADDRESS(117,A78+4)),\"PASS\"),COUNTIF(INDIRECT(\"'Success Criteria'!\" & ADDRESS(74,A78+4)):INDIRECT(\"'Success Criteria'!\" & ADDRESS(117,A78+4)),\"PASS with comments\"))","v":2},{"$f":"COUNTIF(INDIRECT(\"'Success Criteria'!\" & ADDRESS(74,A78+4)):INDIRECT(\"'Success Criteria'!\" & ADDRESS(117,A78+4)),\"NON conformant\")","v":0},{"$f":"COUNTIF(INDIRECT(\"'Success Criteria'!\" & ADDRESS(74,A78+4)):INDIRECT(\"'Success Criteria'!\" & ADDRESS(117,A78+4)),\"N/A\")","v":0},{"$f":"COUNTIF(INDIRECT(\"'Success Criteria'!\" & ADDRESS(74,A78+4)):INDIRECT(\"'Success Criteria'!\" & ADDRESS(117,A78+4)),\"not tested\")","v":0},{"$f":"SUM(COUNTIF(INDIRECT(\"'Success Criteria'!\" & ADDRESS(122,A78+4)):INDIRECT(\"'Success Criteria'!\" & ADDRESS(176,A78+4)),\"PASS\"),COUNTIF(INDIRECT(\"'Success Criteria'!\" & ADDRESS(122,A78+4)):INDIRECT(\"'Success Criteria'!\" & ADDRESS(176,A78+4)),\"PASS with comments\"))","v":0},{"$f":"COUNTIF(INDIRECT(\"'Success Criteria'!\" & ADDRESS(122,A78+4)):INDIRECT(\"'Success Criteria'!\" & ADDRESS(176,A78+4)),\"NON conformant\")","v":0},{"$f":"COUNTIF(INDIRECT(\"'Success Criteria'!\" & ADDRESS(122,A78+4)):INDIRECT(\"'Success Criteria'!\" & ADDRESS(176,A78+4)),\"N/A\")","v":0},{"$f":"COUNTIF(INDIRECT(\"'Success Criteria'!\" & ADDRESS(122,A78+4)):INDIRECT(\"'Success Criteria'!\" & ADDRESS(176,A78+4)),\"not tested\")","v":28},2,0,0,28,null,0,"",2,"",28,1]
[65,"Page 65","URL 65","Please select",{"$f":"SUM(COUNTIF(INDIRECT(\"'Success Criteria'!\" & ADDRESS(8,A79+4)):INDIRECT(\"'Success Criteria'!\" & ADDRESS(70,A79+4)),\"PASS\"),COUNTIF(INDIRECT(\"'Success Criteria'!\" & ADDRESS(8,A79+4)):INDIRECT(\"'Success Criteria'!\" & ADDRESS(70,A79+4)),\"PASS with comments\"))","v":0},{"$f":"COUNTIF(INDIRECT(\"'Success Criteria'!\" & ADDRESS(8,A79+4)):INDIRECT(\"'Success Criteria'!\" & ADDRESS(70,A79+4)),\"NON conformant\")","v":0},{"$f":"COUNTIF(INDIRECT(\"'Success Criteria'!\" & ADDRESS(8,A79+4)):INDIRECT(\"'Success Criteria'!\" & ADDRESS(70,A79+4)),\"N/A\")","v":0},{"$f":"COUNTIF(INDIRECT(\"'Success Criteria'!\" & ADDRESS(8,A79+4)):INDIRECT(\"'Success Criteria'!\" & ADDRESS(70,A79+4)),\"not tested\")","v":0},{"$f":"SUM(COUNTIF(INDIRECT(\"'Success Criteria'!\" & ADDRESS(74,A79+4)):INDIRECT(\"'Success Criteria'!\" & ADDRESS(117,A79+4)),\"PASS\"),COUNTIF(INDIRECT(\"'Success Criteria'!\" & ADDRESS(74,A79+4)):INDIRECT(\"'Success Criteria'!\" & ADDRESS(117,A79+4)),\"PASS with comments\"))","v":2},{"$f":"COUNTIF(INDIRECT(\"'Success Criteria'!\" & ADDRESS(74,A79+4)):INDIRECT(\"'Success Criteria'!\" & ADDRESS(117,A79+4)),\"NON conformant\")","v":0},{"$f":"COUNTIF(INDIRECT(\"'Success Criteria'!\" & ADDRESS(74,A79+4)):INDIRECT(\"'Success Criteria'!\" & ADDRESS(117,A79+4)),\"N/A\")","v":0},{"$f":"COUNTIF(INDIRECT(\"'Success Criteria'!\" & ADDRESS(74,A79+4)):INDIRECT(\"'Success Criteria'!\" & ADDRESS(117,A79+4)),\"not tested\")","v":0},{"$f":"SUM(COUNTIF(INDIRECT(\"'Success Criteria'!\" & ADDRESS(122,A79+4)):INDIRECT(\"'Success Criteria'!\" & ADDRESS(176,A79+4)),\"PASS\"),COUNTIF(INDIRECT(\"'Success Criteria'!\" & ADDRESS(122,A79+4)):INDIRECT(\"'Success Criteria'!\" & ADDRESS(176,A79+4)),\"PASS with comments\"))","v":0},{"$f":"COUNTIF(INDIRECT(\"'Success Criteria'!\" & ADDRESS(122,A79+4)):INDIRECT(\"'Success Criteria'!\" & ADDRESS(176,A79+4)),\"NON conformant\")","v":0},{"$f":"COUNTIF(INDIRECT(\"'Success Criteria'!\" & ADDRESS(122,A79+4)):INDIRECT(\"'Success Criteria'!\" & ADDRESS(176,A79+4)),\"N/A\")","v":0},{"$f":"COUNTIF(INDIRECT(\"'Success Criteria'!\" & ADDRESS(122,A79+4)):INDIRECT(\"'Success Criteria'!\" & ADDRESS(176,A79+4)),\"not tested\")","v":28},2,0,0,28,null,0,"",2,"",28,1]
[66,"Page 66","URL 66","Please select",{"$f":"SUM(COUNTIF(INDIRECT(\"'Success Criteria'!\" & ADDRESS(8,A80+4)):INDIRECT(\"'Success Criteria'!\" & ADDRESS(70,A80+4)),\"PASS\"),COUNTIF(INDIRECT(\"'Success Criteria'!\" & ADDRESS(8,A80+4)):INDIRECT(\"'Success Criteria'!\" & ADDRESS(70,A80+4)),\"PASS with comments\"))","v":0},{"$f":"COUNTIF(INDIRECT(\"'Success Criteria'!\" & ADDRESS(8,A80+4)):INDIRECT(\"'Success Criteria'!\" & ADDRESS(70,A80+4)),\"NON conformant\")","v":0},{"$f":"COUNTIF(INDIRECT(\"'Success Criteria'!\" & ADDRESS(8,A80+4)):INDIRECT(\"'Success Criteria'!\" & ADDRESS(70,A80+4)),\"N/A\")","v":0},{"$f":"COUNTIF(INDIRECT(\"'Success Criteria'!\" & ADDRESS(8,A80+4)):INDIRECT(\"'Success Criteria'!\" & ADDRESS(70,A80+4)),\"not tested\")","v":0},{"$f":"SUM(COUNTIF(INDIRECT(\"'Success Criteria'!\" & ADDRESS(74,A80+4)):INDIRECT(\"'Success Criteria'!\" & ADDRESS(117,A80+4)),\"PASS\"),COUNTIF(INDIRECT(\"'Success Criteria'!\" & ADDRESS(74,A80+4)):INDIRECT(\"'Success Criteria'!\" & ADDRESS(117,A80+4)),\"PASS with comments\"))","v":2},{"$f":"COUNTIF(INDIRECT(\"'Success Criteria'!\" & ADDRESS(74,A80+4)):INDIRECT(\"'Success Criteria'!\" & ADDRESS(117,A80+4)),\"NON conformant\")","v":0},{"$f":"COUNTIF(INDIRECT(\"'Success Criteria'!\" & ADDRESS(74,A80+4)):INDIRECT(\"'Success Criteria'!\" & ADDRESS(117,A80+4)),\"N/A\")","v":0},{"$f":"COUNTIF(INDIRECT(\"'Success Criteria'!\" & ADDRESS(74,A80+4)):INDIRECT(\"'Success Criteria'!\" & ADDRESS(117,A80+4)),\"not tested\")","v":0},{"$f":"SUM(COUNTIF(INDIRECT(\"'Success Criteria'!\" & ADDRESS(122,A80+4)):INDIRECT(\"'Success Criteria'!\" & ADDRESS(176,A80+4)),\"PASS\"),COUNTIF(INDIRECT(\"'Success Criteria'!\" & ADDRESS(122,A80+4)):INDIRECT(\"'Success Criteria'!\" & ADDRESS(176,A80+4)),\"PASS with comments\"))","v":0},{"$f":"COUNTIF(INDIRECT(\"'Success Criteria'!\" & ADDRESS(122,A80+4)):INDIRECT(\"'Success Criteria'!\" & ADDRESS(176,A80+4)),\"NON conformant\")","v":0},{"$f":"COUNTIF(INDIRECT(\"'Success Criteria'!\" & ADDRESS(122,A80+4)):INDIRECT(\"'Success Criteria'!\" & ADDRESS(176,A80+4)),\"N/A\")","v":0},{"$f":"COUNTIF(INDIRECT(\"'Success Criteria'!\" & ADDRESS(122,A80+4)):INDIRECT(\"'Success Criteria'!\" & ADDRESS(176,A80+4)),\"not tested\")","v":28},{"$f":"SUM(E80+I80+M80)","v":2},0,0,28,null,0,"",{"$f":"SUM($I80:$L80)","v":2},"",{"$f":"SUM($M80:$P80)","v":28},1]
[67,"Page 67","URL 67","Please select",{"$f":"SUM(COUNTIF(INDIRECT(\"'Success Criteria'!\" & ADDRESS(8,A81+4)):INDIRECT(\"'Success Criteria'!\" & ADDRESS(70,A81+4)),\"PASS\"),COUNTIF(INDIRECT(\"'Success Criteria'!\" & ADDRESS(8,A81+4)):INDIRECT(\"'Success Criteria'!\" & ADDRESS(70,A81+4)),\"PASS with comments\"))","v":0},{"$f":"COUNTIF(INDIRECT(\"'Success Criteria'!\" & ADDRESS(8,A81+4)):INDIRECT(\"'Success Criteria'!\" & ADDRESS(70,A81+4)),\"NON conformant\")","v":0},{"$f":"COUNTIF(INDIRECT(\"'Success Criteria'!\" & ADDRESS(8,A81+4)):INDIRECT(\"'Success Criteria'!\" & ADDRESS(70,A81+4)),\"N/A\")","v":0},{"$f":"COUNTIF(INDIRECT(\"'Success Criteria'!\" & ADDRESS(8,A81+4)):INDIRECT(\"'Success Criteria'!\" & ADDRESS(70,A81+4)),\"not tested\")","v":0},{"$f":"SUM(COUNTIF(INDIRECT(\"'Success Criteria'!\" & ADDRESS(74,A81+4)):INDIRECT(\"'Success Criteria'!\" & ADDRESS(117,A81+4)),\"PASS\"),COUNTIF(INDIRECT(\"'Success Criteria'!\" & ADDRESS(74,A81+4)):INDIRECT(\"'Success Criteria'!\" & ADDRESS(117,A81+4)),\"PASS with comments\"))","v":2},{"$f":"COUNTIF(INDIRECT(\"'Success Criteria'!\" & ADDRESS(74,A81+4)):INDIRECT(\"'Success Criteria'!\" & ADDRESS(117,A81+4)),\"NON conformant\")","v":0},{"$f":"COUNTIF(INDIRECT(\"'Success Criteria'!\" & ADDRESS(74,A81+4)):INDIRECT(\"'Success Criteria'!\" & ADDRESS(117,A81+4)),\"N/A\")","v":0},{"$f":"COUNTIF(INDIRECT(\"'Success Criteria'!\" & ADDRESS(74,A81+4)):INDIRECT(\"'Success Criteria'!\" & ADDRESS(117,A81+4)),\"not tested\")","v":0},{"$f":"SUM(COUNTIF(INDIRECT(\"'Success Criteria'!\" & ADDRESS(122,A81+4)):INDIRECT(\"'Success Criteria'!\" & ADDRESS(176,A81+4)),\"PASS\"),COUNTIF(INDIRECT(\"'Success Criteria'!\" & ADDRESS(122,A81+4)):INDIRECT(\"'Success Criteria'!\" & ADDRESS(176,A81+4)),\"PASS with comments\"))","v":0},{"$f":"COUNTIF(INDIRECT(\"'Success Criteria'!\" & ADDRESS(122,A81+4)):INDIRECT(\"'Success Criteria'!\" & ADDRESS(176,A81+4)),\"NON conformant\")","v":0},{"$f":"COUNTIF(INDIRECT(\"'Success Criteria'!\" & ADDRESS(122,A81+4)):INDIRECT(\"'Success Criteria'!\" & ADDRESS(176,A81+4)),\"N/A\")","v":0},{"$f":"COUNTIF(INDIRECT(\"'Success Criteria'!\" & ADDRESS(122,A81+4)):INDIRECT(\"'Success Criteria'!\" & ADDRESS(176,A81+4)),\"not tested\")","v":28},2,{"$f":"SUM(F81+J81+N81)","v":0},0,28,null,0,"",2,"",28,1]
[68,"Page 68","URL 68","Please select",{"$f":"SUM(COUNTIF(INDIRECT(\"'Success Criteria'!\" & ADDRESS(8,A82+4)):INDIRECT(\"'Success Criteria'!\" & ADDRESS(70,A82+4)),\"PASS\"),COUNTIF(INDIRECT(\"'Success Criteria'!\" & ADDRESS(8,A82+4)):INDIRECT(\"'Success Criteria'!\" & ADDRESS(70,A82+4)),\"PASS with comments\"))","v":0},{"$f":"COUNTIF(INDIRECT(\"'Success Criteria'!\" & ADDRESS(8,A82+4)):INDIRECT(\"'Success Criteria'!\" & ADDRESS(70,A82+4)),\"NON conformant\")","v":0},{"$f":"COUNTIF(INDIRECT(\"'Success Criteria'!\" & ADDRESS(8,A82+4)):INDIRECT(\"'Success Criteria'!\" & ADDRESS(70,A82+4)),\"N/A\")","v":0},{"$f":"COUNTIF(INDIRECT(\"'Success Criteria'!\" & ADDRESS(8,A82+4)):INDIRECT(\"'Success Criteria'!\" & ADDRESS(70,A82+4)),\"not tested\")","v":0},{"$f":"SUM(COUNTIF(INDIRECT(\"'Success Criteria'!\" & ADDRESS(74,A82+4)):INDIRECT(\"'Success Criteria'!\" & ADDRESS(117,A82+4)),\"PASS\"),COUNTIF(INDIRECT(\"'Success Criteria'!\" & ADDRESS(74,A82+4)):INDIRECT(\"'Success Criteria'!\" & ADDRESS(117,A82+4)),\"PASS with comments\"))","v":2},{"$f":"COUNTIF(INDIRECT(\"'Success Criteria'!\" & ADDRESS(74,A82+4)):INDIRECT(\"'Success Criteria'!\" & ADDRESS(117,A82+4)),\"NON conformant\")","v":0},{"$f":"COUNTIF(INDIRECT(\"'Success Criteria'!\" & ADDRESS(74,A82+4)):INDIRECT(\"'Success Criteria'!\" & ADDRESS(117,A82+4)),\"N/A\")","v":0},{"$f":"COUNTIF(INDIRECT(\"'Success Criteria'!\" & ADDRESS(74,A82+4)):INDIRECT(\"'Success Criteria'!\" & ADDRESS(117,A82+4)),\"not tested\")","v":0},{"$f":"SUM(COUNTIF(INDIRECT(\"'Success Criteria'!\" & ADDRESS(122,A82+4)):INDIRECT(\"'Success Criteria'!\" & ADDRESS(176,A82+4)),\"PASS\"),COUNTIF(INDIRECT(\"'Success Criteria'!\" & ADDRESS(122,A82+4)):INDIRECT(\"'Success Criteria'!\" & ADDRESS(176,A82+4)),\"PASS with comments\"))","v":0},{"$f":"COUNTIF(INDIRECT(\"'Success Criteria'!\" & ADDRESS(122,A82+4)):INDIRECT(\"'Success Criteria'!\" & ADDRESS(176,A82+4)),\"NON conformant\")","v":0},{"$f":"COUNTIF(INDIRECT(\"'Success Criteria'!\" & ADDRESS(122,A82+4)):INDIRECT(\"'Success Criteria'!\" & ADDRESS(176,A82+4)),\"N/A\")","v":0},{"$f":"COUNTIF(INDIRECT(\"'Success Criteria'!\" & ADDRESS(122,A82+4)):INDIRECT(\"'Success Criteria'!\" & ADDRESS(176,A82+4)),\"not tested\")","v":28},2,0,0,28,null,0,"",2,"",28,1]
[69,"Page 69","URL 69","Please select",{"$f":"SUM(COUNTIF(INDIRECT(\"'Success Criteria'!\" & ADDRESS(8,A83+4)):INDIRECT(\"'Success Criteria'!\" & ADDRESS(70,A83+4)),\"PASS\"),COUNTIF(INDIRECT(\"'Success Criteria'!\" & ADDRESS(8,A83+4)):INDIRECT(\"'Success Criteria'!\" & ADDRESS(70,A83+4)),\"PASS with comments\"))","v":0},{"$f":"COUNTIF(INDIRECT(\"'Success Criteria'!\" & ADDRESS(8,A83+4)):INDIRECT(\"'Success Criteria'!\" & ADDRESS(70,A83+4)),\"NON conformant\")","v":0},{"$f":"COUNTIF(INDIRECT(\"'Success Criteria'!\" & ADDRESS(8,A83+4)):INDIRECT(\"'Success Criteria'!\" & ADDRESS(70,A83+4)),\"N/A\")","v":0},{"$f":"COUNTIF(INDIRECT(\"'Success Criteria'!\" & ADDRESS(8,A83+4)):INDIRECT(\"'Success Criteria'!\" & ADDRESS(70,A83+4)),\"not tested\")","v":0},{"$f":"SUM(COUNTIF(INDIRECT(\"'Success Criteria'!\" & ADDRESS(74,A83+4)):INDIRECT(\"'Success Criteria'!\" & ADDRESS(117,A83+4)),\"PASS\"),COUNTIF(INDIRECT(\"'Success Criteria'!\" & ADDRESS(74,A83+4)):INDIRECT(\"'Success Criteria'!\" & ADDRESS(117,A83+4)),\"PASS with comments\"))","v":2},{"$f":"COUNTIF(INDIRECT(\"'Success Criteria'!\" & ADDRESS(74,A83+4)):INDIRECT(\"'Success Criteria'!\" & ADDRESS(117,A83+4)),\"NON conformant\")","v":0},{"$f":"COUNTIF(INDIRECT(\"'Success Criteria'!\" & ADDRESS(74,A83+4)):INDIRECT(\"'Success Criteria'!\" & ADDRESS(117,A83+4)),\"N/A\")","v":0},{"$f":"COUNTIF(INDIRECT(\"'Success Criteria'!\" & ADDRESS(74,A83+4)):INDIRECT(\"'Success Criteria'!\" & ADDRESS(117,A83+4)),\"not tested\")","v":0},{"$f":"SUM(COUNTIF(INDIRECT(\"'Success Criteria'!\" & ADDRESS(122,A83+4)):INDIRECT(\"'Success Criteria'!\" & ADDRESS(176,A83+4)),\"PASS\"),COUNTIF(INDIRECT(\"'Success Criteria'!\" & ADDRESS(122,A83+4)):INDIRECT(\"'Success Criteria'!\" & ADDRESS(176,A83+4)),\"PASS with comments\"))","v":0},{"$f":"COUNTIF(INDIRECT(\"'Success Criteria'!\" & ADDRESS(122,A83+4)):INDIRECT(\"'Success Criteria'!\" & ADDRESS(176,A83+4)),\"NON conformant\")","v":0},{"$f":"COUNTIF(INDIRECT(\"'Success Criteria'!\" & ADDRESS(122,A83+4)):INDIRECT(\"'Success Criteria'!\" & ADDRESS(176,A83+4)),\"N/A\")","v":0},{"$f":"COUNTIF(INDIRECT(\"'Success Criteria'!\" & ADDRESS(122,A83+4)):INDIRECT(\"'Success Criteria'!\" & ADDRESS(176,A83+4)),\"not tested\")","v":28},2,0,0,28,null,0,"",2,"",28,1]
[70,"Page 70","URL 70","Please select",{"$f":"SUM(COUNTIF(INDIRECT(\"'Success Criteria'!\" & ADDRESS(8,A84+4)):INDIRECT(\"'Success Criteria'!\" & ADDRESS(70,A84+4)),\"PASS\"),COUNTIF(INDIRECT(\"'Success Criteria'!\" & ADDRESS(8,A84+4)):INDIRECT(\"'Success Criteria'!\" & ADDRESS(70,A84+4)),\"PASS with comments\"))","v":0},{"$f":"COUNTIF(INDIRECT(\"'Success Criteria'!\" & ADDRESS(8,A84+4)):INDIRECT(\"'Success Criteria'!\" & ADDRESS(70,A84+4)),\"NON conformant\")","v":0},{"$f":"COUNTIF(INDIRECT(\"'Success Criteria'!\" & ADDRESS(8,A84+4)):INDIRECT(\"'Success Criteria'!\" & ADDRESS(70,A84+4)),\"N/A\")","v":0},{"$f":"COUNTIF(INDIRECT(\"'Success Criteria'!\" & ADDRESS(8,A84+4)):INDIRECT(\"'Success Criteria'!\" & ADDRESS(70,A84+4)),\"not tested\")","v":0},{"$f":"SUM(COUNTIF(INDIRECT(\"'Success Criteria'!\" & ADDRESS(74,A84+4)):INDIRECT(\"'Success Criteria'!\" & ADDRESS(117,A84+4)),\"PASS\"),COUNTIF(INDIRECT(\"'Success Criteria'!\" & ADDRESS(74,A84+4)):INDIRECT(\"'Success Criteria'!\" & ADDRESS(117,A84+4)),\"PASS with comments\"))","v":2},{"$f":"COUNTIF(INDIRECT(\"'Success Criteria'!\" & ADDRESS(74,A84+4)):INDIRECT(\"'Success Criteria'!\" & ADDRESS(117,A84+4)),\"NON conformant\")","v":0},{"$f":"COUNTIF(INDIRECT(\"'Success Criteria'!\" & ADDRESS(74,A84+4)):INDIRECT(\"'Success Criteria'!\" & ADDRESS(117,A84+4)),\"N/A\")","v":0},{"$f":"COUNTIF(INDIRECT(\"'Success Criteria'!\" & ADDRESS(74,A84+4)):INDIRECT(\"'Success Criteria'!\" & ADDRESS(117,A84+4)),\"not tested\")","v":0},{"$f":"SUM(COUNTIF(INDIRECT(\"'Success Criteria'!\" & ADDRESS(122,A84+4)):INDIRECT(\"'Success Criteria'!\" & ADDRESS(176,A84+4)),\"PASS\"),COUNTIF(INDIRECT(\"'Success Criteria'!\" & ADDRESS(122,A84+4)):INDIRECT(\"'Success Criteria'!\" & ADDRESS(176,A84+4)),\"PASS with comments\"))","v":0},{"$f":"COUNTIF(INDIRECT(\"'Success Criteria'!\" & ADDRESS(122,A84+4)):INDIRECT(\"'Success Criteria'!\" & ADDRESS(176,A84+4)),\"NON conformant\")","v":0},{"$f":"COUNTIF(INDIRECT(\"'Success Criteria'!\" & ADDRESS(122,A84+4)):INDIRECT(\"'Success Criteria'!\" & ADDRESS(176,A84+4)),\"N/A\")","v":0},{"$f":"COUNTIF(INDIRECT(\"'Success Criteria'!\" & ADDRESS(122,A84+4)):INDIRECT(\"'Success Criteria'!\" & ADDRESS(176,A84+4)),\"not tested\")","v":28},2,0,0,28,null,0,"",2,"",28,1]
[71,"Page 71","URL 71","Please select",{"$f":"SUM(COUNTIF(INDIRECT(\"'Success Criteria'!\" & ADDRESS(8,A85+4)):INDIRECT(\"'Success Criteria'!\" & ADDRESS(70,A85+4)),\"PASS\"),COUNTIF(INDIRECT(\"'Success Criteria'!\" & ADDRESS(8,A85+4)):INDIRECT(\"'Success Criteria'!\" & ADDRESS(70,A85+4)),\"PASS with comments\"))","v":0},{"$f":"COUNTIF(INDIRECT(\"'Success Criteria'!\" & ADDRESS(8,A85+4)):INDIRECT(\"'Success Criteria'!\" & ADDRESS(70,A85+4)),\"NON conformant\")","v":0},{"$f":"COUNTIF(INDIRECT(\"'Success Criteria'!\" & ADDRESS(8,A85+4)):INDIRECT(\"'Success Criteria'!\" & ADDRESS(70,A85+4)),\"N/A\")","v":0},{"$f":"COUNTIF(INDIRECT(\"'Success Criteria'!\" & ADDRESS(8,A85+4)):INDIRECT(\"'Success Criteria'!\" & ADDRESS(70,A85+4)),\"not tested\")","v":0},{"$f":"SUM(COUNTIF(INDIRECT(\"'Success Criteria'!\" & ADDRESS(74,A85+4)):INDIRECT(\"'Success Criteria'!\" & ADDRESS(117,A85+4)),\"PASS\"),COUNTIF(INDIRECT(\"'Success Criteria'!\" & ADDRESS(74,A85+4)):INDIRECT(\"'Success Criteria'!\" & ADDRESS(117,A85+4)),\"PASS with comments\"))","v":2},{"$f":"COUNTIF(INDIRECT(\"'Success Criteria'!\" & ADDRESS(74,A85+4)):INDIRECT(\"'Success Criteria'!\" & ADDRESS(117,A85+4)),\"NON conformant\")","v":0},{"$f":"COUNTIF(INDIRECT(\"'Success Criteria'!\" & ADDRESS(74,A85+4)):INDIRECT(\"'Success Criteria'!\" & ADDRESS(117,A85+4)),\"N/A\")","v":0},{"$f":"COUNTIF(INDIRECT(\"'Success Criteria'!\" & ADDRESS(74,A85+4)):INDIRECT(\"'Success Criteria'!\" & ADDRESS(117,A85+4)),\"not tested\")","v":0},{"$f":"SUM(COUNTIF(INDIRECT(\"'Success Criteria'!\" & ADDRESS(122,A85+4)):INDIRECT(\"'Success Criteria'!\" & ADDRESS(176,A85+4)),\"PASS\"),COUNTIF(INDIRECT(\"'Success Criteria'!\" & ADDRESS(122,A85+4)):INDIRECT(\"'Success Criteria'!\" & ADDRESS(176,A85+4)),\"PASS with comments\"))","v":0},{"$f":"COUNTIF(INDIRECT(\"'Success Criteria'!\" & ADDRESS(122,A85+4)):INDIRECT(\"'Success Criteria'!\" & ADDRESS(176,A85+4)),\"NON conformant\")","v":0},{"$f":"COUNTIF(INDIRECT(\"'Success Criteria'!\" & ADDRESS(122,A85+4)):INDIRECT(\"'Success Criteria'!\" & ADDRESS(176,A85+4)),\"N/A\")","v":0},{"$f":"COUNTIF(INDIRECT(\"'Success Criteria'!\" & ADDRESS(122,A85+4)):INDIRECT(\"'Success Criteria'!\" & ADDRESS(176,A85+4)),\"not tested\")","v":28},2,0,0,28,null,0,"",2,"",28,1]
[72,"Page 72","URL 72","Please select",{"$f":"SUM(COUNTIF(INDIRECT(\"'Success Criteria'!\" & ADDRESS(8,A86+4)):INDIRECT(\"'Success Criteria'!\" & ADDRESS(70,A86+4)),\"PASS\"),COUNTIF(INDIRECT(\"'Success Criteria'!\" & ADDRESS(8,A86+4)):INDIRECT(\"'Success Criteria'!\" & ADDRESS(70,A86+4)),\"PASS with comments\"))","v":0},{"$f":"COUNTIF(INDIRECT(\"'Success Criteria'!\" & ADDRESS(8,A86+4)):INDIRECT(\"'Success Criteria'!\" & ADDRESS(70,A86+4)),\"NON conformant\")","v":0},{"$f":"COUNTIF(INDIRECT(\"'Success Criteria'!\" & ADDRESS(8,A86+4)):INDIRECT(\"'Success Criteria'!\" & ADDRESS(70,A86+4)),\"N/A\")","v":0},{"$f":"COUNTIF(INDIRECT(\"'Success Criteria'!\" & ADDRESS(8,A86+4)):INDIRECT(\"'Success Criteria'!\" & ADDRESS(70,A86+4)),\"not tested\")","v":0},{"$f":"SUM(COUNTIF(INDIRECT(\"'Success Criteria'!\" & ADDRESS(74,A86+4)):INDIRECT(\"'Success Criteria'!\" & ADDRESS(117,A86+4)),\"PASS\"),COUNTIF(INDIRECT(\"'Success Criteria'!\" & ADDRESS(74,A86+4)):INDIRECT(\"'Success Criteria'!\" & ADDRESS(117,A86+4)),\"PASS with comments\"))","v":2},{"$f":"COUNTIF(INDIRECT(\"'Success Criteria'!\" & ADDRESS(74,A86+4)):INDIRECT(\"'Success Criteria'!\" & ADDRESS(117,A86+4)),\"NON conformant\")","v":0},{"$f":"COUNTIF(INDIRECT(\"'Success Criteria'!\" & ADDRESS(74,A86+4)):INDIRECT(\"'Success Criteria'!\" & ADDRESS(117,A86+4)),\"N/A\")","v":0},{"$f":"COUNTIF(INDIRECT(\"'Success Criteria'!\" & ADDRESS(74,A86+4)):INDIRECT(\"'Success Criteria'!\" & ADDRESS(117,A86+4)),\"not tested\")","v":0},{"$f":"SUM(COUNTIF(INDIRECT(\"'Success Criteria'!\" & ADDRESS(122,A86+4)):INDIRECT(\"'Success Criteria'!\" & ADDRESS(176,A86+4)),\"PASS\"),COUNTIF(INDIRECT(\"'Success Criteria'!\" & ADDRESS(122,A86+4)):INDIRECT(\"'Success Criteria'!\" & ADDRESS(176,A86+4)),\"PASS with comments\"))","v":0},{"$f":"COUNTIF(INDIRECT(\"'Success Criteria'!\" & ADDRESS(122,A86+4)):INDIRECT(\"'Success Criteria'!\" & ADDRESS(176,A86+4)),\"NON conformant\")","v":0},{"$f":"COUNTIF(INDIRECT(\"'Success Criteria'!\" & ADDRESS(122,A86+4)):INDIRECT(\"'Success Criteria'!\" & ADDRESS(176,A86+4)),\"N/A\")","v":0},{"$f":"COUNTIF(INDIRECT(\"'Success Criteria'!\" & ADDRESS(122,A86+4)):INDIRECT(\"'Success Criteria'!\" & ADDRESS(176,A86+4)),\"not tested\")","v":28},2,0,0,28,null,0,"",2,"",28,1]
[73,"Page 73","URL 73","Please select",{"$f":"SUM(COUNTIF(INDIRECT(\"'Success Criteria'!\" & ADDRESS(8,A87+4)):INDIRECT(\"'Success Criteria'!\" & ADDRESS(70,A87+4)),\"PASS\"),COUNTIF(INDIRECT(\"'Success Criteria'!\" & ADDRESS(8,A87+4)):INDIRECT(\"'Success Criteria'!\" & ADDRESS(70,A87+4)),\"PASS with comments\"))","v":0},{"$f":"COUNTIF(INDIRECT(\"'Success Criteria'!\" & ADDRESS(8,A87+4)):INDIRECT(\"'Success Criteria'!\" & ADDRESS(70,A87+4)),\"NON conformant\")","v":0},{"$f":"COUNTIF(INDIRECT(\"'Success Criteria'!\" & ADDRESS(8,A87+4)):INDIRECT(\"'Success Criteria'!\" & ADDRESS(70,A87+4)),\"N/A\")","v":0},{"$f":"COUNTIF(INDIRECT(\"'Success Criteria'!\" & ADDRESS(8,A87+4)):INDIRECT(\"'Success Criteria'!\" & ADDRESS(70,A87+4)),\"not tested\")","v":0},{"$f":"SUM(COUNTIF(INDIRECT(\"'Success Criteria'!\" & ADDRESS(74,A87+4)):INDIRECT(\"'Success Criteria'!\" & ADDRESS(117,A87+4)),\"PASS\"),COUNTIF(INDIRECT(\"'Success Criteria'!\" & ADDRESS(74,A87+4)):INDIRECT(\"'Success Criteria'!\" & ADDRESS(117,A87+4)),\"PASS with comments\"))","v":2},{"$f":"COUNTIF(INDIRECT(\"'Success Criteria'!\" & ADDRESS(74,A87+4)):INDIRECT(\"'Success Criteria'!\" & ADDRESS(117,A87+4)),\"NON conformant\")","v":0},{"$f":"COUNTIF(INDIRECT(\"'Success Criteria'!\" & ADDRESS(74,A87+4)):INDIRECT(\"'Success Criteria'!\" & ADDRESS(117,A87+4)),\"N/A\")","v":0},{"$f":"COUNTIF(INDIRECT(\"'Success Criteria'!\" & ADDRESS(74,A87+4)):INDIRECT(\"'Success Criteria'!\" & ADDRESS(117,A87+4)),\"not tested\")","v":0},{"$f":"SUM(COUNTIF(INDIRECT(\"'Success Criteria'!\" & ADDRESS(122,A87+4)):INDIRECT(\"'Success Criteria'!\" & ADDRESS(176,A87+4)),\"PASS\"),COUNTIF(INDIRECT(\"'Success Criteria'!\" & ADDRESS(122,A87+4)):INDIRECT(\"'Success Criteria'!\" & ADDRESS(176,A87+4)),\"PASS with comments\"))","v":0},{"$f":"COUNTIF(INDIRECT(\"'Success Criteria'!\" & ADDRESS(122,A87+4)):INDIRECT(\"'Success Criteria'!\" & ADDRESS(176,A87+4)),\"NON conformant\")","v":0},{"$f":"COUNTIF(INDIRECT(\"'Success Criteria'!\" & ADDRESS(122,A87+4)):INDIRECT(\"'Success Criteria'!\" & ADDRESS(176,A87+4)),\"N/A\")","v":0},{"$f":"COUNTIF(INDIRECT(\"'Success Criteria'!\" & ADDRESS(122,A87+4)):INDIRECT(\"'Success Criteria'!\" & ADDRESS(176,A87+4)),\"not tested\")","v":28},2,0,0,28,null,0,"",2,"",28,1]
[74,"Page 74","URL 74","Please select",{"$f":"SUM(COUNTIF(INDIRECT(\"'Success Criteria'!\" & ADDRESS(8,A88+4)):INDIRECT(\"'Success Criteria'!\" & ADDRESS(70,A88+4)),\"PASS\"),COUNTIF(INDIRECT(\"'Success Criteria'!\" & ADDRESS(8,A88+4)):INDIRECT(\"'Success Criteria'!\" & ADDRESS(70,A88+4)),\"PASS with comments\"))","v":0},{"$f":"COUNTIF(INDIRECT(\"'Success Criteria'!\" & ADDRESS(8,A88+4)):INDIRECT(\"'Success Criteria'!\" & ADDRESS(70,A88+4)),\"NON conformant\")","v":0},{"$f":"COUNTIF(INDIRECT(\"'Success Criteria'!\" & ADDRESS(8,A88+4)):INDIRECT(\"'Success Criteria'!\" & ADDRESS(70,A88+4)),\"N/A\")","v":0},{"$f":"COUNTIF(INDIRECT(\"'Success Criteria'!\" & ADDRESS(8,A88+4)):INDIRECT(\"'Success Criteria'!\" & ADDRESS(70,A88+4)),\"not tested\")","v":0},{"$f":"SUM(COUNTIF(INDIRECT(\"'Success Criteria'!\" & ADDRESS(74,A88+4)):INDIRECT(\"'Success Criteria'!\" & ADDRESS(117,A88+4)),\"PASS\"),COUNTIF(INDIRECT(\"'Success Criteria'!\" & ADDRESS(74,A88+4)):INDIRECT(\"'Success Criteria'!\" & ADDRESS(117,A88+4)),\"PASS with comments\"))","v":2},{"$f":"COUNTIF(INDIRECT(\"'Success Criteria'!\" & ADDRESS(74,A88+4)):INDIRECT(\"'Success Criteria'!\" & ADDRESS(117,A88+4)),\"NON conformant\")","v":0},{"$f":"COUNTIF(INDIRECT(\"'Success Criteria'!\" & ADDRESS(74,A88+4)):INDIRECT(\"'Success Criteria'!\" & ADDRESS(117,A88+4)),\"N/A\")","v":0},{"$f":"COUNTIF(INDIRECT(\"'Success Criteria'!\" & ADDRESS(74,A88+4)):INDIRECT(\"'Success Criteria'!\" & ADDRESS(117,A88+4)),\"not tested\")","v":0},{"$f":"SUM(COUNTIF(INDIRECT(\"'Success Criteria'!\" & ADDRESS(122,A88+4)):INDIRECT(\"'Success Criteria'!\" & ADDRESS(176,A88+4)),\"PASS\"),COUNTIF(INDIRECT(\"'Success Criteria'!\" & ADDRESS(122,A88+4)):INDIRECT(\"'Success Criteria'!\" & ADDRESS(176,A88+4)),\"PASS with comments\"))","v":0},{"$f":"COUNTIF(INDIRECT(\"'Success Criteria'!\" & ADDRESS(122,A88+4)):INDIRECT(\"'Success Criteria'!\" & ADDRESS(176,A88+4)),\"NON conformant\")","v":0},{"$f":"COUNTIF(INDIRECT(\"'Success Criteria'!\" & ADDRESS(122,A88+4)):INDIRECT(\"'Success Criteria'!\" & ADDRESS(176,A88+4)),\"N/A\")","v":0},{"$f":"COUNTIF(INDIRECT(\"'Success Criteria'!\" & ADDRESS(122,A88+4)):INDIRECT(\"'Success Criteria'!\" & ADDRESS(176,A88+4)),\"not tested\")","v":28},2,0,0,28,null,0,"",2,"",28,1]
[75,"Page 75","URL 75","Please select",{"$f":"SUM(COUNTIF(INDIRECT(\"'Success Criteria'!\" & ADDRESS(8,A89+4)):INDIRECT(\"'Success Criteria'!\" & ADDRESS(70,A89+4)),\"PASS\"),COUNTIF(INDIRECT(\"'Success Criteria'!\" & ADDRESS(8,A89+4)):INDIRECT(\"'Success Criteria'!\" & ADDRESS(70,A89+4)),\"PASS with comments\"))","v":0},{"$f":"COUNTIF(INDIRECT(\"'Success Criteria'!\" & ADDRESS(8,A89+4)):INDIRECT(\"'Success Criteria'!\" & ADDRESS(70,A89+4)),\"NON conformant\")","v":0},{"$f":"COUNTIF(INDIRECT(\"'Success Criteria'!\" & ADDRESS(8,A89+4)):INDIRECT(\"'Success Criteria'!\" & ADDRESS(70,A89+4)),\"N/A\")","v":0},{"$f":"COUNTIF(INDIRECT(\"'Success Criteria'!\" & ADDRESS(8,A89+4)):INDIRECT(\"'Success Criteria'!\" & ADDRESS(70,A89+4)),\"not tested\")","v":0},{"$f":"SUM(COUNTIF(INDIRECT(\"'Success Criteria'!\" & ADDRESS(74,A89+4)):INDIRECT(\"'Success Criteria'!\" & ADDRESS(117,A89+4)),\"PASS\"),COUNTIF(INDIRECT(\"'Success Criteria'!\" & ADDRESS(74,A89+4)):INDIRECT(\"'Success Criteria'!\" & ADDRESS(117,A89+4)),\"PASS with comments\"))","v":2},{"$f":"COUNTIF(INDIRECT(\"'Success Criteria'!\" & ADDRESS(74,A89+4)):INDIRECT(\"'Success Criteria'!\" & ADDRESS(117,A89+4)),\"NON conformant\")","v":0},{"$f":"COUNTIF(INDIRECT(\"'Success Criteria'!\" & ADDRESS(74,A89+4)):INDIRECT(\"'Success Criteria'!\" & ADDRESS(117,A89+4)),\"N/A\")","v":0},{"$f":"COUNTIF(INDIRECT(\"'Success Criteria'!\" & ADDRESS(74,A89+4)):INDIRECT(\"'Success Criteria'!\" & ADDRESS(117,A89+4)),\"not tested\")","v":0},{"$f":"SUM(COUNTIF(INDIRECT(\"'Success Criteria'!\" & ADDRESS(122,A89+4)):INDIRECT(\"'Success Criteria'!\" & ADDRESS(176,A89+4)),\"PASS\"),COUNTIF(INDIRECT(\"'Success Criteria'!\" & ADDRESS(122,A89+4)):INDIRECT(\"'Success Criteria'!\" & ADDRESS(176,A89+4)),\"PASS with comments\"))","v":0},{"$f":"COUNTIF(INDIRECT(\"'Success Criteria'!\" & ADDRESS(122,A89+4)):INDIRECT(\"'Success Criteria'!\" & ADDRESS(176,A89+4)),\"NON conformant\")","v":0},{"$f":"COUNTIF(INDIRECT(\"'Success Criteria'!\" & ADDRESS(122,A89+4)):INDIRECT(\"'Success Criteria'!\" & ADDRESS(176,A89+4)),\"N/A\")","v":0},{"$f":"COUNTIF(INDIRECT(\"'Success Criteria'!\" & ADDRESS(122,A89+4)):INDIRECT(\"'Success Criteria'!\" & ADDRESS(176,A89+4)),\"not tested\")","v":28},2,0,0,28,null,0,"",2,"",28,1]
[76,"Page 76","URL 76","Please select",{"$f":"SUM(COUNTIF(INDIRECT(\"'Success Criteria'!\" & ADDRESS(8,A90+4)):INDIRECT(\"'Success Criteria'!\" & ADDRESS(70,A90+4)),\"PASS\"),COUNTIF(INDIRECT(\"'Success Criteria'!\" & ADDRESS(8,A90+4)):INDIRECT(\"'Success Criteria'!\" & ADDRESS(70,A90+4)),\"PASS with comments\"))","v":0},{"$f":"COUNTIF(INDIRECT(\"'Success Criteria'!\" & ADDRESS(8,A90+4)):INDIRECT(\"'Success Criteria'!\" & ADDRESS(70,A90+4)),\"NON conformant\")","v":0},{"$f":"COUNTIF(INDIRECT(\"'Success Criteria'!\" & ADDRESS(8,A90+4)):INDIRECT(\"'Success Criteria'!\" & ADDRESS(70,A90+4)),\"N/A\")","v":0},{"$f":"COUNTIF(INDIRECT(\"'Success Criteria'!\" & ADDRESS(8,A90+4)):INDIRECT(\"'Success Criteria'!\" & ADDRESS(70,A90+4)),\"not tested\")","v":0},{"$f":"SUM(COUNTIF(INDIRECT(\"'Success Criteria'!\" & ADDRESS(74,A90+4)):INDIRECT(\"'Success Criteria'!\" & ADDRESS(117,A90+4)),\"PASS\"),COUNTIF(INDIRECT(\"'Success Criteria'!\" & ADDRESS(74,A90+4)):INDIRECT(\"'Success Criteria'!\" & ADDRESS(117,A90+4)),\"PASS with comments\"))","v":2},{"$f":"COUNTIF(INDIRECT(\"'Success Criteria'!\" & ADDRESS(74,A90+4)):INDIRECT(\"'Success Criteria'!\" & ADDRESS(117,A90+4)),\"NON conformant\")","v":0},{"$f":"COUNTIF(INDIRECT(\"'Success Criteria'!\" & ADDRESS(74,A90+4)):INDIRECT(\"'Success Criteria'!\" & ADDRESS(117,A90+4)),\"N/A\")","v":0},{"$f":"COUNTIF(INDIRECT(\"'Success Criteria'!\" & ADDRESS(74,A90+4)):INDIRECT(\"'Success Criteria'!\" & ADDRESS(117,A90+4)),\"not tested\")","v":0},{"$f":"SUM(COUNTIF(INDIRECT(\"'Success Criteria'!\" & ADDRESS(122,A90+4)):INDIRECT(\"'Success Criteria'!\" & ADDRESS(176,A90+4)),\"PASS\"),COUNTIF(INDIRECT(\"'Success Criteria'!\" & ADDRESS(122,A90+4)):INDIRECT(\"'Success Criteria'!\" & ADDRESS(176,A90+4)),\"PASS with comments\"))","v":0},{"$f":"COUNTIF(INDIRECT(\"'Success Criteria'!\" & ADDRESS(122,A90+4)):INDIRECT(\"'Success Criteria'!\" & ADDRESS(176,A90+4)),\"NON conformant\")","v":0},{"$f":"COUNTIF(INDIRECT(\"'Success Criteria'!\" & ADDRESS(122,A90+4)):INDIRECT(\"'Success Criteria'!\" & ADDRESS(176,A90+4)),\"N/A\")","v":0},{"$f":"COUNTIF(INDIRECT(\"'Success Criteria'!\" & ADDRESS(122,A90+4)):INDIRECT(\"'Success Criteria'!\" & ADDRESS(176,A90+4)),\"not tested\")","v":28},2,0,0,28,null,0,"",2,"",28,1]
[77,"Page 77","URL 77","Please select",{"$f":"SUM(COUNTIF(INDIRECT(\"'Success Criteria'!\" & ADDRESS(8,A91+4)):INDIRECT(\"'Success Criteria'!\" & ADDRESS(70,A91+4)),\"PASS\"),COUNTIF(INDIRECT(\"'Success Criteria'!\" & ADDRESS(8,A91+4)):INDIRECT(\"'Success Criteria'!\" & ADDRESS(70,A91+4)),\"PASS with comments\"))","v":0},{"$f":"COUNTIF(INDIRECT(\"'Success Criteria'!\" & ADDRESS(8,A91+4)):INDIRECT(\"'Success Criteria'!\" & ADDRESS(70,A91+4)),\"NON conformant\")","v":0},{"$f":"COUNTIF(INDIRECT(\"'Success Criteria'!\" & ADDRESS(8,A91+4)):INDIRECT(\"'Success Criteria'!\" & ADDRESS(70,A91+4)),\"N/A\")","v":0},{"$f":"COUNTIF(INDIRECT(\"'Success Criteria'!\" & ADDRESS(8,A91+4)):INDIRECT(\"'Success Criteria'!\" & ADDRESS(70,A91+4)),\"not tested\")","v":0},{"$f":"SUM(COUNTIF(INDIRECT(\"'Success Criteria'!\" & ADDRESS(74,A91+4)):INDIRECT(\"'Success Criteria'!\" & ADDRESS(117,A91+4)),\"PASS\"),COUNTIF(INDIRECT(\"'Success Criteria'!\" & ADDRESS(74,A91+4)):INDIRECT(\"'Success Criteria'!\" & ADDRESS(117,A91+4)),\"PASS with comments\"))","v":2},{"$f":"COUNTIF(INDIRECT(\"'Success Criteria'!\" & ADDRESS(74,A91+4)):INDIRECT(\"'Success Criteria'!\" & ADDRESS(117,A91+4)),\"NON conformant\")","v":0},{"$f":"COUNTIF(INDIRECT(\"'Success Criteria'!\" & ADDRESS(74,A91+4)):INDIRECT(\"'Success Criteria'!\" & ADDRESS(117,A91+4)),\"N/A\")","v":0},{"$f":"COUNTIF(INDIRECT(\"'Success Criteria'!\" & ADDRESS(74,A91+4)):INDIRECT(\"'Success Criteria'!\" & ADDRESS(117,A91+4)),\"not tested\")","v":0},{"$f":"SUM(COUNTIF(INDIRECT(\"'Success Criteria'!\" & ADDRESS(122,A91+4)):INDIRECT(\"'Success Criteria'!\" & ADDRESS(176,A91+4)),\"PASS\"),COUNTIF(INDIRECT(\"'Success Criteria'!\" & ADDRESS(122,A91+4)):INDIRECT(\"'Success Criteria'!\" & ADDRESS(176,A91+4)),\"PASS with comments\"))","v":0},{"$f":"COUNTIF(INDIRECT(\"'Success Criteria'!\" & ADDRESS(122,A91+4)):INDIRECT(\"'Success Criteria'!\" & ADDRESS(176,A91+4)),\"NON conformant\")","v":0},{"$f":"COUNTIF(INDIRECT(\"'Success Criteria'!\" & ADDRESS(122,A91+4)):INDIRECT(\"'Success Criteria'!\" & ADDRESS(176,A91+4)),\"N/A\")","v":0},{"$f":"COUNTIF(INDIRECT(\"'Success Criteria'!\" & ADDRESS(122,A91+4)):INDIRECT(\"'Success Criteria'!\" & ADDRESS(176,A91+4)),\"not tested\")","v":28},2,0,0,28,null,0,"",2,"",28,1]
[78,"Page 78","URL 78","Please select",{"$f":"SUM(COUNTIF(INDIRECT(\"'Success Criteria'!\" & ADDRESS(8,A92+4)):INDIRECT(\"'Success Criteria'!\" & ADDRESS(70,A92+4)),\"PASS\"),COUNTIF(INDIRECT(\"'Success Criteria'!\" & ADDRESS(8,A92+4)):INDIRECT(\"'Success Criteria'!\" & ADDRESS(70,A92+4)),\"PASS with comments\"))","v":0},{"$f":"COUNTIF(INDIRECT(\"'Success Criteria'!\" & ADDRESS(8,A92+4)):INDIRECT(\"'Success Criteria'!\" & ADDRESS(70,A92+4)),\"NON conformant\")","v":0},{"$f":"COUNTIF(INDIRECT(\"'Success Criteria'!\" & ADDRESS(8,A92+4)):INDIRECT(\"'Success Criteria'!\" & ADDRESS(70,A92+4)),\"N/A\")","v":0},{"$f":"COUNTIF(INDIRECT(\"'Success Criteria'!\" & ADDRESS(8,A92+4)):INDIRECT(\"'Success Criteria'!\" & ADDRESS(70,A92+4)),\"not tested\")","v":0},{"$f":"SUM(COUNTIF(INDIRECT(\"'Success Criteria'!\" & ADDRESS(74,A92+4)):INDIRECT(\"'Success Criteria'!\" & ADDRESS(117,A92+4)),\"PASS\"),COUNTIF(INDIRECT(\"'Success Criteria'!\" & ADDRESS(74,A92+4)):INDIRECT(\"'Success Criteria'!\" & ADDRESS(117,A92+4)),\"PASS with comments\"))","v":2},{"$f":"COUNTIF(INDIRECT(\"'Success Criteria'!\" & ADDRESS(74,A92+4)):INDIRECT(\"'Success Criteria'!\" & ADDRESS(117,A92+4)),\"NON conformant\")","v":0},{"$f":"COUNTIF(INDIRECT(\"'Success Criteria'!\" & ADDRESS(74,A92+4)):INDIRECT(\"'Success Criteria'!\" & ADDRESS(117,A92+4)),\"N/A\")","v":0},{"$f":"COUNTIF(INDIRECT(\"'Success Criteria'!\" & ADDRESS(74,A92+4)):INDIRECT(\"'Success Criteria'!\" & ADDRESS(117,A92+4)),\"not tested\")","v":0},{"$f":"SUM(COUNTIF(INDIRECT(\"'Success Criteria'!\" & ADDRESS(122,A92+4)):INDIRECT(\"'Success Criteria'!\" & ADDRESS(176,A92+4)),\"PASS\"),COUNTIF(INDIRECT(\"'Success Criteria'!\" & ADDRESS(122,A92+4)):INDIRECT(\"'Success Criteria'!\" & ADDRESS(176,A92+4)),\"PASS with comments\"))","v":0},{"$f":"COUNTIF(INDIRECT(\"'Success Criteria'!\" & ADDRESS(122,A92+4)):INDIRECT(\"'Success Criteria'!\" & ADDRESS(176,A92+4)),\"NON conformant\")","v":0},{"$f":"COUNTIF(INDIRECT(\"'Success Criteria'!\" & ADDRESS(122,A92+4)):INDIRECT(\"'Success Criteria'!\" & ADDRESS(176,A92+4)),\"N/A\")","v":0},{"$f":"COUNTIF(INDIRECT(\"'Success Criteria'!\" & ADDRESS(122,A92+4)):INDIRECT(\"'Success Criteria'!\" & ADDRESS(176,A92+4)),\"not tested\")","v":28},2,0,0,28,null,0,"",2,"",28,1]
[79,"Page 79","URL 79","Please select",{"$f":"SUM(COUNTIF(INDIRECT(\"'Success Criteria'!\" & ADDRESS(8,A93+4)):INDIRECT(\"'Success Criteria'!\" & ADDRESS(70,A93+4)),\"PASS\"),COUNTIF(INDIRECT(\"'Success Criteria'!\" & ADDRESS(8,A93+4)):INDIRECT(\"'Success Criteria'!\" & ADDRESS(70,A93+4)),\"PASS with comments\"))","v":0},{"$f":"COUNTIF(INDIRECT(\"'Success Criteria'!\" & ADDRESS(8,A93+4)):INDIRECT(\"'Success Criteria'!\" & ADDRESS(70,A93+4)),\"NON conformant\")","v":0},{"$f":"COUNTIF(INDIRECT(\"'Success Criteria'!\" & ADDRESS(8,A93+4)):INDIRECT(\"'Success Criteria'!\" & ADDRESS(70,A93+4)),\"N/A\")","v":0},{"$f":"COUNTIF(INDIRECT(\"'Success Criteria'!\" & ADDRESS(8,A93+4)):INDIRECT(\"'Success Criteria'!\" & ADDRESS(70,A93+4)),\"not tested\")","v":0},{"$f":"SUM(COUNTIF(INDIRECT(\"'Success Criteria'!\" & ADDRESS(74,A93+4)):INDIRECT(\"'Success Criteria'!\" & ADDRESS(117,A93+4)),\"PASS\"),COUNTIF(INDIRECT(\"'Success Criteria'!\" & ADDRESS(74,A93+4)):INDIRECT(\"'Success Criteria'!\" & ADDRESS(117,A93+4)),\"PASS with comments\"))","v":2},{"$f":"COUNTIF(INDIRECT(\"'Success Criteria'!\" & ADDRESS(74,A93+4)):INDIRECT(\"'Success Criteria'!\" & ADDRESS(117,A93+4)),\"NON conformant\")","v":0},{"$f":"COUNTIF(INDIRECT(\"'Success Criteria'!\" & ADDRESS(74,A93+4)):INDIRECT(\"'Success Criteria'!\" & ADDRESS(117,A93+4)),\"N/A\")","v":0},{"$f":"COUNTIF(INDIRECT(\"'Success Criteria'!\" & ADDRESS(74,A93+4)):INDIRECT(\"'Success Criteria'!\" & ADDRESS(117,A93+4)),\"not tested\")","v":0},{"$f":"SUM(COUNTIF(INDIRECT(\"'Success Criteria'!\" & ADDRESS(122,A93+4)):INDIRECT(\"'Success Criteria'!\" & ADDRESS(176,A93+4)),\"PASS\"),COUNTIF(INDIRECT(\"'Success Criteria'!\" & ADDRESS(122,A93+4)):INDIRECT(\"'Success Criteria'!\" & ADDRESS(176,A93+4)),\"PASS with comments\"))","v":0},{"$f":"COUNTIF(INDIRECT(\"'Success Criteria'!\" & ADDRESS(122,A93+4)):INDIRECT(\"'Success Criteria'!\" & ADDRESS(176,A93+4)),\"NON conformant\")","v":0},{"$f":"COUNTIF(INDIRECT(\"'Success Criteria'!\" & ADDRESS(122,A93+4)):INDIRECT(\"'Success Criteria'!\" & ADDRESS(176,A93+4)),\"N/A\")","v":0},{"$f":"COUNTIF(INDIRECT(\"'Success Criteria'!\" & ADDRESS(122,A93+4)):INDIRECT(\"'Success Criteria'!\" & ADDRESS(176,A93+4)),\"not tested\")","v":28},2,0,0,28,null,0,"",2,"",28,1]
[80,"Page 80","URL 80","Please select",{"$f":"SUM(COUNTIF(INDIRECT(\"'Success Criteria'!\" & ADDRESS(8,A94+4)):INDIRECT(\"'Success Criteria'!\" & ADDRESS(70,A94+4)),\"PASS\"),COUNTIF(INDIRECT(\"'Success Criteria'!\" & ADDRESS(8,A94+4)):INDIRECT(\"'Success Criteria'!\" & ADDRESS(70,A94+4)),\"PASS with comments\"))","v":0},{"$f":"COUNTIF(INDIRECT(\"'Success Criteria'!\" & ADDRESS(8,A94+4)):INDIRECT(\"'Success Criteria'!\" & ADDRESS(70,A94+4)),\"NON conformant\")","v":0},{"$f":"COUNTIF(INDIRECT(\"'Success Criteria'!\" & ADDRESS(8,A94+4)):INDIRECT(\"'Success Criteria'!\" & ADDRESS(70,A94+4)),\"N/A\")","v":0},{"$f":"COUNTIF(INDIRECT(\"'Success Criteria'!\" & ADDRESS(8,A94+4)):INDIRECT(\"'Success Criteria'!\" & ADDRESS(70,A94+4)),\"not tested\")","v":0},{"$f":"SUM(COUNTIF(INDIRECT(\"'Success Criteria'!\" & ADDRESS(74,A94+4)):INDIRECT(\"'Success Criteria'!\" & ADDRESS(117,A94+4)),\"PASS\"),COUNTIF(INDIRECT(\"'Success Criteria'!\" & ADDRESS(74,A94+4)):INDIRECT(\"'Success Criteria'!\" & ADDRESS(117,A94+4)),\"PASS with comments\"))","v":2},{"$f":"COUNTIF(INDIRECT(\"'Success Criteria'!\" & ADDRESS(74,A94+4)):INDIRECT(\"'Success Criteria'!\" & ADDRESS(117,A94+4)),\"NON conformant\")","v":0},{"$f":"COUNTIF(INDIRECT(\"'Success Criteria'!\" & ADDRESS(74,A94+4)):INDIRECT(\"'Success Criteria'!\" & ADDRESS(117,A94+4)),\"N/A\")","v":0},{"$f":"COUNTIF(INDIRECT(\"'Success Criteria'!\" & ADDRESS(74,A94+4)):INDIRECT(\"'Success Criteria'!\" & ADDRESS(117,A94+4)),\"not tested\")","v":0},{"$f":"SUM(COUNTIF(INDIRECT(\"'Success Criteria'!\" & ADDRESS(122,A94+4)):INDIRECT(\"'Success Criteria'!\" & ADDRESS(176,A94+4)),\"PASS\"),COUNTIF(INDIRECT(\"'Success Criteria'!\" & ADDRESS(122,A94+4)):INDIRECT(\"'Success Criteria'!\" & ADDRESS(176,A94+4)),\"PASS with comments\"))","v":0},{"$f":"COUNTIF(INDIRECT(\"'Success Criteria'!\" & ADDRESS(122,A94+4)):INDIRECT(\"'Success Criteria'!\" & ADDRESS(176,A94+4)),\"NON conformant\")","v":0},{"$f":"COUNTIF(INDIRECT(\"'Success Criteria'!\" & ADDRESS(122,A94+4)):INDIRECT(\"'Success Criteria'!\" & ADDRESS(176,A94+4)),\"N/A\")","v":0},{"$f":"COUNTIF(INDIRECT(\"'Success Criteria'!\" & ADDRESS(122,A94+4)):INDIRECT(\"'Success Criteria'!\" & ADDRESS(176,A94+4)),\"not tested\")","v":28},2,0,0,28,null,0,"",2,"",28,1]
[81,"Page 81","URL 81","Please select",{"$f":"SUM(COUNTIF(INDIRECT(\"'Success Criteria'!\" & ADDRESS(8,A95+4)):INDIRECT(\"'Success Criteria'!\" & ADDRESS(70,A95+4)),\"PASS\"),COUNTIF(INDIRECT(\"'Success Criteria'!\" & ADDRESS(8,A95+4)):INDIRECT(\"'Success Criteria'!\" & ADDRESS(70,A95+4)),\"PASS with comments\"))","v":0},{"$f":"COUNTIF(INDIRECT(\"'Success Criteria'!\" & ADDRESS(8,A95+4)):INDIRECT(\"'Success Criteria'!\" & ADDRESS(70,A95+4)),\"NON conformant\")","v":0},{"$f":"COUNTIF(INDIRECT(\"'Success Criteria'!\" & ADDRESS(8,A95+4)):INDIRECT(\"'Success Criteria'!\" & ADDRESS(70,A95+4)),\"N/A\")","v":0},{"$f":"COUNTIF(INDIRECT(\"'Success Criteria'!\" & ADDRESS(8,A95+4)):INDIRECT(\"'Success Criteria'!\" & ADDRESS(70,A95+4)),\"not tested\")","v":0},{"$f":"SUM(COUNTIF(INDIRECT(\"'Success Criteria'!\" & ADDRESS(74,A95+4)):INDIRECT(\"'Success Criteria'!\" & ADDRESS(117,A95+4)),\"PASS\"),COUNTIF(INDIRECT(\"'Success Criteria'!\" & ADDRESS(74,A95+4)):INDIRECT(\"'Success Criteria'!\" & ADDRESS(117,A95+4)),\"PASS with comments\"))","v":2},{"$f":"COUNTIF(INDIRECT(\"'Success Criteria'!\" & ADDRESS(74,A95+4)):INDIRECT(\"'Success Criteria'!\" & ADDRESS(117,A95+4)),\"NON conformant\")","v":0},{"$f":"COUNTIF(INDIRECT(\"'Success Criteria'!\" & ADDRESS(74,A95+4)):INDIRECT(\"'Success Criteria'!\" & ADDRESS(117,A95+4)),\"N/A\")","v":0},{"$f":"COUNTIF(INDIRECT(\"'Success Criteria'!\" & ADDRESS(74,A95+4)):INDIRECT(\"'Success Criteria'!\" & ADDRESS(117,A95+4)),\"not tested\")","v":0},{"$f":"SUM(COUNTIF(INDIRECT(\"'Success Criteria'!\" & ADDRESS(122,A95+4)):INDIRECT(\"'Success Criteria'!\" & ADDRESS(176,A95+4)),\"PASS\"),COUNTIF(INDIRECT(\"'Success Criteria'!\" & ADDRESS(122,A95+4)):INDIRECT(\"'Success Criteria'!\" & ADDRESS(176,A95+4)),\"PASS with comments\"))","v":0},{"$f":"COUNTIF(INDIRECT(\"'Success Criteria'!\" & ADDRESS(122,A95+4)):INDIRECT(\"'Success Criteria'!\" & ADDRESS(176,A95+4)),\"NON conformant\")","v":0},{"$f":"COUNTIF(INDIRECT(\"'Success Criteria'!\" & ADDRESS(122,A95+4)):INDIRECT(\"'Success Criteria'!\" & ADDRESS(176,A95+4)),\"N/A\")","v":0},{"$f":"COUNTIF(INDIRECT(\"'Success Criteria'!\" & ADDRESS(122,A95+4)):INDIRECT(\"'Success Criteria'!\" & ADDRESS(176,A95+4)),\"not tested\")","v":28},2,0,0,28,null,0,"",2,"",28,1]
[82,"Page 82","URL 82","Please select",{"$f":"SUM(COUNTIF(INDIRECT(\"'Success Criteria'!\" & ADDRESS(8,A96+4)):INDIRECT(\"'Success Criteria'!\" & ADDRESS(70,A96+4)),\"PASS\"),COUNTIF(INDIRECT(\"'Success Criteria'!\" & ADDRESS(8,A96+4)):INDIRECT(\"'Success Criteria'!\" & ADDRESS(70,A96+4)),\"PASS with comments\"))","v":0},{"$f":"COUNTIF(INDIRECT(\"'Success Criteria'!\" & ADDRESS(8,A96+4)):INDIRECT(\"'Success Criteria'!\" & ADDRESS(70,A96+4)),\"NON conformant\")","v":0},{"$f":"COUNTIF(INDIRECT(\"'Success Criteria'!\" & ADDRESS(8,A96+4)):INDIRECT(\"'Success Criteria'!\" & ADDRESS(70,A96+4)),\"N/A\")","v":0},{"$f":"COUNTIF(INDIRECT(\"'Success Criteria'!\" & ADDRESS(8,A96+4)):INDIRECT(\"'Success Criteria'!\" & ADDRESS(70,A96+4)),\"not tested\")","v":0},{"$f":"SUM(COUNTIF(INDIRECT(\"'Success Criteria'!\" & ADDRESS(74,A96+4)):INDIRECT(\"'Success Criteria'!\" & ADDRESS(117,A96+4)),\"PASS\"),COUNTIF(INDIRECT(\"'Success Criteria'!\" & ADDRESS(74,A96+4)):INDIRECT(\"'Success Criteria'!\" & ADDRESS(117,A96+4)),\"PASS with comments\"))","v":2},{"$f":"COUNTIF(INDIRECT(\"'Success Criteria'!\" & ADDRESS(74,A96+4)):INDIRECT(\"'Success Criteria'!\" & ADDRESS(117,A96+4)),\"NON conformant\")","v":0},{"$f":"COUNTIF(INDIRECT(\"'Success Criteria'!\" & ADDRESS(74,A96+4)):INDIRECT(\"'Success Criteria'!\" & ADDRESS(117,A96+4)),\"N/A\")","v":0},{"$f":"COUNTIF(INDIRECT(\"'Success Criteria'!\" & ADDRESS(74,A96+4)):INDIRECT(\"'Success Criteria'!\" & ADDRESS(117,A96+4)),\"not tested\")","v":0},{"$f":"SUM(COUNTIF(INDIRECT(\"'Success Criteria'!\" & ADDRESS(122,A96+4)):INDIRECT(\"'Success Criteria'!\" & ADDRESS(176,A96+4)),\"PASS\"),COUNTIF(INDIRECT(\"'Success Criteria'!\" & ADDRESS(122,A96+4)):INDIRECT(\"'Success Criteria'!\" & ADDRESS(176,A96+4)),\"PASS with comments\"))","v":0},{"$f":"COUNTIF(INDIRECT(\"'Success Criteria'!\" & ADDRESS(122,A96+4)):INDIRECT(\"'Success Criteria'!\" & ADDRESS(176,A96+4)),\"NON conformant\")","v":0},{"$f":"COUNTIF(INDIRECT(\"'Success Criteria'!\" & ADDRESS(122,A96+4)):INDIRECT(\"'Success Criteria'!\" & ADDRESS(176,A96+4)),\"N/A\")","v":0},{"$f":"COUNTIF(INDIRECT(\"'Success Criteria'!\" & ADDRESS(122,A96+4)):INDIRECT(\"'Success Criteria'!\" & ADDRESS(176,A96+4)),\"not tested\")","v":28},2,0,0,28,null,0,"",2,"",28,1]
[83,"Page 83","URL 83","Please select",{"$f":"SUM(COUNTIF(INDIRECT(\"'Success Criteria'!\" & ADDRESS(8,A97+4)):INDIRECT(\"'Success Criteria'!\" & ADDRESS(70,A97+4)),\"PASS\"),COUNTIF(INDIRECT(\"'Success Criteria'!\" & ADDRESS(8,A97+4)):INDIRECT(\"'Success Criteria'!\" & ADDRESS(70,A97+4)),\"PASS with comments\"))","v":0},{"$f":"COUNTIF(INDIRECT(\"'Success Criteria'!\" & ADDRESS(8,A97+4)):INDIRECT(\"'Success Criteria'!\" & ADDRESS(70,A97+4)),\"NON conformant\")","v":0},{"$f":"COUNTIF(INDIRECT(\"'Success Criteria'!\" & ADDRESS(8,A97+4)):INDIRECT(\"'Success Criteria'!\" & ADDRESS(70,A97+4)),\"N/A\")","v":0},{"$f":"COUNTIF(INDIRECT(\"'Success Criteria'!\" & ADDRESS(8,A97+4)):INDIRECT(\"'Success Criteria'!\" & ADDRESS(70,A97+4)),\"not tested\")","v":0},{"$f":"SUM(COUNTIF(INDIRECT(\"'Success Criteria'!\" & ADDRESS(74,A97+4)):INDIRECT(\"'Success Criteria'!\" & ADDRESS(117,A97+4)),\"PASS\"),COUNTIF(INDIRECT(\"'Success Criteria'!\" & ADDRESS(74,A97+4)):INDIRECT(\"'Success Criteria'!\" & ADDRESS(117,A97+4)),\"PASS with comments\"))","v":2},{"$f":"COUNTIF(INDIRECT(\"'Success Criteria'!\" & ADDRESS(74,A97+4)):INDIRECT(\"'Success Criteria'!\" & ADDRESS(117,A97+4)),\"NON conformant\")","v":0},{"$f":"COUNTIF(INDIRECT(\"'Success Criteria'!\" & ADDRESS(74,A97+4)):INDIRECT(\"'Success Criteria'!\" & ADDRESS(117,A97+4)),\"N/A\")","v":0},{"$f":"COUNTIF(INDIRECT(\"'Success Criteria'!\" & ADDRESS(74,A97+4)):INDIRECT(\"'Success Criteria'!\" & ADDRESS(117,A97+4)),\"not tested\")","v":0},{"$f":"SUM(COUNTIF(INDIRECT(\"'Success Criteria'!\" & ADDRESS(122,A97+4)):INDIRECT(\"'Success Criteria'!\" & ADDRESS(176,A97+4)),\"PASS\"),COUNTIF(INDIRECT(\"'Success Criteria'!\" & ADDRESS(122,A97+4)):INDIRECT(\"'Success Criteria'!\" & ADDRESS(176,A97+4)),\"PASS with comments\"))","v":0},{"$f":"COUNTIF(INDIRECT(\"'Success Criteria'!\" & ADDRESS(122,A97+4)):INDIRECT(\"'Success Criteria'!\" & ADDRESS(176,A97+4)),\"NON conformant\")","v":0},{"$f":"COUNTIF(INDIRECT(\"'Success Criteria'!\" & ADDRESS(122,A97+4)):INDIRECT(\"'Success Criteria'!\" & ADDRESS(176,A97+4)),\"N/A\")","v":0},{"$f":"COUNTIF(INDIRECT(\"'Success Criteria'!\" & ADDRESS(122,A97+4)):INDIRECT(\"'Success Criteria'!\" & ADDRESS(176,A97+4)),\"not tested\")","v":28},2,0,0,28,null,0,"",2,"",28,1]
[84,"Page 84","URL 84","Please select",{"$f":"SUM(COUNTIF(INDIRECT(\"'Success Criteria'!\" & ADDRESS(8,A98+4)):INDIRECT(\"'Success Criteria'!\" & ADDRESS(70,A98+4)),\"PASS\"),COUNTIF(INDIRECT(\"'Success Criteria'!\" & ADDRESS(8,A98+4)):INDIRECT(\"'Success Criteria'!\" & ADDRESS(70,A98+4)),\"PASS with comments\"))","v":0},{"$f":"COUNTIF(INDIRECT(\"'Success Criteria'!\" & ADDRESS(8,A98+4)):INDIRECT(\"'Success Criteria'!\" & ADDRESS(70,A98+4)),\"NON conformant\")","v":0},{"$f":"COUNTIF(INDIRECT(\"'Success Criteria'!\" & ADDRESS(8,A98+4)):INDIRECT(\"'Success Criteria'!\" & ADDRESS(70,A98+4)),\"N/A\")","v":0},{"$f":"COUNTIF(INDIRECT(\"'Success Criteria'!\" & ADDRESS(8,A98+4)):INDIRECT(\"'Success Criteria'!\" & ADDRESS(70,A98+4)),\"not tested\")","v":0},{"$f":"SUM(COUNTIF(INDIRECT(\"'Success Criteria'!\" & ADDRESS(74,A98+4)):INDIRECT(\"'Success Criteria'!\" & ADDRESS(117,A98+4)),\"PASS\"),COUNTIF(INDIRECT(\"'Success Criteria'!\" & ADDRESS(74,A98+4)):INDIRECT(\"'Success Criteria'!\" & ADDRESS(117,A98+4)),\"PASS with comments\"))","v":2},{"$f":"COUNTIF(INDIRECT(\"'Success Criteria'!\" & ADDRESS(74,A98+4)):INDIRECT(\"'Success Criteria'!\" & ADDRESS(117,A98+4)),\"NON conformant\")","v":0},{"$f":"COUNTIF(INDIRECT(\"'Success Criteria'!\" & ADDRESS(74,A98+4)):INDIRECT(\"'Success Criteria'!\" & ADDRESS(117,A98+4)),\"N/A\")","v":0},{"$f":"COUNTIF(INDIRECT(\"'Success Criteria'!\" & ADDRESS(74,A98+4)):INDIRECT(\"'Success Criteria'!\" & ADDRESS(117,A98+4)),\"not tested\")","v":0},{"$f":"SUM(COUNTIF(INDIRECT(\"'Success Criteria'!\" & ADDRESS(122,A98+4)):INDIRECT(\"'Success Criteria'!\" & ADDRESS(176,A98+4)),\"PASS\"),COUNTIF(INDIRECT(\"'Success Criteria'!\" & ADDRESS(122,A98+4)):INDIRECT(\"'Success Criteria'!\" & ADDRESS(176,A98+4)),\"PASS with comments\"))","v":0},{"$f":"COUNTIF(INDIRECT(\"'Success Criteria'!\" & ADDRESS(122,A98+4)):INDIRECT(\"'Success Criteria'!\" & ADDRESS(176,A98+4)),\"NON conformant\")","v":0},{"$f":"COUNTIF(INDIRECT(\"'Success Criteria'!\" & ADDRESS(122,A98+4)):INDIRECT(\"'Success Criteria'!\" & ADDRESS(176,A98+4)),\"N/A\")","v":0},{"$f":"COUNTIF(INDIRECT(\"'Success Criteria'!\" & ADDRESS(122,A98+4)):INDIRECT(\"'Success Criteria'!\" & ADDRESS(176,A98+4)),\"not tested\")","v":28},2,0,0,28,null,0,"",2,"",28,1]
[85,"Page 85","URL 85","Please select",{"$f":"SUM(COUNTIF(INDIRECT(\"'Success Criteria'!\" & ADDRESS(8,A99+4)):INDIRECT(\"'Success Criteria'!\" & ADDRESS(70,A99+4)),\"PASS\"),COUNTIF(INDIRECT(\"'Success Criteria'!\" & ADDRESS(8,A99+4)):INDIRECT(\"'Success Criteria'!\" & ADDRESS(70,A99+4)),\"PASS with comments\"))","v":0},{"$f":"COUNTIF(INDIRECT(\"'Success Criteria'!\" & ADDRESS(8,A99+4)):INDIRECT(\"'Success Criteria'!\" & ADDRESS(70,A99+4)),\"NON conformant\")","v":0},{"$f":"COUNTIF(INDIRECT(\"'Success Criteria'!\" & ADDRESS(8,A99+4)):INDIRECT(\"'Success Criteria'!\" & ADDRESS(70,A99+4)),\"N/A\")","v":0},{"$f":"COUNTIF(INDIRECT(\"'Success Criteria'!\" & ADDRESS(8,A99+4)):INDIRECT(\"'Success Criteria'!\" & ADDRESS(70,A99+4)),\"not tested\")","v":0},{"$f":"SUM(COUNTIF(INDIRECT(\"'Success Criteria'!\" & ADDRESS(74,A99+4)):INDIRECT(\"'Success Criteria'!\" & ADDRESS(117,A99+4)),\"PASS\"),COUNTIF(INDIRECT(\"'Success Criteria'!\" & ADDRESS(74,A99+4)):INDIRECT(\"'Success Criteria'!\" & ADDRESS(117,A99+4)),\"PASS with comments\"))","v":2},{"$f":"COUNTIF(INDIRECT(\"'Success Criteria'!\" & ADDRESS(74,A99+4)):INDIRECT(\"'Success Criteria'!\" & ADDRESS(117,A99+4)),\"NON conformant\")","v":0},{"$f":"COUNTIF(INDIRECT(\"'Success Criteria'!\" & ADDRESS(74,A99+4)):INDIRECT(\"'Success Criteria'!\" & ADDRESS(117,A99+4)),\"N/A\")","v":0},{"$f":"COUNTIF(INDIRECT(\"'Success Criteria'!\" & ADDRESS(74,A99+4)):INDIRECT(\"'Success Criteria'!\" & ADDRESS(117,A99+4)),\"not tested\")","v":0},{"$f":"SUM(COUNTIF(INDIRECT(\"'Success Criteria'!\" & ADDRESS(122,A99+4)):INDIRECT(\"'Success Criteria'!\" & ADDRESS(176,A99+4)),\"PASS\"),COUNTIF(INDIRECT(\"'Success Criteria'!\" & ADDRESS(122,A99+4)):INDIRECT(\"'Success Criteria'!\" & ADDRESS(176,A99+4)),\"PASS with comments\"))","v":0},{"$f":"COUNTIF(INDIRECT(\"'Success Criteria'!\" & ADDRESS(122,A99+4)):INDIRECT(\"'Success Criteria'!\" & ADDRESS(176,A99+4)),\"NON conformant\")","v":0},{"$f":"COUNTIF(INDIRECT(\"'Success Criteria'!\" & ADDRESS(122,A99+4)):INDIRECT(\"'Success Criteria'!\" & ADDRESS(176,A99+4)),\"N/A\")","v":0},{"$f":"COUNTIF(INDIRECT(\"'Success Criteria'!\" & ADDRESS(122,A99+4)):INDIRECT(\"'Success Criteria'!\" & ADDRESS(176,A99+4)),\"not tested\")","v":28},2,0,0,28,null,0,"",2,"",28,1]
[86,"Page 86","URL 86","Please select",{"$f":"SUM(COUNTIF(INDIRECT(\"'Success Criteria'!\" & ADDRESS(8,A100+4)):INDIRECT(\"'Success Criteria'!\" & ADDRESS(70,A100+4)),\"PASS\"),COUNTIF(INDIRECT(\"'Success Criteria'!\" & ADDRESS(8,A100+4)):INDIRECT(\"'Success Criteria'!\" & ADDRESS(70,A100+4)),\"PASS with comments\"))","v":0},{"$f":"COUNTIF(INDIRECT(\"'Success Criteria'!\" & ADDRESS(8,A100+4)):INDIRECT(\"'Success Criteria'!\" & ADDRESS(70,A100+4)),\"NON conformant\")","v":0},{"$f":"COUNTIF(INDIRECT(\"'Success Criteria'!\" & ADDRESS(8,A100+4)):INDIRECT(\"'Success Criteria'!\" & ADDRESS(70,A100+4)),\"N/A\")","v":0},{"$f":"COUNTIF(INDIRECT(\"'Success Criteria'!\" & ADDRESS(8,A100+4)):INDIRECT(\"'Success Criteria'!\" & ADDRESS(70,A100+4)),\"not tested\")","v":0},{"$f":"SUM(COUNTIF(INDIRECT(\"'Success Criteria'!\" & ADDRESS(74,A100+4)):INDIRECT(\"'Success Criteria'!\" & ADDRESS(117,A100+4)),\"PASS\"),COUNTIF(INDIRECT(\"'Success Criteria'!\" & ADDRESS(74,A100+4)):INDIRECT(\"'Success Criteria'!\" & ADDRESS(117,A100+4)),\"PASS with comments\"))","v":2},{"$f":"COUNTIF(INDIRECT(\"'Success Criteria'!\" & ADDRESS(74,A100+4)):INDIRECT(\"'Success Criteria'!\" & ADDRESS(117,A100+4)),\"NON conformant\")","v":0},{"$f":"COUNTIF(INDIRECT(\"'Success Criteria'!\" & ADDRESS(74,A100+4)):INDIRECT(\"'Success Criteria'!\" & ADDRESS(117,A100+4)),\"N/A\")","v":0},{"$f":"COUNTIF(INDIRECT(\"'Success Criteria'!\" & ADDRESS(74,A100+4)):INDIRECT(\"'Success Criteria'!\" & ADDRESS(117,A100+4)),\"not tested\")","v":0},{"$f":"SUM(COUNTIF(INDIRECT(\"'Success Criteria'!\" & ADDRESS(122,A100+4)):INDIRECT(\"'Success Criteria'!\" & ADDRESS(176,A100+4)),\"PASS\"),COUNTIF(INDIRECT(\"'Success Criteria'!\" & ADDRESS(122,A100+4)):INDIRECT(\"'Success Criteria'!\" & ADDRESS(176,A100+4)),\"PASS with comments\"))","v":0},{"$f":"COUNTIF(INDIRECT(\"'Success Criteria'!\" & ADDRESS(122,A100+4)):INDIRECT(\"'Success Criteria'!\" & ADDRESS(176,A100+4)),\"NON conformant\")","v":0},{"$f":"COUNTIF(INDIRECT(\"'Success Criteria'!\" & ADDRESS(122,A100+4)):INDIRECT(\"'Success Criteria'!\" & ADDRESS(176,A100+4)),\"N/A\")","v":0},{"$f":"COUNTIF(INDIRECT(\"'Success Criteria'!\" & ADDRESS(122,A100+4)):INDIRECT(\"'Success Criteria'!\" & ADDRESS(176,A100+4)),\"not tested\")","v":28},2,0,0,28,null,0,"",2,"",28,1]
[87,"Page 87","URL 87","Please select",{"$f":"SUM(COUNTIF(INDIRECT(\"'Success Criteria'!\" & ADDRESS(8,A101+4)):INDIRECT(\"'Success Criteria'!\" & ADDRESS(70,A101+4)),\"PASS\"),COUNTIF(INDIRECT(\"'Success Criteria'!\" & ADDRESS(8,A101+4)):INDIRECT(\"'Success Criteria'!\" & ADDRESS(70,A101+4)),\"PASS with comments\"))","v":0},{"$f":"COUNTIF(INDIRECT(\"'Success Criteria'!\" & ADDRESS(8,A101+4)):INDIRECT(\"'Success Criteria'!\" & ADDRESS(70,A101+4)),\"NON conformant\")","v":0},{"$f":"COUNTIF(INDIRECT(\"'Success Criteria'!\" & ADDRESS(8,A101+4)):INDIRECT(\"'Success Criteria'!\" & ADDRESS(70,A101+4)),\"N/A\")","v":0},{"$f":"COUNTIF(INDIRECT(\"'Success Criteria'!\" & ADDRESS(8,A101+4)):INDIRECT(\"'Success Criteria'!\" & ADDRESS(70,A101+4)),\"not tested\")","v":0},{"$f":"SUM(COUNTIF(INDIRECT(\"'Success Criteria'!\" & ADDRESS(74,A101+4)):INDIRECT(\"'Success Criteria'!\" & ADDRESS(117,A101+4)),\"PASS\"),COUNTIF(INDIRECT(\"'Success Criteria'!\" & ADDRESS(74,A101+4)):INDIRECT(\"'Success Criteria'!\" & ADDRESS(117,A101+4)),\"PASS with comments\"))","v":2},{"$f":"COUNTIF(INDIRECT(\"'Success Criteria'!\" & ADDRESS(74,A101+4)):INDIRECT(\"'Success Criteria'!\" & ADDRESS(117,A101+4)),\"NON conformant\")","v":0},{"$f":"COUNTIF(INDIRECT(\"'Success Criteria'!\" & ADDRESS(74,A101+4)):INDIRECT(\"'Success Criteria'!\" & ADDRESS(117,A101+4)),\"N/A\")","v":0},{"$f":"COUNTIF(INDIRECT(\"'Success Criteria'!\" & ADDRESS(74,A101+4)):INDIRECT(\"'Success Criteria'!\" & ADDRESS(117,A101+4)),\"not tested\")","v":0},{"$f":"SUM(COUNTIF(INDIRECT(\"'Success Criteria'!\" & ADDRESS(122,A101+4)):INDIRECT(\"'Success Criteria'!\" & ADDRESS(176,A101+4)),\"PASS\"),COUNTIF(INDIRECT(\"'Success Criteria'!\" & ADDRESS(122,A101+4)):INDIRECT(\"'Success Criteria'!\" & ADDRESS(176,A101+4)),\"PASS with comments\"))","v":0},{"$f":"COUNTIF(INDIRECT(\"'Success Criteria'!\" & ADDRESS(122,A101+4)):INDIRECT(\"'Success Criteria'!\" & ADDRESS(176,A101+4)),\"NON conformant\")","v":0},{"$f":"COUNTIF(INDIRECT(\"'Success Criteria'!\" & ADDRESS(122,A101+4)):INDIRECT(\"'Success Criteria'!\" & ADDRESS(176,A101+4)),\"N/A\")","v":0},{"$f":"COUNTIF(INDIRECT(\"'Success Criteria'!\" & ADDRESS(122,A101+4)):INDIRECT(\"'Success Criteria'!\" & ADDRESS(176,A101+4)),\"not tested\")","v":28},2,0,0,28,null,0,"",2,"",28,1]
[88,"Page 88","URL 88","Please select",{"$f":"SUM(COUNTIF(INDIRECT(\"'Success Criteria'!\" & ADDRESS(8,A102+4)):INDIRECT(\"'Success Criteria'!\" & ADDRESS(70,A102+4)),\"PASS\"),COUNTIF(INDIRECT(\"'Success Criteria'!\" & ADDRESS(8,A102+4)):INDIRECT(\"'Success Criteria'!\" & ADDRESS(70,A102+4)),\"PASS with comments\"))","v":0},{"$f":"COUNTIF(INDIRECT(\"'Success Criteria'!\" & ADDRESS(8,A102+4)):INDIRECT(\"'Success Criteria'!\" & ADDRESS(70,A102+4)),\"NON conformant\")","v":0},{"$f":"COUNTIF(INDIRECT(\"'Success Criteria'!\" & ADDRESS(8,A102+4)):INDIRECT(\"'Success Criteria'!\" & ADDRESS(70,A102+4)),\"N/A\")","v":0},{"$f":"COUNTIF(INDIRECT(\"'Success Criteria'!\" & ADDRESS(8,A102+4)):INDIRECT(\"'Success Criteria'!\" & ADDRESS(70,A102+4)),\"not tested\")","v":0},{"$f":"SUM(COUNTIF(INDIRECT(\"'Success Criteria'!\" & ADDRESS(74,A102+4)):INDIRECT(\"'Success Criteria'!\" & ADDRESS(117,A102+4)),\"PASS\"),COUNTIF(INDIRECT(\"'Success Criteria'!\" & ADDRESS(74,A102+4)):INDIRECT(\"'Success Criteria'!\" & ADDRESS(117,A102+4)),\"PASS with comments\"))","v":2},{"$f":"COUNTIF(INDIRECT(\"'Success Criteria'!\" & ADDRESS(74,A102+4)):INDIRECT(\"'Success Criteria'!\" & ADDRESS(117,A102+4)),\"NON conformant\")","v":0},{"$f":"COUNTIF(INDIRECT(\"'Success Criteria'!\" & ADDRESS(74,A102+4)):INDIRECT(\"'Success Criteria'!\" & ADDRESS(117,A102+4)),\"N/A\")","v":0},{"$f":"COUNTIF(INDIRECT(\"'Success Criteria'!\" & ADDRESS(74,A102+4)):INDIRECT(\"'Success Criteria'!\" & ADDRESS(117,A102+4)),\"not tested\")","v":0},{"$f":"SUM(COUNTIF(INDIRECT(\"'Success Criteria'!\" & ADDRESS(122,A102+4)):INDIRECT(\"'Success Criteria'!\" & ADDRESS(176,A102+4)),\"PASS\"),COUNTIF(INDIRECT(\"'Success Criteria'!\" & ADDRESS(122,A102+4)):INDIRECT(\"'Success Criteria'!\" & ADDRESS(176,A102+4)),\"PASS with comments\"))","v":0},{"$f":"COUNTIF(INDIRECT(\"'Success Criteria'!\" & ADDRESS(122,A102+4)):INDIRECT(\"'Success Criteria'!\" & ADDRESS(176,A102+4)),\"NON conformant\")","v":0},{"$f":"COUNTIF(INDIRECT(\"'Success Criteria'!\" & ADDRESS(122,A102+4)):INDIRECT(\"'Success Criteria'!\" & ADDRESS(176,A102+4)),\"N/A\")","v":0},{"$f":"COUNTIF(INDIRECT(\"'Success Criteria'!\" & ADDRESS(122,A102+4)):INDIRECT(\"'Success Criteria'!\" & ADDRESS(176,A102+4)),\"not tested\")","v":28},2,0,0,28,null,0,"",2,"",28,1]
[89,"Page 89","URL 89","Please select",{"$f":"SUM(COUNTIF(INDIRECT(\"'Success Criteria'!\" & ADDRESS(8,A103+4)):INDIRECT(\"'Success Criteria'!\" & ADDRESS(70,A103+4)),\"PASS\"),COUNTIF(INDIRECT(\"'Success Criteria'!\" & ADDRESS(8,A103+4)):INDIRECT(\"'Success Criteria'!\" & ADDRESS(70,A103+4)),\"PASS with comments\"))","v":0},{"$f":"COUNTIF(INDIRECT(\"'Success Criteria'!\" & ADDRESS(8,A103+4)):INDIRECT(\"'Success Criteria'!\" & ADDRESS(70,A103+4)),\"NON conformant\")","v":0},{"$f":"COUNTIF(INDIRECT(\"'Success Criteria'!\" & ADDRESS(8,A103+4)):INDIRECT(\"'Success Criteria'!\" & ADDRESS(70,A103+4)),\"N/A\")","v":0},{"$f":"COUNTIF(INDIRECT(\"'Success Criteria'!\" & ADDRESS(8,A103+4)):INDIRECT(\"'Success Criteria'!\" & ADDRESS(70,A103+4)),\"not tested\")","v":0},{"$f":"SUM(COUNTIF(INDIRECT(\"'Success Criteria'!\" & ADDRESS(74,A103+4)):INDIRECT(\"'Success Criteria'!\" & ADDRESS(117,A103+4)),\"PASS\"),COUNTIF(INDIRECT(\"'Success Criteria'!\" & ADDRESS(74,A103+4)):INDIRECT(\"'Success Criteria'!\" & ADDRESS(117,A103+4)),\"PASS with comments\"))","v":2},{"$f":"COUNTIF(INDIRECT(\"'Success Criteria'!\" & ADDRESS(74,A103+4)):INDIRECT(\"'Success Criteria'!\" & ADDRESS(117,A103+4)),\"NON conformant\")","v":0},{"$f":"COUNTIF(INDIRECT(\"'Success Criteria'!\" & ADDRESS(74,A103+4)):INDIRECT(\"'Success Criteria'!\" & ADDRESS(117,A103+4)),\"N/A\")","v":0},{"$f":"COUNTIF(INDIRECT(\"'Success Criteria'!\" & ADDRESS(74,A103+4)):INDIRECT(\"'Success Criteria'!\" & ADDRESS(117,A103+4)),\"not tested\")","v":0},{"$f":"SUM(COUNTIF(INDIRECT(\"'Success Criteria'!\" & ADDRESS(122,A103+4)):INDIRECT(\"'Success Criteria'!\" & ADDRESS(176,A103+4)),\"PASS\"),COUNTIF(INDIRECT(\"'Success Criteria'!\" & ADDRESS(122,A103+4)):INDIRECT(\"'Success Criteria'!\" & ADDRESS(176,A103+4)),\"PASS with comments\"))","v":0},{"$f":"COUNTIF(INDIRECT(\"'Success Criteria'!\" & ADDRESS(122,A103+4)):INDIRECT(\"'Success Criteria'!\" & ADDRESS(176,A103+4)),\"NON conformant\")","v":0},{"$f":"COUNTIF(INDIRECT(\"'Success Criteria'!\" & ADDRESS(122,A103+4)):INDIRECT(\"'Success Criteria'!\" & ADDRESS(176,A103+4)),\"N/A\")","v":0},{"$f":"COUNTIF(INDIRECT(\"'Success Criteria'!\" & ADDRESS(122,A103+4)):INDIRECT(\"'Success Criteria'!\" & ADDRESS(176,A103+4)),\"not tested\")","v":28},2,0,0,28,null,0,"",2,"",28,1]
[90,"Page 90","URL 90","Please select",{"$f":"SUM(COUNTIF(INDIRECT(\"'Success Criteria'!\" & ADDRESS(8,A104+4)):INDIRECT(\"'Success Criteria'!\" & ADDRESS(70,A104+4)),\"PASS\"),COUNTIF(INDIRECT(\"'Success Criteria'!\" & ADDRESS(8,A104+4)):INDIRECT(\"'Success Criteria'!\" & ADDRESS(70,A104+4)),\"PASS with comments\"))","v":0},{"$f":"COUNTIF(INDIRECT(\"'Success Criteria'!\" & ADDRESS(8,A104+4)):INDIRECT(\"'Success Criteria'!\" & ADDRESS(70,A104+4)),\"NON conformant\")","v":0},{"$f":"COUNTIF(INDIRECT(\"'Success Criteria'!\" & ADDRESS(8,A104+4)):INDIRECT(\"'Success Criteria'!\" & ADDRESS(70,A104+4)),\"N/A\")","v":0},{"$f":"COUNTIF(INDIRECT(\"'Success Criteria'!\" & ADDRESS(8,A104+4)):INDIRECT(\"'Success Criteria'!\" & ADDRESS(70,A104+4)),\"not tested\")","v":0},{"$f":"SUM(COUNTIF(INDIRECT(\"'Success Criteria'!\" & ADDRESS(74,A104+4)):INDIRECT(\"'Success Criteria'!\" & ADDRESS(117,A104+4)),\"PASS\"),COUNTIF(INDIRECT(\"'Success Criteria'!\" & ADDRESS(74,A104+4)):INDIRECT(\"'Success Criteria'!\" & ADDRESS(117,A104+4)),\"PASS with comments\"))","v":2},{"$f":"COUNTIF(INDIRECT(\"'Success Criteria'!\" & ADDRESS(74,A104+4)):INDIRECT(\"'Success Criteria'!\" & ADDRESS(117,A104+4)),\"NON conformant\")","v":0},{"$f":"COUNTIF(INDIRECT(\"'Success Criteria'!\" & ADDRESS(74,A104+4)):INDIRECT(\"'Success Criteria'!\" & ADDRESS(117,A104+4)),\"N/A\")","v":0},{"$f":"COUNTIF(INDIRECT(\"'Success Criteria'!\" & ADDRESS(74,A104+4)):INDIRECT(\"'Success Criteria'!\" & ADDRESS(117,A104+4)),\"not tested\")","v":0},{"$f":"SUM(COUNTIF(INDIRECT(\"'Success Criteria'!\" & ADDRESS(122,A104+4)):INDIRECT(\"'Success Criteria'!\" & ADDRESS(176,A104+4)),\"PASS\"),COUNTIF(INDIRECT(\"'Success Criteria'!\" & ADDRESS(122,A104+4)):INDIRECT(\"'Success Criteria'!\" & ADDRESS(176,A104+4)),\"PASS with comments\"))","v":0},{"$f":"COUNTIF(INDIRECT(\"'Success Criteria'!\" & ADDRESS(122,A104+4)):INDIRECT(\"'Success Criteria'!\" & ADDRESS(176,A104+4)),\"NON conformant\")","v":0},{"$f":"COUNTIF(INDIRECT(\"'Success Criteria'!\" & ADDRESS(122,A104+4)):INDIRECT(\"'Success Criteria'!\" & ADDRESS(176,A104+4)),\"N/A\")","v":0},{"$f":"COUNTIF(INDIRECT(\"'Success Criteria'!\" & ADDRESS(122,A104+4)):INDIRECT(\"'Success Criteria'!\" & ADDRESS(176,A104+4)),\"not tested\")","v":28},2,0,0,28,null,0,"",2,"",28,1]
[91,"Page 91","URL 91","Please select",{"$f":"SUM(COUNTIF(INDIRECT(\"'Success Criteria'!\" & ADDRESS(8,A105+4)):INDIRECT(\"'Success Criteria'!\" & ADDRESS(70,A105+4)),\"PASS\"),COUNTIF(INDIRECT(\"'Success Criteria'!\" & ADDRESS(8,A105+4)):INDIRECT(\"'Success Criteria'!\" & ADDRESS(70,A105+4)),\"PASS with comments\"))","v":0},{"$f":"COUNTIF(INDIRECT(\"'Success Criteria'!\" & ADDRESS(8,A105+4)):INDIRECT(\"'Success Criteria'!\" & ADDRESS(70,A105+4)),\"NON conformant\")","v":0},{"$f":"COUNTIF(INDIRECT(\"'Success Criteria'!\" & ADDRESS(8,A105+4)):INDIRECT(\"'Success Criteria'!\" & ADDRESS(70,A105+4)),\"N/A\")","v":0},{"$f":"COUNTIF(INDIRECT(\"'Success Criteria'!\" & ADDRESS(8,A105+4)):INDIRECT(\"'Success Criteria'!\" & ADDRESS(70,A105+4)),\"not tested\")","v":0},{"$f":"SUM(COUNTIF(INDIRECT(\"'Success Criteria'!\" & ADDRESS(74,A105+4)):INDIRECT(\"'Success Criteria'!\" & ADDRESS(117,A105+4)),\"PASS\"),COUNTIF(INDIRECT(\"'Success Criteria'!\" & ADDRESS(74,A105+4)):INDIRECT(\"'Success Criteria'!\" & ADDRESS(117,A105+4)),\"PASS with comments\"))","v":2},{"$f":"COUNTIF(INDIRECT(\"'Success Criteria'!\" & ADDRESS(74,A105+4)):INDIRECT(\"'Success Criteria'!\" & ADDRESS(117,A105+4)),\"NON conformant\")","v":0},{"$f":"COUNTIF(INDIRECT(\"'Success Criteria'!\" & ADDRESS(74,A105+4)):INDIRECT(\"'Success Criteria'!\" & ADDRESS(117,A105+4)),\"N/A\")","v":0},{"$f":"COUNTIF(INDIRECT(\"'Success Criteria'!\" & ADDRESS(74,A105+4)):INDIRECT(\"'Success Criteria'!\" & ADDRESS(117,A105+4)),\"not tested\")","v":0},{"$f":"SUM(COUNTIF(INDIRECT(\"'Success Criteria'!\" & ADDRESS(122,A105+4)):INDIRECT(\"'Success Criteria'!\" & ADDRESS(176,A105+4)),\"PASS\"),COUNTIF(INDIRECT(\"'Success Criteria'!\" & ADDRESS(122,A105+4)):INDIRECT(\"'Success Criteria'!\" & ADDRESS(176,A105+4)),\"PASS with comments\"))","v":0},{"$f":"COUNTIF(INDIRECT(\"'Success Criteria'!\" & ADDRESS(122,A105+4)):INDIRECT(\"'Success Criteria'!\" & ADDRESS(176,A105+4)),\"NON conformant\")","v":0},{"$f":"COUNTIF(INDIRECT(\"'Success Criteria'!\" & ADDRESS(122,A105+4)):INDIRECT(\"'Success Criteria'!\" & ADDRESS(176,A105+4)),\"N/A\")","v":0},{"$f":"COUNTIF(INDIRECT(\"'Success Criteria'!\" & ADDRESS(122,A105+4)):INDIRECT(\"'Success Criteria'!\" & ADDRESS(176,A105+4)),\"not tested\")","v":28},2,0,0,28,null,0,"",2,"",28,1]
[92,"Page 92","URL 92","Please select",{"$f":"SUM(COUNTIF(INDIRECT(\"'Success Criteria'!\" & ADDRESS(8,A106+4)):INDIRECT(\"'Success Criteria'!\" & ADDRESS(70,A106+4)),\"PASS\"),COUNTIF(INDIRECT(\"'Success Criteria'!\" & ADDRESS(8,A106+4)):INDIRECT(\"'Success Criteria'!\" & ADDRESS(70,A106+4)),\"PASS with comments\"))","v":0},{"$f":"COUNTIF(INDIRECT(\"'Success Criteria'!\" & ADDRESS(8,A106+4)):INDIRECT(\"'Success Criteria'!\" & ADDRESS(70,A106+4)),\"NON conformant\")","v":0},{"$f":"COUNTIF(INDIRECT(\"'Success Criteria'!\" & ADDRESS(8,A106+4)):INDIRECT(\"'Success Criteria'!\" & ADDRESS(70,A106+4)),\"N/A\")","v":0},{"$f":"COUNTIF(INDIRECT(\"'Success Criteria'!\" & ADDRESS(8,A106+4)):INDIRECT(\"'Success Criteria'!\" & ADDRESS(70,A106+4)),\"not tested\")","v":0},{"$f":"SUM(COUNTIF(INDIRECT(\"'Success Criteria'!\" & ADDRESS(74,A106+4)):INDIRECT(\"'Success Criteria'!\" & ADDRESS(117,A106+4)),\"PASS\"),COUNTIF(INDIRECT(\"'Success Criteria'!\" & ADDRESS(74,A106+4)):INDIRECT(\"'Success Criteria'!\" & ADDRESS(117,A106+4)),\"PASS with comments\"))","v":2},{"$f":"COUNTIF(INDIRECT(\"'Success Criteria'!\" & ADDRESS(74,A106+4)):INDIRECT(\"'Success Criteria'!\" & ADDRESS(117,A106+4)),\"NON conformant\")","v":0},{"$f":"COUNTIF(INDIRECT(\"'Success Criteria'!\" & ADDRESS(74,A106+4)):INDIRECT(\"'Success Criteria'!\" & ADDRESS(117,A106+4)),\"N/A\")","v":0},{"$f":"COUNTIF(INDIRECT(\"'Success Criteria'!\" & ADDRESS(74,A106+4)):INDIRECT(\"'Success Criteria'!\" & ADDRESS(117,A106+4)),\"not tested\")","v":0},{"$f":"SUM(COUNTIF(INDIRECT(\"'Success Criteria'!\" & ADDRESS(122,A106+4)):INDIRECT(\"'Success Criteria'!\" & ADDRESS(176,A106+4)),\"PASS\"),COUNTIF(INDIRECT(\"'Success Criteria'!\" & ADDRESS(122,A106+4)):INDIRECT(\"'Success Criteria'!\" & ADDRESS(176,A106+4)),\"PASS with comments\"))","v":0},{"$f":"COUNTIF(INDIRECT(\"'Success Criteria'!\" & ADDRESS(122,A106+4)):INDIRECT(\"'Success Criteria'!\" & ADDRESS(176,A106+4)),\"NON conformant\")","v":0},{"$f":"COUNTIF(INDIRECT(\"'Success Criteria'!\" & ADDRESS(122,A106+4)):INDIRECT(\"'Success Criteria'!\" & ADDRESS(176,A106+4)),\"N/A\")","v":0},{"$f":"COUNTIF(INDIRECT(\"'Success Criteria'!\" & ADDRESS(122,A106+4)):INDIRECT(\"'Success Criteria'!\" & ADDRESS(176,A106+4)),\"not tested\")","v":28},2,0,0,28,null,0,"",2,"",28,1]
[93,"Page 93","URL 93","Please select",{"$f":"SUM(COUNTIF(INDIRECT(\"'Success Criteria'!\" & ADDRESS(8,A107+4)):INDIRECT(\"'Success Criteria'!\" & ADDRESS(70,A107+4)),\"PASS\"),COUNTIF(INDIRECT(\"'Success Criteria'!\" & ADDRESS(8,A107+4)):INDIRECT(\"'Success Criteria'!\" & ADDRESS(70,A107+4)),\"PASS with comments\"))","v":0},{"$f":"COUNTIF(INDIRECT(\"'Success Criteria'!\" & ADDRESS(8,A107+4)):INDIRECT(\"'Success Criteria'!\" & ADDRESS(70,A107+4)),\"NON conformant\")","v":0},{"$f":"COUNTIF(INDIRECT(\"'Success Criteria'!\" & ADDRESS(8,A107+4)):INDIRECT(\"'Success Criteria'!\" & ADDRESS(70,A107+4)),\"N/A\")","v":0},{"$f":"COUNTIF(INDIRECT(\"'Success Criteria'!\" & ADDRESS(8,A107+4)):INDIRECT(\"'Success Criteria'!\" & ADDRESS(70,A107+4)),\"not tested\")","v":0},{"$f":"SUM(COUNTIF(INDIRECT(\"'Success Criteria'!\" & ADDRESS(74,A107+4)):INDIRECT(\"'Success Criteria'!\" & ADDRESS(117,A107+4)),\"PASS\"),COUNTIF(INDIRECT(\"'Success Criteria'!\" & ADDRESS(74,A107+4)):INDIRECT(\"'Success Criteria'!\" & ADDRESS(117,A107+4)),\"PASS with comments\"))","v":2},{"$f":"COUNTIF(INDIRECT(\"'Success Criteria'!\" & ADDRESS(74,A107+4)):INDIRECT(\"'Success Criteria'!\" & ADDRESS(117,A107+4)),\"NON conformant\")","v":0},{"$f":"COUNTIF(INDIRECT(\"'Success Criteria'!\" & ADDRESS(74,A107+4)):INDIRECT(\"'Success Criteria'!\" & ADDRESS(117,A107+4)),\"N/A\")","v":0},{"$f":"COUNTIF(INDIRECT(\"'Success Criteria'!\" & ADDRESS(74,A107+4)):INDIRECT(\"'Success Criteria'!\" & ADDRESS(117,A107+4)),\"not tested\")","v":0},{"$f":"SUM(COUNTIF(INDIRECT(\"'Success Criteria'!\" & ADDRESS(122,A107+4)):INDIRECT(\"'Success Criteria'!\" & ADDRESS(176,A107+4)),\"PASS\"),COUNTIF(INDIRECT(\"'Success Criteria'!\" & ADDRESS(122,A107+4)):INDIRECT(\"'Success Criteria'!\" & ADDRESS(176,A107+4)),\"PASS with comments\"))","v":0},{"$f":"COUNTIF(INDIRECT(\"'Success Criteria'!\" & ADDRESS(122,A107+4)):INDIRECT(\"'Success Criteria'!\" & ADDRESS(176,A107+4)),\"NON conformant\")","v":0},{"$f":"COUNTIF(INDIRECT(\"'Success Criteria'!\" & ADDRESS(122,A107+4)):INDIRECT(\"'Success Criteria'!\" & ADDRESS(176,A107+4)),\"N/A\")","v":0},{"$f":"COUNTIF(INDIRECT(\"'Success Criteria'!\" & ADDRESS(122,A107+4)):INDIRECT(\"'Success Criteria'!\" & ADDRESS(176,A107+4)),\"not tested\")","v":28},2,0,0,28,null,0,"",2,"",28,1]
[94,"Page 94","URL 94","Please select",{"$f":"SUM(COUNTIF(INDIRECT(\"'Success Criteria'!\" & ADDRESS(8,A108+4)):INDIRECT(\"'Success Criteria'!\" & ADDRESS(70,A108+4)),\"PASS\"),COUNTIF(INDIRECT(\"'Success Criteria'!\" & ADDRESS(8,A108+4)):INDIRECT(\"'Success Criteria'!\" & ADDRESS(70,A108+4)),\"PASS with comments\"))","v":0},{"$f":"COUNTIF(INDIRECT(\"'Success Criteria'!\" & ADDRESS(8,A108+4)):INDIRECT(\"'Success Criteria'!\" & ADDRESS(70,A108+4)),\"NON conformant\")","v":0},{"$f":"COUNTIF(INDIRECT(\"'Success Criteria'!\" & ADDRESS(8,A108+4)):INDIRECT(\"'Success Criteria'!\" & ADDRESS(70,A108+4)),\"N/A\")","v":0},{"$f":"COUNTIF(INDIRECT(\"'Success Criteria'!\" & ADDRESS(8,A108+4)):INDIRECT(\"'Success Criteria'!\" & ADDRESS(70,A108+4)),\"not tested\")","v":0},{"$f":"SUM(COUNTIF(INDIRECT(\"'Success Criteria'!\" & ADDRESS(74,A108+4)):INDIRECT(\"'Success Criteria'!\" & ADDRESS(117,A108+4)),\"PASS\"),COUNTIF(INDIRECT(\"'Success Criteria'!\" & ADDRESS(74,A108+4)):INDIRECT(\"'Success Criteria'!\" & ADDRESS(117,A108+4)),\"PASS with comments\"))","v":2},{"$f":"COUNTIF(INDIRECT(\"'Success Criteria'!\" & ADDRESS(74,A108+4)):INDIRECT(\"'Success Criteria'!\" & ADDRESS(117,A108+4)),\"NON conformant\")","v":0},{"$f":"COUNTIF(INDIRECT(\"'Success Criteria'!\" & ADDRESS(74,A108+4)):INDIRECT(\"'Success Criteria'!\" & ADDRESS(117,A108+4)),\"N/A\")","v":0},{"$f":"COUNTIF(INDIRECT(\"'Success Criteria'!\" & ADDRESS(74,A108+4)):INDIRECT(\"'Success Criteria'!\" & ADDRESS(117,A108+4)),\"not tested\")","v":0},{"$f":"SUM(COUNTIF(INDIRECT(\"'Success Criteria'!\" & ADDRESS(122,A108+4)):INDIRECT(\"'Success Criteria'!\" & ADDRESS(176,A108+4)),\"PASS\"),COUNTIF(INDIRECT(\"'Success Criteria'!\" & ADDRESS(122,A108+4)):INDIRECT(\"'Success Criteria'!\" & ADDRESS(176,A108+4)),\"PASS with comments\"))","v":0},{"$f":"COUNTIF(INDIRECT(\"'Success Criteria'!\" & ADDRESS(122,A108+4)):INDIRECT(\"'Success Criteria'!\" & ADDRESS(176,A108+4)),\"NON conformant\")","v":0},{"$f":"COUNTIF(INDIRECT(\"'Success Criteria'!\" & ADDRESS(122,A108+4)):INDIRECT(\"'Success Criteria'!\" & ADDRESS(176,A108+4)),\"N/A\")","v":0},{"$f":"COUNTIF(INDIRECT(\"'Success Criteria'!\" & ADDRESS(122,A108+4)):INDIRECT(\"'Success Criteria'!\" & ADDRESS(176,A108+4)),\"not tested\")","v":28},2,0,0,28,null,0,"",2,"",28,1]
[95,"Page 95","URL 95","Please select",{"$f":"SUM(COUNTIF(INDIRECT(\"'Success Criteria'!\" & ADDRESS(8,A109+4)):INDIRECT(\"'Success Criteria'!\" & ADDRESS(70,A109+4)),\"PASS\"),COUNTIF(INDIRECT(\"'Success Criteria'!\" & ADDRESS(8,A109+4)):INDIRECT(\"'Success Criteria'!\" & ADDRESS(70,A109+4)),\"PASS with comments\"))","v":0},{"$f":"COUNTIF(INDIRECT(\"'Success Criteria'!\" & ADDRESS(8,A109+4)):INDIRECT(\"'Success Criteria'!\" & ADDRESS(70,A109+4)),\"NON conformant\")","v":0},{"$f":"COUNTIF(INDIRECT(\"'Success Criteria'!\" & ADDRESS(8,A109+4)):INDIRECT(\"'Success Criteria'!\" & ADDRESS(70,A109+4)),\"N/A\")","v":0},{"$f":"COUNTIF(INDIRECT(\"'Success Criteria'!\" & ADDRESS(8,A109+4)):INDIRECT(\"'Success Criteria'!\" & ADDRESS(70,A109+4)),\"not tested\")","v":0},{"$f":"SUM(COUNTIF(INDIRECT(\"'Success Criteria'!\" & ADDRESS(74,A109+4)):INDIRECT(\"'Success Criteria'!\" & ADDRESS(117,A109+4)),\"PASS\"),COUNTIF(INDIRECT(\"'Success Criteria'!\" & ADDRESS(74,A109+4)):INDIRECT(\"'Success Criteria'!\" & ADDRESS(117,A109+4)),\"PASS with comments\"))","v":2},{"$f":"COUNTIF(INDIRECT(\"'Success Criteria'!\" & ADDRESS(74,A109+4)):INDIRECT(\"'Success Criteria'!\" & ADDRESS(117,A109+4)),\"NON conformant\")","v":0},{"$f":"COUNTIF(INDIRECT(\"'Success Criteria'!\" & ADDRESS(74,A109+4)):INDIRECT(\"'Success Criteria'!\" & ADDRESS(117,A109+4)),\"N/A\")","v":0},{"$f":"COUNTIF(INDIRECT(\"'Success Criteria'!\" & ADDRESS(74,A109+4)):INDIRECT(\"'Success Criteria'!\" & ADDRESS(117,A109+4)),\"not tested\")","v":0},{"$f":"SUM(COUNTIF(INDIRECT(\"'Success Criteria'!\" & ADDRESS(122,A109+4)):INDIRECT(\"'Success Criteria'!\" & ADDRESS(176,A109+4)),\"PASS\"),COUNTIF(INDIRECT(\"'Success Criteria'!\" & ADDRESS(122,A109+4)):INDIRECT(\"'Success Criteria'!\" & ADDRESS(176,A109+4)),\"PASS with comments\"))","v":0},{"$f":"COUNTIF(INDIRECT(\"'Success Criteria'!\" & ADDRESS(122,A109+4)):INDIRECT(\"'Success Criteria'!\" & ADDRESS(176,A109+4)),\"NON conformant\")","v":0},{"$f":"COUNTIF(INDIRECT(\"'Success Criteria'!\" & ADDRESS(122,A109+4)):INDIRECT(\"'Success Criteria'!\" & ADDRESS(176,A109+4)),\"N/A\")","v":0},{"$f":"COUNTIF(INDIRECT(\"'Success Criteria'!\" & ADDRESS(122,A109+4)):INDIRECT(\"'Success Criteria'!\" & ADDRESS(176,A109+4)),\"not tested\")","v":28},2,0,0,28,null,0,"",2,"",28,1]
[96,"Page 96","URL 96","Please select",{"$f":"SUM(COUNTIF(INDIRECT(\"'Success Criteria'!\" & ADDRESS(8,A110+4)):INDIRECT(\"'Success Criteria'!\" & ADDRESS(70,A110+4)),\"PASS\"),COUNTIF(INDIRECT(\"'Success Criteria'!\" & ADDRESS(8,A110+4)):INDIRECT(\"'Success Criteria'!\" & ADDRESS(70,A110+4)),\"PASS with comments\"))","v":0},{"$f":"COUNTIF(INDIRECT(\"'Success Criteria'!\" & ADDRESS(8,A110+4)):INDIRECT(\"'Success Criteria'!\" & ADDRESS(70,A110+4)),\"NON conformant\")","v":0},{"$f":"COUNTIF(INDIRECT(\"'Success Criteria'!\" & ADDRESS(8,A110+4)):INDIRECT(\"'Success Criteria'!\" & ADDRESS(70,A110+4)),\"N/A\")","v":0},{"$f":"COUNTIF(INDIRECT(\"'Success Criteria'!\" & ADDRESS(8,A110+4)):INDIRECT(\"'Success Criteria'!\" & ADDRESS(70,A110+4)),\"not tested\")","v":0},{"$f":"SUM(COUNTIF(INDIRECT(\"'Success Criteria'!\" & ADDRESS(74,A110+4)):INDIRECT(\"'Success Criteria'!\" & ADDRESS(117,A110+4)),\"PASS\"),COUNTIF(INDIRECT(\"'Success Criteria'!\" & ADDRESS(74,A110+4)):INDIRECT(\"'Success Criteria'!\" & ADDRESS(117,A110+4)),\"PASS with comments\"))","v":2},{"$f":"COUNTIF(INDIRECT(\"'Success Criteria'!\" & ADDRESS(74,A110+4)):INDIRECT(\"'Success Criteria'!\" & ADDRESS(117,A110+4)),\"NON conformant\")","v":0},{"$f":"COUNTIF(INDIRECT(\"'Success Criteria'!\" & ADDRESS(74,A110+4)):INDIRECT(\"'Success Criteria'!\" & ADDRESS(117,A110+4)),\"N/A\")","v":0},{"$f":"COUNTIF(INDIRECT(\"'Success Criteria'!\" & ADDRESS(74,A110+4)):INDIRECT(\"'Success Criteria'!\" & ADDRESS(117,A110+4)),\"not tested\")","v":0},{"$f":"SUM(COUNTIF(INDIRECT(\"'Success Criteria'!\" & ADDRESS(122,A110+4)):INDIRECT(\"'Success Criteria'!\" & ADDRESS(176,A110+4)),\"PASS\"),COUNTIF(INDIRECT(\"'Success Criteria'!\" & ADDRESS(122,A110+4)):INDIRECT(\"'Success Criteria'!\" & ADDRESS(176,A110+4)),\"PASS with comments\"))","v":0},{"$f":"COUNTIF(INDIRECT(\"'Success Criteria'!\" & ADDRESS(122,A110+4)):INDIRECT(\"'Success Criteria'!\" & ADDRESS(176,A110+4)),\"NON conformant\")","v":0},{"$f":"COUNTIF(INDIRECT(\"'Success Criteria'!\" & ADDRESS(122,A110+4)):INDIRECT(\"'Success Criteria'!\" & ADDRESS(176,A110+4)),\"N/A\")","v":0},{"$f":"COUNTIF(INDIRECT(\"'Success Criteria'!\" & ADDRESS(122,A110+4)):INDIRECT(\"'Success Criteria'!\" & ADDRESS(176,A110+4)),\"not tested\")","v":28},2,0,0,28,null,0,"",2,"",28,1]
[97,"Page 97","URL 97","Please select",{"$f":"SUM(COUNTIF(INDIRECT(\"'Success Criteria'!\" & ADDRESS(8,A111+4)):INDIRECT(\"'Success Criteria'!\" & ADDRESS(70,A111+4)),\"PASS\"),COUNTIF(INDIRECT(\"'Success Criteria'!\" & ADDRESS(8,A111+4)):INDIRECT(\"'Success Criteria'!\" & ADDRESS(70,A111+4)),\"PASS with comments\"))","v":0},{"$f":"COUNTIF(INDIRECT(\"'Success Criteria'!\" & ADDRESS(8,A111+4)):INDIRECT(\"'Success Criteria'!\" & ADDRESS(70,A111+4)),\"NON conformant\")","v":0},{"$f":"COUNTIF(INDIRECT(\"'Success Criteria'!\" & ADDRESS(8,A111+4)):INDIRECT(\"'Success Criteria'!\" & ADDRESS(70,A111+4)),\"N/A\")","v":0},{"$f":"COUNTIF(INDIRECT(\"'Success Criteria'!\" & ADDRESS(8,A111+4)):INDIRECT(\"'Success Criteria'!\" & ADDRESS(70,A111+4)),\"not tested\")","v":0},{"$f":"SUM(COUNTIF(INDIRECT(\"'Success Criteria'!\" & ADDRESS(74,A111+4)):INDIRECT(\"'Success Criteria'!\" & ADDRESS(117,A111+4)),\"PASS\"),COUNTIF(INDIRECT(\"'Success Criteria'!\" & ADDRESS(74,A111+4)):INDIRECT(\"'Success Criteria'!\" & ADDRESS(117,A111+4)),\"PASS with comments\"))","v":2},{"$f":"COUNTIF(INDIRECT(\"'Success Criteria'!\" & ADDRESS(74,A111+4)):INDIRECT(\"'Success Criteria'!\" & ADDRESS(117,A111+4)),\"NON conformant\")","v":0},{"$f":"COUNTIF(INDIRECT(\"'Success Criteria'!\" & ADDRESS(74,A111+4)):INDIRECT(\"'Success Criteria'!\" & ADDRESS(117,A111+4)),\"N/A\")","v":0},{"$f":"COUNTIF(INDIRECT(\"'Success Criteria'!\" & ADDRESS(74,A111+4)):INDIRECT(\"'Success Criteria'!\" & ADDRESS(117,A111+4)),\"not tested\")","v":0},{"$f":"SUM(COUNTIF(INDIRECT(\"'Success Criteria'!\" & ADDRESS(122,A111+4)):INDIRECT(\"'Success Criteria'!\" & ADDRESS(176,A111+4)),\"PASS\"),COUNTIF(INDIRECT(\"'Success Criteria'!\" & ADDRESS(122,A111+4)):INDIRECT(\"'Success Criteria'!\" & ADDRESS(176,A111+4)),\"PASS with comments\"))","v":0},{"$f":"COUNTIF(INDIRECT(\"'Success Criteria'!\" & ADDRESS(122,A111+4)):INDIRECT(\"'Success Criteria'!\" & ADDRESS(176,A111+4)),\"NON conformant\")","v":0},{"$f":"COUNTIF(INDIRECT(\"'Success Criteria'!\" & ADDRESS(122,A111+4)):INDIRECT(\"'Success Criteria'!\" & ADDRESS(176,A111+4)),\"N/A\")","v":0},{"$f":"COUNTIF(INDIRECT(\"'Success Criteria'!\" & ADDRESS(122,A111+4)):INDIRECT(\"'Success Criteria'!\" & ADDRESS(176,A111+4)),\"not tested\")","v":28},2,0,0,28,null,0,"",2,"",28,1]
[98,"Page 98","URL 98","Please select",{"$f":"SUM(COUNTIF(INDIRECT(\"'Success Criteria'!\" & ADDRESS(8,A112+4)):INDIRECT(\"'Success Criteria'!\" & ADDRESS(70,A112+4)),\"PASS\"),COUNTIF(INDIRECT(\"'Success Criteria'!\" & ADDRESS(8,A112+4)):INDIRECT(\"'Success Criteria'!\" & ADDRESS(70,A112+4)),\"PASS with comments\"))","v":0},{"$f":"COUNTIF(INDIRECT(\"'Success Criteria'!\" & ADDRESS(8,A112+4)):INDIRECT(\"'Success Criteria'!\" & ADDRESS(70,A112+4)),\"NON conformant\")","v":0},{"$f":"COUNTIF(INDIRECT(\"'Success Criteria'!\" & ADDRESS(8,A112+4)):INDIRECT(\"'Success Criteria'!\" & ADDRESS(70,A112+4)),\"N/A\")","v":0},{"$f":"COUNTIF(INDIRECT(\"'Success Criteria'!\" & ADDRESS(8,A112+4)):INDIRECT(\"'Success Criteria'!\" & ADDRESS(70,A112+4)),\"not tested\")","v":0},{"$f":"SUM(COUNTIF(INDIRECT(\"'Success Criteria'!\" & ADDRESS(74,A112+4)):INDIRECT(\"'Success Criteria'!\" & ADDRESS(117,A112+4)),\"PASS\"),COUNTIF(INDIRECT(\"'Success Criteria'!\" & ADDRESS(74,A112+4)):INDIRECT(\"'Success Criteria'!\" & ADDRESS(117,A112+4)),\"PASS with comments\"))","v":2},{"$f":"COUNTIF(INDIRECT(\"'Success Criteria'!\" & ADDRESS(74,A112+4)):INDIRECT(\"'Success Criteria'!\" & ADDRESS(117,A112+4)),\"NON conformant\")","v":0},{"$f":"COUNTIF(INDIRECT(\"'Success Criteria'!\" & ADDRESS(74,A112+4)):INDIRECT(\"'Success Criteria'!\" & ADDRESS(117,A112+4)),\"N/A\")","v":0},{"$f":"COUNTIF(INDIRECT(\"'Success Criteria'!\" & ADDRESS(74,A112+4)):INDIRECT(\"'Success Criteria'!\" & ADDRESS(117,A112+4)),\"not tested\")","v":0},{"$f":"SUM(COUNTIF(INDIRECT(\"'Success Criteria'!\" & ADDRESS(122,A112+4)):INDIRECT(\"'Success Criteria'!\" & ADDRESS(176,A112+4)),\"PASS\"),COUNTIF(INDIRECT(\"'Success Criteria'!\" & ADDRESS(122,A112+4)):INDIRECT(\"'Success Criteria'!\" & ADDRESS(176,A112+4)),\"PASS with comments\"))","v":0},{"$f":"COUNTIF(INDIRECT(\"'Success Criteria'!\" & ADDRESS(122,A112+4)):INDIRECT(\"'Success Criteria'!\" & ADDRESS(176,A112+4)),\"NON conformant\")","v":0},{"$f":"COUNTIF(INDIRECT(\"'Success Criteria'!\" & ADDRESS(122,A112+4)):INDIRECT(\"'Success Criteria'!\" & ADDRESS(176,A112+4)),\"N/A\")","v":0},{"$f":"COUNTIF(INDIRECT(\"'Success Criteria'!\" & ADDRESS(122,A112+4)):INDIRECT(\"'Success Criteria'!\" & ADDRESS(176,A112+4)),\"not tested\")","v":28},2,0,0,28,null,0,"",2,"",28,1]
[99,"Page 99","URL 99","Please select",{"$f":"SUM(COUNTIF(INDIRECT(\"'Success Criteria'!\" & ADDRESS(8,A113+4)):INDIRECT(\"'Success Criteria'!\" & ADDRESS(70,A113+4)),\"PASS\"),COUNTIF(INDIRECT(\"'Success Criteria'!\" & ADDRESS(8,A113+4)):INDIRECT(\"'Success Criteria'!\" & ADDRESS(70,A113+4)),\"PASS with comments\"))","v":0},{"$f":"COUNTIF(INDIRECT(\"'Success Criteria'!\" & ADDRESS(8,A113+4)):INDIRECT(\"'Success Criteria'!\" & ADDRESS(70,A113+4)),\"NON conformant\")","v":0},{"$f":"COUNTIF(INDIRECT(\"'Success Criteria'!\" & ADDRESS(8,A113+4)):INDIRECT(\"'Success Criteria'!\" & ADDRESS(70,A113+4)),\"N/A\")","v":0},{"$f":"COUNTIF(INDIRECT(\"'Success Criteria'!\" & ADDRESS(8,A113+4)):INDIRECT(\"'Success Criteria'!\" & ADDRESS(70,A113+4)),\"not tested\")","v":0},{"$f":"SUM(COUNTIF(INDIRECT(\"'Success Criteria'!\" & ADDRESS(74,A113+4)):INDIRECT(\"'Success Criteria'!\" & ADDRESS(117,A113+4)),\"PASS\"),COUNTIF(INDIRECT(\"'Success Criteria'!\" & ADDRESS(74,A113+4)):INDIRECT(\"'Success Criteria'!\" & ADDRESS(117,A113+4)),\"PASS with comments\"))","v":2},{"$f":"COUNTIF(INDIRECT(\"'Success Criteria'!\" & ADDRESS(74,A113+4)):INDIRECT(\"'Success Criteria'!\" & ADDRESS(117,A113+4)),\"NON conformant\")","v":0},{"$f":"COUNTIF(INDIRECT(\"'Success Criteria'!\" & ADDRESS(74,A113+4)):INDIRECT(\"'Success Criteria'!\" & ADDRESS(117,A113+4)),\"N/A\")","v":0},{"$f":"COUNTIF(INDIRECT(\"'Success Criteria'!\" & ADDRESS(74,A113+4)):INDIRECT(\"'Success Criteria'!\" & ADDRESS(117,A113+4)),\"not tested\")","v":0},{"$f":"SUM(COUNTIF(INDIRECT(\"'Success Criteria'!\" & ADDRESS(122,A113+4)):INDIRECT(\"'Success Criteria'!\" & ADDRESS(176,A113+4)),\"PASS\"),COUNTIF(INDIRECT(\"'Success Criteria'!\" & ADDRESS(122,A113+4)):INDIRECT(\"'Success Criteria'!\" & ADDRESS(176,A113+4)),\"PASS with comments\"))","v":0},{"$f":"COUNTIF(INDIRECT(\"'Success Criteria'!\" & ADDRESS(122,A113+4)):INDIRECT(\"'Success Criteria'!\" & ADDRESS(176,A113+4)),\"NON conformant\")","v":0},{"$f":"COUNTIF(INDIRECT(\"'Success Criteria'!\" & ADDRESS(122,A113+4)):INDIRECT(\"'Success Criteria'!\" & ADDRESS(176,A113+4)),\"N/A\")","v":0},{"$f":"COUNTIF(INDIRECT(\"'Success Criteria'!\" & ADDRESS(122,A113+4)):INDIRECT(\"'Success Criteria'!\" & ADDRESS(176,A113+4)),\"not tested\")","v":28},2,0,0,28,null,0,"",2,"",28,1]
[100,"Page 100","URL 100","Please select",{"$f":"SUM(COUNTIF(INDIRECT(\"'Success Criteria'!\" & ADDRESS(8,A114+4)):INDIRECT(\"'Success Criteria'!\" & ADDRESS(70,A114+4)),\"PASS\"),COUNTIF(INDIRECT(\"'Success Criteria'!\" & ADDRESS(8,A114+4)):INDIRECT(\"'Success Criteria'!\" & ADDRESS(70,A114+4)),\"PASS with comments\"))","v":0},{"$f":"COUNTIF(INDIRECT(\"'Success Criteria'!\" & ADDRESS(8,A114+4)):INDIRECT(\"'Success Criteria'!\" & ADDRESS(70,A114+4)),\"NON conformant\")","v":0},{"$f":"COUNTIF(INDIRECT(\"'Success Criteria'!\" & ADDRESS(8,A114+4)):INDIRECT(\"'Success Criteria'!\" & ADDRESS(70,A114+4)),\"N/A\")","v":0},{"$f":"COUNTIF(INDIRECT(\"'Success Criteria'!\" & ADDRESS(8,A114+4)):INDIRECT(\"'Success Criteria'!\" & ADDRESS(70,A114+4)),\"not tested\")","v":0},{"$f":"SUM(COUNTIF(INDIRECT(\"'Success Criteria'!\" & ADDRESS(74,A114+4)):INDIRECT(\"'Success Criteria'!\" & ADDRESS(117,A114+4)),\"PASS\"),COUNTIF(INDIRECT(\"'Success Criteria'!\" & ADDRESS(74,A114+4)):INDIRECT(\"'Success Criteria'!\" & ADDRESS(117,A114+4)),\"PASS with comments\"))","v":2},{"$f":"COUNTIF(INDIRECT(\"'Success Criteria'!\" & ADDRESS(74,A114+4)):INDIRECT(\"'Success Criteria'!\" & ADDRESS(117,A114+4)),\"NON conformant\")","v":0},{"$f":"COUNTIF(INDIRECT(\"'Success Criteria'!\" & ADDRESS(74,A114+4)):INDIRECT(\"'Success Criteria'!\" & ADDRESS(117,A114+4)),\"N/A\")","v":0},{"$f":"COUNTIF(INDIRECT(\"'Success Criteria'!\" & ADDRESS(74,A114+4)):INDIRECT(\"'Success Criteria'!\" & ADDRESS(117,A114+4)),\"not tested\")","v":0},{"$f":"SUM(COUNTIF(INDIRECT(\"'Success Criteria'!\" & ADDRESS(122,A114+4)):INDIRECT(\"'Success Criteria'!\" & ADDRESS(176,A114+4)),\"PASS\"),COUNTIF(INDIRECT(\"'Success Criteria'!\" & ADDRESS(122,A114+4)):INDIRECT(\"'Success Criteria'!\" & ADDRESS(176,A114+4)),\"PASS with comments\"))","v":0},{"$f":"COUNTIF(INDIRECT(\"'Success Criteria'!\" & ADDRESS(122,A114+4)):INDIRECT(\"'Success Criteria'!\" & ADDRESS(176,A114+4)),\"NON conformant\")","v":0},{"$f":"COUNTIF(INDIRECT(\"'Success Criteria'!\" & ADDRESS(122,A114+4)):INDIRECT(\"'Success Criteria'!\" & ADDRESS(176,A114+4)),\"N/A\")","v":0},{"$f":"COUNTIF(INDIRECT(\"'Success Criteria'!\" & ADDRESS(122,A114+4)):INDIRECT(\"'Success Criteria'!\" & ADDRESS(176,A114+4)),\"not tested\")","v":28},2,0,0,28,null,0,"",2,"",28,1]
[101,"Page 101","URL 101","Please select",{"$f":"SUM(COUNTIF(INDIRECT(\"'Success Criteria'!\" & ADDRESS(8,A115+4)):INDIRECT(\"'Success Criteria'!\" & ADDRESS(70,A115+4)),\"PASS\"),COUNTIF(INDIRECT(\"'Success Criteria'!\" & ADDRESS(8,A115+4)):INDIRECT(\"'Success Criteria'!\" & ADDRESS(70,A115+4)),\"PASS with comments\"))","v":0},{"$f":"COUNTIF(INDIRECT(\"'Success Criteria'!\" & ADDRESS(8,A115+4)):INDIRECT(\"'Success Criteria'!\" & ADDRESS(70,A115+4)),\"NON conformant\")","v":0},{"$f":"COUNTIF(INDIRECT(\"'Success Criteria'!\" & ADDRESS(8,A115+4)):INDIRECT(\"'Success Criteria'!\" & ADDRESS(70,A115+4)),\"N/A\")","v":0},{"$f":"COUNTIF(INDIRECT(\"'Success Criteria'!\" & ADDRESS(8,A115+4)):INDIRECT(\"'Success Criteria'!\" & ADDRESS(70,A115+4)),\"not tested\")","v":0},{"$f":"SUM(COUNTIF(INDIRECT(\"'Success Criteria'!\" & ADDRESS(74,A115+4)):INDIRECT(\"'Success Criteria'!\" & ADDRESS(117,A115+4)),\"PASS\"),COUNTIF(INDIRECT(\"'Success Criteria'!\" & ADDRESS(74,A115+4)):INDIRECT(\"'Success Criteria'!\" & ADDRESS(117,A115+4)),\"PASS with comments\"))","v":2},{"$f":"COUNTIF(INDIRECT(\"'Success Criteria'!\" & ADDRESS(74,A115+4)):INDIRECT(\"'Success Criteria'!\" & ADDRESS(117,A115+4)),\"NON conformant\")","v":0},{"$f":"COUNTIF(INDIRECT(\"'Success Criteria'!\" & ADDRESS(74,A115+4)):INDIRECT(\"'Success Criteria'!\" & ADDRESS(117,A115+4)),\"N/A\")","v":0},{"$f":"COUNTIF(INDIRECT(\"'Success Criteria'!\" & ADDRESS(74,A115+4)):INDIRECT(\"'Success Criteria'!\" & ADDRESS(117,A115+4)),\"not tested\")","v":0},{"$f":"SUM(COUNTIF(INDIRECT(\"'Success Criteria'!\" & ADDRESS(122,A115+4)):INDIRECT(\"'Success Criteria'!\" & ADDRESS(176,A115+4)),\"PASS\"),COUNTIF(INDIRECT(\"'Success Criteria'!\" & ADDRESS(122,A115+4)):INDIRECT(\"'Success Criteria'!\" & ADDRESS(176,A115+4)),\"PASS with comments\"))","v":0},{"$f":"COUNTIF(INDIRECT(\"'Success Criteria'!\" & ADDRESS(122,A115+4)):INDIRECT(\"'Success Criteria'!\" & ADDRESS(176,A115+4)),\"NON conformant\")","v":0},{"$f":"COUNTIF(INDIRECT(\"'Success Criteria'!\" & ADDRESS(122,A115+4)):INDIRECT(\"'Success Criteria'!\" & ADDRESS(176,A115+4)),\"N/A\")","v":0},{"$f":"COUNTIF(INDIRECT(\"'Success Criteria'!\" & ADDRESS(122,A115+4)):INDIRECT(\"'Success Criteria'!\" & ADDRESS(176,A115+4)),\"not tested\")","v":28},2,0,0,28,null,0,"",2,"",28,1]
[102,"Page 102","URL 102","Please select",{"$f":"SUM(COUNTIF(INDIRECT(\"'Success Criteria'!\" & ADDRESS(8,A116+4)):INDIRECT(\"'Success Criteria'!\" & ADDRESS(70,A116+4)),\"PASS\"),COUNTIF(INDIRECT(\"'Success Criteria'!\" & ADDRESS(8,A116+4)):INDIRECT(\"'Success Criteria'!\" & ADDRESS(70,A116+4)),\"PASS with comments\"))","v":0},{"$f":"COUNTIF(INDIRECT(\"'Success Criteria'!\" & ADDRESS(8,A116+4)):INDIRECT(\"'Success Criteria'!\" & ADDRESS(70,A116+4)),\"NON conformant\")","v":0},{"$f":"COUNTIF(INDIRECT(\"'Success Criteria'!\" & ADDRESS(8,A116+4)):INDIRECT(\"'Success Criteria'!\" & ADDRESS(70,A116+4)),\"N/A\")","v":0},{"$f":"COUNTIF(INDIRECT(\"'Success Criteria'!\" & ADDRESS(8,A116+4)):INDIRECT(\"'Success Criteria'!\" & ADDRESS(70,A116+4)),\"not tested\")","v":0},{"$f":"SUM(COUNTIF(INDIRECT(\"'Success Criteria'!\" & ADDRESS(74,A116+4)):INDIRECT(\"'Success Criteria'!\" & ADDRESS(117,A116+4)),\"PASS\"),COUNTIF(INDIRECT(\"'Success Criteria'!\" & ADDRESS(74,A116+4)):INDIRECT(\"'Success Criteria'!\" & ADDRESS(117,A116+4)),\"PASS with comments\"))","v":2},{"$f":"COUNTIF(INDIRECT(\"'Success Criteria'!\" & ADDRESS(74,A116+4)):INDIRECT(\"'Success Criteria'!\" & ADDRESS(117,A116+4)),\"NON conformant\")","v":0},{"$f":"COUNTIF(INDIRECT(\"'Success Criteria'!\" & ADDRESS(74,A116+4)):INDIRECT(\"'Success Criteria'!\" & ADDRESS(117,A116+4)),\"N/A\")","v":0},{"$f":"COUNTIF(INDIRECT(\"'Success Criteria'!\" & ADDRESS(74,A116+4)):INDIRECT(\"'Success Criteria'!\" & ADDRESS(117,A116+4)),\"not tested\")","v":0},{"$f":"SUM(COUNTIF(INDIRECT(\"'Success Criteria'!\" & ADDRESS(122,A116+4)):INDIRECT(\"'Success Criteria'!\" & ADDRESS(176,A116+4)),\"PASS\"),COUNTIF(INDIRECT(\"'Success Criteria'!\" & ADDRESS(122,A116+4)):INDIRECT(\"'Success Criteria'!\" & ADDRESS(176,A116+4)),\"PASS with comments\"))","v":0},{"$f":"COUNTIF(INDIRECT(\"'Success Criteria'!\" & ADDRESS(122,A116+4)):INDIRECT(\"'Success Criteria'!\" & ADDRESS(176,A116+4)),\"NON conformant\")","v":0},{"$f":"COUNTIF(INDIRECT(\"'Success Criteria'!\" & ADDRESS(122,A116+4)):INDIRECT(\"'Success Criteria'!\" & ADDRESS(176,A116+4)),\"N/A\")","v":0},{"$f":"COUNTIF(INDIRECT(\"'Success Criteria'!\" & ADDRESS(122,A116+4)):INDIRECT(\"'Success Criteria'!\" & ADDRESS(176,A116+4)),\"not tested\")","v":28},2,0,0,28,null,0,"",2,"",28,1]
[103,"Page 103","URL 103","Please select",{"$f":"SUM(COUNTIF(INDIRECT(\"'Success Criteria'!\" & ADDRESS(8,A117+4)):INDIRECT(\"'Success Criteria'!\" & ADDRESS(70,A117+4)),\"PASS\"),COUNTIF(INDIRECT(\"'Success Criteria'!\" & ADDRESS(8,A117+4)):INDIRECT(\"'Success Criteria'!\" & ADDRESS(70,A117+4)),\"PASS with comments\"))","v":0},{"$f":"COUNTIF(INDIRECT(\"'Success Criteria'!\" & ADDRESS(8,A117+4)):INDIRECT(\"'Success Criteria'!\" & ADDRESS(70,A117+4)),\"NON conformant\")","v":0},{"$f":"COUNTIF(INDIRECT(\"'Success Criteria'!\" & ADDRESS(8,A117+4)):INDIRECT(\"'Success Criteria'!\" & ADDRESS(70,A117+4)),\"N/A\")","v":0},{"$f":"COUNTIF(INDIRECT(\"'Success Criteria'!\" & ADDRESS(8,A117+4)):INDIRECT(\"'Success Criteria'!\" & ADDRESS(70,A117+4)),\"not tested\")","v":0},{"$f":"SUM(COUNTIF(INDIRECT(\"'Success Criteria'!\" & ADDRESS(74,A117+4)):INDIRECT(\"'Success Criteria'!\" & ADDRESS(117,A117+4)),\"PASS\"),COUNTIF(INDIRECT(\"'Success Criteria'!\" & ADDRESS(74,A117+4)):INDIRECT(\"'Success Criteria'!\" & ADDRESS(117,A117+4)),\"PASS with comments\"))","v":2},{"$f":"COUNTIF(INDIRECT(\"'Success Criteria'!\" & ADDRESS(74,A117+4)):INDIRECT(\"'Success Criteria'!\" & ADDRESS(117,A117+4)),\"NON conformant\")","v":0},{"$f":"COUNTIF(INDIRECT(\"'Success Criteria'!\" & ADDRESS(74,A117+4)):INDIRECT(\"'Success Criteria'!\" & ADDRESS(117,A117+4)),\"N/A\")","v":0},{"$f":"COUNTIF(INDIRECT(\"'Success Criteria'!\" & ADDRESS(74,A117+4)):INDIRECT(\"'Success Criteria'!\" & ADDRESS(117,A117+4)),\"not tested\")","v":0},{"$f":"SUM(COUNTIF(INDIRECT(\"'Success Criteria'!\" & ADDRESS(122,A117+4)):INDIRECT(\"'Success Criteria'!\" & ADDRESS(176,A117+4)),\"PASS\"),COUNTIF(INDIRECT(\"'Success Criteria'!\" & ADDRESS(122,A117+4)):INDIRECT(\"'Success Criteria'!\" & ADDRESS(176,A117+4)),\"PASS with comments\"))","v":0},{"$f":"COUNTIF(INDIRECT(\"'Success Criteria'!\" & ADDRESS(122,A117+4)):INDIRECT(\"'Success Criteria'!\" & ADDRESS(176,A117+4)),\"NON conformant\")","v":0},{"$f":"COUNTIF(INDIRECT(\"'Success Criteria'!\" & ADDRESS(122,A117+4)):INDIRECT(\"'Success Criteria'!\" & ADDRESS(176,A117+4)),\"N/A\")","v":0},{"$f":"COUNTIF(INDIRECT(\"'Success Criteria'!\" & ADDRESS(122,A117+4)):INDIRECT(\"'Success Criteria'!\" & ADDRESS(176,A117+4)),\"not tested\")","v":28},2,0,0,28,null,0,"",2,"",28,1]
[104,"Page 104","URL 104","Please select",{"$f":"SUM(COUNTIF(INDIRECT(\"'Success Criteria'!\" & ADDRESS(8,A118+4)):INDIRECT(\"'Success Criteria'!\" & ADDRESS(70,A118+4)),\"PASS\"),COUNTIF(INDIRECT(\"'Success Criteria'!\" & ADDRESS(8,A118+4)):INDIRECT(\"'Success Criteria'!\" & ADDRESS(70,A118+4)),\"PASS with comments\"))","v":0},{"$f":"COUNTIF(INDIRECT(\"'Success Criteria'!\" & ADDRESS(8,A118+4)):INDIRECT(\"'Success Criteria'!\" & ADDRESS(70,A118+4)),\"NON conformant\")","v":0},{"$f":"COUNTIF(INDIRECT(\"'Success Criteria'!\" & ADDRESS(8,A118+4)):INDIRECT(\"'Success Criteria'!\" & ADDRESS(70,A118+4)),\"N/A\")","v":0},{"$f":"COUNTIF(INDIRECT(\"'Success Criteria'!\" & ADDRESS(8,A118+4)):INDIRECT(\"'Success Criteria'!\" & ADDRESS(70,A118+4)),\"not tested\")","v":0},{"$f":"SUM(COUNTIF(INDIRECT(\"'Success Criteria'!\" & ADDRESS(74,A118+4)):INDIRECT(\"'Success Criteria'!\" & ADDRESS(117,A118+4)),\"PASS\"),COUNTIF(INDIRECT(\"'Success Criteria'!\" & ADDRESS(74,A118+4)):INDIRECT(\"'Success Criteria'!\" & ADDRESS(117,A118+4)),\"PASS with comments\"))","v":2},{"$f":"COUNTIF(INDIRECT(\"'Success Criteria'!\" & ADDRESS(74,A118+4)):INDIRECT(\"'Success Criteria'!\" & ADDRESS(117,A118+4)),\"NON conformant\")","v":0},{"$f":"COUNTIF(INDIRECT(\"'Success Criteria'!\" & ADDRESS(74,A118+4)):INDIRECT(\"'Success Criteria'!\" & ADDRESS(117,A118+4)),\"N/A\")","v":0},{"$f":"COUNTIF(INDIRECT(\"'Success Criteria'!\" & ADDRESS(74,A118+4)):INDIRECT(\"'Success Criteria'!\" & ADDRESS(117,A118+4)),\"not tested\")","v":0},{"$f":"SUM(COUNTIF(INDIRECT(\"'Success Criteria'!\" & ADDRESS(122,A118+4)):INDIRECT(\"'Success Criteria'!\" & ADDRESS(176,A118+4)),\"PASS\"),COUNTIF(INDIRECT(\"'Success Criteria'!\" & ADDRESS(122,A118+4)):INDIRECT(\"'Success Criteria'!\" & ADDRESS(176,A118+4)),\"PASS with comments\"))","v":0},{"$f":"COUNTIF(INDIRECT(\"'Success Criteria'!\" & ADDRESS(122,A118+4)):INDIRECT(\"'Success Criteria'!\" & ADDRESS(176,A118+4)),\"NON conformant\")","v":0},{"$f":"COUNTIF(INDIRECT(\"'Success Criteria'!\" & ADDRESS(122,A118+4)):INDIRECT(\"'Success Criteria'!\" & ADDRESS(176,A118+4)),\"N/A\")","v":0},{"$f":"COUNTIF(INDIRECT(\"'Success Criteria'!\" & ADDRESS(122,A118+4)):INDIRECT(\"'Success Criteria'!\" & ADDRESS(176,A118+4)),\"not tested\")","v":28},2,0,0,28,null,0,"",2,"",28,1]
[105,"Page 105","URL 105","Please select",{"$f":"SUM(COUNTIF(INDIRECT(\"'Success Criteria'!\" & ADDRESS(8,A119+4)):INDIRECT(\"'Success Criteria'!\" & ADDRESS(70,A119+4)),\"PASS\"),COUNTIF(INDIRECT(\"'Success Criteria'!\" & ADDRESS(8,A119+4)):INDIRECT(\"'Success Criteria'!\" & ADDRESS(70,A119+4)),\"PASS with comments\"))","v":0},{"$f":"COUNTIF(INDIRECT(\"'Success Criteria'!\" & ADDRESS(8,A119+4)):INDIRECT(\"'Success Criteria'!\" & ADDRESS(70,A119+4)),\"NON conformant\")","v":0},{"$f":"COUNTIF(INDIRECT(\"'Success Criteria'!\" & ADDRESS(8,A119+4)):INDIRECT(\"'Success Criteria'!\" & ADDRESS(70,A119+4)),\"N/A\")","v":0},{"$f":"COUNTIF(INDIRECT(\"'Success Criteria'!\" & ADDRESS(8,A119+4)):INDIRECT(\"'Success Criteria'!\" & ADDRESS(70,A119+4)),\"not tested\")","v":0},{"$f":"SUM(COUNTIF(INDIRECT(\"'Success Criteria'!\" & ADDRESS(74,A119+4)):INDIRECT(\"'Success Criteria'!\" & ADDRESS(117,A119+4)),\"PASS\"),COUNTIF(INDIRECT(\"'Success Criteria'!\" & ADDRESS(74,A119+4)):INDIRECT(\"'Success Criteria'!\" & ADDRESS(117,A119+4)),\"PASS with comments\"))","v":2},{"$f":"COUNTIF(INDIRECT(\"'Success Criteria'!\" & ADDRESS(74,A119+4)):INDIRECT(\"'Success Criteria'!\" & ADDRESS(117,A119+4)),\"NON conformant\")","v":0},{"$f":"COUNTIF(INDIRECT(\"'Success Criteria'!\" & ADDRESS(74,A119+4)):INDIRECT(\"'Success Criteria'!\" & ADDRESS(117,A119+4)),\"N/A\")","v":0},{"$f":"COUNTIF(INDIRECT(\"'Success Criteria'!\" & ADDRESS(74,A119+4)):INDIRECT(\"'Success Criteria'!\" & ADDRESS(117,A119+4)),\"not tested\")","v":0},{"$f":"SUM(COUNTIF(INDIRECT(\"'Success Criteria'!\" & ADDRESS(122,A119+4)):INDIRECT(\"'Success Criteria'!\" & ADDRESS(176,A119+4)),\"PASS\"),COUNTIF(INDIRECT(\"'Success Criteria'!\" & ADDRESS(122,A119+4)):INDIRECT(\"'Success Criteria'!\" & ADDRESS(176,A119+4)),\"PASS with comments\"))","v":0},{"$f":"COUNTIF(INDIRECT(\"'Success Criteria'!\" & ADDRESS(122,A119+4)):INDIRECT(\"'Success Criteria'!\" & ADDRESS(176,A119+4)),\"NON conformant\")","v":0},{"$f":"COUNTIF(INDIRECT(\"'Success Criteria'!\" & ADDRESS(122,A119+4)):INDIRECT(\"'Success Criteria'!\" & ADDRESS(176,A119+4)),\"N/A\")","v":0},{"$f":"COUNTIF(INDIRECT(\"'Success Criteria'!\" & ADDRESS(122,A119+4)):INDIRECT(\"'Success Criteria'!\" & ADDRESS(176,A119+4)),\"not tested\")","v":28},2,0,0,28,null,0,"",2,"",28,1]
[106,"Page 106","URL 106","Please select",{"$f":"SUM(COUNTIF(INDIRECT(\"'Success Criteria'!\" & ADDRESS(8,A120+4)):INDIRECT(\"'Success Criteria'!\" & ADDRESS(70,A120+4)),\"PASS\"),COUNTIF(INDIRECT(\"'Success Criteria'!\" & ADDRESS(8,A120+4)):INDIRECT(\"'Success Criteria'!\" & ADDRESS(70,A120+4)),\"PASS with comments\"))","v":0},{"$f":"COUNTIF(INDIRECT(\"'Success Criteria'!\" & ADDRESS(8,A120+4)):INDIRECT(\"'Success Criteria'!\" & ADDRESS(70,A120+4)),\"NON conformant\")","v":0},{"$f":"COUNTIF(INDIRECT(\"'Success Criteria'!\" & ADDRESS(8,A120+4)):INDIRECT(\"'Success Criteria'!\" & ADDRESS(70,A120+4)),\"N/A\")","v":0},{"$f":"COUNTIF(INDIRECT(\"'Success Criteria'!\" & ADDRESS(8,A120+4)):INDIRECT(\"'Success Criteria'!\" & ADDRESS(70,A120+4)),\"not tested\")","v":0},{"$f":"SUM(COUNTIF(INDIRECT(\"'Success Criteria'!\" & ADDRESS(74,A120+4)):INDIRECT(\"'Success Criteria'!\" & ADDRESS(117,A120+4)),\"PASS\"),COUNTIF(INDIRECT(\"'Success Criteria'!\" & ADDRESS(74,A120+4)):INDIRECT(\"'Success Criteria'!\" & ADDRESS(117,A120+4)),\"PASS with comments\"))","v":2},{"$f":"COUNTIF(INDIRECT(\"'Success Criteria'!\" & ADDRESS(74,A120+4)):INDIRECT(\"'Success Criteria'!\" & ADDRESS(117,A120+4)),\"NON conformant\")","v":0},{"$f":"COUNTIF(INDIRECT(\"'Success Criteria'!\" & ADDRESS(74,A120+4)):INDIRECT(\"'Success Criteria'!\" & ADDRESS(117,A120+4)),\"N/A\")","v":0},{"$f":"COUNTIF(INDIRECT(\"'Success Criteria'!\" & ADDRESS(74,A120+4)):INDIRECT(\"'Success Criteria'!\" & ADDRESS(117,A120+4)),\"not tested\")","v":0},{"$f":"SUM(COUNTIF(INDIRECT(\"'Success Criteria'!\" & ADDRESS(122,A120+4)):INDIRECT(\"'Success Criteria'!\" & ADDRESS(176,A120+4)),\"PASS\"),COUNTIF(INDIRECT(\"'Success Criteria'!\" & ADDRESS(122,A120+4)):INDIRECT(\"'Success Criteria'!\" & ADDRESS(176,A120+4)),\"PASS with comments\"))","v":0},{"$f":"COUNTIF(INDIRECT(\"'Success Criteria'!\" & ADDRESS(122,A120+4)):INDIRECT(\"'Success Criteria'!\" & ADDRESS(176,A120+4)),\"NON conformant\")","v":0},{"$f":"COUNTIF(INDIRECT(\"'Success Criteria'!\" & ADDRESS(122,A120+4)):INDIRECT(\"'Success Criteria'!\" & ADDRESS(176,A120+4)),\"N/A\")","v":0},{"$f":"COUNTIF(INDIRECT(\"'Success Criteria'!\" & ADDRESS(122,A120+4)):INDIRECT(\"'Success Criteria'!\" & ADDRESS(176,A120+4)),\"not tested\")","v":28},2,0,0,28,null,0,"",2,"",28,1]
[107,"Page 107","URL 107","Please select",{"$f":"SUM(COUNTIF(INDIRECT(\"'Success Criteria'!\" & ADDRESS(8,A121+4)):INDIRECT(\"'Success Criteria'!\" & ADDRESS(70,A121+4)),\"PASS\"),COUNTIF(INDIRECT(\"'Success Criteria'!\" & ADDRESS(8,A121+4)):INDIRECT(\"'Success Criteria'!\" & ADDRESS(70,A121+4)),\"PASS with comments\"))","v":0},{"$f":"COUNTIF(INDIRECT(\"'Success Criteria'!\" & ADDRESS(8,A121+4)):INDIRECT(\"'Success Criteria'!\" & ADDRESS(70,A121+4)),\"NON conformant\")","v":0},{"$f":"COUNTIF(INDIRECT(\"'Success Criteria'!\" & ADDRESS(8,A121+4)):INDIRECT(\"'Success Criteria'!\" & ADDRESS(70,A121+4)),\"N/A\")","v":0},{"$f":"COUNTIF(INDIRECT(\"'Success Criteria'!\" & ADDRESS(8,A121+4)):INDIRECT(\"'Success Criteria'!\" & ADDRESS(70,A121+4)),\"not tested\")","v":0},{"$f":"SUM(COUNTIF(INDIRECT(\"'Success Criteria'!\" & ADDRESS(74,A121+4)):INDIRECT(\"'Success Criteria'!\" & ADDRESS(117,A121+4)),\"PASS\"),COUNTIF(INDIRECT(\"'Success Criteria'!\" & ADDRESS(74,A121+4)):INDIRECT(\"'Success Criteria'!\" & ADDRESS(117,A121+4)),\"PASS with comments\"))","v":2},{"$f":"COUNTIF(INDIRECT(\"'Success Criteria'!\" & ADDRESS(74,A121+4)):INDIRECT(\"'Success Criteria'!\" & ADDRESS(117,A121+4)),\"NON conformant\")","v":0},{"$f":"COUNTIF(INDIRECT(\"'Success Criteria'!\" & ADDRESS(74,A121+4)):INDIRECT(\"'Success Criteria'!\" & ADDRESS(117,A121+4)),\"N/A\")","v":0},{"$f":"COUNTIF(INDIRECT(\"'Success Criteria'!\" & ADDRESS(74,A121+4)):INDIRECT(\"'Success Criteria'!\" & ADDRESS(117,A121+4)),\"not tested\")","v":0},{"$f":"SUM(COUNTIF(INDIRECT(\"'Success Criteria'!\" & ADDRESS(122,A121+4)):INDIRECT(\"'Success Criteria'!\" & ADDRESS(176,A121+4)),\"PASS\"),COUNTIF(INDIRECT(\"'Success Criteria'!\" & ADDRESS(122,A121+4)):INDIRECT(\"'Success Criteria'!\" & ADDRESS(176,A121+4)),\"PASS with comments\"))","v":0},{"$f":"COUNTIF(INDIRECT(\"'Success Criteria'!\" & ADDRESS(122,A121+4)):INDIRECT(\"'Success Criteria'!\" & ADDRESS(176,A121+4)),\"NON conformant\")","v":0},{"$f":"COUNTIF(INDIRECT(\"'Success Criteria'!\" & ADDRESS(122,A121+4)):INDIRECT(\"'Success Criteria'!\" & ADDRESS(176,A121+4)),\"N/A\")","v":0},{"$f":"COUNTIF(INDIRECT(\"'Success Criteria'!\" & ADDRESS(122,A121+4)):INDIRECT(\"'Success Criteria'!\" & ADDRESS(176,A121+4)),\"not tested\")","v":28},2,0,0,28,null,0,"",2,"",28,1]
[108,"Page 108","URL 108","Please select",{"$f":"SUM(COUNTIF(INDIRECT(\"'Success Criteria'!\" & ADDRESS(8,A122+4)):INDIRECT(\"'Success Criteria'!\" & ADDRESS(70,A122+4)),\"PASS\"),COUNTIF(INDIRECT(\"'Success Criteria'!\" & ADDRESS(8,A122+4)):INDIRECT(\"'Success Criteria'!\" & ADDRESS(70,A122+4)),\"PASS with comments\"))","v":0},{"$f":"COUNTIF(INDIRECT(\"'Success Criteria'!\" & ADDRESS(8,A122+4)):INDIRECT(\"'Success Criteria'!\" & ADDRESS(70,A122+4)),\"NON conformant\")","v":0},{"$f":"COUNTIF(INDIRECT(\"'Success Criteria'!\" & ADDRESS(8,A122+4)):INDIRECT(\"'Success Criteria'!\" & ADDRESS(70,A122+4)),\"N/A\")","v":0},{"$f":"COUNTIF(INDIRECT(\"'Success Criteria'!\" & ADDRESS(8,A122+4)):INDIRECT(\"'Success Criteria'!\" & ADDRESS(70,A122+4)),\"not tested\")","v":0},{"$f":"SUM(COUNTIF(INDIRECT(\"'Success Criteria'!\" & ADDRESS(74,A122+4)):INDIRECT(\"'Success Criteria'!\" & ADDRESS(117,A122+4)),\"PASS\"),COUNTIF(INDIRECT(\"'Success Criteria'!\" & ADDRESS(74,A122+4)):INDIRECT(\"'Success Criteria'!\" & ADDRESS(117,A122+4)),\"PASS with comments\"))","v":2},{"$f":"COUNTIF(INDIRECT(\"'Success Criteria'!\" & ADDRESS(74,A122+4)):INDIRECT(\"'Success Criteria'!\" & ADDRESS(117,A122+4)),\"NON conformant\")","v":0},{"$f":"COUNTIF(INDIRECT(\"'Success Criteria'!\" & ADDRESS(74,A122+4)):INDIRECT(\"'Success Criteria'!\" & ADDRESS(117,A122+4)),\"N/A\")","v":0},{"$f":"COUNTIF(INDIRECT(\"'Success Criteria'!\" & ADDRESS(74,A122+4)):INDIRECT(\"'Success Criteria'!\" & ADDRESS(117,A122+4)),\"not tested\")","v":0},{"$f":"SUM(COUNTIF(INDIRECT(\"'Success Criteria'!\" & ADDRESS(122,A122+4)):INDIRECT(\"'Success Criteria'!\" & ADDRESS(176,A122+4)),\"PASS\"),COUNTIF(INDIRECT(\"'Success Criteria'!\" & ADDRESS(122,A122+4)):INDIRECT(\"'Success Criteria'!\" & ADDRESS(176,A122+4)),\"PASS with comments\"))","v":0},{"$f":"COUNTIF(INDIRECT(\"'Success Criteria'!\" & ADDRESS(122,A122+4)):INDIRECT(\"'Success Criteria'!\" & ADDRESS(176,A122+4)),\"NON conformant\")","v":0},{"$f":"COUNTIF(INDIRECT(\"'Success Criteria'!\" & ADDRESS(122,A122+4)):INDIRECT(\"'Success Criteria'!\" & ADDRESS(176,A122+4)),\"N/A\")","v":0},{"$f":"COUNTIF(INDIRECT(\"'Success Criteria'!\" & ADDRESS(122,A122+4)):INDIRECT(\"'Success Criteria'!\" & ADDRESS(176,A122+4)),\"not tested\")","v":28},2,0,0,28,null,0,"",2,"",28,1]
[109,"Page 109","URL 109","Please select",{"$f":"SUM(COUNTIF(INDIRECT(\"'Success Criteria'!\" & ADDRESS(8,A123+4)):INDIRECT(\"'Success Criteria'!\" & ADDRESS(70,A123+4)),\"PASS\"),COUNTIF(INDIRECT(\"'Success Criteria'!\" & ADDRESS(8,A123+4)):INDIRECT(\"'Success Criteria'!\" & ADDRESS(70,A123+4)),\"PASS with comments\"))","v":0},{"$f":"COUNTIF(INDIRECT(\"'Success Criteria'!\" & ADDRESS(8,A123+4)):INDIRECT(\"'Success Criteria'!\" & ADDRESS(70,A123+4)),\"NON conformant\")","v":0},{"$f":"COUNTIF(INDIRECT(\"'Success Criteria'!\" & ADDRESS(8,A123+4)):INDIRECT(\"'Success Criteria'!\" & ADDRESS(70,A123+4)),\"N/A\")","v":0},{"$f":"COUNTIF(INDIRECT(\"'Success Criteria'!\" & ADDRESS(8,A123+4)):INDIRECT(\"'Success Criteria'!\" & ADDRESS(70,A123+4)),\"not tested\")","v":0},{"$f":"SUM(COUNTIF(INDIRECT(\"'Success Criteria'!\" & ADDRESS(74,A123+4)):INDIRECT(\"'Success Criteria'!\" & ADDRESS(117,A123+4)),\"PASS\"),COUNTIF(INDIRECT(\"'Success Criteria'!\" & ADDRESS(74,A123+4)):INDIRECT(\"'Success Criteria'!\" & ADDRESS(117,A123+4)),\"PASS with comments\"))","v":2},{"$f":"COUNTIF(INDIRECT(\"'Success Criteria'!\" & ADDRESS(74,A123+4)):INDIRECT(\"'Success Criteria'!\" & ADDRESS(117,A123+4)),\"NON conformant\")","v":0},{"$f":"COUNTIF(INDIRECT(\"'Success Criteria'!\" & ADDRESS(74,A123+4)):INDIRECT(\"'Success Criteria'!\" & ADDRESS(117,A123+4)),\"N/A\")","v":0},{"$f":"COUNTIF(INDIRECT(\"'Success Criteria'!\" & ADDRESS(74,A123+4)):INDIRECT(\"'Success Criteria'!\" & ADDRESS(117,A123+4)),\"not tested\")","v":0},{"$f":"SUM(COUNTIF(INDIRECT(\"'Success Criteria'!\" & ADDRESS(122,A123+4)):INDIRECT(\"'Success Criteria'!\" & ADDRESS(176,A123+4)),\"PASS\"),COUNTIF(INDIRECT(\"'Success Criteria'!\" & ADDRESS(122,A123+4)):INDIRECT(\"'Success Criteria'!\" & ADDRESS(176,A123+4)),\"PASS with comments\"))","v":0},{"$f":"COUNTIF(INDIRECT(\"'Success Criteria'!\" & ADDRESS(122,A123+4)):INDIRECT(\"'Success Criteria'!\" & ADDRESS(176,A123+4)),\"NON conformant\")","v":0},{"$f":"COUNTIF(INDIRECT(\"'Success Criteria'!\" & ADDRESS(122,A123+4)):INDIRECT(\"'Success Criteria'!\" & ADDRESS(176,A123+4)),\"N/A\")","v":0},{"$f":"COUNTIF(INDIRECT(\"'Success Criteria'!\" & ADDRESS(122,A123+4)):INDIRECT(\"'Success Criteria'!\" & ADDRESS(176,A123+4)),\"not tested\")","v":28},2,0,0,28,null,0,"",2,"",28,1]
[110,"Page 110","URL 110","Please select",{"$f":"SUM(COUNTIF(INDIRECT(\"'Success Criteria'!\" & ADDRESS(8,A124+4)):INDIRECT(\"'Success Criteria'!\" & ADDRESS(70,A124+4)),\"PASS\"),COUNTIF(INDIRECT(\"'Success Criteria'!\" & ADDRESS(8,A124+4)):INDIRECT(\"'Success Criteria'!\" & ADDRESS(70,A124+4)),\"PASS with comments\"))","v":0},{"$f":"COUNTIF(INDIRECT(\"'Success Criteria'!\" & ADDRESS(8,A124+4)):INDIRECT(\"'Success Criteria'!\" & ADDRESS(70,A124+4)),\"NON conformant\")","v":0},{"$f":"COUNTIF(INDIRECT(\"'Success Criteria'!\" & ADDRESS(8,A124+4)):INDIRECT(\"'Success Criteria'!\" & ADDRESS(70,A124+4)),\"N/A\")","v":0},{"$f":"COUNTIF(INDIRECT(\"'Success Criteria'!\" & ADDRESS(8,A124+4)):INDIRECT(\"'Success Criteria'!\" & ADDRESS(70,A124+4)),\"not tested\")","v":0},{"$f":"SUM(COUNTIF(INDIRECT(\"'Success Criteria'!\" & ADDRESS(74,A124+4)):INDIRECT(\"'Success Criteria'!\" & ADDRESS(117,A124+4)),\"PASS\"),COUNTIF(INDIRECT(\"'Success Criteria'!\" & ADDRESS(74,A124+4)):INDIRECT(\"'Success Criteria'!\" & ADDRESS(117,A124+4)),\"PASS with comments\"))","v":2},{"$f":"COUNTIF(INDIRECT(\"'Success Criteria'!\" & ADDRESS(74,A124+4)):INDIRECT(\"'Success Criteria'!\" & ADDRESS(117,A124+4)),\"NON conformant\")","v":0},{"$f":"COUNTIF(INDIRECT(\"'Success Criteria'!\" & ADDRESS(74,A124+4)):INDIRECT(\"'Success Criteria'!\" & ADDRESS(117,A124+4)),\"N/A\")","v":0},{"$f":"COUNTIF(INDIRECT(\"'Success Criteria'!\" & ADDRESS(74,A124+4)):INDIRECT(\"'Success Criteria'!\" & ADDRESS(117,A124+4)),\"not tested\")","v":0},{"$f":"SUM(COUNTIF(INDIRECT(\"'Success Criteria'!\" & ADDRESS(122,A124+4)):INDIRECT(\"'Success Criteria'!\" & ADDRESS(176,A124+4)),\"PASS\"),COUNTIF(INDIRECT(\"'Success Criteria'!\" & ADDRESS(122,A124+4)):INDIRECT(\"'Success Criteria'!\" & ADDRESS(176,A124+4)),\"PASS with comments\"))","v":0},{"$f":"COUNTIF(INDIRECT(\"'Success Criteria'!\" & ADDRESS(122,A124+4)):INDIRECT(\"'Success Criteria'!\" & ADDRESS(176,A124+4)),\"NON conformant\")","v":0},{"$f":"COUNTIF(INDIRECT(\"'Success Criteria'!\" & ADDRESS(122,A124+4)):INDIRECT(\"'Success Criteria'!\" & ADDRESS(176,A124+4)),\"N/A\")","v":0},{"$f":"COUNTIF(INDIRECT(\"'Success Criteria'!\" & ADDRESS(122,A124+4)):INDIRECT(\"'Success Criteria'!\" & ADDRESS(176,A124+4)),\"not tested\")","v":28},2,0,0,28,null,0,"",2,"",28,1]
[111,"Page 111","URL 111","Please select",{"$f":"SUM(COUNTIF(INDIRECT(\"'Success Criteria'!\" & ADDRESS(8,A125+4)):INDIRECT(\"'Success Criteria'!\" & ADDRESS(70,A125+4)),\"PASS\"),COUNTIF(INDIRECT(\"'Success Criteria'!\" & ADDRESS(8,A125+4)):INDIRECT(\"'Success Criteria'!\" & ADDRESS(70,A125+4)),\"PASS with comments\"))","v":0},{"$f":"COUNTIF(INDIRECT(\"'Success Criteria'!\" & ADDRESS(8,A125+4)):INDIRECT(\"'Success Criteria'!\" & ADDRESS(70,A125+4)),\"NON conformant\")","v":0},{"$f":"COUNTIF(INDIRECT(\"'Success Criteria'!\" & ADDRESS(8,A125+4)):INDIRECT(\"'Success Criteria'!\" & ADDRESS(70,A125+4)),\"N/A\")","v":0},{"$f":"COUNTIF(INDIRECT(\"'Success Criteria'!\" & ADDRESS(8,A125+4)):INDIRECT(\"'Success Criteria'!\" & ADDRESS(70,A125+4)),\"not tested\")","v":0},{"$f":"SUM(COUNTIF(INDIRECT(\"'Success Criteria'!\" & ADDRESS(74,A125+4)):INDIRECT(\"'Success Criteria'!\" & ADDRESS(117,A125+4)),\"PASS\"),COUNTIF(INDIRECT(\"'Success Criteria'!\" & ADDRESS(74,A125+4)):INDIRECT(\"'Success Criteria'!\" & ADDRESS(117,A125+4)),\"PASS with comments\"))","v":2},{"$f":"COUNTIF(INDIRECT(\"'Success Criteria'!\" & ADDRESS(74,A125+4)):INDIRECT(\"'Success Criteria'!\" & ADDRESS(117,A125+4)),\"NON conformant\")","v":0},{"$f":"COUNTIF(INDIRECT(\"'Success Criteria'!\" & ADDRESS(74,A125+4)):INDIRECT(\"'Success Criteria'!\" & ADDRESS(117,A125+4)),\"N/A\")","v":0},{"$f":"COUNTIF(INDIRECT(\"'Success Criteria'!\" & ADDRESS(74,A125+4)):INDIRECT(\"'Success Criteria'!\" & ADDRESS(117,A125+4)),\"not tested\")","v":0},{"$f":"SUM(COUNTIF(INDIRECT(\"'Success Criteria'!\" & ADDRESS(122,A125+4)):INDIRECT(\"'Success Criteria'!\" & ADDRESS(176,A125+4)),\"PASS\"),COUNTIF(INDIRECT(\"'Success Criteria'!\" & ADDRESS(122,A125+4)):INDIRECT(\"'Success Criteria'!\" & ADDRESS(176,A125+4)),\"PASS with comments\"))","v":0},{"$f":"COUNTIF(INDIRECT(\"'Success Criteria'!\" & ADDRESS(122,A125+4)):INDIRECT(\"'Success Criteria'!\" & ADDRESS(176,A125+4)),\"NON conformant\")","v":0},{"$f":"COUNTIF(INDIRECT(\"'Success Criteria'!\" & ADDRESS(122,A125+4)):INDIRECT(\"'Success Criteria'!\" & ADDRESS(176,A125+4)),\"N/A\")","v":0},{"$f":"COUNTIF(INDIRECT(\"'Success Criteria'!\" & ADDRESS(122,A125+4)):INDIRECT(\"'Success Criteria'!\" & ADDRESS(176,A125+4)),\"not tested\")","v":28},2,0,0,28,null,0,"",2,"",28,1]
[112,"Page 112","URL 112","Please select",{"$f":"SUM(COUNTIF(INDIRECT(\"'Success Criteria'!\" & ADDRESS(8,A126+4)):INDIRECT(\"'Success Criteria'!\" & ADDRESS(70,A126+4)),\"PASS\"),COUNTIF(INDIRECT(\"'Success Criteria'!\" & ADDRESS(8,A126+4)):INDIRECT(\"'Success Criteria'!\" & ADDRESS(70,A126+4)),\"PASS with comments\"))","v":0},{"$f":"COUNTIF(INDIRECT(\"'Success Criteria'!\" & ADDRESS(8,A126+4)):INDIRECT(\"'Success Criteria'!\" & ADDRESS(70,A126+4)),\"NON conformant\")","v":0},{"$f":"COUNTIF(INDIRECT(\"'Success Criteria'!\" & ADDRESS(8,A126+4)):INDIRECT(\"'Success Criteria'!\" & ADDRESS(70,A126+4)),\"N/A\")","v":0},{"$f":"COUNTIF(INDIRECT(\"'Success Criteria'!\" & ADDRESS(8,A126+4)):INDIRECT(\"'Success Criteria'!\" & ADDRESS(70,A126+4)),\"not tested\")","v":0},{"$f":"SUM(COUNTIF(INDIRECT(\"'Success Criteria'!\" & ADDRESS(74,A126+4)):INDIRECT(\"'Success Criteria'!\" & ADDRESS(117,A126+4)),\"PASS\"),COUNTIF(INDIRECT(\"'Success Criteria'!\" & ADDRESS(74,A126+4)):INDIRECT(\"'Success Criteria'!\" & ADDRESS(117,A126+4)),\"PASS with comments\"))","v":2},{"$f":"COUNTIF(INDIRECT(\"'Success Criteria'!\" & ADDRESS(74,A126+4)):INDIRECT(\"'Success Criteria'!\" & ADDRESS(117,A126+4)),\"NON conformant\")","v":0},{"$f":"COUNTIF(INDIRECT(\"'Success Criteria'!\" & ADDRESS(74,A126+4)):INDIRECT(\"'Success Criteria'!\" & ADDRESS(117,A126+4)),\"N/A\")","v":0},{"$f":"COUNTIF(INDIRECT(\"'Success Criteria'!\" & ADDRESS(74,A126+4)):INDIRECT(\"'Success Criteria'!\" & ADDRESS(117,A126+4)),\"not tested\")","v":0},{"$f":"SUM(COUNTIF(INDIRECT(\"'Success Criteria'!\" & ADDRESS(122,A126+4)):INDIRECT(\"'Success Criteria'!\" & ADDRESS(176,A126+4)),\"PASS\"),COUNTIF(INDIRECT(\"'Success Criteria'!\" & ADDRESS(122,A126+4)):INDIRECT(\"'Success Criteria'!\" & ADDRESS(176,A126+4)),\"PASS with comments\"))","v":0},{"$f":"COUNTIF(INDIRECT(\"'Success Criteria'!\" & ADDRESS(122,A126+4)):INDIRECT(\"'Success Criteria'!\" & ADDRESS(176,A126+4)),\"NON conformant\")","v":0},{"$f":"COUNTIF(INDIRECT(\"'Success Criteria'!\" & ADDRESS(122,A126+4)):INDIRECT(\"'Success Criteria'!\" & ADDRESS(176,A126+4)),\"N/A\")","v":0},{"$f":"COUNTIF(INDIRECT(\"'Success Criteria'!\" & ADDRESS(122,A126+4)):INDIRECT(\"'Success Criteria'!\" & ADDRESS(176,A126+4)),\"not tested\")","v":28},2,0,0,28,null,0,"",2,"",28,1]
[113,"Page 113","URL 113","Please select",{"$f":"SUM(COUNTIF(INDIRECT(\"'Success Criteria'!\" & ADDRESS(8,A127+4)):INDIRECT(\"'Success Criteria'!\" & ADDRESS(70,A127+4)),\"PASS\"),COUNTIF(INDIRECT(\"'Success Criteria'!\" & ADDRESS(8,A127+4)):INDIRECT(\"'Success Criteria'!\" & ADDRESS(70,A127+4)),\"PASS with comments\"))","v":0},{"$f":"COUNTIF(INDIRECT(\"'Success Criteria'!\" & ADDRESS(8,A127+4)):INDIRECT(\"'Success Criteria'!\" & ADDRESS(70,A127+4)),\"NON conformant\")","v":0},{"$f":"COUNTIF(INDIRECT(\"'Success Criteria'!\" & ADDRESS(8,A127+4)):INDIRECT(\"'Success Criteria'!\" & ADDRESS(70,A127+4)),\"N/A\")","v":0},{"$f":"COUNTIF(INDIRECT(\"'Success Criteria'!\" & ADDRESS(8,A127+4)):INDIRECT(\"'Success Criteria'!\" & ADDRESS(70,A127+4)),\"not tested\")","v":0},{"$f":"SUM(COUNTIF(INDIRECT(\"'Success Criteria'!\" & ADDRESS(74,A127+4)):INDIRECT(\"'Success Criteria'!\" & ADDRESS(117,A127+4)),\"PASS\"),COUNTIF(INDIRECT(\"'Success Criteria'!\" & ADDRESS(74,A127+4)):INDIRECT(\"'Success Criteria'!\" & ADDRESS(117,A127+4)),\"PASS with comments\"))","v":2},{"$f":"COUNTIF(INDIRECT(\"'Success Criteria'!\" & ADDRESS(74,A127+4)):INDIRECT(\"'Success Criteria'!\" & ADDRESS(117,A127+4)),\"NON conformant\")","v":0},{"$f":"COUNTIF(INDIRECT(\"'Success Criteria'!\" & ADDRESS(74,A127+4)):INDIRECT(\"'Success Criteria'!\" & ADDRESS(117,A127+4)),\"N/A\")","v":0},{"$f":"COUNTIF(INDIRECT(\"'Success Criteria'!\" & ADDRESS(74,A127+4)):INDIRECT(\"'Success Criteria'!\" & ADDRESS(117,A127+4)),\"not tested\")","v":0},{"$f":"SUM(COUNTIF(INDIRECT(\"'Success Criteria'!\" & ADDRESS(122,A127+4)):INDIRECT(\"'Success Criteria'!\" & ADDRESS(176,A127+4)),\"PASS\"),COUNTIF(INDIRECT(\"'Success Criteria'!\" & ADDRESS(122,A127+4)):INDIRECT(\"'Success Criteria'!\" & ADDRESS(176,A127+4)),\"PASS with comments\"))","v":0},{"$f":"COUNTIF(INDIRECT(\"'Success Criteria'!\" & ADDRESS(122,A127+4)):INDIRECT(\"'Success Criteria'!\" & ADDRESS(176,A127+4)),\"NON conformant\")","v":0},{"$f":"COUNTIF(INDIRECT(\"'Success Criteria'!\" & ADDRESS(122,A127+4)):INDIRECT(\"'Success Criteria'!\" & ADDRESS(176,A127+4)),\"N/A\")","v":0},{"$f":"COUNTIF(INDIRECT(\"'Success Criteria'!\" & ADDRESS(122,A127+4)):INDIRECT(\"'Success Criteria'!\" & ADDRESS(176,A127+4)),\"not tested\")","v":28},2,0,0,28,null,0,"",2,"",28,1]
[114,"Page 114","URL 114","Please select",{"$f":"SUM(COUNTIF(INDIRECT(\"'Success Criteria'!\" & ADDRESS(8,A128+4)):INDIRECT(\"'Success Criteria'!\" & ADDRESS(70,A128+4)),\"PASS\"),COUNTIF(INDIRECT(\"'Success Criteria'!\" & ADDRESS(8,A128+4)):INDIRECT(\"'Success Criteria'!\" & ADDRESS(70,A128+4)),\"PASS with comments\"))","v":0},{"$f":"COUNTIF(INDIRECT(\"'Success Criteria'!\" & ADDRESS(8,A128+4)):INDIRECT(\"'Success Criteria'!\" & ADDRESS(70,A128+4)),\"NON conformant\")","v":0},{"$f":"COUNTIF(INDIRECT(\"'Success Criteria'!\" & ADDRESS(8,A128+4)):INDIRECT(\"'Success Criteria'!\" & ADDRESS(70,A128+4)),\"N/A\")","v":0},{"$f":"COUNTIF(INDIRECT(\"'Success Criteria'!\" & ADDRESS(8,A128+4)):INDIRECT(\"'Success Criteria'!\" & ADDRESS(70,A128+4)),\"not tested\")","v":0},{"$f":"SUM(COUNTIF(INDIRECT(\"'Success Criteria'!\" & ADDRESS(74,A128+4)):INDIRECT(\"'Success Criteria'!\" & ADDRESS(117,A128+4)),\"PASS\"),COUNTIF(INDIRECT(\"'Success Criteria'!\" & ADDRESS(74,A128+4)):INDIRECT(\"'Success Criteria'!\" & ADDRESS(117,A128+4)),\"PASS with comments\"))","v":2},{"$f":"COUNTIF(INDIRECT(\"'Success Criteria'!\" & ADDRESS(74,A128+4)):INDIRECT(\"'Success Criteria'!\" & ADDRESS(117,A128+4)),\"NON conformant\")","v":0},{"$f":"COUNTIF(INDIRECT(\"'Success Criteria'!\" & ADDRESS(74,A128+4)):INDIRECT(\"'Success Criteria'!\" & ADDRESS(117,A128+4)),\"N/A\")","v":0},{"$f":"COUNTIF(INDIRECT(\"'Success Criteria'!\" & ADDRESS(74,A128+4)):INDIRECT(\"'Success Criteria'!\" & ADDRESS(117,A128+4)),\"not tested\")","v":0},{"$f":"SUM(COUNTIF(INDIRECT(\"'Success Criteria'!\" & ADDRESS(122,A128+4)):INDIRECT(\"'Success Criteria'!\" & ADDRESS(176,A128+4)),\"PASS\"),COUNTIF(INDIRECT(\"'Success Criteria'!\" & ADDRESS(122,A128+4)):INDIRECT(\"'Success Criteria'!\" & ADDRESS(176,A128+4)),\"PASS with comments\"))","v":0},{"$f":"COUNTIF(INDIRECT(\"'Success Criteria'!\" & ADDRESS(122,A128+4)):INDIRECT(\"'Success Criteria'!\" & ADDRESS(176,A128+4)),\"NON conformant\")","v":0},{"$f":"COUNTIF(INDIRECT(\"'Success Criteria'!\" & ADDRESS(122,A128+4)):INDIRECT(\"'Success Criteria'!\" & ADDRESS(176,A128+4)),\"N/A\")","v":0},{"$f":"COUNTIF(INDIRECT(\"'Success Criteria'!\" & ADDRESS(122,A128+4)):INDIRECT(\"'Success Criteria'!\" & ADDRESS(176,A128+4)),\"not tested\")","v":28},2,0,0,28,null,0,"",2,"",28,1]
[115,"Page 115","URL 115","Please select",{"$f":"SUM(COUNTIF(INDIRECT(\"'Success Criteria'!\" & ADDRESS(8,A129+4)):INDIRECT(\"'Success Criteria'!\" & ADDRESS(70,A129+4)),\"PASS\"),COUNTIF(INDIRECT(\"'Success Criteria'!\" & ADDRESS(8,A129+4)):INDIRECT(\"'Success Criteria'!\" & ADDRESS(70,A129+4)),\"PASS with comments\"))","v":0},{"$f":"COUNTIF(INDIRECT(\"'Success Criteria'!\" & ADDRESS(8,A129+4)):INDIRECT(\"'Success Criteria'!\" & ADDRESS(70,A129+4)),\"NON conformant\")","v":0},{"$f":"COUNTIF(INDIRECT(\"'Success Criteria'!\" & ADDRESS(8,A129+4)):INDIRECT(\"'Success Criteria'!\" & ADDRESS(70,A129+4)),\"N/A\")","v":0},{"$f":"COUNTIF(INDIRECT(\"'Success Criteria'!\" & ADDRESS(8,A129+4)):INDIRECT(\"'Success Criteria'!\" & ADDRESS(70,A129+4)),\"not tested\")","v":0},{"$f":"SUM(COUNTIF(INDIRECT(\"'Success Criteria'!\" & ADDRESS(74,A129+4)):INDIRECT(\"'Success Criteria'!\" & ADDRESS(117,A129+4)),\"PASS\"),COUNTIF(INDIRECT(\"'Success Criteria'!\" & ADDRESS(74,A129+4)):INDIRECT(\"'Success Criteria'!\" & ADDRESS(117,A129+4)),\"PASS with comments\"))","v":2},{"$f":"COUNTIF(INDIRECT(\"'Success Criteria'!\" & ADDRESS(74,A129+4)):INDIRECT(\"'Success Criteria'!\" & ADDRESS(117,A129+4)),\"NON conformant\")","v":0},{"$f":"COUNTIF(INDIRECT(\"'Success Criteria'!\" & ADDRESS(74,A129+4)):INDIRECT(\"'Success Criteria'!\" & ADDRESS(117,A129+4)),\"N/A\")","v":0},{"$f":"COUNTIF(INDIRECT(\"'Success Criteria'!\" & ADDRESS(74,A129+4)):INDIRECT(\"'Success Criteria'!\" & ADDRESS(117,A129+4)),\"not tested\")","v":0},{"$f":"SUM(COUNTIF(INDIRECT(\"'Success Criteria'!\" & ADDRESS(122,A129+4)):INDIRECT(\"'Success Criteria'!\" & ADDRESS(176,A129+4)),\"PASS\"),COUNTIF(INDIRECT(\"'Success Criteria'!\" & ADDRESS(122,A129+4)):INDIRECT(\"'Success Criteria'!\" & ADDRESS(176,A129+4)),\"PASS with comments\"))","v":0},{"$f":"COUNTIF(INDIRECT(\"'Success Criteria'!\" & ADDRESS(122,A129+4)):INDIRECT(\"'Success Criteria'!\" & ADDRESS(176,A129+4)),\"NON conformant\")","v":0},{"$f":"COUNTIF(INDIRECT(\"'Success Criteria'!\" & ADDRESS(122,A129+4)):INDIRECT(\"'Success Criteria'!\" & ADDRESS(176,A129+4)),\"N/A\")","v":0},{"$f":"COUNTIF(INDIRECT(\"'Success Criteria'!\" & ADDRESS(122,A129+4)):INDIRECT(\"'Success Criteria'!\" & ADDRESS(176,A129+4)),\"not tested\")","v":28},2,0,0,28,null,{"$f":"SUM(E129:H129)","v":0},{"$f":"IF(V129=30,1,\"\")","v":""},2,{"$f":"IF(X129=20,1,\"\")","v":""},28,{"$f":"IF(Z129=28,1,\"\")","v":1}]
[116,"Page 116","URL 116","Please select",{"$f":"SUM(COUNTIF(INDIRECT(\"'Success Criteria'!\" & ADDRESS(8,A130+4)):INDIRECT(\"'Success Criteria'!\" & ADDRESS(70,A130+4)),\"PASS\"),COUNTIF(INDIRECT(\"'Success Criteria'!\" & ADDRESS(8,A130+4)):INDIRECT(\"'Success Criteria'!\" & ADDRESS(70,A130+4)),\"PASS with comments\"))","v":0},{"$f":"COUNTIF(INDIRECT(\"'Success Criteria'!\" & ADDRESS(8,A130+4)):INDIRECT(\"'Success Criteria'!\" & ADDRESS(70,A130+4)),\"NON conformant\")","v":0},{"$f":"COUNTIF(INDIRECT(\"'Success Criteria'!\" & ADDRESS(8,A130+4)):INDIRECT(\"'Success Criteria'!\" & ADDRESS(70,A130+4)),\"N/A\")","v":0},{"$f":"COUNTIF(INDIRECT(\"'Success Criteria'!\" & ADDRESS(8,A130+4)):INDIRECT(\"'Success Criteria'!\" & ADDRESS(70,A130+4)),\"not tested\")","v":0},{"$f":"SUM(COUNTIF(INDIRECT(\"'Success Criteria'!\" & ADDRESS(74,A130+4)):INDIRECT(\"'Success Criteria'!\" & ADDRESS(117,A130+4)),\"PASS\"),COUNTIF(INDIRECT(\"'Success Criteria'!\" & ADDRESS(74,A130+4)):INDIRECT(\"'Success Criteria'!\" & ADDRESS(117,A130+4)),\"PASS with comments\"))","v":2},{"$f":"COUNTIF(INDIRECT(\"'Success Criteria'!\" & ADDRESS(74,A130+4)):INDIRECT(\"'Success Criteria'!\" & ADDRESS(117,A130+4)),\"NON conformant\")","v":0},{"$f":"COUNTIF(INDIRECT(\"'Success Criteria'!\" & ADDRESS(74,A130+4)):INDIRECT(\"'Success Criteria'!\" & ADDRESS(117,A130+4)),\"N/A\")","v":0},{"$f":"COUNTIF(INDIRECT(\"'Success Criteria'!\" & ADDRESS(74,A130+4)):INDIRECT(\"'Success Criteria'!\" & ADDRESS(117,A130+4)),\"not tested\")","v":0},{"$f":"SUM(COUNTIF(INDIRECT(\"'Success Criteria'!\" & ADDRESS(122,A130+4)):INDIRECT(\"'Success Criteria'!\" & ADDRESS(176,A130+4)),\"PASS\"),COUNTIF(INDIRECT(\"'Success Criteria'!\" & ADDRESS(122,A130+4)):INDIRECT(\"'Success Criteria'!\" & ADDRESS(176,A130+4)),\"PASS with comments\"))","v":0},{"$f":"COUNTIF(INDIRECT(\"'Success Criteria'!\" & ADDRESS(122,A130+4)):INDIRECT(\"'Success Criteria'!\" & ADDRESS(176,A130+4)),\"NON conformant\")","v":0},{"$f":"COUNTIF(INDIRECT(\"'Success Criteria'!\" & ADDRESS(122,A130+4)):INDIRECT(\"'Success Criteria'!\" & ADDRESS(176,A130+4)),\"N/A\")","v":0},{"$f":"COUNTIF(INDIRECT(\"'Success Criteria'!\" & ADDRESS(122,A130+4)):INDIRECT(\"'Success Criteria'!\" & ADDRESS(176,A130+4)),\"not tested\")","v":28},2,{"$f":"SUM(F130+J130+N130)","v":0},0,28,null,0,"",2,"",28,1]
[117,"Page 117","URL 117","Please select",{"$f":"SUM(COUNTIF(INDIRECT(\"'Success Criteria'!\" & ADDRESS(8,A131+4)):INDIRECT(\"'Success Criteria'!\" & ADDRESS(70,A131+4)),\"PASS\"),COUNTIF(INDIRECT(\"'Success Criteria'!\" & ADDRESS(8,A131+4)):INDIRECT(\"'Success Criteria'!\" & ADDRESS(70,A131+4)),\"PASS with comments\"))","v":0},{"$f":"COUNTIF(INDIRECT(\"'Success Criteria'!\" & ADDRESS(8,A131+4)):INDIRECT(\"'Success Criteria'!\" & ADDRESS(70,A131+4)),\"NON conformant\")","v":0},{"$f":"COUNTIF(INDIRECT(\"'Success Criteria'!\" & ADDRESS(8,A131+4)):INDIRECT(\"'Success Criteria'!\" & ADDRESS(70,A131+4)),\"N/A\")","v":0},{"$f":"COUNTIF(INDIRECT(\"'Success Criteria'!\" & ADDRESS(8,A131+4)):INDIRECT(\"'Success Criteria'!\" & ADDRESS(70,A131+4)),\"not tested\")","v":0},{"$f":"SUM(COUNTIF(INDIRECT(\"'Success Criteria'!\" & ADDRESS(74,A131+4)):INDIRECT(\"'Success Criteria'!\" & ADDRESS(117,A131+4)),\"PASS\"),COUNTIF(INDIRECT(\"'Success Criteria'!\" & ADDRESS(74,A131+4)):INDIRECT(\"'Success Criteria'!\" & ADDRESS(117,A131+4)),\"PASS with comments\"))","v":2},{"$f":"COUNTIF(INDIRECT(\"'Success Criteria'!\" & ADDRESS(74,A131+4)):INDIRECT(\"'Success Criteria'!\" & ADDRESS(117,A131+4)),\"NON conformant\")","v":0},{"$f":"COUNTIF(INDIRECT(\"'Success Criteria'!\" & ADDRESS(74,A131+4)):INDIRECT(\"'Success Criteria'!\" & ADDRESS(117,A131+4)),\"N/A\")","v":0},{"$f":"COUNTIF(INDIRECT(\"'Success Criteria'!\" & ADDRESS(74,A131+4)):INDIRECT(\"'Success Criteria'!\" & ADDRESS(117,A131+4)),\"not tested\")","v":0},{"$f":"SUM(COUNTIF(INDIRECT(\"'Success Criteria'!\" & ADDRESS(122,A131+4)):INDIRECT(\"'Success Criteria'!\" & ADDRESS(176,A131+4)),\"PASS\"),COUNTIF(INDIRECT(\"'Success Criteria'!\" & ADDRESS(122,A131+4)):INDIRECT(\"'Success Criteria'!\" & ADDRESS(176,A131+4)),\"PASS with comments\"))","v":0},{"$f":"COUNTIF(INDIRECT(\"'Success Criteria'!\" & ADDRESS(122,A131+4)):INDIRECT(\"'Success Criteria'!\" & ADDRESS(176,A131+4)),\"NON conformant\")","v":0},{"$f":"COUNTIF(INDIRECT(\"'Success Criteria'!\" & ADDRESS(122,A131+4)):INDIRECT(\"'Success Criteria'!\" & ADDRESS(176,A131+4)),\"N/A\")","v":0},{"$f":"COUNTIF(INDIRECT(\"'Success Criteria'!\" & ADDRESS(122,A131+4)):INDIRECT(\"'Success Criteria'!\" & ADDRESS(176,A131+4)),\"not tested\")","v":28},2,0,0,28,null,0,"",2,"",28,1]
[118,"Page 118","URL 118","Please select",{"$f":"SUM(COUNTIF(INDIRECT(\"'Success Criteria'!\" & ADDRESS(8,A132+4)):INDIRECT(\"'Success Criteria'!\" & ADDRESS(70,A132+4)),\"PASS\"),COUNTIF(INDIRECT(\"'Success Criteria'!\" & ADDRESS(8,A132+4)):INDIRECT(\"'Success Criteria'!\" & ADDRESS(70,A132+4)),\"PASS with comments\"))","v":0},{"$f":"COUNTIF(INDIRECT(\"'Success Criteria'!\" & ADDRESS(8,A132+4)):INDIRECT(\"'Success Criteria'!\" & ADDRESS(70,A132+4)),\"NON conformant\")","v":0},{"$f":"COUNTIF(INDIRECT(\"'Success Criteria'!\" & ADDRESS(8,A132+4)):INDIRECT(\"'Success Criteria'!\" & ADDRESS(70,A132+4)),\"N/A\")","v":0},{"$f":"COUNTIF(INDIRECT(\"'Success Criteria'!\" & ADDRESS(8,A132+4)):INDIRECT(\"'Success Criteria'!\" & ADDRESS(70,A132+4)),\"not tested\")","v":0},{"$f":"SUM(COUNTIF(INDIRECT(\"'Success Criteria'!\" & ADDRESS(74,A132+4)):INDIRECT(\"'Success Criteria'!\" & ADDRESS(117,A132+4)),\"PASS\"),COUNTIF(INDIRECT(\"'Success Criteria'!\" & ADDRESS(74,A132+4)):INDIRECT(\"'Success Criteria'!\" & ADDRESS(117,A132+4)),\"PASS with comments\"))","v":2},{"$f":"COUNTIF(INDIRECT(\"'Success Criteria'!\" & ADDRESS(74,A132+4)):INDIRECT(\"'Success Criteria'!\" & ADDRESS(117,A132+4)),\"NON conformant\")","v":0},{"$f":"COUNTIF(INDIRECT(\"'Success Criteria'!\" & ADDRESS(74,A132+4)):INDIRECT(\"'Success Criteria'!\" & ADDRESS(117,A132+4)),\"N/A\")","v":0},{"$f":"COUNTIF(INDIRECT(\"'Success Criteria'!\" & ADDRESS(74,A132+4)):INDIRECT(\"'Success Criteria'!\" & ADDRESS(117,A132+4)),\"not tested\")","v":0},{"$f":"SUM(COUNTIF(INDIRECT(\"'Success Criteria'!\" & ADDRESS(122,A132+4)):INDIRECT(\"'Success Criteria'!\" & ADDRESS(176,A132+4)),\"PASS\"),COUNTIF(INDIRECT(\"'Success Criteria'!\" & ADDRESS(122,A132+4)):INDIRECT(\"'Success Criteria'!\" & ADDRESS(176,A132+4)),\"PASS with comments\"))","v":0},{"$f":"COUNTIF(INDIRECT(\"'Success Criteria'!\" & ADDRESS(122,A132+4)):INDIRECT(\"'Success Criteria'!\" & ADDRESS(176,A132+4)),\"NON conformant\")","v":0},{"$f":"COUNTIF(INDIRECT(\"'Success Criteria'!\" & ADDRESS(122,A132+4)):INDIRECT(\"'Success Criteria'!\" & ADDRESS(176,A132+4)),\"N/A\")","v":0},{"$f":"COUNTIF(INDIRECT(\"'Success Criteria'!\" & ADDRESS(122,A132+4)):INDIRECT(\"'Success Criteria'!\" & ADDRESS(176,A132+4)),\"not tested\")","v":28},2,0,0,28,null,0,"",2,"",28,1]
[119,"Page 119","URL 119","Please select",{"$f":"SUM(COUNTIF(INDIRECT(\"'Success Criteria'!\" & ADDRESS(8,A133+4)):INDIRECT(\"'Success Criteria'!\" & ADDRESS(70,A133+4)),\"PASS\"),COUNTIF(INDIRECT(\"'Success Criteria'!\" & ADDRESS(8,A133+4)):INDIRECT(\"'Success Criteria'!\" & ADDRESS(70,A133+4)),\"PASS with comments\"))","v":0},{"$f":"COUNTIF(INDIRECT(\"'Success Criteria'!\" & ADDRESS(8,A133+4)):INDIRECT(\"'Success Criteria'!\" & ADDRESS(70,A133+4)),\"NON conformant\")","v":0},{"$f":"COUNTIF(INDIRECT(\"'Success Criteria'!\" & ADDRESS(8,A133+4)):INDIRECT(\"'Success Criteria'!\" & ADDRESS(70,A133+4)),\"N/A\")","v":0},{"$f":"COUNTIF(INDIRECT(\"'Success Criteria'!\" & ADDRESS(8,A133+4)):INDIRECT(\"'Success Criteria'!\" & ADDRESS(70,A133+4)),\"not tested\")","v":0},{"$f":"SUM(COUNTIF(INDIRECT(\"'Success Criteria'!\" & ADDRESS(74,A133+4)):INDIRECT(\"'Success Criteria'!\" & ADDRESS(117,A133+4)),\"PASS\"),COUNTIF(INDIRECT(\"'Success Criteria'!\" & ADDRESS(74,A133+4)):INDIRECT(\"'Success Criteria'!\" & ADDRESS(117,A133+4)),\"PASS with comments\"))","v":2},{"$f":"COUNTIF(INDIRECT(\"'Success Criteria'!\" & ADDRESS(74,A133+4)):INDIRECT(\"'Success Criteria'!\" & ADDRESS(117,A133+4)),\"NON conformant\")","v":0},{"$f":"COUNTIF(INDIRECT(\"'Success Criteria'!\" & ADDRESS(74,A133+4)):INDIRECT(\"'Success Criteria'!\" & ADDRESS(117,A133+4)),\"N/A\")","v":0},{"$f":"COUNTIF(INDIRECT(\"'Success Criteria'!\" & ADDRESS(74,A133+4)):INDIRECT(\"'Success Criteria'!\" & ADDRESS(117,A133+4)),\"not tested\")","v":0},{"$f":"SUM(COUNTIF(INDIRECT(\"'Success Criteria'!\" & ADDRESS(122,A133+4)):INDIRECT(\"'Success Criteria'!\" & ADDRESS(176,A133+4)),\"PASS\"),COUNTIF(INDIRECT(\"'Success Criteria'!\" & ADDRESS(122,A133+4)):INDIRECT(\"'Success Criteria'!\" & ADDRESS(176,A133+4)),\"PASS with comments\"))","v":0},{"$f":"COUNTIF(INDIRECT(\"'Success Criteria'!\" & ADDRESS(122,A133+4)):INDIRECT(\"'Success Criteria'!\" & ADDRESS(176,A133+4)),\"NON conformant\")","v":0},{"$f":"COUNTIF(INDIRECT(\"'Success Criteria'!\" & ADDRESS(122,A133+4)):INDIRECT(\"'Success Criteria'!\" & ADDRESS(176,A133+4)),\"N/A\")","v":0},{"$f":"COUNTIF(INDIRECT(\"'Success Criteria'!\" & ADDRESS(122,A133+4)):INDIRECT(\"'Success Criteria'!\" & ADDRESS(176,A133+4)),\"not tested\")","v":28},2,0,0,28,null,0,"",2,"",28,1]
[120,"Page 120","URL 120","Please select",{"$f":"SUM(COUNTIF(INDIRECT(\"'Success Criteria'!\" & ADDRESS(8,A134+4)):INDIRECT(\"'Success Criteria'!\" & ADDRESS(70,A134+4)),\"PASS\"),COUNTIF(INDIRECT(\"'Success Criteria'!\" & ADDRESS(8,A134+4)):INDIRECT(\"'Success Criteria'!\" & ADDRESS(70,A134+4)),\"PASS with comments\"))","v":0},{"$f":"COUNTIF(INDIRECT(\"'Success Criteria'!\" & ADDRESS(8,A134+4)):INDIRECT(\"'Success Criteria'!\" & ADDRESS(70,A134+4)),\"NON conformant\")","v":0},{"$f":"COUNTIF(INDIRECT(\"'Success Criteria'!\" & ADDRESS(8,A134+4)):INDIRECT(\"'Success Criteria'!\" & ADDRESS(70,A134+4)),\"N/A\")","v":0},{"$f":"COUNTIF(INDIRECT(\"'Success Criteria'!\" & ADDRESS(8,A134+4)):INDIRECT(\"'Success Criteria'!\" & ADDRESS(70,A134+4)),\"not tested\")","v":0},{"$f":"SUM(COUNTIF(INDIRECT(\"'Success Criteria'!\" & ADDRESS(74,A134+4)):INDIRECT(\"'Success Criteria'!\" & ADDRESS(117,A134+4)),\"PASS\"),COUNTIF(INDIRECT(\"'Success Criteria'!\" & ADDRESS(74,A134+4)):INDIRECT(\"'Success Criteria'!\" & ADDRESS(117,A134+4)),\"PASS with comments\"))","v":2},{"$f":"COUNTIF(INDIRECT(\"'Success Criteria'!\" & ADDRESS(74,A134+4)):INDIRECT(\"'Success Criteria'!\" & ADDRESS(117,A134+4)),\"NON conformant\")","v":0},{"$f":"COUNTIF(INDIRECT(\"'Success Criteria'!\" & ADDRESS(74,A134+4)):INDIRECT(\"'Success Criteria'!\" & ADDRESS(117,A134+4)),\"N/A\")","v":0},{"$f":"COUNTIF(INDIRECT(\"'Success Criteria'!\" & ADDRESS(74,A134+4)):INDIRECT(\"'Success Criteria'!\" & ADDRESS(117,A134+4)),\"not tested\")","v":0},{"$f":"SUM(COUNTIF(INDIRECT(\"'Success Criteria'!\" & ADDRESS(122,A134+4)):INDIRECT(\"'Success Criteria'!\" & ADDRESS(176,A134+4)),\"PASS\"),COUNTIF(INDIRECT(\"'Success Criteria'!\" & ADDRESS(122,A134+4)):INDIRECT(\"'Success Criteria'!\" & ADDRESS(176,A134+4)),\"PASS with comments\"))","v":0},{"$f":"COUNTIF(INDIRECT(\"'Success Criteria'!\" & ADDRESS(122,A134+4)):INDIRECT(\"'Success Criteria'!\" & ADDRESS(176,A134+4)),\"NON conformant\")","v":0},{"$f":"COUNTIF(INDIRECT(\"'Success Criteria'!\" & ADDRESS(122,A134+4)):INDIRECT(\"'Success Criteria'!\" & ADDRESS(176,A134+4)),\"N/A\")","v":0},{"$f":"COUNTIF(INDIRECT(\"'Success Criteria'!\" & ADDRESS(122,A134+4)):INDIRECT(\"'Success Criteria'!\" & ADDRESS(176,A134+4)),\"not tested\")","v":28},2,0,0,28,null,0,"",2,"",28,1]
[121,"Page 121","URL 121","Please select",{"$f":"SUM(COUNTIF(INDIRECT(\"'Success Criteria'!\" & ADDRESS(8,A135+4)):INDIRECT(\"'Success Criteria'!\" & ADDRESS(70,A135+4)),\"PASS\"),COUNTIF(INDIRECT(\"'Success Criteria'!\" & ADDRESS(8,A135+4)):INDIRECT(\"'Success Criteria'!\" & ADDRESS(70,A135+4)),\"PASS with comments\"))","v":0},{"$f":"COUNTIF(INDIRECT(\"'Success Criteria'!\" & ADDRESS(8,A135+4)):INDIRECT(\"'Success Criteria'!\" & ADDRESS(70,A135+4)),\"NON conformant\")","v":0},{"$f":"COUNTIF(INDIRECT(\"'Success Criteria'!\" & ADDRESS(8,A135+4)):INDIRECT(\"'Success Criteria'!\" & ADDRESS(70,A135+4)),\"N/A\")","v":0},{"$f":"COUNTIF(INDIRECT(\"'Success Criteria'!\" & ADDRESS(8,A135+4)):INDIRECT(\"'Success Criteria'!\" & ADDRESS(70,A135+4)),\"not tested\")","v":0},{"$f":"SUM(COUNTIF(INDIRECT(\"'Success Criteria'!\" & ADDRESS(74,A135+4)):INDIRECT(\"'Success Criteria'!\" & ADDRESS(117,A135+4)),\"PASS\"),COUNTIF(INDIRECT(\"'Success Criteria'!\" & ADDRESS(74,A135+4)):INDIRECT(\"'Success Criteria'!\" & ADDRESS(117,A135+4)),\"PASS with comments\"))","v":2},{"$f":"COUNTIF(INDIRECT(\"'Success Criteria'!\" & ADDRESS(74,A135+4)):INDIRECT(\"'Success Criteria'!\" & ADDRESS(117,A135+4)),\"NON conformant\")","v":0},{"$f":"COUNTIF(INDIRECT(\"'Success Criteria'!\" & ADDRESS(74,A135+4)):INDIRECT(\"'Success Criteria'!\" & ADDRESS(117,A135+4)),\"N/A\")","v":0},{"$f":"COUNTIF(INDIRECT(\"'Success Criteria'!\" & ADDRESS(74,A135+4)):INDIRECT(\"'Success Criteria'!\" & ADDRESS(117,A135+4)),\"not tested\")","v":0},{"$f":"SUM(COUNTIF(INDIRECT(\"'Success Criteria'!\" & ADDRESS(122,A135+4)):INDIRECT(\"'Success Criteria'!\" & ADDRESS(176,A135+4)),\"PASS\"),COUNTIF(INDIRECT(\"'Success Criteria'!\" & ADDRESS(122,A135+4)):INDIRECT(\"'Success Criteria'!\" & ADDRESS(176,A135+4)),\"PASS with comments\"))","v":0},{"$f":"COUNTIF(INDIRECT(\"'Success Criteria'!\" & ADDRESS(122,A135+4)):INDIRECT(\"'Success Criteria'!\" & ADDRESS(176,A135+4)),\"NON conformant\")","v":0},{"$f":"COUNTIF(INDIRECT(\"'Success Criteria'!\" & ADDRESS(122,A135+4)):INDIRECT(\"'Success Criteria'!\" & ADDRESS(176,A135+4)),\"N/A\")","v":0},{"$f":"COUNTIF(INDIRECT(\"'Success Criteria'!\" & ADDRESS(122,A135+4)):INDIRECT(\"'Success Criteria'!\" & ADDRESS(176,A135+4)),\"not tested\")","v":28},2,0,0,28,null,0,"",2,"",28,1]
[122,"Page 122","URL 122","Please select",{"$f":"SUM(COUNTIF(INDIRECT(\"'Success Criteria'!\" & ADDRESS(8,A136+4)):INDIRECT(\"'Success Criteria'!\" & ADDRESS(70,A136+4)),\"PASS\"),COUNTIF(INDIRECT(\"'Success Criteria'!\" & ADDRESS(8,A136+4)):INDIRECT(\"'Success Criteria'!\" & ADDRESS(70,A136+4)),\"PASS with comments\"))","v":0},{"$f":"COUNTIF(INDIRECT(\"'Success Criteria'!\" & ADDRESS(8,A136+4)):INDIRECT(\"'Success Criteria'!\" & ADDRESS(70,A136+4)),\"NON conformant\")","v":0},{"$f":"COUNTIF(INDIRECT(\"'Success Criteria'!\" & ADDRESS(8,A136+4)):INDIRECT(\"'Success Criteria'!\" & ADDRESS(70,A136+4)),\"N/A\")","v":0},{"$f":"COUNTIF(INDIRECT(\"'Success Criteria'!\" & ADDRESS(8,A136+4)):INDIRECT(\"'Success Criteria'!\" & ADDRESS(70,A136+4)),\"not tested\")","v":0},{"$f":"SUM(COUNTIF(INDIRECT(\"'Success Criteria'!\" & ADDRESS(74,A136+4)):INDIRECT(\"'Success Criteria'!\" & ADDRESS(117,A136+4)),\"PASS\"),COUNTIF(INDIRECT(\"'Success Criteria'!\" & ADDRESS(74,A136+4)):INDIRECT(\"'Success Criteria'!\" & ADDRESS(117,A136+4)),\"PASS with comments\"))","v":2},{"$f":"COUNTIF(INDIRECT(\"'Success Criteria'!\" & ADDRESS(74,A136+4)):INDIRECT(\"'Success Criteria'!\" & ADDRESS(117,A136+4)),\"NON conformant\")","v":0},{"$f":"COUNTIF(INDIRECT(\"'Success Criteria'!\" & ADDRESS(74,A136+4)):INDIRECT(\"'Success Criteria'!\" & ADDRESS(117,A136+4)),\"N/A\")","v":0},{"$f":"COUNTIF(INDIRECT(\"'Success Criteria'!\" & ADDRESS(74,A136+4)):INDIRECT(\"'Success Criteria'!\" & ADDRESS(117,A136+4)),\"not tested\")","v":0},{"$f":"SUM(COUNTIF(INDIRECT(\"'Success Criteria'!\" & ADDRESS(122,A136+4)):INDIRECT(\"'Success Criteria'!\" & ADDRESS(176,A136+4)),\"PASS\"),COUNTIF(INDIRECT(\"'Success Criteria'!\" & ADDRESS(122,A136+4)):INDIRECT(\"'Success Criteria'!\" & ADDRESS(176,A136+4)),\"PASS with comments\"))","v":0},{"$f":"COUNTIF(INDIRECT(\"'Success Criteria'!\" & ADDRESS(122,A136+4)):INDIRECT(\"'Success Criteria'!\" & ADDRESS(176,A136+4)),\"NON conformant\")","v":0},{"$f":"COUNTIF(INDIRECT(\"'Success Criteria'!\" & ADDRESS(122,A136+4)):INDIRECT(\"'Success Criteria'!\" & ADDRESS(176,A136+4)),\"N/A\")","v":0},{"$f":"COUNTIF(INDIRECT(\"'Success Criteria'!\" & ADDRESS(122,A136+4)):INDIRECT(\"'Success Criteria'!\" & ADDRESS(176,A136+4)),\"not tested\")","v":28},2,0,0,28,null,0,"",2,"",28,1]
[123,"Page 123","URL 123","Please select",{"$f":"SUM(COUNTIF(INDIRECT(\"'Success Criteria'!\" & ADDRESS(8,A137+4)):INDIRECT(\"'Success Criteria'!\" & ADDRESS(70,A137+4)),\"PASS\"),COUNTIF(INDIRECT(\"'Success Criteria'!\" & ADDRESS(8,A137+4)):INDIRECT(\"'Success Criteria'!\" & ADDRESS(70,A137+4)),\"PASS with comments\"))","v":0},{"$f":"COUNTIF(INDIRECT(\"'Success Criteria'!\" & ADDRESS(8,A137+4)):INDIRECT(\"'Success Criteria'!\" & ADDRESS(70,A137+4)),\"NON conformant\")","v":0},{"$f":"COUNTIF(INDIRECT(\"'Success Criteria'!\" & ADDRESS(8,A137+4)):INDIRECT(\"'Success Criteria'!\" & ADDRESS(70,A137+4)),\"N/A\")","v":0},{"$f":"COUNTIF(INDIRECT(\"'Success Criteria'!\" & ADDRESS(8,A137+4)):INDIRECT(\"'Success Criteria'!\" & ADDRESS(70,A137+4)),\"not tested\")","v":0},{"$f":"SUM(COUNTIF(INDIRECT(\"'Success Criteria'!\" & ADDRESS(74,A137+4)):INDIRECT(\"'Success Criteria'!\" & ADDRESS(117,A137+4)),\"PASS\"),COUNTIF(INDIRECT(\"'Success Criteria'!\" & ADDRESS(74,A137+4)):INDIRECT(\"'Success Criteria'!\" & ADDRESS(117,A137+4)),\"PASS with comments\"))","v":2},{"$f":"COUNTIF(INDIRECT(\"'Success Criteria'!\" & ADDRESS(74,A137+4)):INDIRECT(\"'Success Criteria'!\" & ADDRESS(117,A137+4)),\"NON conformant\")","v":0},{"$f":"COUNTIF(INDIRECT(\"'Success Criteria'!\" & ADDRESS(74,A137+4)):INDIRECT(\"'Success Criteria'!\" & ADDRESS(117,A137+4)),\"N/A\")","v":0},{"$f":"COUNTIF(INDIRECT(\"'Success Criteria'!\" & ADDRESS(74,A137+4)):INDIRECT(\"'Success Criteria'!\" & ADDRESS(117,A137+4)),\"not tested\")","v":0},{"$f":"SUM(COUNTIF(INDIRECT(\"'Success Criteria'!\" & ADDRESS(122,A137+4)):INDIRECT(\"'Success Criteria'!\" & ADDRESS(176,A137+4)),\"PASS\"),COUNTIF(INDIRECT(\"'Success Criteria'!\" & ADDRESS(122,A137+4)):INDIRECT(\"'Success Criteria'!\" & ADDRESS(176,A137+4)),\"PASS with comments\"))","v":0},{"$f":"COUNTIF(INDIRECT(\"'Success Criteria'!\" & ADDRESS(122,A137+4)):INDIRECT(\"'Success Criteria'!\" & ADDRESS(176,A137+4)),\"NON conformant\")","v":0},{"$f":"COUNTIF(INDIRECT(\"'Success Criteria'!\" & ADDRESS(122,A137+4)):INDIRECT(\"'Success Criteria'!\" & ADDRESS(176,A137+4)),\"N/A\")","v":0},{"$f":"COUNTIF(INDIRECT(\"'Success Criteria'!\" & ADDRESS(122,A137+4)):INDIRECT(\"'Success Criteria'!\" & ADDRESS(176,A137+4)),\"not tested\")","v":28},2,0,0,28,null,0,"",2,"",28,1]
[124,"Page 124","URL 124","Please select",{"$f":"SUM(COUNTIF(INDIRECT(\"'Success Criteria'!\" & ADDRESS(8,A138+4)):INDIRECT(\"'Success Criteria'!\" & ADDRESS(70,A138+4)),\"PASS\"),COUNTIF(INDIRECT(\"'Success Criteria'!\" & ADDRESS(8,A138+4)):INDIRECT(\"'Success Criteria'!\" & ADDRESS(70,A138+4)),\"PASS with comments\"))","v":0},{"$f":"COUNTIF(INDIRECT(\"'Success Criteria'!\" & ADDRESS(8,A138+4)):INDIRECT(\"'Success Criteria'!\" & ADDRESS(70,A138+4)),\"NON conformant\")","v":0},{"$f":"COUNTIF(INDIRECT(\"'Success Criteria'!\" & ADDRESS(8,A138+4)):INDIRECT(\"'Success Criteria'!\" & ADDRESS(70,A138+4)),\"N/A\")","v":0},{"$f":"COUNTIF(INDIRECT(\"'Success Criteria'!\" & ADDRESS(8,A138+4)):INDIRECT(\"'Success Criteria'!\" & ADDRESS(70,A138+4)),\"not tested\")","v":0},{"$f":"SUM(COUNTIF(INDIRECT(\"'Success Criteria'!\" & ADDRESS(74,A138+4)):INDIRECT(\"'Success Criteria'!\" & ADDRESS(117,A138+4)),\"PASS\"),COUNTIF(INDIRECT(\"'Success Criteria'!\" & ADDRESS(74,A138+4)):INDIRECT(\"'Success Criteria'!\" & ADDRESS(117,A138+4)),\"PASS with comments\"))","v":2},{"$f":"COUNTIF(INDIRECT(\"'Success Criteria'!\" & ADDRESS(74,A138+4)):INDIRECT(\"'Success Criteria'!\" & ADDRESS(117,A138+4)),\"NON conformant\")","v":0},{"$f":"COUNTIF(INDIRECT(\"'Success Criteria'!\" & ADDRESS(74,A138+4)):INDIRECT(\"'Success Criteria'!\" & ADDRESS(117,A138+4)),\"N/A\")","v":0},{"$f":"COUNTIF(INDIRECT(\"'Success Criteria'!\" & ADDRESS(74,A138+4)):INDIRECT(\"'Success Criteria'!\" & ADDRESS(117,A138+4)),\"not tested\")","v":0},{"$f":"SUM(COUNTIF(INDIRECT(\"'Success Criteria'!\" & ADDRESS(122,A138+4)):INDIRECT(\"'Success Criteria'!\" & ADDRESS(176,A138+4)),\"PASS\"),COUNTIF(INDIRECT(\"'Success Criteria'!\" & ADDRESS(122,A138+4)):INDIRECT(\"'Success Criteria'!\" & ADDRESS(176,A138+4)),\"PASS with comments\"))","v":0},{"$f":"COUNTIF(INDIRECT(\"'Success Criteria'!\" & ADDRESS(122,A138+4)):INDIRECT(\"'Success Criteria'!\" & ADDRESS(176,A138+4)),\"NON conformant\")","v":0},{"$f":"COUNTIF(INDIRECT(\"'Success Criteria'!\" & ADDRESS(122,A138+4)):INDIRECT(\"'Success Criteria'!\" & ADDRESS(176,A138+4)),\"N/A\")","v":0},{"$f":"COUNTIF(INDIRECT(\"'Success Criteria'!\" & ADDRESS(122,A138+4)):INDIRECT(\"'Success Criteria'!\" & ADDRESS(176,A138+4)),\"not tested\")","v":28},2,0,0,28,null,0,"",2,"",28,1]
[125,"Page 125","URL 125","Please select",{"$f":"SUM(COUNTIF(INDIRECT(\"'Success Criteria'!\" & ADDRESS(8,A139+4)):INDIRECT(\"'Success Criteria'!\" & ADDRESS(70,A139+4)),\"PASS\"),COUNTIF(INDIRECT(\"'Success Criteria'!\" & ADDRESS(8,A139+4)):INDIRECT(\"'Success Criteria'!\" & ADDRESS(70,A139+4)),\"PASS with comments\"))","v":0},{"$f":"COUNTIF(INDIRECT(\"'Success Criteria'!\" & ADDRESS(8,A139+4)):INDIRECT(\"'Success Criteria'!\" & ADDRESS(70,A139+4)),\"NON conformant\")","v":0},{"$f":"COUNTIF(INDIRECT(\"'Success Criteria'!\" & ADDRESS(8,A139+4)):INDIRECT(\"'Success Criteria'!\" & ADDRESS(70,A139+4)),\"N/A\")","v":0},{"$f":"COUNTIF(INDIRECT(\"'Success Criteria'!\" & ADDRESS(8,A139+4)):INDIRECT(\"'Success Criteria'!\" & ADDRESS(70,A139+4)),\"not tested\")","v":0},{"$f":"SUM(COUNTIF(INDIRECT(\"'Success Criteria'!\" & ADDRESS(74,A139+4)):INDIRECT(\"'Success Criteria'!\" & ADDRESS(117,A139+4)),\"PASS\"),COUNTIF(INDIRECT(\"'Success Criteria'!\" & ADDRESS(74,A139+4)):INDIRECT(\"'Success Criteria'!\" & ADDRESS(117,A139+4)),\"PASS with comments\"))","v":2},{"$f":"COUNTIF(INDIRECT(\"'Success Criteria'!\" & ADDRESS(74,A139+4)):INDIRECT(\"'Success Criteria'!\" & ADDRESS(117,A139+4)),\"NON conformant\")","v":0},{"$f":"COUNTIF(INDIRECT(\"'Success Criteria'!\" & ADDRESS(74,A139+4)):INDIRECT(\"'Success Criteria'!\" & ADDRESS(117,A139+4)),\"N/A\")","v":0},{"$f":"COUNTIF(INDIRECT(\"'Success Criteria'!\" & ADDRESS(74,A139+4)):INDIRECT(\"'Success Criteria'!\" & ADDRESS(117,A139+4)),\"not tested\")","v":0},{"$f":"SUM(COUNTIF(INDIRECT(\"'Success Criteria'!\" & ADDRESS(122,A139+4)):INDIRECT(\"'Success Criteria'!\" & ADDRESS(176,A139+4)),\"PASS\"),COUNTIF(INDIRECT(\"'Success Criteria'!\" & ADDRESS(122,A139+4)):INDIRECT(\"'Success Criteria'!\" & ADDRESS(176,A139+4)),\"PASS with comments\"))","v":0},{"$f":"COUNTIF(INDIRECT(\"'Success Criteria'!\" & ADDRESS(122,A139+4)):INDIRECT(\"'Success Criteria'!\" & ADDRESS(176,A139+4)),\"NON conformant\")","v":0},{"$f":"COUNTIF(INDIRECT(\"'Success Criteria'!\" & ADDRESS(122,A139+4)):INDIRECT(\"'Success Criteria'!\" & ADDRESS(176,A139+4)),\"N/A\")","v":0},{"$f":"COUNTIF(INDIRECT(\"'Success Criteria'!\" & ADDRESS(122,A139+4)):INDIRECT(\"'Success Criteria'!\" & ADDRESS(176,A139+4)),\"not tested\")","v":28},2,0,0,28,null,0,"",2,"",28,1]
[126,"Page 126","URL 126","Please select",{"$f":"SUM(COUNTIF(INDIRECT(\"'Success Criteria'!\" & ADDRESS(8,A140+4)):INDIRECT(\"'Success Criteria'!\" & ADDRESS(70,A140+4)),\"PASS\"),COUNTIF(INDIRECT(\"'Success Criteria'!\" & ADDRESS(8,A140+4)):INDIRECT(\"'Success Criteria'!\" & ADDRESS(70,A140+4)),\"PASS with comments\"))","v":0},{"$f":"COUNTIF(INDIRECT(\"'Success Criteria'!\" & ADDRESS(8,A140+4)):INDIRECT(\"'Success Criteria'!\" & ADDRESS(70,A140+4)),\"NON conformant\")","v":0},{"$f":"COUNTIF(INDIRECT(\"'Success Criteria'!\" & ADDRESS(8,A140+4)):INDIRECT(\"'Success Criteria'!\" & ADDRESS(70,A140+4)),\"N/A\")","v":0},{"$f":"COUNTIF(INDIRECT(\"'Success Criteria'!\" & ADDRESS(8,A140+4)):INDIRECT(\"'Success Criteria'!\" & ADDRESS(70,A140+4)),\"not tested\")","v":0},{"$f":"SUM(COUNTIF(INDIRECT(\"'Success Criteria'!\" & ADDRESS(74,A140+4)):INDIRECT(\"'Success Criteria'!\" & ADDRESS(117,A140+4)),\"PASS\"),COUNTIF(INDIRECT(\"'Success Criteria'!\" & ADDRESS(74,A140+4)):INDIRECT(\"'Success Criteria'!\" & ADDRESS(117,A140+4)),\"PASS with comments\"))","v":2},{"$f":"COUNTIF(INDIRECT(\"'Success Criteria'!\" & ADDRESS(74,A140+4)):INDIRECT(\"'Success Criteria'!\" & ADDRESS(117,A140+4)),\"NON conformant\")","v":0},{"$f":"COUNTIF(INDIRECT(\"'Success Criteria'!\" & ADDRESS(74,A140+4)):INDIRECT(\"'Success Criteria'!\" & ADDRESS(117,A140+4)),\"N/A\")","v":0},{"$f":"COUNTIF(INDIRECT(\"'Success Criteria'!\" & ADDRESS(74,A140+4)):INDIRECT(\"'Success Criteria'!\" & ADDRESS(117,A140+4)),\"not tested\")","v":0},{"$f":"SUM(COUNTIF(INDIRECT(\"'Success Criteria'!\" & ADDRESS(122,A140+4)):INDIRECT(\"'Success Criteria'!\" & ADDRESS(176,A140+4)),\"PASS\"),COUNTIF(INDIRECT(\"'Success Criteria'!\" & ADDRESS(122,A140+4)):INDIRECT(\"'Success Criteria'!\" & ADDRESS(176,A140+4)),\"PASS with comments\"))","v":0},{"$f":"COUNTIF(INDIRECT(\"'Success Criteria'!\" & ADDRESS(122,A140+4)):INDIRECT(\"'Success Criteria'!\" & ADDRESS(176,A140+4)),\"NON conformant\")","v":0},{"$f":"COUNTIF(INDIRECT(\"'Success Criteria'!\" & ADDRESS(122,A140+4)):INDIRECT(\"'Success Criteria'!\" & ADDRESS(176,A140+4)),\"N/A\")","v":0},{"$f":"COUNTIF(INDIRECT(\"'Success Criteria'!\" & ADDRESS(122,A140+4)):INDIRECT(\"'Success Criteria'!\" & ADDRESS(176,A140+4)),\"not tested\")","v":28},2,0,0,28,null,0,"",2,"",28,1]
[127,"Page 127","URL 127","Please select",{"$f":"SUM(COUNTIF(INDIRECT(\"'Success Criteria'!\" & ADDRESS(8,A141+4)):INDIRECT(\"'Success Criteria'!\" & ADDRESS(70,A141+4)),\"PASS\"),COUNTIF(INDIRECT(\"'Success Criteria'!\" & ADDRESS(8,A141+4)):INDIRECT(\"'Success Criteria'!\" & ADDRESS(70,A141+4)),\"PASS with comments\"))","v":0},{"$f":"COUNTIF(INDIRECT(\"'Success Criteria'!\" & ADDRESS(8,A141+4)):INDIRECT(\"'Success Criteria'!\" & ADDRESS(70,A141+4)),\"NON conformant\")","v":0},{"$f":"COUNTIF(INDIRECT(\"'Success Criteria'!\" & ADDRESS(8,A141+4)):INDIRECT(\"'Success Criteria'!\" & ADDRESS(70,A141+4)),\"N/A\")","v":0},{"$f":"COUNTIF(INDIRECT(\"'Success Criteria'!\" & ADDRESS(8,A141+4)):INDIRECT(\"'Success Criteria'!\" & ADDRESS(70,A141+4)),\"not tested\")","v":0},{"$f":"SUM(COUNTIF(INDIRECT(\"'Success Criteria'!\" & ADDRESS(74,A141+4)):INDIRECT(\"'Success Criteria'!\" & ADDRESS(117,A141+4)),\"PASS\"),COUNTIF(INDIRECT(\"'Success Criteria'!\" & ADDRESS(74,A141+4)):INDIRECT(\"'Success Criteria'!\" & ADDRESS(117,A141+4)),\"PASS with comments\"))","v":2},{"$f":"COUNTIF(INDIRECT(\"'Success Criteria'!\" & ADDRESS(74,A141+4)):INDIRECT(\"'Success Criteria'!\" & ADDRESS(117,A141+4)),\"NON conformant\")","v":0},{"$f":"COUNTIF(INDIRECT(\"'Success Criteria'!\" & ADDRESS(74,A141+4)):INDIRECT(\"'Success Criteria'!\" & ADDRESS(117,A141+4)),\"N/A\")","v":0},{"$f":"COUNTIF(INDIRECT(\"'Success Criteria'!\" & ADDRESS(74,A141+4)):INDIRECT(\"'Success Criteria'!\" & ADDRESS(117,A141+4)),\"not tested\")","v":0},{"$f":"SUM(COUNTIF(INDIRECT(\"'Success Criteria'!\" & ADDRESS(122,A141+4)):INDIRECT(\"'Success Criteria'!\" & ADDRESS(176,A141+4)),\"PASS\"),COUNTIF(INDIRECT(\"'Success Criteria'!\" & ADDRESS(122,A141+4)):INDIRECT(\"'Success Criteria'!\" & ADDRESS(176,A141+4)),\"PASS with comments\"))","v":0},{"$f":"COUNTIF(INDIRECT(\"'Success Criteria'!\" & ADDRESS(122,A141+4)):INDIRECT(\"'Success Criteria'!\" & ADDRESS(176,A141+4)),\"NON conformant\")","v":0},{"$f":"COUNTIF(INDIRECT(\"'Success Criteria'!\" & ADDRESS(122,A141+4)):INDIRECT(\"'Success Criteria'!\" & ADDRESS(176,A141+4)),\"N/A\")","v":0},{"$f":"COUNTIF(INDIRECT(\"'Success Criteria'!\" & ADDRESS(122,A141+4)):INDIRECT(\"'Success Criteria'!\" & ADDRESS(176,A141+4)),\"not tested\")","v":28},2,0,0,28,null,0,"",2,"",28,1]
[128,"Page 128","URL 128","Please select",{"$f":"SUM(COUNTIF(INDIRECT(\"'Success Criteria'!\" & ADDRESS(8,A142+4)):INDIRECT(\"'Success Criteria'!\" & ADDRESS(70,A142+4)),\"PASS\"),COUNTIF(INDIRECT(\"'Success Criteria'!\" & ADDRESS(8,A142+4)):INDIRECT(\"'Success Criteria'!\" & ADDRESS(70,A142+4)),\"PASS with comments\"))","v":0},{"$f":"COUNTIF(INDIRECT(\"'Success Criteria'!\" & ADDRESS(8,A142+4)):INDIRECT(\"'Success Criteria'!\" & ADDRESS(70,A142+4)),\"NON conformant\")","v":0},{"$f":"COUNTIF(INDIRECT(\"'Success Criteria'!\" & ADDRESS(8,A142+4)):INDIRECT(\"'Success Criteria'!\" & ADDRESS(70,A142+4)),\"N/A\")","v":0},{"$f":"COUNTIF(INDIRECT(\"'Success Criteria'!\" & ADDRESS(8,A142+4)):INDIRECT(\"'Success Criteria'!\" & ADDRESS(70,A142+4)),\"not tested\")","v":0},{"$f":"SUM(COUNTIF(INDIRECT(\"'Success Criteria'!\" & ADDRESS(74,A142+4)):INDIRECT(\"'Success Criteria'!\" & ADDRESS(117,A142+4)),\"PASS\"),COUNTIF(INDIRECT(\"'Success Criteria'!\" & ADDRESS(74,A142+4)):INDIRECT(\"'Success Criteria'!\" & ADDRESS(117,A142+4)),\"PASS with comments\"))","v":2},{"$f":"COUNTIF(INDIRECT(\"'Success Criteria'!\" & ADDRESS(74,A142+4)):INDIRECT(\"'Success Criteria'!\" & ADDRESS(117,A142+4)),\"NON conformant\")","v":0},{"$f":"COUNTIF(INDIRECT(\"'Success Criteria'!\" & ADDRESS(74,A142+4)):INDIRECT(\"'Success Criteria'!\" & ADDRESS(117,A142+4)),\"N/A\")","v":0},{"$f":"COUNTIF(INDIRECT(\"'Success Criteria'!\" & ADDRESS(74,A142+4)):INDIRECT(\"'Success Criteria'!\" & ADDRESS(117,A142+4)),\"not tested\")","v":0},{"$f":"SUM(COUNTIF(INDIRECT(\"'Success Criteria'!\" & ADDRESS(122,A142+4)):INDIRECT(\"'Success Criteria'!\" & ADDRESS(176,A142+4)),\"PASS\"),COUNTIF(INDIRECT(\"'Success Criteria'!\" & ADDRESS(122,A142+4)):INDIRECT(\"'Success Criteria'!\" & ADDRESS(176,A142+4)),\"PASS with comments\"))","v":0},{"$f":"COUNTIF(INDIRECT(\"'Success Criteria'!\" & ADDRESS(122,A142+4)):INDIRECT(\"'Success Criteria'!\" & ADDRESS(176,A142+4)),\"NON conformant\")","v":0},{"$f":"COUNTIF(INDIRECT(\"'Success Criteria'!\" & ADDRESS(122,A142+4)):INDIRECT(\"'Success Criteria'!\" & ADDRESS(176,A142+4)),\"N/A\")","v":0},{"$f":"COUNTIF(INDIRECT(\"'Success Criteria'!\" & ADDRESS(122,A142+4)):INDIRECT(\"'Success Criteria'!\" & ADDRESS(176,A142+4)),\"not tested\")","v":28},2,0,0,28,null,0,"",2,"",28,1]
[129,"Page 129","URL 129","Please select",{"$f":"SUM(COUNTIF(INDIRECT(\"'Success Criteria'!\" & ADDRESS(8,A143+4)):INDIRECT(\"'Success Criteria'!\" & ADDRESS(70,A143+4)),\"PASS\"),COUNTIF(INDIRECT(\"'Success Criteria'!\" & ADDRESS(8,A143+4)):INDIRECT(\"'Success Criteria'!\" & ADDRESS(70,A143+4)),\"PASS with comments\"))","v":0},{"$f":"COUNTIF(INDIRECT(\"'Success Criteria'!\" & ADDRESS(8,A143+4)):INDIRECT(\"'Success Criteria'!\" & ADDRESS(70,A143+4)),\"NON conformant\")","v":0},{"$f":"COUNTIF(INDIRECT(\"'Success Criteria'!\" & ADDRESS(8,A143+4)):INDIRECT(\"'Success Criteria'!\" & ADDRESS(70,A143+4)),\"N/A\")","v":0},{"$f":"COUNTIF(INDIRECT(\"'Success Criteria'!\" & ADDRESS(8,A143+4)):INDIRECT(\"'Success Criteria'!\" & ADDRESS(70,A143+4)),\"not tested\")","v":0},{"$f":"SUM(COUNTIF(INDIRECT(\"'Success Criteria'!\" & ADDRESS(74,A143+4)):INDIRECT(\"'Success Criteria'!\" & ADDRESS(117,A143+4)),\"PASS\"),COUNTIF(INDIRECT(\"'Success Criteria'!\" & ADDRESS(74,A143+4)):INDIRECT(\"'Success Criteria'!\" & ADDRESS(117,A143+4)),\"PASS with comments\"))","v":2},{"$f":"COUNTIF(INDIRECT(\"'Success Criteria'!\" & ADDRESS(74,A143+4)):INDIRECT(\"'Success Criteria'!\" & ADDRESS(117,A143+4)),\"NON conformant\")","v":0},{"$f":"COUNTIF(INDIRECT(\"'Success Criteria'!\" & ADDRESS(74,A143+4)):INDIRECT(\"'Success Criteria'!\" & ADDRESS(117,A143+4)),\"N/A\")","v":0},{"$f":"COUNTIF(INDIRECT(\"'Success Criteria'!\" & ADDRESS(74,A143+4)):INDIRECT(\"'Success Criteria'!\" & ADDRESS(117,A143+4)),\"not tested\")","v":0},{"$f":"SUM(COUNTIF(INDIRECT(\"'Success Criteria'!\" & ADDRESS(122,A143+4)):INDIRECT(\"'Success Criteria'!\" & ADDRESS(176,A143+4)),\"PASS\"),COUNTIF(INDIRECT(\"'Success Criteria'!\" & ADDRESS(122,A143+4)):INDIRECT(\"'Success Criteria'!\" & ADDRESS(176,A143+4)),\"PASS with comments\"))","v":0},{"$f":"COUNTIF(INDIRECT(\"'Success Criteria'!\" & ADDRESS(122,A143+4)):INDIRECT(\"'Success Criteria'!\" & ADDRESS(176,A143+4)),\"NON conformant\")","v":0},{"$f":"COUNTIF(INDIRECT(\"'Success Criteria'!\" & ADDRESS(122,A143+4)):INDIRECT(\"'Success Criteria'!\" & ADDRESS(176,A143+4)),\"N/A\")","v":0},{"$f":"COUNTIF(INDIRECT(\"'Success Criteria'!\" & ADDRESS(122,A143+4)):INDIRECT(\"'Success Criteria'!\" & ADDRESS(176,A143+4)),\"not tested\")","v":28},2,0,0,28,null,0,"",2,"",28,1]
[130,"Page 130","URL 130","Please select",{"$f":"SUM(COUNTIF(INDIRECT(\"'Success Criteria'!\" & ADDRESS(8,A144+4)):INDIRECT(\"'Success Criteria'!\" & ADDRESS(70,A144+4)),\"PASS\"),COUNTIF(INDIRECT(\"'Success Criteria'!\" & ADDRESS(8,A144+4)):INDIRECT(\"'Success Criteria'!\" & ADDRESS(70,A144+4)),\"PASS with comments\"))","v":0},{"$f":"COUNTIF(INDIRECT(\"'Success Criteria'!\" & ADDRESS(8,A144+4)):INDIRECT(\"'Success Criteria'!\" & ADDRESS(70,A144+4)),\"NON conformant\")","v":0},{"$f":"COUNTIF(INDIRECT(\"'Success Criteria'!\" & ADDRESS(8,A144+4)):INDIRECT(\"'Success Criteria'!\" & ADDRESS(70,A144+4)),\"N/A\")","v":0},{"$f":"COUNTIF(INDIRECT(\"'Success Criteria'!\" & ADDRESS(8,A144+4)):INDIRECT(\"'Success Criteria'!\" & ADDRESS(70,A144+4)),\"not tested\")","v":0},{"$f":"SUM(COUNTIF(INDIRECT(\"'Success Criteria'!\" & ADDRESS(74,A144+4)):INDIRECT(\"'Success Criteria'!\" & ADDRESS(117,A144+4)),\"PASS\"),COUNTIF(INDIRECT(\"'Success Criteria'!\" & ADDRESS(74,A144+4)):INDIRECT(\"'Success Criteria'!\" & ADDRESS(117,A144+4)),\"PASS with comments\"))","v":2},{"$f":"COUNTIF(INDIRECT(\"'Success Criteria'!\" & ADDRESS(74,A144+4)):INDIRECT(\"'Success Criteria'!\" & ADDRESS(117,A144+4)),\"NON conformant\")","v":0},{"$f":"COUNTIF(INDIRECT(\"'Success Criteria'!\" & ADDRESS(74,A144+4)):INDIRECT(\"'Success Criteria'!\" & ADDRESS(117,A144+4)),\"N/A\")","v":0},{"$f":"COUNTIF(INDIRECT(\"'Success Criteria'!\" & ADDRESS(74,A144+4)):INDIRECT(\"'Success Criteria'!\" & ADDRESS(117,A144+4)),\"not tested\")","v":0},{"$f":"SUM(COUNTIF(INDIRECT(\"'Success Criteria'!\" & ADDRESS(122,A144+4)):INDIRECT(\"'Success Criteria'!\" & ADDRESS(176,A144+4)),\"PASS\"),COUNTIF(INDIRECT(\"'Success Criteria'!\" & ADDRESS(122,A144+4)):INDIRECT(\"'Success Criteria'!\" & ADDRESS(176,A144+4)),\"PASS with comments\"))","v":0},{"$f":"COUNTIF(INDIRECT(\"'Success Criteria'!\" & ADDRESS(122,A144+4)):INDIRECT(\"'Success Criteria'!\" & ADDRESS(176,A144+4)),\"NON conformant\")","v":0},{"$f":"COUNTIF(INDIRECT(\"'Success Criteria'!\" & ADDRESS(122,A144+4)):INDIRECT(\"'Success Criteria'!\" & ADDRESS(176,A144+4)),\"N/A\")","v":0},{"$f":"COUNTIF(INDIRECT(\"'Success Criteria'!\" & ADDRESS(122,A144+4)):INDIRECT(\"'Success Criteria'!\" & ADDRESS(176,A144+4)),\"not tested\")","v":28},{"$f":"SUM(E144+I144+M144)","v":2},0,0,28,null,0,"",{"$f":"SUM($I144:$L144)","v":2},"",{"$f":"SUM($M144:$P144)","v":28},1]
[131,"Page 131","URL 131","Please select",{"$f":"SUM(COUNTIF(INDIRECT(\"'Success Criteria'!\" & ADDRESS(8,A145+4)):INDIRECT(\"'Success Criteria'!\" & ADDRESS(70,A145+4)),\"PASS\"),COUNTIF(INDIRECT(\"'Success Criteria'!\" & ADDRESS(8,A145+4)):INDIRECT(\"'Success Criteria'!\" & ADDRESS(70,A145+4)),\"PASS with comments\"))","v":0},{"$f":"COUNTIF(INDIRECT(\"'Success Criteria'!\" & ADDRESS(8,A145+4)):INDIRECT(\"'Success Criteria'!\" & ADDRESS(70,A145+4)),\"NON conformant\")","v":0},{"$f":"COUNTIF(INDIRECT(\"'Success Criteria'!\" & ADDRESS(8,A145+4)):INDIRECT(\"'Success Criteria'!\" & ADDRESS(70,A145+4)),\"N/A\")","v":0},{"$f":"COUNTIF(INDIRECT(\"'Success Criteria'!\" & ADDRESS(8,A145+4)):INDIRECT(\"'Success Criteria'!\" & ADDRESS(70,A145+4)),\"not tested\")","v":0},{"$f":"SUM(COUNTIF(INDIRECT(\"'Success Criteria'!\" & ADDRESS(74,A145+4)):INDIRECT(\"'Success Criteria'!\" & ADDRESS(117,A145+4)),\"PASS\"),COUNTIF(INDIRECT(\"'Success Criteria'!\" & ADDRESS(74,A145+4)):INDIRECT(\"'Success Criteria'!\" & ADDRESS(117,A145+4)),\"PASS with comments\"))","v":2},{"$f":"COUNTIF(INDIRECT(\"'Success Criteria'!\" & ADDRESS(74,A145+4)):INDIRECT(\"'Success Criteria'!\" & ADDRESS(117,A145+4)),\"NON conformant\")","v":0},{"$f":"COUNTIF(INDIRECT(\"'Success Criteria'!\" & ADDRESS(74,A145+4)):INDIRECT(\"'Success Criteria'!\" & ADDRESS(117,A145+4)),\"N/A\")","v":0},{"$f":"COUNTIF(INDIRECT(\"'Success Criteria'!\" & ADDRESS(74,A145+4)):INDIRECT(\"'Success Criteria'!\" & ADDRESS(117,A145+4)),\"not tested\")","v":0},{"$f":"SUM(COUNTIF(INDIRECT(\"'Success Criteria'!\" & ADDRESS(122,A145+4)):INDIRECT(\"'Success Criteria'!\" & ADDRESS(176,A145+4)),\"PASS\"),COUNTIF(INDIRECT(\"'Success Criteria'!\" & ADDRESS(122,A145+4)):INDIRECT(\"'Success Criteria'!\" & ADDRESS(176,A145+4)),\"PASS with comments\"))","v":0},{"$f":"COUNTIF(INDIRECT(\"'Success Criteria'!\" & ADDRESS(122,A145+4)):INDIRECT(\"'Success Criteria'!\" & ADDRESS(176,A145+4)),\"NON conformant\")","v":0},{"$f":"COUNTIF(INDIRECT(\"'Success Criteria'!\" & ADDRESS(122,A145+4)):INDIRECT(\"'Success Criteria'!\" & ADDRESS(176,A145+4)),\"N/A\")","v":0},{"$f":"COUNTIF(INDIRECT(\"'Success Criteria'!\" & ADDRESS(122,A145+4)):INDIRECT(\"'Success Criteria'!\" & ADDRESS(176,A145+4)),\"not tested\")","v":28},2,0,0,28,null,0,"",2,"",28,1]
[132,"Page 132","URL 132","Please select",{"$f":"SUM(COUNTIF(INDIRECT(\"'Success Criteria'!\" & ADDRESS(8,A146+4)):INDIRECT(\"'Success Criteria'!\" & ADDRESS(70,A146+4)),\"PASS\"),COUNTIF(INDIRECT(\"'Success Criteria'!\" & ADDRESS(8,A146+4)):INDIRECT(\"'Success Criteria'!\" & ADDRESS(70,A146+4)),\"PASS with comments\"))","v":0},{"$f":"COUNTIF(INDIRECT(\"'Success Criteria'!\" & ADDRESS(8,A146+4)):INDIRECT(\"'Success Criteria'!\" & ADDRESS(70,A146+4)),\"NON conformant\")","v":0},{"$f":"COUNTIF(INDIRECT(\"'Success Criteria'!\" & ADDRESS(8,A146+4)):INDIRECT(\"'Success Criteria'!\" & ADDRESS(70,A146+4)),\"N/A\")","v":0},{"$f":"COUNTIF(INDIRECT(\"'Success Criteria'!\" & ADDRESS(8,A146+4)):INDIRECT(\"'Success Criteria'!\" & ADDRESS(70,A146+4)),\"not tested\")","v":0},{"$f":"SUM(COUNTIF(INDIRECT(\"'Success Criteria'!\" & ADDRESS(74,A146+4)):INDIRECT(\"'Success Criteria'!\" & ADDRESS(117,A146+4)),\"PASS\"),COUNTIF(INDIRECT(\"'Success Criteria'!\" & ADDRESS(74,A146+4)):INDIRECT(\"'Success Criteria'!\" & ADDRESS(117,A146+4)),\"PASS with comments\"))","v":2},{"$f":"COUNTIF(INDIRECT(\"'Success Criteria'!\" & ADDRESS(74,A146+4)):INDIRECT(\"'Success Criteria'!\" & ADDRESS(117,A146+4)),\"NON conformant\")","v":0},{"$f":"COUNTIF(INDIRECT(\"'Success Criteria'!\" & ADDRESS(74,A146+4)):INDIRECT(\"'Success Criteria'!\" & ADDRESS(117,A146+4)),\"N/A\")","v":0},{"$f":"COUNTIF(INDIRECT(\"'Success Criteria'!\" & ADDRESS(74,A146+4)):INDIRECT(\"'Success Criteria'!\" & ADDRESS(117,A146+4)),\"not tested\")","v":0},{"$f":"SUM(COUNTIF(INDIRECT(\"'Success Criteria'!\" & ADDRESS(122,A146+4)):INDIRECT(\"'Success Criteria'!\" & ADDRESS(176,A146+4)),\"PASS\"),COUNTIF(INDIRECT(\"'Success Criteria'!\" & ADDRESS(122,A146+4)):INDIRECT(\"'Success Criteria'!\" & ADDRESS(176,A146+4)),\"PASS with comments\"))","v":0},{"$f":"COUNTIF(INDIRECT(\"'Success Criteria'!\" & ADDRESS(122,A146+4)):INDIRECT(\"'Success Criteria'!\" & ADDRESS(176,A146+4)),\"NON conformant\")","v":0},{"$f":"COUNTIF(INDIRECT(\"'Success Criteria'!\" & ADDRESS(122,A146+4)):INDIRECT(\"'Success Criteria'!\" & ADDRESS(176,A146+4)),\"N/A\")","v":0},{"$f":"COUNTIF(INDIRECT(\"'Success Criteria'!\" & ADDRESS(122,A146+4)):INDIRECT(\"'Success Criteria'!\" & ADDRESS(176,A146+4)),\"not tested\")","v":28},2,0,0,28,null,0,"",2,"",28,1]
[133,"Page 133","URL 133","Please select",{"$f":"SUM(COUNTIF(INDIRECT(\"'Success Criteria'!\" & ADDRESS(8,A147+4)):INDIRECT(\"'Success Criteria'!\" & ADDRESS(70,A147+4)),\"PASS\"),COUNTIF(INDIRECT(\"'Success Criteria'!\" & ADDRESS(8,A147+4)):INDIRECT(\"'Success Criteria'!\" & ADDRESS(70,A147+4)),\"PASS with comments\"))","v":0},{"$f":"COUNTIF(INDIRECT(\"'Success Criteria'!\" & ADDRESS(8,A147+4)):INDIRECT(\"'Success Criteria'!\" & ADDRESS(70,A147+4)),\"NON conformant\")","v":0},{"$f":"COUNTIF(INDIRECT(\"'Success Criteria'!\" & ADDRESS(8,A147+4)):INDIRECT(\"'Success Criteria'!\" & ADDRESS(70,A147+4)),\"N/A\")","v":0},{"$f":"COUNTIF(INDIRECT(\"'Success Criteria'!\" & ADDRESS(8,A147+4)):INDIRECT(\"'Success Criteria'!\" & ADDRESS(70,A147+4)),\"not tested\")","v":0},{"$f":"SUM(COUNTIF(INDIRECT(\"'Success Criteria'!\" & ADDRESS(74,A147+4)):INDIRECT(\"'Success Criteria'!\" & ADDRESS(117,A147+4)),\"PASS\"),COUNTIF(INDIRECT(\"'Success Criteria'!\" & ADDRESS(74,A147+4)):INDIRECT(\"'Success Criteria'!\" & ADDRESS(117,A147+4)),\"PASS with comments\"))","v":2},{"$f":"COUNTIF(INDIRECT(\"'Success Criteria'!\" & ADDRESS(74,A147+4)):INDIRECT(\"'Success Criteria'!\" & ADDRESS(117,A147+4)),\"NON conformant\")","v":0},{"$f":"COUNTIF(INDIRECT(\"'Success Criteria'!\" & ADDRESS(74,A147+4)):INDIRECT(\"'Success Criteria'!\" & ADDRESS(117,A147+4)),\"N/A\")","v":0},{"$f":"COUNTIF(INDIRECT(\"'Success Criteria'!\" & ADDRESS(74,A147+4)):INDIRECT(\"'Success Criteria'!\" & ADDRESS(117,A147+4)),\"not tested\")","v":0},{"$f":"SUM(COUNTIF(INDIRECT(\"'Success Criteria'!\" & ADDRESS(122,A147+4)):INDIRECT(\"'Success Criteria'!\" & ADDRESS(176,A147+4)),\"PASS\"),COUNTIF(INDIRECT(\"'Success Criteria'!\" & ADDRESS(122,A147+4)):INDIRECT(\"'Success Criteria'!\" & ADDRESS(176,A147+4)),\"PASS with comments\"))","v":0},{"$f":"COUNTIF(INDIRECT(\"'Success Criteria'!\" & ADDRESS(122,A147+4)):INDIRECT(\"'Success Criteria'!\" & ADDRESS(176,A147+4)),\"NON conformant\")","v":0},{"$f":"COUNTIF(INDIRECT(\"'Success Criteria'!\" & ADDRESS(122,A147+4)):INDIRECT(\"'Success Criteria'!\" & ADDRESS(176,A147+4)),\"N/A\")","v":0},{"$f":"COUNTIF(INDIRECT(\"'Success Criteria'!\" & ADDRESS(122,A147+4)):INDIRECT(\"'Success Criteria'!\" & ADDRESS(176,A147+4)),\"not tested\")","v":28},2,0,0,28,null,0,"",2,"",28,1]
[134,"Page 134","URL 134","Please select",{"$f":"SUM(COUNTIF(INDIRECT(\"'Success Criteria'!\" & ADDRESS(8,A148+4)):INDIRECT(\"'Success Criteria'!\" & ADDRESS(70,A148+4)),\"PASS\"),COUNTIF(INDIRECT(\"'Success Criteria'!\" & ADDRESS(8,A148+4)):INDIRECT(\"'Success Criteria'!\" & ADDRESS(70,A148+4)),\"PASS with comments\"))","v":0},{"$f":"COUNTIF(INDIRECT(\"'Success Criteria'!\" & ADDRESS(8,A148+4)):INDIRECT(\"'Success Criteria'!\" & ADDRESS(70,A148+4)),\"NON conformant\")","v":0},{"$f":"COUNTIF(INDIRECT(\"'Success Criteria'!\" & ADDRESS(8,A148+4)):INDIRECT(\"'Success Criteria'!\" & ADDRESS(70,A148+4)),\"N/A\")","v":0},{"$f":"COUNTIF(INDIRECT(\"'Success Criteria'!\" & ADDRESS(8,A148+4)):INDIRECT(\"'Success Criteria'!\" & ADDRESS(70,A148+4)),\"not tested\")","v":0},{"$f":"SUM(COUNTIF(INDIRECT(\"'Success Criteria'!\" & ADDRESS(74,A148+4)):INDIRECT(\"'Success Criteria'!\" & ADDRESS(117,A148+4)),\"PASS\"),COUNTIF(INDIRECT(\"'Success Criteria'!\" & ADDRESS(74,A148+4)):INDIRECT(\"'Success Criteria'!\" & ADDRESS(117,A148+4)),\"PASS with comments\"))","v":2},{"$f":"COUNTIF(INDIRECT(\"'Success Criteria'!\" & ADDRESS(74,A148+4)):INDIRECT(\"'Success Criteria'!\" & ADDRESS(117,A148+4)),\"NON conformant\")","v":0},{"$f":"COUNTIF(INDIRECT(\"'Success Criteria'!\" & ADDRESS(74,A148+4)):INDIRECT(\"'Success Criteria'!\" & ADDRESS(117,A148+4)),\"N/A\")","v":0},{"$f":"COUNTIF(INDIRECT(\"'Success Criteria'!\" & ADDRESS(74,A148+4)):INDIRECT(\"'Success Criteria'!\" & ADDRESS(117,A148+4)),\"not tested\")","v":0},{"$f":"SUM(COUNTIF(INDIRECT(\"'Success Criteria'!\" & ADDRESS(122,A148+4)):INDIRECT(\"'Success Criteria'!\" & ADDRESS(176,A148+4)),\"PASS\"),COUNTIF(INDIRECT(\"'Success Criteria'!\" & ADDRESS(122,A148+4)):INDIRECT(\"'Success Criteria'!\" & ADDRESS(176,A148+4)),\"PASS with comments\"))","v":0},{"$f":"COUNTIF(INDIRECT(\"'Success Criteria'!\" & ADDRESS(122,A148+4)):INDIRECT(\"'Success Criteria'!\" & ADDRESS(176,A148+4)),\"NON conformant\")","v":0},{"$f":"COUNTIF(INDIRECT(\"'Success Criteria'!\" & ADDRESS(122,A148+4)):INDIRECT(\"'Success Criteria'!\" & ADDRESS(176,A148+4)),\"N/A\")","v":0},{"$f":"COUNTIF(INDIRECT(\"'Success Criteria'!\" & ADDRESS(122,A148+4)):INDIRECT(\"'Success Criteria'!\" & ADDRESS(176,A148+4)),\"not tested\")","v":28},2,0,0,28,null,0,"",2,"",28,1]
[135,"Page 135","URL 135","Please select",{"$f":"SUM(COUNTIF(INDIRECT(\"'Success Criteria'!\" & ADDRESS(8,A149+4)):INDIRECT(\"'Success Criteria'!\" & ADDRESS(70,A149+4)),\"PASS\"),COUNTIF(INDIRECT(\"'Success Criteria'!\" & ADDRESS(8,A149+4)):INDIRECT(\"'Success Criteria'!\" & ADDRESS(70,A149+4)),\"PASS with comments\"))","v":0},{"$f":"COUNTIF(INDIRECT(\"'Success Criteria'!\" & ADDRESS(8,A149+4)):INDIRECT(\"'Success Criteria'!\" & ADDRESS(70,A149+4)),\"NON conformant\")","v":0},{"$f":"COUNTIF(INDIRECT(\"'Success Criteria'!\" & ADDRESS(8,A149+4)):INDIRECT(\"'Success Criteria'!\" & ADDRESS(70,A149+4)),\"N/A\")","v":0},{"$f":"COUNTIF(INDIRECT(\"'Success Criteria'!\" & ADDRESS(8,A149+4)):INDIRECT(\"'Success Criteria'!\" & ADDRESS(70,A149+4)),\"not tested\")","v":0},{"$f":"SUM(COUNTIF(INDIRECT(\"'Success Criteria'!\" & ADDRESS(74,A149+4)):INDIRECT(\"'Success Criteria'!\" & ADDRESS(117,A149+4)),\"PASS\"),COUNTIF(INDIRECT(\"'Success Criteria'!\" & ADDRESS(74,A149+4)):INDIRECT(\"'Success Criteria'!\" & ADDRESS(117,A149+4)),\"PASS with comments\"))","v":2},{"$f":"COUNTIF(INDIRECT(\"'Success Criteria'!\" & ADDRESS(74,A149+4)):INDIRECT(\"'Success Criteria'!\" & ADDRESS(117,A149+4)),\"NON conformant\")","v":0},{"$f":"COUNTIF(INDIRECT(\"'Success Criteria'!\" & ADDRESS(74,A149+4)):INDIRECT(\"'Success Criteria'!\" & ADDRESS(117,A149+4)),\"N/A\")","v":0},{"$f":"COUNTIF(INDIRECT(\"'Success Criteria'!\" & ADDRESS(74,A149+4)):INDIRECT(\"'Success Criteria'!\" & ADDRESS(117,A149+4)),\"not tested\")","v":0},{"$f":"SUM(COUNTIF(INDIRECT(\"'Success Criteria'!\" & ADDRESS(122,A149+4)):INDIRECT(\"'Success Criteria'!\" & ADDRESS(176,A149+4)),\"PASS\"),COUNTIF(INDIRECT(\"'Success Criteria'!\" & ADDRESS(122,A149+4)):INDIRECT(\"'Success Criteria'!\" & ADDRESS(176,A149+4)),\"PASS with comments\"))","v":0},{"$f":"COUNTIF(INDIRECT(\"'Success Criteria'!\" & ADDRESS(122,A149+4)):INDIRECT(\"'Success Criteria'!\" & ADDRESS(176,A149+4)),\"NON conformant\")","v":0},{"$f":"COUNTIF(INDIRECT(\"'Success Criteria'!\" & ADDRESS(122,A149+4)):INDIRECT(\"'Success Criteria'!\" & ADDRESS(176,A149+4)),\"N/A\")","v":0},{"$f":"COUNTIF(INDIRECT(\"'Success Criteria'!\" & ADDRESS(122,A149+4)):INDIRECT(\"'Success Criteria'!\" & ADDRESS(176,A149+4)),\"not tested\")","v":28},2,0,0,28,null,0,"",2,"",28,1]
[136,"Page 136","URL 136","Please select",{"$f":"SUM(COUNTIF(INDIRECT(\"'Success Criteria'!\" & ADDRESS(8,A150+4)):INDIRECT(\"'Success Criteria'!\" & ADDRESS(70,A150+4)),\"PASS\"),COUNTIF(INDIRECT(\"'Success Criteria'!\" & ADDRESS(8,A150+4)):INDIRECT(\"'Success Criteria'!\" & ADDRESS(70,A150+4)),\"PASS with comments\"))","v":0},{"$f":"COUNTIF(INDIRECT(\"'Success Criteria'!\" & ADDRESS(8,A150+4)):INDIRECT(\"'Success Criteria'!\" & ADDRESS(70,A150+4)),\"NON conformant\")","v":0},{"$f":"COUNTIF(INDIRECT(\"'Success Criteria'!\" & ADDRESS(8,A150+4)):INDIRECT(\"'Success Criteria'!\" & ADDRESS(70,A150+4)),\"N/A\")","v":0},{"$f":"COUNTIF(INDIRECT(\"'Success Criteria'!\" & ADDRESS(8,A150+4)):INDIRECT(\"'Success Criteria'!\" & ADDRESS(70,A150+4)),\"not tested\")","v":0},{"$f":"SUM(COUNTIF(INDIRECT(\"'Success Criteria'!\" & ADDRESS(74,A150+4)):INDIRECT(\"'Success Criteria'!\" & ADDRESS(117,A150+4)),\"PASS\"),COUNTIF(INDIRECT(\"'Success Criteria'!\" & ADDRESS(74,A150+4)):INDIRECT(\"'Success Criteria'!\" & ADDRESS(117,A150+4)),\"PASS with comments\"))","v":2},{"$f":"COUNTIF(INDIRECT(\"'Success Criteria'!\" & ADDRESS(74,A150+4)):INDIRECT(\"'Success Criteria'!\" & ADDRESS(117,A150+4)),\"NON conformant\")","v":0},{"$f":"COUNTIF(INDIRECT(\"'Success Criteria'!\" & ADDRESS(74,A150+4)):INDIRECT(\"'Success Criteria'!\" & ADDRESS(117,A150+4)),\"N/A\")","v":0},{"$f":"COUNTIF(INDIRECT(\"'Success Criteria'!\" & ADDRESS(74,A150+4)):INDIRECT(\"'Success Criteria'!\" & ADDRESS(117,A150+4)),\"not tested\")","v":0},{"$f":"SUM(COUNTIF(INDIRECT(\"'Success Criteria'!\" & ADDRESS(122,A150+4)):INDIRECT(\"'Success Criteria'!\" & ADDRESS(176,A150+4)),\"PASS\"),COUNTIF(INDIRECT(\"'Success Criteria'!\" & ADDRESS(122,A150+4)):INDIRECT(\"'Success Criteria'!\" & ADDRESS(176,A150+4)),\"PASS with comments\"))","v":0},{"$f":"COUNTIF(INDIRECT(\"'Success Criteria'!\" & ADDRESS(122,A150+4)):INDIRECT(\"'Success Criteria'!\" & ADDRESS(176,A150+4)),\"NON conformant\")","v":0},{"$f":"COUNTIF(INDIRECT(\"'Success Criteria'!\" & ADDRESS(122,A150+4)):INDIRECT(\"'Success Criteria'!\" & ADDRESS(176,A150+4)),\"N/A\")","v":0},{"$f":"COUNTIF(INDIRECT(\"'Success Criteria'!\" & ADDRESS(122,A150+4)):INDIRECT(\"'Success Criteria'!\" & ADDRESS(176,A150+4)),\"not tested\")","v":28},2,0,0,28,null,0,"",2,"",28,1]
[137,"Page 137","URL 137","Please select",{"$f":"SUM(COUNTIF(INDIRECT(\"'Success Criteria'!\" & ADDRESS(8,A151+4)):INDIRECT(\"'Success Criteria'!\" & ADDRESS(70,A151+4)),\"PASS\"),COUNTIF(INDIRECT(\"'Success Criteria'!\" & ADDRESS(8,A151+4)):INDIRECT(\"'Success Criteria'!\" & ADDRESS(70,A151+4)),\"PASS with comments\"))","v":0},{"$f":"COUNTIF(INDIRECT(\"'Success Criteria'!\" & ADDRESS(8,A151+4)):INDIRECT(\"'Success Criteria'!\" & ADDRESS(70,A151+4)),\"NON conformant\")","v":0},{"$f":"COUNTIF(INDIRECT(\"'Success Criteria'!\" & ADDRESS(8,A151+4)):INDIRECT(\"'Success Criteria'!\" & ADDRESS(70,A151+4)),\"N/A\")","v":0},{"$f":"COUNTIF(INDIRECT(\"'Success Criteria'!\" & ADDRESS(8,A151+4)):INDIRECT(\"'Success Criteria'!\" & ADDRESS(70,A151+4)),\"not tested\")","v":0},{"$f":"SUM(COUNTIF(INDIRECT(\"'Success Criteria'!\" & ADDRESS(74,A151+4)):INDIRECT(\"'Success Criteria'!\" & ADDRESS(117,A151+4)),\"PASS\"),COUNTIF(INDIRECT(\"'Success Criteria'!\" & ADDRESS(74,A151+4)):INDIRECT(\"'Success Criteria'!\" & ADDRESS(117,A151+4)),\"PASS with comments\"))","v":2},{"$f":"COUNTIF(INDIRECT(\"'Success Criteria'!\" & ADDRESS(74,A151+4)):INDIRECT(\"'Success Criteria'!\" & ADDRESS(117,A151+4)),\"NON conformant\")","v":0},{"$f":"COUNTIF(INDIRECT(\"'Success Criteria'!\" & ADDRESS(74,A151+4)):INDIRECT(\"'Success Criteria'!\" & ADDRESS(117,A151+4)),\"N/A\")","v":0},{"$f":"COUNTIF(INDIRECT(\"'Success Criteria'!\" & ADDRESS(74,A151+4)):INDIRECT(\"'Success Criteria'!\" & ADDRESS(117,A151+4)),\"not tested\")","v":0},{"$f":"SUM(COUNTIF(INDIRECT(\"'Success Criteria'!\" & ADDRESS(122,A151+4)):INDIRECT(\"'Success Criteria'!\" & ADDRESS(176,A151+4)),\"PASS\"),COUNTIF(INDIRECT(\"'Success Criteria'!\" & ADDRESS(122,A151+4)):INDIRECT(\"'Success Criteria'!\" & ADDRESS(176,A151+4)),\"PASS with comments\"))","v":0},{"$f":"COUNTIF(INDIRECT(\"'Success Criteria'!\" & ADDRESS(122,A151+4)):INDIRECT(\"'Success Criteria'!\" & ADDRESS(176,A151+4)),\"NON conformant\")","v":0},{"$f":"COUNTIF(INDIRECT(\"'Success Criteria'!\" & ADDRESS(122,A151+4)):INDIRECT(\"'Success Criteria'!\" & ADDRESS(176,A151+4)),\"N/A\")","v":0},{"$f":"COUNTIF(INDIRECT(\"'Success Criteria'!\" & ADDRESS(122,A151+4)):INDIRECT(\"'Success Criteria'!\" & ADDRESS(176,A151+4)),\"not tested\")","v":28},2,0,0,28,null,0,"",2,"",28,1]
[138,"Page 138","URL 138","Please select",{"$f":"SUM(COUNTIF(INDIRECT(\"'Success Criteria'!\" & ADDRESS(8,A152+4)):INDIRECT(\"'Success Criteria'!\" & ADDRESS(70,A152+4)),\"PASS\"),COUNTIF(INDIRECT(\"'Success Criteria'!\" & ADDRESS(8,A152+4)):INDIRECT(\"'Success Criteria'!\" & ADDRESS(70,A152+4)),\"PASS with comments\"))","v":0},{"$f":"COUNTIF(INDIRECT(\"'Success Criteria'!\" & ADDRESS(8,A152+4)):INDIRECT(\"'Success Criteria'!\" & ADDRESS(70,A152+4)),\"NON conformant\")","v":0},{"$f":"COUNTIF(INDIRECT(\"'Success Criteria'!\" & ADDRESS(8,A152+4)):INDIRECT(\"'Success Criteria'!\" & ADDRESS(70,A152+4)),\"N/A\")","v":0},{"$f":"COUNTIF(INDIRECT(\"'Success Criteria'!\" & ADDRESS(8,A152+4)):INDIRECT(\"'Success Criteria'!\" & ADDRESS(70,A152+4)),\"not tested\")","v":0},{"$f":"SUM(COUNTIF(INDIRECT(\"'Success Criteria'!\" & ADDRESS(74,A152+4)):INDIRECT(\"'Success Criteria'!\" & ADDRESS(117,A152+4)),\"PASS\"),COUNTIF(INDIRECT(\"'Success Criteria'!\" & ADDRESS(74,A152+4)):INDIRECT(\"'Success Criteria'!\" & ADDRESS(117,A152+4)),\"PASS with comments\"))","v":2},{"$f":"COUNTIF(INDIRECT(\"'Success Criteria'!\" & ADDRESS(74,A152+4)):INDIRECT(\"'Success Criteria'!\" & ADDRESS(117,A152+4)),\"NON conformant\")","v":0},{"$f":"COUNTIF(INDIRECT(\"'Success Criteria'!\" & ADDRESS(74,A152+4)):INDIRECT(\"'Success Criteria'!\" & ADDRESS(117,A152+4)),\"N/A\")","v":0},{"$f":"COUNTIF(INDIRECT(\"'Success Criteria'!\" & ADDRESS(74,A152+4)):INDIRECT(\"'Success Criteria'!\" & ADDRESS(117,A152+4)),\"not tested\")","v":0},{"$f":"SUM(COUNTIF(INDIRECT(\"'Success Criteria'!\" & ADDRESS(122,A152+4)):INDIRECT(\"'Success Criteria'!\" & ADDRESS(176,A152+4)),\"PASS\"),COUNTIF(INDIRECT(\"'Success Criteria'!\" & ADDRESS(122,A152+4)):INDIRECT(\"'Success Criteria'!\" & ADDRESS(176,A152+4)),\"PASS with comments\"))","v":0},{"$f":"COUNTIF(INDIRECT(\"'Success Criteria'!\" & ADDRESS(122,A152+4)):INDIRECT(\"'Success Criteria'!\" & ADDRESS(176,A152+4)),\"NON conformant\")","v":0},{"$f":"COUNTIF(INDIRECT(\"'Success Criteria'!\" & ADDRESS(122,A152+4)):INDIRECT(\"'Success Criteria'!\" & ADDRESS(176,A152+4)),\"N/A\")","v":0},{"$f":"COUNTIF(INDIRECT(\"'Success Criteria'!\" & ADDRESS(122,A152+4)):INDIRECT(\"'Success Criteria'!\" & ADDRESS(176,A152+4)),\"not tested\")","v":28},2,0,0,28,null,0,"",2,"",28,1]
[139,"Page 139","URL 139","Please select",{"$f":"SUM(COUNTIF(INDIRECT(\"'Success Criteria'!\" & ADDRESS(8,A153+4)):INDIRECT(\"'Success Criteria'!\" & ADDRESS(70,A153+4)),\"PASS\"),COUNTIF(INDIRECT(\"'Success Criteria'!\" & ADDRESS(8,A153+4)):INDIRECT(\"'Success Criteria'!\" & ADDRESS(70,A153+4)),\"PASS with comments\"))","v":0},{"$f":"COUNTIF(INDIRECT(\"'Success Criteria'!\" & ADDRESS(8,A153+4)):INDIRECT(\"'Success Criteria'!\" & ADDRESS(70,A153+4)),\"NON conformant\")","v":0},{"$f":"COUNTIF(INDIRECT(\"'Success Criteria'!\" & ADDRESS(8,A153+4)):INDIRECT(\"'Success Criteria'!\" & ADDRESS(70,A153+4)),\"N/A\")","v":0},{"$f":"COUNTIF(INDIRECT(\"'Success Criteria'!\" & ADDRESS(8,A153+4)):INDIRECT(\"'Success Criteria'!\" & ADDRESS(70,A153+4)),\"not tested\")","v":0},{"$f":"SUM(COUNTIF(INDIRECT(\"'Success Criteria'!\" & ADDRESS(74,A153+4)):INDIRECT(\"'Success Criteria'!\" & ADDRESS(117,A153+4)),\"PASS\"),COUNTIF(INDIRECT(\"'Success Criteria'!\" & ADDRESS(74,A153+4)):INDIRECT(\"'Success Criteria'!\" & ADDRESS(117,A153+4)),\"PASS with comments\"))","v":2},{"$f":"COUNTIF(INDIRECT(\"'Success Criteria'!\" & ADDRESS(74,A153+4)):INDIRECT(\"'Success Criteria'!\" & ADDRESS(117,A153+4)),\"NON conformant\")","v":0},{"$f":"COUNTIF(INDIRECT(\"'Success Criteria'!\" & ADDRESS(74,A153+4)):INDIRECT(\"'Success Criteria'!\" & ADDRESS(117,A153+4)),\"N/A\")","v":0},{"$f":"COUNTIF(INDIRECT(\"'Success Criteria'!\" & ADDRESS(74,A153+4)):INDIRECT(\"'Success Criteria'!\" & ADDRESS(117,A153+4)),\"not tested\")","v":0},{"$f":"SUM(COUNTIF(INDIRECT(\"'Success Criteria'!\" & ADDRESS(122,A153+4)):INDIRECT(\"'Success Criteria'!\" & ADDRESS(176,A153+4)),\"PASS\"),COUNTIF(INDIRECT(\"'Success Criteria'!\" & ADDRESS(122,A153+4)):INDIRECT(\"'Success Criteria'!\" & ADDRESS(176,A153+4)),\"PASS with comments\"))","v":0},{"$f":"COUNTIF(INDIRECT(\"'Success Criteria'!\" & ADDRESS(122,A153+4)):INDIRECT(\"'Success Criteria'!\" & ADDRESS(176,A153+4)),\"NON conformant\")","v":0},{"$f":"COUNTIF(INDIRECT(\"'Success Criteria'!\" & ADDRESS(122,A153+4)):INDIRECT(\"'Success Criteria'!\" & ADDRESS(176,A153+4)),\"N/A\")","v":0},{"$f":"COUNTIF(INDIRECT(\"'Success Criteria'!\" & ADDRESS(122,A153+4)):INDIRECT(\"'Success Criteria'!\" & ADDRESS(176,A153+4)),\"not tested\")","v":28},2,0,0,28,null,0,"",2,"",28,1]
[140,"Page 140","URL 140","Please select",{"$f":"SUM(COUNTIF(INDIRECT(\"'Success Criteria'!\" & ADDRESS(8,A154+4)):INDIRECT(\"'Success Criteria'!\" & ADDRESS(70,A154+4)),\"PASS\"),COUNTIF(INDIRECT(\"'Success Criteria'!\" & ADDRESS(8,A154+4)):INDIRECT(\"'Success Criteria'!\" & ADDRESS(70,A154+4)),\"PASS with comments\"))","v":0},{"$f":"COUNTIF(INDIRECT(\"'Success Criteria'!\" & ADDRESS(8,A154+4)):INDIRECT(\"'Success Criteria'!\" & ADDRESS(70,A154+4)),\"NON conformant\")","v":0},{"$f":"COUNTIF(INDIRECT(\"'Success Criteria'!\" & ADDRESS(8,A154+4)):INDIRECT(\"'Success Criteria'!\" & ADDRESS(70,A154+4)),\"N/A\")","v":0},{"$f":"COUNTIF(INDIRECT(\"'Success Criteria'!\" & ADDRESS(8,A154+4)):INDIRECT(\"'Success Criteria'!\" & ADDRESS(70,A154+4)),\"not tested\")","v":0},{"$f":"SUM(COUNTIF(INDIRECT(\"'Success Criteria'!\" & ADDRESS(74,A154+4)):INDIRECT(\"'Success Criteria'!\" & ADDRESS(117,A154+4)),\"PASS\"),COUNTIF(INDIRECT(\"'Success Criteria'!\" & ADDRESS(74,A154+4)):INDIRECT(\"'Success Criteria'!\" & ADDRESS(117,A154+4)),\"PASS with comments\"))","v":2},{"$f":"COUNTIF(INDIRECT(\"'Success Criteria'!\" & ADDRESS(74,A154+4)):INDIRECT(\"'Success Criteria'!\" & ADDRESS(117,A154+4)),\"NON conformant\")","v":0},{"$f":"COUNTIF(INDIRECT(\"'Success Criteria'!\" & ADDRESS(74,A154+4)):INDIRECT(\"'Success Criteria'!\" & ADDRESS(117,A154+4)),\"N/A\")","v":0},{"$f":"COUNTIF(INDIRECT(\"'Success Criteria'!\" & ADDRESS(74,A154+4)):INDIRECT(\"'Success Criteria'!\" & ADDRESS(117,A154+4)),\"not tested\")","v":0},{"$f":"SUM(COUNTIF(INDIRECT(\"'Success Criteria'!\" & ADDRESS(122,A154+4)):INDIRECT(\"'Success Criteria'!\" & ADDRESS(176,A154+4)),\"PASS\"),COUNTIF(INDIRECT(\"'Success Criteria'!\" & ADDRESS(122,A154+4)):INDIRECT(\"'Success Criteria'!\" & ADDRESS(176,A154+4)),\"PASS with comments\"))","v":0},{"$f":"COUNTIF(INDIRECT(\"'Success Criteria'!\" & ADDRESS(122,A154+4)):INDIRECT(\"'Success Criteria'!\" & ADDRESS(176,A154+4)),\"NON conformant\")","v":0},{"$f":"COUNTIF(INDIRECT(\"'Success Criteria'!\" & ADDRESS(122,A154+4)):INDIRECT(\"'Success Criteria'!\" & ADDRESS(176,A154+4)),\"N/A\")","v":0},{"$f":"COUNTIF(INDIRECT(\"'Success Criteria'!\" & ADDRESS(122,A154+4)):INDIRECT(\"'Success Criteria'!\" & ADDRESS(176,A154+4)),\"not tested\")","v":28},2,0,0,28,null,0,"",2,"",28,1]
[141,"Page 141","URL 141","Please select",{"$f":"SUM(COUNTIF(INDIRECT(\"'Success Criteria'!\" & ADDRESS(8,A155+4)):INDIRECT(\"'Success Criteria'!\" & ADDRESS(70,A155+4)),\"PASS\"),COUNTIF(INDIRECT(\"'Success Criteria'!\" & ADDRESS(8,A155+4)):INDIRECT(\"'Success Criteria'!\" & ADDRESS(70,A155+4)),\"PASS with comments\"))","v":0},{"$f":"COUNTIF(INDIRECT(\"'Success Criteria'!\" & ADDRESS(8,A155+4)):INDIRECT(\"'Success Criteria'!\" & ADDRESS(70,A155+4)),\"NON conformant\")","v":0},{"$f":"COUNTIF(INDIRECT(\"'Success Criteria'!\" & ADDRESS(8,A155+4)):INDIRECT(\"'Success Criteria'!\" & ADDRESS(70,A155+4)),\"N/A\")","v":0},{"$f":"COUNTIF(INDIRECT(\"'Success Criteria'!\" & ADDRESS(8,A155+4)):INDIRECT(\"'Success Criteria'!\" & ADDRESS(70,A155+4)),\"not tested\")","v":0},{"$f":"SUM(COUNTIF(INDIRECT(\"'Success Criteria'!\" & ADDRESS(74,A155+4)):INDIRECT(\"'Success Criteria'!\" & ADDRESS(117,A155+4)),\"PASS\"),COUNTIF(INDIRECT(\"'Success Criteria'!\" & ADDRESS(74,A155+4)):INDIRECT(\"'Success Criteria'!\" & ADDRESS(117,A155+4)),\"PASS with comments\"))","v":2},{"$f":"COUNTIF(INDIRECT(\"'Success Criteria'!\" & ADDRESS(74,A155+4)):INDIRECT(\"'Success Criteria'!\" & ADDRESS(117,A155+4)),\"NON conformant\")","v":0},{"$f":"COUNTIF(INDIRECT(\"'Success Criteria'!\" & ADDRESS(74,A155+4)):INDIRECT(\"'Success Criteria'!\" & ADDRESS(117,A155+4)),\"N/A\")","v":0},{"$f":"COUNTIF(INDIRECT(\"'Success Criteria'!\" & ADDRESS(74,A155+4)):INDIRECT(\"'Success Criteria'!\" & ADDRESS(117,A155+4)),\"not tested\")","v":0},{"$f":"SUM(COUNTIF(INDIRECT(\"'Success Criteria'!\" & ADDRESS(122,A155+4)):INDIRECT(\"'Success Criteria'!\" & ADDRESS(176,A155+4)),\"PASS\"),COUNTIF(INDIRECT(\"'Success Criteria'!\" & ADDRESS(122,A155+4)):INDIRECT(\"'Success Criteria'!\" & ADDRESS(176,A155+4)),\"PASS with comments\"))","v":0},{"$f":"COUNTIF(INDIRECT(\"'Success Criteria'!\" & ADDRESS(122,A155+4)):INDIRECT(\"'Success Criteria'!\" & ADDRESS(176,A155+4)),\"NON conformant\")","v":0},{"$f":"COUNTIF(INDIRECT(\"'Success Criteria'!\" & ADDRESS(122,A155+4)):INDIRECT(\"'Success Criteria'!\" & ADDRESS(176,A155+4)),\"N/A\")","v":0},{"$f":"COUNTIF(INDIRECT(\"'Success Criteria'!\" & ADDRESS(122,A155+4)):INDIRECT(\"'Success Criteria'!\" & ADDRESS(176,A155+4)),\"not tested\")","v":28},2,0,0,28,null,0,"",2,"",28,1]
[142,"Page 142","URL 142","Please select",{"$f":"SUM(COUNTIF(INDIRECT(\"'Success Criteria'!\" & ADDRESS(8,A156+4)):INDIRECT(\"'Success Criteria'!\" & ADDRESS(70,A156+4)),\"PASS\"),COUNTIF(INDIRECT(\"'Success Criteria'!\" & ADDRESS(8,A156+4)):INDIRECT(\"'Success Criteria'!\" & ADDRESS(70,A156+4)),\"PASS with comments\"))","v":0},{"$f":"COUNTIF(INDIRECT(\"'Success Criteria'!\" & ADDRESS(8,A156+4)):INDIRECT(\"'Success Criteria'!\" & ADDRESS(70,A156+4)),\"NON conformant\")","v":0},{"$f":"COUNTIF(INDIRECT(\"'Success Criteria'!\" & ADDRESS(8,A156+4)):INDIRECT(\"'Success Criteria'!\" & ADDRESS(70,A156+4)),\"N/A\")","v":0},{"$f":"COUNTIF(INDIRECT(\"'Success Criteria'!\" & ADDRESS(8,A156+4)):INDIRECT(\"'Success Criteria'!\" & ADDRESS(70,A156+4)),\"not tested\")","v":0},{"$f":"SUM(COUNTIF(INDIRECT(\"'Success Criteria'!\" & ADDRESS(74,A156+4)):INDIRECT(\"'Success Criteria'!\" & ADDRESS(117,A156+4)),\"PASS\"),COUNTIF(INDIRECT(\"'Success Criteria'!\" & ADDRESS(74,A156+4)):INDIRECT(\"'Success Criteria'!\" & ADDRESS(117,A156+4)),\"PASS with comments\"))","v":2},{"$f":"COUNTIF(INDIRECT(\"'Success Criteria'!\" & ADDRESS(74,A156+4)):INDIRECT(\"'Success Criteria'!\" & ADDRESS(117,A156+4)),\"NON conformant\")","v":0},{"$f":"COUNTIF(INDIRECT(\"'Success Criteria'!\" & ADDRESS(74,A156+4)):INDIRECT(\"'Success Criteria'!\" & ADDRESS(117,A156+4)),\"N/A\")","v":0},{"$f":"COUNTIF(INDIRECT(\"'Success Criteria'!\" & ADDRESS(74,A156+4)):INDIRECT(\"'Success Criteria'!\" & ADDRESS(117,A156+4)),\"not tested\")","v":0},{"$f":"SUM(COUNTIF(INDIRECT(\"'Success Criteria'!\" & ADDRESS(122,A156+4)):INDIRECT(\"'Success Criteria'!\" & ADDRESS(176,A156+4)),\"PASS\"),COUNTIF(INDIRECT(\"'Success Criteria'!\" & ADDRESS(122,A156+4)):INDIRECT(\"'Success Criteria'!\" & ADDRESS(176,A156+4)),\"PASS with comments\"))","v":0},{"$f":"COUNTIF(INDIRECT(\"'Success Criteria'!\" & ADDRESS(122,A156+4)):INDIRECT(\"'Success Criteria'!\" & ADDRESS(176,A156+4)),\"NON conformant\")","v":0},{"$f":"COUNTIF(INDIRECT(\"'Success Criteria'!\" & ADDRESS(122,A156+4)):INDIRECT(\"'Success Criteria'!\" & ADDRESS(176,A156+4)),\"N/A\")","v":0},{"$f":"COUNTIF(INDIRECT(\"'Success Criteria'!\" & ADDRESS(122,A156+4)):INDIRECT(\"'Success Criteria'!\" & ADDRESS(176,A156+4)),\"not tested\")","v":28},2,0,0,28,null,0,"",2,"",28,1]
[143,"Page 143","URL 143","Please select",{"$f":"SUM(COUNTIF(INDIRECT(\"'Success Criteria'!\" & ADDRESS(8,A157+4)):INDIRECT(\"'Success Criteria'!\" & ADDRESS(70,A157+4)),\"PASS\"),COUNTIF(INDIRECT(\"'Success Criteria'!\" & ADDRESS(8,A157+4)):INDIRECT(\"'Success Criteria'!\" & ADDRESS(70,A157+4)),\"PASS with comments\"))","v":0},{"$f":"COUNTIF(INDIRECT(\"'Success Criteria'!\" & ADDRESS(8,A157+4)):INDIRECT(\"'Success Criteria'!\" & ADDRESS(70,A157+4)),\"NON conformant\")","v":0},{"$f":"COUNTIF(INDIRECT(\"'Success Criteria'!\" & ADDRESS(8,A157+4)):INDIRECT(\"'Success Criteria'!\" & ADDRESS(70,A157+4)),\"N/A\")","v":0},{"$f":"COUNTIF(INDIRECT(\"'Success Criteria'!\" & ADDRESS(8,A157+4)):INDIRECT(\"'Success Criteria'!\" & ADDRESS(70,A157+4)),\"not tested\")","v":0},{"$f":"SUM(COUNTIF(INDIRECT(\"'Success Criteria'!\" & ADDRESS(74,A157+4)):INDIRECT(\"'Success Criteria'!\" & ADDRESS(117,A157+4)),\"PASS\"),COUNTIF(INDIRECT(\"'Success Criteria'!\" & ADDRESS(74,A157+4)):INDIRECT(\"'Success Criteria'!\" & ADDRESS(117,A157+4)),\"PASS with comments\"))","v":2},{"$f":"COUNTIF(INDIRECT(\"'Success Criteria'!\" & ADDRESS(74,A157+4)):INDIRECT(\"'Success Criteria'!\" & ADDRESS(117,A157+4)),\"NON conformant\")","v":0},{"$f":"COUNTIF(INDIRECT(\"'Success Criteria'!\" & ADDRESS(74,A157+4)):INDIRECT(\"'Success Criteria'!\" & ADDRESS(117,A157+4)),\"N/A\")","v":0},{"$f":"COUNTIF(INDIRECT(\"'Success Criteria'!\" & ADDRESS(74,A157+4)):INDIRECT(\"'Success Criteria'!\" & ADDRESS(117,A157+4)),\"not tested\")","v":0},{"$f":"SUM(COUNTIF(INDIRECT(\"'Success Criteria'!\" & ADDRESS(122,A157+4)):INDIRECT(\"'Success Criteria'!\" & ADDRESS(176,A157+4)),\"PASS\"),COUNTIF(INDIRECT(\"'Success Criteria'!\" & ADDRESS(122,A157+4)):INDIRECT(\"'Success Criteria'!\" & ADDRESS(176,A157+4)),\"PASS with comments\"))","v":0},{"$f":"COUNTIF(INDIRECT(\"'Success Criteria'!\" & ADDRESS(122,A157+4)):INDIRECT(\"'Success Criteria'!\" & ADDRESS(176,A157+4)),\"NON conformant\")","v":0},{"$f":"COUNTIF(INDIRECT(\"'Success Criteria'!\" & ADDRESS(122,A157+4)):INDIRECT(\"'Success Criteria'!\" & ADDRESS(176,A157+4)),\"N/A\")","v":0},{"$f":"COUNTIF(INDIRECT(\"'Success Criteria'!\" & ADDRESS(122,A157+4)):INDIRECT(\"'Success Criteria'!\" & ADDRESS(176,A157+4)),\"not tested\")","v":28},2,0,0,28,null,0,"",2,"",28,1]
[144,"Page 144","URL 144","Please select",{"$f":"SUM(COUNTIF(INDIRECT(\"'Success Criteria'!\" & ADDRESS(8,A158+4)):INDIRECT(\"'Success Criteria'!\" & ADDRESS(70,A158+4)),\"PASS\"),COUNTIF(INDIRECT(\"'Success Criteria'!\" & ADDRESS(8,A158+4)):INDIRECT(\"'Success Criteria'!\" & ADDRESS(70,A158+4)),\"PASS with comments\"))","v":0},{"$f":"COUNTIF(INDIRECT(\"'Success Criteria'!\" & ADDRESS(8,A158+4)):INDIRECT(\"'Success Criteria'!\" & ADDRESS(70,A158+4)),\"NON conformant\")","v":0},{"$f":"COUNTIF(INDIRECT(\"'Success Criteria'!\" & ADDRESS(8,A158+4)):INDIRECT(\"'Success Criteria'!\" & ADDRESS(70,A158+4)),\"N/A\")","v":0},{"$f":"COUNTIF(INDIRECT(\"'Success Criteria'!\" & ADDRESS(8,A158+4)):INDIRECT(\"'Success Criteria'!\" & ADDRESS(70,A158+4)),\"not tested\")","v":0},{"$f":"SUM(COUNTIF(INDIRECT(\"'Success Criteria'!\" & ADDRESS(74,A158+4)):INDIRECT(\"'Success Criteria'!\" & ADDRESS(117,A158+4)),\"PASS\"),COUNTIF(INDIRECT(\"'Success Criteria'!\" & ADDRESS(74,A158+4)):INDIRECT(\"'Success Criteria'!\" & ADDRESS(117,A158+4)),\"PASS with comments\"))","v":2},{"$f":"COUNTIF(INDIRECT(\"'Success Criteria'!\" & ADDRESS(74,A158+4)):INDIRECT(\"'Success Criteria'!\" & ADDRESS(117,A158+4)),\"NON conformant\")","v":0},{"$f":"COUNTIF(INDIRECT(\"'Success Criteria'!\" & ADDRESS(74,A158+4)):INDIRECT(\"'Success Criteria'!\" & ADDRESS(117,A158+4)),\"N/A\")","v":0},{"$f":"COUNTIF(INDIRECT(\"'Success Criteria'!\" & ADDRESS(74,A158+4)):INDIRECT(\"'Success Criteria'!\" & ADDRESS(117,A158+4)),\"not tested\")","v":0},{"$f":"SUM(COUNTIF(INDIRECT(\"'Success Criteria'!\" & ADDRESS(122,A158+4)):INDIRECT(\"'Success Criteria'!\" & ADDRESS(176,A158+4)),\"PASS\"),COUNTIF(INDIRECT(\"'Success Criteria'!\" & ADDRESS(122,A158+4)):INDIRECT(\"'Success Criteria'!\" & ADDRESS(176,A158+4)),\"PASS with comments\"))","v":0},{"$f":"COUNTIF(INDIRECT(\"'Success Criteria'!\" & ADDRESS(122,A158+4)):INDIRECT(\"'Success Criteria'!\" & ADDRESS(176,A158+4)),\"NON conformant\")","v":0},{"$f":"COUNTIF(INDIRECT(\"'Success Criteria'!\" & ADDRESS(122,A158+4)):INDIRECT(\"'Success Criteria'!\" & ADDRESS(176,A158+4)),\"N/A\")","v":0},{"$f":"COUNTIF(INDIRECT(\"'Success Criteria'!\" & ADDRESS(122,A158+4)):INDIRECT(\"'Success Criteria'!\" & ADDRESS(176,A158+4)),\"not tested\")","v":28},2,0,0,28,null,0,"",2,"",28,1]
[145,"Page 145","URL 145","Please select",{"$f":"SUM(COUNTIF(INDIRECT(\"'Success Criteria'!\" & ADDRESS(8,A159+4)):INDIRECT(\"'Success Criteria'!\" & ADDRESS(70,A159+4)),\"PASS\"),COUNTIF(INDIRECT(\"'Success Criteria'!\" & ADDRESS(8,A159+4)):INDIRECT(\"'Success Criteria'!\" & ADDRESS(70,A159+4)),\"PASS with comments\"))","v":0},{"$f":"COUNTIF(INDIRECT(\"'Success Criteria'!\" & ADDRESS(8,A159+4)):INDIRECT(\"'Success Criteria'!\" & ADDRESS(70,A159+4)),\"NON conformant\")","v":0},{"$f":"COUNTIF(INDIRECT(\"'Success Criteria'!\" & ADDRESS(8,A159+4)):INDIRECT(\"'Success Criteria'!\" & ADDRESS(70,A159+4)),\"N/A\")","v":0},{"$f":"COUNTIF(INDIRECT(\"'Success Criteria'!\" & ADDRESS(8,A159+4)):INDIRECT(\"'Success Criteria'!\" & ADDRESS(70,A159+4)),\"not tested\")","v":0},{"$f":"SUM(COUNTIF(INDIRECT(\"'Success Criteria'!\" & ADDRESS(74,A159+4)):INDIRECT(\"'Success Criteria'!\" & ADDRESS(117,A159+4)),\"PASS\"),COUNTIF(INDIRECT(\"'Success Criteria'!\" & ADDRESS(74,A159+4)):INDIRECT(\"'Success Criteria'!\" & ADDRESS(117,A159+4)),\"PASS with comments\"))","v":2},{"$f":"COUNTIF(INDIRECT(\"'Success Criteria'!\" & ADDRESS(74,A159+4)):INDIRECT(\"'Success Criteria'!\" & ADDRESS(117,A159+4)),\"NON conformant\")","v":0},{"$f":"COUNTIF(INDIRECT(\"'Success Criteria'!\" & ADDRESS(74,A159+4)):INDIRECT(\"'Success Criteria'!\" & ADDRESS(117,A159+4)),\"N/A\")","v":0},{"$f":"COUNTIF(INDIRECT(\"'Success Criteria'!\" & ADDRESS(74,A159+4)):INDIRECT(\"'Success Criteria'!\" & ADDRESS(117,A159+4)),\"not tested\")","v":0},{"$f":"SUM(COUNTIF(INDIRECT(\"'Success Criteria'!\" & ADDRESS(122,A159+4)):INDIRECT(\"'Success Criteria'!\" & ADDRESS(176,A159+4)),\"PASS\"),COUNTIF(INDIRECT(\"'Success Criteria'!\" & ADDRESS(122,A159+4)):INDIRECT(\"'Success Criteria'!\" & ADDRESS(176,A159+4)),\"PASS with comments\"))","v":0},{"$f":"COUNTIF(INDIRECT(\"'Success Criteria'!\" & ADDRESS(122,A159+4)):INDIRECT(\"'Success Criteria'!\" & ADDRESS(176,A159+4)),\"NON conformant\")","v":0},{"$f":"COUNTIF(INDIRECT(\"'Success Criteria'!\" & ADDRESS(122,A159+4)):INDIRECT(\"'Success Criteria'!\" & ADDRESS(176,A159+4)),\"N/A\")","v":0},{"$f":"COUNTIF(INDIRECT(\"'Success Criteria'!\" & ADDRESS(122,A159+4)):INDIRECT(\"'Success Criteria'!\" & ADDRESS(176,A159+4)),\"not tested\")","v":28},2,0,0,28,null,0,"",2,"",28,1]
[146,"Page 146","URL 146","Please select",{"$f":"SUM(COUNTIF(INDIRECT(\"'Success Criteria'!\" & ADDRESS(8,A160+4)):INDIRECT(\"'Success Criteria'!\" & ADDRESS(70,A160+4)),\"PASS\"),COUNTIF(INDIRECT(\"'Success Criteria'!\" & ADDRESS(8,A160+4)):INDIRECT(\"'Success Criteria'!\" & ADDRESS(70,A160+4)),\"PASS with comments\"))","v":0},{"$f":"COUNTIF(INDIRECT(\"'Success Criteria'!\" & ADDRESS(8,A160+4)):INDIRECT(\"'Success Criteria'!\" & ADDRESS(70,A160+4)),\"NON conformant\")","v":0},{"$f":"COUNTIF(INDIRECT(\"'Success Criteria'!\" & ADDRESS(8,A160+4)):INDIRECT(\"'Success Criteria'!\" & ADDRESS(70,A160+4)),\"N/A\")","v":0},{"$f":"COUNTIF(INDIRECT(\"'Success Criteria'!\" & ADDRESS(8,A160+4)):INDIRECT(\"'Success Criteria'!\" & ADDRESS(70,A160+4)),\"not tested\")","v":0},{"$f":"SUM(COUNTIF(INDIRECT(\"'Success Criteria'!\" & ADDRESS(74,A160+4)):INDIRECT(\"'Success Criteria'!\" & ADDRESS(117,A160+4)),\"PASS\"),COUNTIF(INDIRECT(\"'Success Criteria'!\" & ADDRESS(74,A160+4)):INDIRECT(\"'Success Criteria'!\" & ADDRESS(117,A160+4)),\"PASS with comments\"))","v":2},{"$f":"COUNTIF(INDIRECT(\"'Success Criteria'!\" & ADDRESS(74,A160+4)):INDIRECT(\"'Success Criteria'!\" & ADDRESS(117,A160+4)),\"NON conformant\")","v":0},{"$f":"COUNTIF(INDIRECT(\"'Success Criteria'!\" & ADDRESS(74,A160+4)):INDIRECT(\"'Success Criteria'!\" & ADDRESS(117,A160+4)),\"N/A\")","v":0},{"$f":"COUNTIF(INDIRECT(\"'Success Criteria'!\" & ADDRESS(74,A160+4)):INDIRECT(\"'Success Criteria'!\" & ADDRESS(117,A160+4)),\"not tested\")","v":0},{"$f":"SUM(COUNTIF(INDIRECT(\"'Success Criteria'!\" & ADDRESS(122,A160+4)):INDIRECT(\"'Success Criteria'!\" & ADDRESS(176,A160+4)),\"PASS\"),COUNTIF(INDIRECT(\"'Success Criteria'!\" & ADDRESS(122,A160+4)):INDIRECT(\"'Success Criteria'!\" & ADDRESS(176,A160+4)),\"PASS with comments\"))","v":0},{"$f":"COUNTIF(INDIRECT(\"'Success Criteria'!\" & ADDRESS(122,A160+4)):INDIRECT(\"'Success Criteria'!\" & ADDRESS(176,A160+4)),\"NON conformant\")","v":0},{"$f":"COUNTIF(INDIRECT(\"'Success Criteria'!\" & ADDRESS(122,A160+4)):INDIRECT(\"'Success Criteria'!\" & ADDRESS(176,A160+4)),\"N/A\")","v":0},{"$f":"COUNTIF(INDIRECT(\"'Success Criteria'!\" & ADDRESS(122,A160+4)):INDIRECT(\"'Success Criteria'!\" & ADDRESS(176,A160+4)),\"not tested\")","v":28},2,0,0,28,null,0,"",2,"",28,1]
[147,"Page 147","URL 147","Please select",{"$f":"SUM(COUNTIF(INDIRECT(\"'Success Criteria'!\" & ADDRESS(8,A161+4)):INDIRECT(\"'Success Criteria'!\" & ADDRESS(70,A161+4)),\"PASS\"),COUNTIF(INDIRECT(\"'Success Criteria'!\" & ADDRESS(8,A161+4)):INDIRECT(\"'Success Criteria'!\" & ADDRESS(70,A161+4)),\"PASS with comments\"))","v":0},{"$f":"COUNTIF(INDIRECT(\"'Success Criteria'!\" & ADDRESS(8,A161+4)):INDIRECT(\"'Success Criteria'!\" & ADDRESS(70,A161+4)),\"NON conformant\")","v":0},{"$f":"COUNTIF(INDIRECT(\"'Success Criteria'!\" & ADDRESS(8,A161+4)):INDIRECT(\"'Success Criteria'!\" & ADDRESS(70,A161+4)),\"N/A\")","v":0},{"$f":"COUNTIF(INDIRECT(\"'Success Criteria'!\" & ADDRESS(8,A161+4)):INDIRECT(\"'Success Criteria'!\" & ADDRESS(70,A161+4)),\"not tested\")","v":0},{"$f":"SUM(COUNTIF(INDIRECT(\"'Success Criteria'!\" & ADDRESS(74,A161+4)):INDIRECT(\"'Success Criteria'!\" & ADDRESS(117,A161+4)),\"PASS\"),COUNTIF(INDIRECT(\"'Success Criteria'!\" & ADDRESS(74,A161+4)):INDIRECT(\"'Success Criteria'!\" & ADDRESS(117,A161+4)),\"PASS with comments\"))","v":2},{"$f":"COUNTIF(INDIRECT(\"'Success Criteria'!\" & ADDRESS(74,A161+4)):INDIRECT(\"'Success Criteria'!\" & ADDRESS(117,A161+4)),\"NON conformant\")","v":0},{"$f":"COUNTIF(INDIRECT(\"'Success Criteria'!\" & ADDRESS(74,A161+4)):INDIRECT(\"'Success Criteria'!\" & ADDRESS(117,A161+4)),\"N/A\")","v":0},{"$f":"COUNTIF(INDIRECT(\"'Success Criteria'!\" & ADDRESS(74,A161+4)):INDIRECT(\"'Success Criteria'!\" & ADDRESS(117,A161+4)),\"not tested\")","v":0},{"$f":"SUM(COUNTIF(INDIRECT(\"'Success Criteria'!\" & ADDRESS(122,A161+4)):INDIRECT(\"'Success Criteria'!\" & ADDRESS(176,A161+4)),\"PASS\"),COUNTIF(INDIRECT(\"'Success Criteria'!\" & ADDRESS(122,A161+4)):INDIRECT(\"'Success Criteria'!\" & ADDRESS(176,A161+4)),\"PASS with comments\"))","v":0},{"$f":"COUNTIF(INDIRECT(\"'Success Criteria'!\" & ADDRESS(122,A161+4)):INDIRECT(\"'Success Criteria'!\" & ADDRESS(176,A161+4)),\"NON conformant\")","v":0},{"$f":"COUNTIF(INDIRECT(\"'Success Criteria'!\" & ADDRESS(122,A161+4)):INDIRECT(\"'Success Criteria'!\" & ADDRESS(176,A161+4)),\"N/A\")","v":0},{"$f":"COUNTIF(INDIRECT(\"'Success Criteria'!\" & ADDRESS(122,A161+4)):INDIRECT(\"'Success Criteria'!\" & ADDRESS(176,A161+4)),\"not tested\")","v":28},2,0,0,28,null,0,"",2,"",28,1]
[148,"Page 148","URL 148","Please select",{"$f":"SUM(COUNTIF(INDIRECT(\"'Success Criteria'!\" & ADDRESS(8,A162+4)):INDIRECT(\"'Success Criteria'!\" & ADDRESS(70,A162+4)),\"PASS\"),COUNTIF(INDIRECT(\"'Success Criteria'!\" & ADDRESS(8,A162+4)):INDIRECT(\"'Success Criteria'!\" & ADDRESS(70,A162+4)),\"PASS with comments\"))","v":0},{"$f":"COUNTIF(INDIRECT(\"'Success Criteria'!\" & ADDRESS(8,A162+4)):INDIRECT(\"'Success Criteria'!\" & ADDRESS(70,A162+4)),\"NON conformant\")","v":0},{"$f":"COUNTIF(INDIRECT(\"'Success Criteria'!\" & ADDRESS(8,A162+4)):INDIRECT(\"'Success Criteria'!\" & ADDRESS(70,A162+4)),\"N/A\")","v":0},{"$f":"COUNTIF(INDIRECT(\"'Success Criteria'!\" & ADDRESS(8,A162+4)):INDIRECT(\"'Success Criteria'!\" & ADDRESS(70,A162+4)),\"not tested\")","v":0},{"$f":"SUM(COUNTIF(INDIRECT(\"'Success Criteria'!\" & ADDRESS(74,A162+4)):INDIRECT(\"'Success Criteria'!\" & ADDRESS(117,A162+4)),\"PASS\"),COUNTIF(INDIRECT(\"'Success Criteria'!\" & ADDRESS(74,A162+4)):INDIRECT(\"'Success Criteria'!\" & ADDRESS(117,A162+4)),\"PASS with comments\"))","v":2},{"$f":"COUNTIF(INDIRECT(\"'Success Criteria'!\" & ADDRESS(74,A162+4)):INDIRECT(\"'Success Criteria'!\" & ADDRESS(117,A162+4)),\"NON conformant\")","v":0},{"$f":"COUNTIF(INDIRECT(\"'Success Criteria'!\" & ADDRESS(74,A162+4)):INDIRECT(\"'Success Criteria'!\" & ADDRESS(117,A162+4)),\"N/A\")","v":0},{"$f":"COUNTIF(INDIRECT(\"'Success Criteria'!\" & ADDRESS(74,A162+4)):INDIRECT(\"'Success Criteria'!\" & ADDRESS(117,A162+4)),\"not tested\")","v":0},{"$f":"SUM(COUNTIF(INDIRECT(\"'Success Criteria'!\" & ADDRESS(122,A162+4)):INDIRECT(\"'Success Criteria'!\" & ADDRESS(176,A162+4)),\"PASS\"),COUNTIF(INDIRECT(\"'Success Criteria'!\" & ADDRESS(122,A162+4)):INDIRECT(\"'Success Criteria'!\" & ADDRESS(176,A162+4)),\"PASS with comments\"))","v":0},{"$f":"COUNTIF(INDIRECT(\"'Success Criteria'!\" & ADDRESS(122,A162+4)):INDIRECT(\"'Success Criteria'!\" & ADDRESS(176,A162+4)),\"NON conformant\")","v":0},{"$f":"COUNTIF(INDIRECT(\"'Success Criteria'!\" & ADDRESS(122,A162+4)):INDIRECT(\"'Success Criteria'!\" & ADDRESS(176,A162+4)),\"N/A\")","v":0},{"$f":"COUNTIF(INDIRECT(\"'Success Criteria'!\" & ADDRESS(122,A162+4)):INDIRECT(\"'Success Criteria'!\" & ADDRESS(176,A162+4)),\"not tested\")","v":28},2,0,0,28,null,0,"",2,"",28,1]
[149,"Page 149","URL 149","Please select",{"$f":"SUM(COUNTIF(INDIRECT(\"'Success Criteria'!\" & ADDRESS(8,A163+4)):INDIRECT(\"'Success Criteria'!\" & ADDRESS(70,A163+4)),\"PASS\"),COUNTIF(INDIRECT(\"'Success Criteria'!\" & ADDRESS(8,A163+4)):INDIRECT(\"'Success Criteria'!\" & ADDRESS(70,A163+4)),\"PASS with comments\"))","v":0},{"$f":"COUNTIF(INDIRECT(\"'Success Criteria'!\" & ADDRESS(8,A163+4)):INDIRECT(\"'Success Criteria'!\" & ADDRESS(70,A163+4)),\"NON conformant\")","v":0},{"$f":"COUNTIF(INDIRECT(\"'Success Criteria'!\" & ADDRESS(8,A163+4)):INDIRECT(\"'Success Criteria'!\" & ADDRESS(70,A163+4)),\"N/A\")","v":0},{"$f":"COUNTIF(INDIRECT(\"'Success Criteria'!\" & ADDRESS(8,A163+4)):INDIRECT(\"'Success Criteria'!\" & ADDRESS(70,A163+4)),\"not tested\")","v":0},{"$f":"SUM(COUNTIF(INDIRECT(\"'Success Criteria'!\" & ADDRESS(74,A163+4)):INDIRECT(\"'Success Criteria'!\" & ADDRESS(117,A163+4)),\"PASS\"),COUNTIF(INDIRECT(\"'Success Criteria'!\" & ADDRESS(74,A163+4)):INDIRECT(\"'Success Criteria'!\" & ADDRESS(117,A163+4)),\"PASS with comments\"))","v":2},{"$f":"COUNTIF(INDIRECT(\"'Success Criteria'!\" & ADDRESS(74,A163+4)):INDIRECT(\"'Success Criteria'!\" & ADDRESS(117,A163+4)),\"NON conformant\")","v":0},{"$f":"COUNTIF(INDIRECT(\"'Success Criteria'!\" & ADDRESS(74,A163+4)):INDIRECT(\"'Success Criteria'!\" & ADDRESS(117,A163+4)),\"N/A\")","v":0},{"$f":"COUNTIF(INDIRECT(\"'Success Criteria'!\" & ADDRESS(74,A163+4)):INDIRECT(\"'Success Criteria'!\" & ADDRESS(117,A163+4)),\"not tested\")","v":0},{"$f":"SUM(COUNTIF(INDIRECT(\"'Success Criteria'!\" & ADDRESS(122,A163+4)):INDIRECT(\"'Success Criteria'!\" & ADDRESS(176,A163+4)),\"PASS\"),COUNTIF(INDIRECT(\"'Success Criteria'!\" & ADDRESS(122,A163+4)):INDIRECT(\"'Success Criteria'!\" & ADDRESS(176,A163+4)),\"PASS with comments\"))","v":0},{"$f":"COUNTIF(INDIRECT(\"'Success Criteria'!\" & ADDRESS(122,A163+4)):INDIRECT(\"'Success Criteria'!\" & ADDRESS(176,A163+4)),\"NON conformant\")","v":0},{"$f":"COUNTIF(INDIRECT(\"'Success Criteria'!\" & ADDRESS(122,A163+4)):INDIRECT(\"'Success Criteria'!\" & ADDRESS(176,A163+4)),\"N/A\")","v":0},{"$f":"COUNTIF(INDIRECT(\"'Success Criteria'!\" & ADDRESS(122,A163+4)):INDIRECT(\"'Success Criteria'!\" & ADDRESS(176,A163+4)),\"not tested\")","v":28},2,0,0,28,null,0,"",2,"",28,1]
[150,"Page 150","URL 150","Please select",{"$f":"SUM(COUNTIF(INDIRECT(\"'Success Criteria'!\" & ADDRESS(8,A164+4)):INDIRECT(\"'Success Criteria'!\" & ADDRESS(70,A164+4)),\"PASS\"),COUNTIF(INDIRECT(\"'Success Criteria'!\" & ADDRESS(8,A164+4)):INDIRECT(\"'Success Criteria'!\" & ADDRESS(70,A164+4)),\"PASS with comments\"))","v":0},{"$f":"COUNTIF(INDIRECT(\"'Success Criteria'!\" & ADDRESS(8,A164+4)):INDIRECT(\"'Success Criteria'!\" & ADDRESS(70,A164+4)),\"NON conformant\")","v":0},{"$f":"COUNTIF(INDIRECT(\"'Success Criteria'!\" & ADDRESS(8,A164+4)):INDIRECT(\"'Success Criteria'!\" & ADDRESS(70,A164+4)),\"N/A\")","v":0},{"$f":"COUNTIF(INDIRECT(\"'Success Criteria'!\" & ADDRESS(8,A164+4)):INDIRECT(\"'Success Criteria'!\" & ADDRESS(70,A164+4)),\"not tested\")","v":0},{"$f":"SUM(COUNTIF(INDIRECT(\"'Success Criteria'!\" & ADDRESS(74,A164+4)):INDIRECT(\"'Success Criteria'!\" & ADDRESS(117,A164+4)),\"PASS\"),COUNTIF(INDIRECT(\"'Success Criteria'!\" & ADDRESS(74,A164+4)):INDIRECT(\"'Success Criteria'!\" & ADDRESS(117,A164+4)),\"PASS with comments\"))","v":2},{"$f":"COUNTIF(INDIRECT(\"'Success Criteria'!\" & ADDRESS(74,A164+4)):INDIRECT(\"'Success Criteria'!\" & ADDRESS(117,A164+4)),\"NON conformant\")","v":0},{"$f":"COUNTIF(INDIRECT(\"'Success Criteria'!\" & ADDRESS(74,A164+4)):INDIRECT(\"'Success Criteria'!\" & ADDRESS(117,A164+4)),\"N/A\")","v":0},{"$f":"COUNTIF(INDIRECT(\"'Success Criteria'!\" & ADDRESS(74,A164+4)):INDIRECT(\"'Success Criteria'!\" & ADDRESS(117,A164+4)),\"not tested\")","v":0},{"$f":"SUM(COUNTIF(INDIRECT(\"'Success Criteria'!\" & ADDRESS(122,A164+4)):INDIRECT(\"'Success Criteria'!\" & ADDRESS(176,A164+4)),\"PASS\"),COUNTIF(INDIRECT(\"'Success Criteria'!\" & ADDRESS(122,A164+4)):INDIRECT(\"'Success Criteria'!\" & ADDRESS(176,A164+4)),\"PASS with comments\"))","v":0},{"$f":"COUNTIF(INDIRECT(\"'Success Criteria'!\" & ADDRESS(122,A164+4)):INDIRECT(\"'Success Criteria'!\" & ADDRESS(176,A164+4)),\"NON conformant\")","v":0},{"$f":"COUNTIF(INDIRECT(\"'Success Criteria'!\" & ADDRESS(122,A164+4)):INDIRECT(\"'Success Criteria'!\" & ADDRESS(176,A164+4)),\"N/A\")","v":0},{"$f":"COUNTIF(INDIRECT(\"'Success Criteria'!\" & ADDRESS(122,A164+4)):INDIRECT(\"'Success Criteria'!\" & ADDRESS(176,A164+4)),\"not tested\")","v":28},2,0,0,28,null,0,"",2,"",28,1]
[null,null,null,null,null,null,null,null,null,null,null,null,null,null,null,null,null,null,null,null,null,null,"Total",null,"Total",null,"Total"]
[null,null,null,null,"Level A",null,null,null,"Level AA",null,null,null,"Level AAA",null,null,null,"Total",null,null,null,null,null,{"$f":"SUM(W15:W165)","v":5},null,{"$f":"SUM(Y15:Y165)","v":5},null,{"$f":"SUM(AA15:AA165)","v":150}]
[null,null,null,null,"Pass","Fail","N/A","Not tested","Pass","Fail","N/A ","Not tested","Pass","Fail","N/A ","Not tested","Pass","Fail","N/A ","Not tested"]
["Total",null,null,null,{"$f":"SUM(E15:E164)","v":87},14,49,0,337,9,44,0,0,0,0,4200,424,23,93,4200]
["Average per page",null,null,null,{"$f":"E168/$W$166","v":17.399999999999999},{"$f":"F168/$W$166","v":2.8},{"$f":"G168/$W$166","v":9.8000000000000007},{"$f":"H168/$W$166","v":0},{"$f":"I168/$Y$166","v":67.400000000000006},{"$f":"J168/$Y$166","v":1.8},{"$f":"K168/$Y$166","v":8.8000000000000007},{"$f":"L168/$Y$166","v":0},{"$f":"M168/$AA$166","v":0},{"$f":"N168/$AA$166","v":0},{"$f":"O168/$AA$166","v":0},{"$f":"P168/$AA$166","v":28},{"$f":"E169+I169+M169","v":84.800000000000011},{"$f":"F169+J169+N169","v":4.5999999999999996},{"$f":"G169+K169+O169","v":18.600000000000001},{"$f":"H169+L169+P169","v":28}]
["End of content"]

{"sheet":"Conformance Statement","index":4,"n_rows":41,"n_cols":1,"rows_kept":41,"cut":false,"hidden":true,"merged":[[0,0,0,15]]}
["\nAccessibility Conformance Statement"]
[]
["Organisation Name"]
[{"$f":"IF(Statistics!A2=\"\",\"Populated automatically from the Statistics worksheet\",Statistics!A2)","v":"Client"}]
[]
["Website or Mobile App Name"]
[{"$f":"IF(Statistics!A3=\"\",\"Populated automatically from the Statistics worksheet\",Statistics!A3)","v":"Website or Mobile App Name"}]
[]
["Scope"]
["Describe what was in and out of scope, including subdomains and content types. This ought to be specified in the proposal."]
[]
["Accessibility standards applied"]
[{"$f":"\"WCAG 2.1 level \" & IF(Statistics!Q3=\"Yes\",\"A\",\"\") & IF(Statistics!Q4=\"Yes\",\"A\",\"\") & IF(Statistics!Q5=\"Yes\",\"A\",\"\")","v":"WCAG 2.1 level "}]
[]
["Conformance status"]
["Please select"]
[]
["Additional accessibility considerations"]
["Provide details of any accessibility features beyond  those specified in the accessibility standard stated above, such as the provision of sign language videos or context-sensitive help for functionality."]
[]
["Date of publication"]
[{"$f":"IF(Statistics!A10<>\"\",Statistics!A10,IF(Statistics!A8<>\"\",Statistics!A8,\"Populated automatically from the Statistics worksheet\"))","v":"Report Last Reviewed On"}]
[]
["Accessibility limitations"]
["Provide a high level list of accessibility limitations from a user's perspective including whether there are any workarounds.\n\nIf there are a lot of non-conformances, this can be quite generic. If there are not many, it can be more specific."]
[]
["Compatibility with user environment"]
["Describe the environments (combinations of web browsers, assistive technologies, and operating systems) that the content is known or not expected to work with."]
[]
["Technologies used"]
["The following technologies are relied upon for conformance. The content would not conform if that technology is turned off or is not supported."]
[]
["HTML"]
["CSS"]
["JavaScript"]
["SVG"]
["WAI-ARIA"]
["PDF"]
[]
["Assessment approach"]
["External evaluation by Test Partners Ltd"]

{"sheet":"Success Criteria","index":5,"n_rows":178,"n_cols":155,"rows_kept":178,"cut":false,"hidden":false,"merged":[[2,0,3,0],[2,1,2,3],[3,1,3,3],[0,0,1,3]]}
["\nWCAG 2.1 website accessibility audit\nSuccess Criteria",null,null,null,"Page #1\nInitially tested on","Page #2\nInitially tested on","Page #3\nInitially tested on","Page #4\nInitially tested on","Page #5\nInitially tested on","Page #6\nInitially tested on","Page #7\nInitially tested on","Page #8\nInitially tested on","Page #9\nInitially tested on","Page #10\nInitially tested on","Page #11\nInitially tested on","Page #12\nInitially tested on","Page #13\nInitially tested on","Page #14\nInitially tested on","Page #15\nInitially tested on","Page #16\nInitially tested on","Page #17\nInitially tested on","Page #18\nInitially tested on","Page #19\nInitially tested on","Page #20\nInitially tested on","Page #21\nInitially tested on","Page #22\nInitially tested on","Page #23\nInitially tested on","Page #24\nInitially tested on","Page #25\nInitially tested on","Page #26\nInitially tested on","Page #27\nInitially tested on","Page #28\nInitially tested on","Page #29\nInitially tested on","Page #30\nInitially tested on","Page #31\nInitially tested on","Page #32\nInitially tested on","Page #33\nInitially tested on","Page #34\nInitially tested on","Page #35\nInitially tested on","Page #36\nInitially tested on","Page #37\nInitially tested on","Page #38\nInitially tested on","Page #39\nInitially tested on","Page #40\nInitially tested on","Page #41\nInitially tested on","Page #42\nInitially tested on","Page #43\nInitially tested on","Page #44\nInitially tested on","Page #45\nInitially tested on","Page #46\nInitially tested on","Page #47\nInitially tested on","Page #48\nInitially tested on","Page #49\nInitially tested on","Page #50\nInitially tested on","Page #51\nInitially tested on","Page #52\nInitially tested on","Page #53\nInitially tested on","Page #54\nInitially tested on","Page #55\nInitially tested on","Page #56\nInitially tested on","Page #57\nInitially tested on","Page #58\nInitially tested on","Page #59\nInitially tested on","Page #60\nInitially tested on","Page #61\nInitially tested on","Page #62\nInitially tested on","Page #63\nInitially tested on","Page #64\nInitially tested on","Page #65\nInitially tested on","Page #66\nInitially tested on","Page #67\nInitially tested on","Page #68\nInitially tested on","Page #69\nInitially tested on","Page #70\nInitially tested on","Page #71\nInitially tested on","Page #72\nInitially tested on","Page #73\nInitially tested on","Page #74\nInitially tested on","Page #75\nInitially tested on","Page #76\nInitially tested on","Page #77\nInitially tested on","Page #78\nInitially tested on","Page #79\nInitially tested on","Page #80\nInitially tested on","Page #81\nInitially tested on","Page #82\nInitially tested on","Page #83\nInitially tested on","Page #84\nInitially tested on","Page #85\nInitially tested on","Page #86\nInitially tested on","Page #87\nInitially tested on","Page #88\nInitially tested on","Page #89\nInitially tested on","Page #90\nInitially tested on","Page #91\nInitially tested on","Page #92\nInitially tested on","Page #93\nInitially tested on","Page #94\nInitially tested on","Page #95\nInitially tested on","Page #96\nInitially tested on","Page #97\nInitially tested on","Page #98\nInitially tested on","Page #99\nInitially tested on","Page #100\nInitially tested on","Page #101\nInitially tested on","Page #102\nInitially tested on","Page #103\nInitially tested on","Page #104\nInitially tested on","Page #105\nInitially tested on","Page #106\nInitially tested on","Page #107\nInitially tested on","Page #108\nInitially tested on","Page #109\nInitially tested on","Page #110\nInitially tested on","Page #111\nInitially tested on","Page #112\nInitially tested on","Page #113\nInitially tested on","Page #114\nInitially tested on","Page #115\nInitially tested on","Page #116\nInitially tested on","Page #117\nInitially tested on","Page #118\nInitially tested on","Page #119\nInitially tested on","Page #120\nInitially tested on","Page #121\nInitially tested on","Page #122\nInitially tested on","Page #123\nInitially tested on","Page #124\nInitially tested on","Page #125\nInitially tested on","Page #126\nInitially tested on","Page #127\nInitially tested on","Page #128\nInitially tested on","Page #129\nInitially tested on","Page #130\nInitially tested on","Page #131\nInitially tested on","Page #132\nInitially tested on","Page #133\nInitially tested on","Page #134\nInitially tested on","Page #135\nInitially tested on","Page #136\nInitially tested on","Page #137\nInitially tested on","Page #138\nInitially tested on","Page #139\nInitially tested on","Page #140\nInitially tested on","Page #141\nInitially tested on","Page #142\nInitially tested on","Page #143\nInitially tested on","Page #144\nInitially tested on","Page #145\nInitially tested on","Page #146\nInitially tested on","Page #147\nInitially tested on","Page #148\nInitially tested on","Page #149\nInitially tested on","Page #150\nInitially tested on","End of content."]
[null,null,null,null,"2023-01-04","2022-12-21","2022-12-22","2023-01-03","2023-01-03","Press Ctrl+Colon to enter today's date","Press Ctrl+Colon to enter today's date","Press Ctrl+Colon to enter today's date","Press Ctrl+Colon to enter today's date","Press Ctrl+Colon to enter today's date","Press Ctrl+Colon to enter today's date","Press Ctrl+Colon to enter today's date","Press Ctrl+Colon to enter today's date","Press Ctrl+Colon to enter today's date","Press Ctrl+Colon to enter today's date","Press Ctrl+Colon to enter today's date","Press Ctrl+Colon to enter today's date","Press Ctrl+Colon to enter today's date","Press Ctrl+Colon to enter today's date","Press Ctrl+Colon to enter today's date","Press Ctrl+Colon to enter today's date","Press Ctrl+Colon to enter today's date","Press Ctrl+Colon to enter today's date","Press Ctrl+Colon to enter today's date","Press Ctrl+Colon to enter today's date","Press Ctrl+Colon to enter today's date","Press Ctrl+Colon to enter today's date","Press Ctrl+Colon to enter today's date","Press Ctrl+Colon to enter today's date","Press Ctrl+Colon to enter today's date","Press Ctrl+Colon to enter today's date","Press Ctrl+Colon to enter today's date","Press Ctrl+Colon to enter today's date","Press Ctrl+Colon to enter today's date","Press Ctrl+Colon to enter today's date","Press Ctrl+Colon to enter today's date","Press Ctrl+Colon to enter today's date","Press Ctrl+Colon to enter today's date","Press Ctrl+Colon to enter today's date","Press Ctrl+Colon to enter today's date","Press Ctrl+Colon to enter today's date","Press Ctrl+Colon to enter today's date","Press Ctrl+Colon to enter today's date","Press Ctrl+Colon to enter today's date","Press Ctrl+Colon to enter today's date","Press Ctrl+Colon to enter today's date","Press Ctrl+Colon to enter today's date","Press Ctrl+Colon to enter today's date","Press Ctrl+Colon to enter today's date","Press Ctrl+Colon to enter today's date","Press Ctrl+Colon to enter today's date","Press Ctrl+Colon to enter today's date","Press Ctrl+Colon to enter today's date","Press Ctrl+Colon to enter today's date","Press Ctrl+Colon to enter today's date","Press Ctrl+Colon to enter today's date","Press Ctrl+Colon to enter today's date","Press Ctrl+Colon to enter today's date","Press Ctrl+Colon to enter today's date","Press Ctrl+Colon to enter today's date","Press Ctrl+Colon to enter today's date","Press Ctrl+Colon to enter today's date","Press Ctrl+Colon to enter today's date","Press Ctrl+Colon to enter today's date","Press Ctrl+Colon to enter today's date","Press Ctrl+Colon to enter today's date","Press Ctrl+Colon to enter today's date","Press Ctrl+Colon to enter today's date","Press Ctrl+Colon to enter today's date","Press Ctrl+Colon to enter today's date","Press Ctrl+Colon to enter today's date","Press Ctrl+Colon to enter today's date","Press Ctrl+Colon to enter today's date","Press Ctrl+Colon to enter today's date","Press Ctrl+Colon to enter today's date","Press Ctrl+Colon to enter today's date","Press Ctrl+Colon to enter today's date","Press Ctrl+Colon to enter today's date","Press Ctrl+Colon to enter today's date","Press Ctrl+Colon to enter today's date","Press Ctrl+Colon to enter today's date","Press Ctrl+Colon to enter today's date","Press Ctrl+Colon to enter today's date","Press Ctrl+Colon to enter today's date","Press Ctrl+Colon to enter today's date","Press Ctrl+Colon to enter today's date","Press Ctrl+Colon to enter today's date","Press Ctrl+Colon to enter today's date","Press Ctrl+Colon to enter today's date","Press Ctrl+Colon to enter today's date","Press Ctrl+Colon to enter today's date","Press Ctrl+Colon to enter today's date","Press Ctrl+Colon to enter today's date","Press Ctrl+Colon to enter today's date","Press Ctrl+Colon to enter today's date","Press Ctrl+Colon to enter today's date","Press Ctrl+Colon to enter today's date","Press Ctrl+Colon to enter today's date","Press Ctrl+Colon to enter today's date","Press Ctrl+Colon to enter today's date","Press Ctrl+Colon to enter today's date","Press Ctrl+Colon to enter today's date","Press Ctrl+Colon to enter today's date","Press Ctrl+Colon to enter today's date","Press Ctrl+Colon to enter today's date","Press Ctrl+Colon to enter today's date","Press Ctrl+Colon to enter today's date","Press Ctrl+Colon to enter today's date","Press Ctrl+Colon to enter today's date","Press Ctrl+Colon to enter today's date","Press Ctrl+Colon to enter today's date","Press Ctrl+Colon to enter today's date","Press Ctrl+Colon to enter today's date","Press Ctrl+Colon to enter today's date","Press Ctrl+Colon to enter today's date","Press Ctrl+Colon to enter today's date","Press Ctrl+Colon to enter today's date","Press Ctrl+Colon to enter today's date","Press Ctrl+Colon to enter today's date","Press Ctrl+Colon to enter today's date","Press Ctrl+Colon to enter today's date","Press Ctrl+Colon to enter today's date","Press Ctrl+Colon to enter today's date","Press Ctrl+Colon to enter today's date","Press Ctrl+Colon to enter today's date","Press Ctrl+Colon to enter today's date","Press Ctrl+Colon to enter today's date","Press Ctrl+Colon to enter today's date","Press Ctrl+Colon to enter today's date","Press Ctrl+Colon to enter today's date","Press Ctrl+Colon to enter today's date","Press Ctrl+Colon to enter today's date","Press Ctrl+Colon to enter today's date","Press Ctrl+Colon to enter today's date","Press Ctrl+Colon to enter today's date","Press Ctrl+Colon to enter today's date","Press Ctrl+Colon to enter today's date","Press Ctrl+Colon to enter today's date","Press Ctrl+Colon to enter today's date","Press Ctrl+Colon to enter today's date","Press Ctrl+Colon to enter today's date","Press Ctrl+Colon to enter today's date","Press Ctrl+Colon to enter today's date","Press Ctrl+Colon to enter today's date","Press Ctrl+Colon to enter today's date","Press Ctrl+Colon to enter today's date","Press Ctrl+Colon to enter today's date","Press Ctrl+Colon to enter today's date","Press Ctrl+Colon to enter today's date","Press Ctrl+Colon to enter today's date"]
["Key","Cells highlighted in pink indicate non-conformances.",null,null,{"$f":"IF(INDIRECT(\"'Statistics'!\" & ADDRESS(COLUMN()+10,2))=\"\",\"\",INDIRECT(\"'Statistics'!\" & ADDRESS(COLUMN()+10,2)))","v":"Home"},"Submission form page 1","Submission form page 2","Submission form page 3","Gallery page","","Page 7","Page 8","Page 9","Page 10","Page 11","Page 12","Page 13","Page 14","Page 15","Page 16","Page 17","Page 18","Page 19","Page 20","Page 21","Page 22","Page 23","Page 24","Page 25","Page 26","Page 27","Page 28","Page 29","Page 30","Page 31","Page 32",{"$f":"IF(INDIRECT(\"'Statistics'!\" & ADDRESS(COLUMN()+10,2))=\"\",\"\",INDIRECT(\"'Statistics'!\" & ADDRESS(COLUMN()+10,2)))","v":"Page 33"},"Page 34","Page 35","Page 36","Page 37","Page 38","Page 39","Page 40","Page 41","Page 42","Page 43","Page 44","Page 45","Page 46","Page 47","Page 48","Page 49","Page 50","Page 51","Page 52","Page 53","Page 54","Page 55","Page 56","Page 57","Page 58","Page 59","Page 60","Page 61","Page 62","Page 63","Page 64",{"$f":"IF(INDIRECT(\"'Statistics'!\" & ADDRESS(COLUMN()+10,2))=\"\",\"\",INDIRECT(\"'Statistics'!\" & ADDRESS(COLUMN()+10,2)))","v":"Page 65"},"Page 66","Page 67","Page 68","Page 69","Page 70","Page 71","Page 72","Page 73","Page 74","Page 75","Page 76","Page 77","Page 78","Page 79","Page 80","Page 81","Page 82","Page 83","Page 84","Page 85","Page 86","Page 87","Page 88","Page 89","Page 90","Page 91","Page 92","Page 93","Page 94","Page 95","Page 96",{"$f":"IF(INDIRECT(\"'Statistics'!\" & ADDRESS(COLUMN()+10,2))=\"\",\"\",INDIRECT(\"'Statistics'!\" & ADDRESS(COLUMN()+10,2)))","v":"Page 97"},"Page 98","Page 99","Page 100","Page 101","Page 102","Page 103","Page 104","Page 105","Page 106","Page 107","Page 108","Page 109","Page 110","Page 111","Page 112","Page 113","Page 114","Page 115","Page 116","Page 117","Page 118","Page 119","Page 120","Page 121","Page 122","Page 123","Page 124","Page 125","Page 126","Page 127","Page 128",{"$f":"IF(INDIRECT(\"'Statistics'!\" & ADDRESS(COLUMN()+10,2))=\"\",\"\",INDIRECT(\"'Statistics'!\" & ADDRESS(COLUMN()+10,2)))","v":"Page 129"},"Page 130","Page 131","Page 132","Page 133","Page 134","Page 135","Page 136","Page 137","Page 138","Page 139","Page 140","Page 141","Page 142","Page 143","Page 144","Page 145","Page 146","Page 147","Page 148","Page 149","Page 150"]
[null,"Cells highlighted in tan indicate that the criteria are technically met with caveats or recommendations.",null,null,{"$f":"IF(INDIRECT(\"'Statistics'!\" & ADDRESS(COLUMN()+10,3))=\"\",\"\",INDIRECT(\"'Statistics'!\" & ADDRESS(COLUMN()+10,3)))","v":"https://wwwtest.london.gov.uk/programmes-strategies/arts-and-culture/current-culture-projects/fourth-plinth-trafalgar-square"},"https://wwwtest.london.gov.uk/programmes-strategies/arts-and-culture/current-culture-projects/fourth-plinth-trafalgar-square/fourth-plinth-schools-awards-2023-submissions-form","https://wwwtest.london.gov.uk/programmes-strategies/arts-and-culture/current-culture-projects/fourth-plinth-trafalgar-square/fourth-plinth-schools-awards-2023-submissions-form","https://wwwtest.london.gov.uk/programmes-strategies/arts-and-culture/current-culture-projects/fourth-plinth-trafalgar-square/fourth-plinth-schools-awards-2023-submissions-form","https://wwwtest.london.gov.uk/programmes-strategies/arts-and-culture/current-culture-projects/fourth-plinth-trafalgar-square/fourth-plinth-schools-awards-2023-gallery","","URL 7","URL 8","URL 9","URL 10","URL 11","URL 12","URL 13","URL 14","URL 15","URL 16","URL 17","URL 18","URL 19","URL 20","URL 21","URL 22","URL 23","URL 24","URL 25","URL 26","URL 27","URL 28","URL 29","URL 30","URL 31","URL 32",{"$f":"IF(INDIRECT(\"'Statistics'!\" & ADDRESS(COLUMN()+10,3))=\"\",\"\",INDIRECT(\"'Statistics'!\" & ADDRESS(COLUMN()+10,3)))","v":"URL 33"},"URL 34","URL 35","URL 36","URL 37","URL 38","URL 39","URL 40","URL 41","URL 42","URL 43","URL 44","URL 45","URL 46","URL 47","URL 48","URL 49","URL 50","URL 51","URL 52","URL 53","URL 54","URL 55","URL 56","URL 57","URL 58","URL 59","URL 60","URL 61","URL 62","URL 63","URL 64",{"$f":"IF(INDIRECT(\"'Statistics'!\" & ADDRESS(COLUMN()+10,3))=\"\",\"\",INDIRECT(\"'Statistics'!\" & ADDRESS(COLUMN()+10,3)))","v":"URL 65"},"URL 66","URL 67","URL 68","URL 69","URL 70","URL 71","URL 72","URL 73","URL 74","URL 75","URL 76","URL 77","URL 78","URL 79","URL 80","URL 81","URL 82","URL 83","URL 84","URL 85","URL 86","URL 87","URL 88","URL 89","URL 90","URL 91","URL 92","URL 93","URL 94","URL 95","URL 96",{"$f":"IF(INDIRECT(\"'Statistics'!\" & ADDRESS(COLUMN()+10,3))=\"\",\"\",INDIRECT(\"'Statistics'!\" & ADDRESS(COLUMN()+10,3)))","v":"URL 97"},"URL 98","URL 99","URL 100","URL 101","URL 102","URL 103","URL 104","URL 105","URL 106","URL 107","URL 108","URL 109","URL 110","URL 111","URL 112","URL 113","URL 114","URL 115","URL 116","URL 117","URL 118","URL 119","URL 120","URL 121","URL 122","URL 123","URL 124","URL 125","URL 126","URL 127","URL 128",{"$f":"IF(INDIRECT(\"'Statistics'!\" & ADDRESS(COLUMN()+10,3))=\"\",\"\",INDIRECT(\"'Statistics'!\" & ADDRESS(COLUMN()+10,3)))","v":"URL 129"},"URL 130","URL 131","URL 132","URL 133","URL 134","URL 135","URL 136","URL 137","URL 138","URL 139","URL 140","URL 141","URL 142","URL 143","URL 144","URL 145","URL 146","URL 147","URL 148","URL 149","URL 150"]
[null,null,null,null,{"$f":"IF(Statistics!$S3=\"Yes\",COUNTIF(E8:E69,\"NON CONFORMANT\") & \" Level A Non-conformance\" & IF(COUNTIF(E8:E69,\"NON CONFORMANT\")=1,\"\",\"s\"),\"\") & IF(Statistics!$S4=\"Yes\",\"\n\" & COUNTIF(E74:E117,\"NON CONFORMANT\") & \" Level AA Non-conformance\" & IF(COUNTIF(E74:E117,\"NON CONFORMANT\")=1,\"\",\"s\"),\"\") & IF(Statistics!$S5=\"Yes\",\"\n\" & COUNTIF(E122:E176,\"NON CONFORMANT\") & \" Level AAA Non-conformance\" & IF(COUNTIF(E122:E176,\"NON CONFORMANT\")=1,\"\",\"s\"),\"\")","v":"1 Level A Non-conformance\n0 Level AA Non-conformances"},{"$f":"IF(Statistics!$S3=\"Yes\",COUNTIF(F8:F69,\"NON CONFORMANT\") & \" Level A Non-conformance\" & IF(COUNTIF(F8:F69,\"NON CONFORMANT\")=1,\"\",\"s\"),\"\") & IF(Statistics!$S4=\"Yes\",\"\n\" & COUNTIF(F74:F117,\"NON CONFORMANT\") & \" Level AA Non-conformance\" & IF(COUNTIF(F74:F117,\"NON CONFORMANT\")=1,\"\",\"s\"),\"\") & IF(Statistics!$S5=\"Yes\",\"\n\" & COUNTIF(F122:F176,\"NON CONFORMANT\") & \" Level AAA Non-conformance\" & IF(COUNTIF(F122:F176,\"NON CONFORMANT\")=1,\"\",\"s\"),\"\")","v":"2 Level A Non-conformances\n4 Level AA Non-conformances"},{"$f":"IF(Statistics!$S3=\"Yes\",COUNTIF(G8:G69,\"NON CONFORMANT\") & \" Level A Non-conformance\" & IF(COUNTIF(G8:G69,\"NON CONFORMANT\")=1,\"\",\"s\"),\"\") & IF(Statistics!$S4=\"Yes\",\"\n\" & COUNTIF(G74:G117,\"NON CONFORMANT\") & \" Level AA Non-conformance\" & IF(COUNTIF(G74:G117,\"NON CONFORMANT\")=1,\"\",\"s\"),\"\") & IF(Statistics!$S5=\"Yes\",\"\n\" & COUNTIF(G122:G176,\"NON CONFORMANT\") & \" Level AAA Non-conformance\" & IF(COUNTIF(G122:G176,\"NON CONFORMANT\")=1,\"\",\"s\"),\"\")","v":"4 Level A Non-conformances\n4 Level AA Non-conformances"},{"$f":"IF(Statistics!$S3=\"Yes\",COUNTIF(H8:H69,\"NON CONFORMANT\") & \" Level A Non-conformance\" & IF(COUNTIF(H8:H69,\"NON CONFORMANT\")=1,\"\",\"s\"),\"\") & IF(Statistics!$S4=\"Yes\",\"\n\" & COUNTIF(H74:H117,\"NON CONFORMANT\") & \" Level AA Non-conformance\" & IF(COUNTIF(H74:H117,\"NON CONFORMANT\")=1,\"\",\"s\"),\"\") & IF(Statistics!$S5=\"Yes\",\"\n\" & COUNTIF(H122:H176,\"NON CONFORMANT\") & \" Level AAA Non-conformance\" & IF(COUNTIF(H122:H176,\"NON CONFORMANT\")=1,\"\",\"s\"),\"\")","v":"2 Level A Non-conformances\n1 Level AA Non-conformance"},{"$f":"IF(Statistics!$S3=\"Yes\",COUNTIF(I8:I69,\"NON CONFORMANT\") & \" Level A Non-conformance\" & IF(COUNTIF(I8:I69,\"NON CONFORMANT\")=1,\"\",\"s\"),\"\") & IF(Statistics!$S4=\"Yes\",\"\n\" & COUNTIF(I74:I117,\"NON CONFORMANT\") & \" Level AA Non-conformance\" & IF(COUNTIF(I74:I117,\"NON CONFORMANT\")=1,\"\",\"s\"),\"\") & IF(Statistics!$S5=\"Yes\",\"\n\" & COUNTIF(I122:I176,\"NON CONFORMANT\") & \" Level AAA Non-conformance\" & IF(COUNTIF(I122:I176,\"NON CONFORMANT\")=1,\"\",\"s\"),\"\")","v":"5 Level A Non-conformances\n0 Level AA Non-conformances"},{"$f":"IF(Statistics!$S3=\"Yes\",COUNTIF(J8:J69,\"NON CONFORMANT\") & \" Level A Non-conformance\" & IF(COUNTIF(J8:J69,\"NON CONFORMANT\")=1,\"\",\"s\"),\"\") & IF(Statistics!$S4=\"Yes\",\"\n\" & COUNTIF(J74:J117,\"NON CONFORMANT\") & \" Level AA Non-conformance\" & IF(COUNTIF(J74:J117,\"NON CONFORMANT\")=1,\"\",\"s\"),\"\") & IF(Statistics!$S5=\"Yes\",\"\n\" & COUNTIF(J122:J176,\"NON CONFORMANT\") & \" Level AAA Non-conformance\" & IF(COUNTIF(J122:J176,\"NON CONFORMANT\")=1,\"\",\"s\"),\"\")","v":"0 Level A Non-conformances\n0 Level AA Non-conformances"},{"$f":"IF(Statistics!$S3=\"Yes\",COUNTIF(K8:K69,\"NON CONFORMANT\") & \" Level A Non-conformance\" & IF(COUNTIF(K8:K69,\"NON CONFORMANT\")=1,\"\",\"s\"),\"\") & IF(Statistics!$S4=\"Yes\",\"\n\" & COUNTIF(K74:K117,\"NON CONFORMANT\") & \" Level AA Non-conformance\" & IF(COUNTIF(K74:K117,\"NON CONFORMANT\")=1,\"\",\"s\"),\"\") & IF(Statistics!$S5=\"Yes\",\"\n\" & COUNTIF(K122:K176,\"NON CONFORMANT\") & \" Level AAA Non-conformance\" & IF(COUNTIF(K122:K176,\"NON CONFORMANT\")=1,\"\",\"s\"),\"\")","v":"0 Level A Non-conformances\n0 Level AA Non-conformances"},{"$f":"IF(Statistics!$S3=\"Yes\",COUNTIF(L8:L69,\"NON CONFORMANT\") & \" Level A Non-conformance\" & IF(COUNTIF(L8:L69,\"NON CONFORMANT\")=1,\"\",\"s\"),\"\") & IF(Statistics!$S4=\"Yes\",\"\n\" & COUNTIF(L74:L117,\"NON CONFORMANT\") & \" Level AA Non-conformance\" & IF(COUNTIF(L74:L117,\"NON CONFORMANT\")=1,\"\",\"s\"),\"\") & IF(Statistics!$S5=\"Yes\",\"\n\" & COUNTIF(L122:L176,\"NON CONFORMANT\") & \" Level AAA Non-conformance\" & IF(COUNTIF(L122:L176,\"NON CONFORMANT\")=1,\"\",\"s\"),\"\")","v":"0 Level A Non-conformances\n0 Level AA Non-conformances"},{"$f":"IF(Statistics!$S3=\"Yes\",COUNTIF(M8:M69,\"NON CONFORMANT\") & \" Level A Non-conformance\" & IF(COUNTIF(M8:M69,\"NON CONFORMANT\")=1,\"\",\"s\"),\"\") & IF(Statistics!$S4=\"Yes\",\"\n\" & COUNTIF(M74:M117,\"NON CONFORMANT\") & \" Level AA Non-conformance\" & IF(COUNTIF(M74:M117,\"NON CONFORMANT\")=1,\"\",\"s\"),\"\") & IF(Statistics!$S5=\"Yes\",\"\n\" & COUNTIF(M122:M176,\"NON CONFORMANT\") & \" Level AAA Non-conformance\" & IF(COUNTIF(M122:M176,\"NON CONFORMANT\")=1,\"\",\"s\"),\"\")","v":"0 Level A Non-conformances\n0 Level AA Non-conformances"},{"$f":"IF(Statistics!$S3=\"Yes\",COUNTIF(N8:N69,\"NON CONFORMANT\") & \" Level A Non-conformance\" & IF(COUNTIF(N8:N69,\"NON CONFORMANT\")=1,\"\",\"s\"),\"\") & IF(Statistics!$S4=\"Yes\",\"\n\" & COUNTIF(N74:N117,\"NON CONFORMANT\") & \" Level AA Non-conformance\" & IF(COUNTIF(N74:N117,\"NON CONFORMANT\")=1,\"\",\"s\"),\"\") & IF(Statistics!$S5=\"Yes\",\"\n\" & COUNTIF(N122:N176,\"NON CONFORMANT\") & \" Level AAA Non-conformance\" & IF(COUNTIF(N122:N176,\"NON CONFORMANT\")=1,\"\",\"s\"),\"\")","v":"0 Level A Non-conformances\n0 Level AA Non-conformances"},{"$f":"IF(Statistics!$S3=\"Yes\",COUNTIF(O8:O69,\"NON CONFORMANT\") & \" Level A Non-conformance\" & IF(COUNTIF(O8:O69,\"NON CONFORMANT\")=1,\"\",\"s\"),\"\") & IF(Statistics!$S4=\"Yes\",\"\n\" & COUNTIF(O74:O117,\"NON CONFORMANT\") & \" Level AA Non-conformance\" & IF(COUNTIF(O74:O117,\"NON CONFORMANT\")=1,\"\",\"s\"),\"\") & IF(Statistics!$S5=\"Yes\",\"\n\" & COUNTIF(O122:O176,\"NON CONFORMANT\") & \" Level AAA Non-conformance\" & IF(COUNTIF(O122:O176,\"NON CONFORMANT\")=1,\"\",\"s\"),\"\")","v":"0 Level A Non-conformances\n0 Level AA Non-conformances"},{"$f":"IF(Statistics!$S3=\"Yes\",COUNTIF(P8:P69,\"NON CONFORMANT\") & \" Level A Non-conformance\" & IF(COUNTIF(P8:P69,\"NON CONFORMANT\")=1,\"\",\"s\"),\"\") & IF(Statistics!$S4=\"Yes\",\"\n\" & COUNTIF(P74:P117,\"NON CONFORMANT\") & \" Level AA Non-conformance\" & IF(COUNTIF(P74:P117,\"NON CONFORMANT\")=1,\"\",\"s\"),\"\") & IF(Statistics!$S5=\"Yes\",\"\n\" & COUNTIF(P122:P176,\"NON CONFORMANT\") & \" Level AAA Non-conformance\" & IF(COUNTIF(P122:P176,\"NON CONFORMANT\")=1,\"\",\"s\"),\"\")","v":"0 Level A Non-conformances\n0 Level AA Non-conformances"},{"$f":"IF(Statistics!$S3=\"Yes\",COUNTIF(Q8:Q69,\"NON CONFORMANT\") & \" Level A Non-conformance\" & IF(COUNTIF(Q8:Q69,\"NON CONFORMANT\")=1,\"\",\"s\"),\"\") & IF(Statistics!$S4=\"Yes\",\"\n\" & COUNTIF(Q74:Q117,\"NON CONFORMANT\") & \" Level AA Non-conformance\" & IF(COUNTIF(Q74:Q117,\"NON CONFORMANT\")=1,\"\",\"s\"),\"\") & IF(Statistics!$S5=\"Yes\",\"\n\" & COUNTIF(Q122:Q176,\"NON CONFORMANT\") & \" Level AAA Non-conformance\" & IF(COUNTIF(Q122:Q176,\"NON CONFORMANT\")=1,\"\",\"s\"),\"\")","v":"0 Level A Non-conformances\n0 Level AA Non-conformances"},{"$f":"IF(Statistics!$S3=\"Yes\",COUNTIF(R8:R69,\"NON CONFORMANT\") & \" Level A Non-conformance\" & IF(COUNTIF(R8:R69,\"NON CONFORMANT\")=1,\"\",\"s\"),\"\") & IF(Statistics!$S4=\"Yes\",\"\n\" & COUNTIF(R74:R117,\"NON CONFORMANT\") & \" Level AA Non-conformance\" & IF(COUNTIF(R74:R117,\"NON CONFORMANT\")=1,\"\",\"s\"),\"\") & IF(Statistics!$S5=\"Yes\",\"\n\" & COUNTIF(R122:R176,\"NON CONFORMANT\") & \" Level AAA Non-conformance\" & IF(COUNTIF(R122:R176,\"NON CONFORMANT\")=1,\"\",\"s\"),\"\")","v":"0 Level A Non-conformances\n0 Level AA Non-conformances"},{"$f":"IF(Statistics!$S3=\"Yes\",COUNTIF(S8:S69,\"NON CONFORMANT\") & \" Level A Non-conformance\" & IF(COUNTIF(S8:S69,\"NON CONFORMANT\")=1,\"\",\"s\"),\"\") & IF(Statistics!$S4=\"Yes\",\"\n\" & COUNTIF(S74:S117,\"NON CONFORMANT\") & \" Level AA Non-conformance\" & IF(COUNTIF(S74:S117,\"NON CONFORMANT\")=1,\"\",\"s\"),\"\") & IF(Statistics!$S5=\"Yes\",\"\n\" & COUNTIF(S122:S176,\"NON CONFORMANT\") & \" Level AAA Non-conformance\" & IF(COUNTIF(S122:S176,\"NON CONFORMANT\")=1,\"\",\"s\"),\"\")","v":"0 Level A Non-conformances\n0 Level AA Non-conformances"},{"$f":"IF(Statistics!$S3=\"Yes\",COUNTIF(T8:T69,\"NON CONFORMANT\") & \" Level A Non-conformance\" & IF(COUNTIF(T8:T69,\"NON CONFORMANT\")=1,\"\",\"s\"),\"\") & IF(Statistics!$S4=\"Yes\",\"\n\" & COUNTIF(T74:T117,\"NON CONFORMANT\") & \" Level AA Non-conformance\" & IF(COUNTIF(T74:T117,\"NON CONFORMANT\")=1,\"\",\"s\"),\"\") & IF(Statistics!$S5=\"Yes\",\"\n\" & COUNTIF(T122:T176,\"NON CONFORMANT\") & \" Level AAA Non-conformance\" & IF(COUNTIF(T122:T176,\"NON CONFORMANT\")=1,\"\",\"s\"),\"\")","v":"0 Level A Non-conformances\n0 Level AA Non-conformances"},{"$f":"IF(Statistics!$S3=\"Yes\",COUNTIF(U8:U69,\"NON CONFORMANT\") & \" Level A Non-conformance\" & IF(COUNTIF(U8:U69,\"NON CONFORMANT\")=1,\"\",\"s\"),\"\") & IF(Statistics!$S4=\"Yes\",\"\n\" & COUNTIF(U74:U117,\"NON CONFORMANT\") & \" Level AA Non-conformance\" & IF(COUNTIF(U74:U117,\"NON CONFORMANT\")=1,\"\",\"s\"),\"\") & IF(Statistics!$S5=\"Yes\",\"\n\" & COUNTIF(U122:U176,\"NON CONFORMANT\") & \" Level AAA Non-conformance\" & IF(COUNTIF(U122:U176,\"NON CONFORMANT\")=1,\"\",\"s\"),\"\")","v":"0 Level A Non-conformances\n0 Level AA Non-conformances"},{"$f":"IF(Statistics!$S3=\"Yes\",COUNTIF(V8:V69,\"NON CONFORMANT\") & \" Level A Non-conformance\" & IF(COUNTIF(V8:V69,\"NON CONFORMANT\")=1,\"\",\"s\"),\"\") & IF(Statistics!$S4=\"Yes\",\"\n\" & COUNTIF(V74:V117,\"NON CONFORMANT\") & \" Level AA Non-conformance\" & IF(COUNTIF(V74:V117,\"NON CONFORMANT\")=1,\"\",\"s\"),\"\") & IF(Statistics!$S5=\"Yes\",\"\n\" & COUNTIF(V122:V176,\"NON CONFORMANT\") & \" Level AAA Non-conformance\" & IF(COUNTIF(V122:V176,\"NON CONFORMANT\")=1,\"\",\"s\"),\"\")","v":"0 Level A Non-conformances\n0 Level AA Non-conformances"},{"$f":"IF(Statistics!$S3=\"Yes\",COUNTIF(W8:W69,\"NON CONFORMANT\") & \" Level A Non-conformance\" & IF(COUNTIF(W8:W69,\"NON CONFORMANT\")=1,\"\",\"s\"),\"\") & IF(Statistics!$S4=\"Yes\",\"\n\" & COUNTIF(W74:W117,\"NON CONFORMANT\") & \" Level AA Non-conformance\" & IF(COUNTIF(W74:W117,\"NON CONFORMANT\")=1,\"\",\"s\"),\"\") & IF(Statistics!$S5=\"Yes\",\"\n\" & COUNTIF(W122:W176,\"NON CONFORMANT\") & \" Level AAA Non-conformance\" & IF(COUNTIF(W122:W176,\"NON CONFORMANT\")=1,\"\",\"s\"),\"\")","v":"0 Level A Non-conformances\n0 Level AA Non-conformances"},{"$f":"IF(Statistics!$S3=\"Yes\",COUNTIF(X8:X69,\"NON CONFORMANT\") & \" Level A Non-conformance\" & IF(COUNTIF(X8:X69,\"NON CONFORMANT\")=1,\"\",\"s\"),\"\") & IF(Statistics!$S4=\"Yes\",\"\n\" & COUNTIF(X74:X117,\"NON CONFORMANT\") & \" Level AA Non-conformance\" & IF(COUNTIF(X74:X117,\"NON CONFORMANT\")=1,\"\",\"s\"),\"\") & IF(Statistics!$S5=\"Yes\",\"\n\" & COUNTIF(X122:X176,\"NON CONFORMANT\") & \" Level AAA Non-conformance\" & IF(COUNTIF(X122:X176,\"NON CONFORMANT\")=1,\"\",\"s\"),\"\")","v":"0 Level A Non-conformances\n0 Level AA Non-conformances"},{"$f":"IF(Statistics!$S3=\"Yes\",COUNTIF(Y8:Y69,\"NON CONFORMANT\") & \" Level A Non-conformance\" & IF(COUNTIF(Y8:Y69,\"NON CONFORMANT\")=1,\"\",\"s\"),\"\") & IF(Statistics!$S4=\"Yes\",\"\n\" & COUNTIF(Y74:Y117,\"NON CONFORMANT\") & \" Level AA Non-conformance\" & IF(COUNTIF(Y74:Y117,\"NON CONFORMANT\")=1,\"\",\"s\"),\"\") & IF(Statistics!$S5=\"Yes\",\"\n\" & COUNTIF(Y122:Y176,\"NON CONFORMANT\") & \" Level AAA Non-conformance\" & IF(COUNTIF(Y122:Y176,\"NON CONFORMANT\")=1,\"\",\"s\"),\"\")","v":"0 Level A Non-conformances\n0 Level AA Non-conformances"},{"$f":"IF(Statistics!$S3=\"Yes\",COUNTIF(Z8:Z69,\"NON CONFORMANT\") & \" Level A Non-conformance\" & IF(COUNTIF(Z8:Z69,\"NON CONFORMANT\")=1,\"\",\"s\"),\"\") & IF(Statistics!$S4=\"Yes\",\"\n\" & COUNTIF(Z74:Z117,\"NON CONFORMANT\") & \" Level AA Non-conformance\" & IF(COUNTIF(Z74:Z117,\"NON CONFORMANT\")=1,\"\",\"s\"),\"\") & IF(Statistics!$S5=\"Yes\",\"\n\" & COUNTIF(Z122:Z176,\"NON CONFORMANT\") & \" Level AAA Non-conformance\" & IF(COUNTIF(Z122:Z176,\"NON CONFORMANT\")=1,\"\",\"s\"),\"\")","v":"0 Level A Non-conformances\n0 Level AA Non-conformances"},{"$f":"IF(Statistics!$S3=\"Yes\",COUNTIF(AA8:AA69,\"NON CONFORMANT\") & \" Level A Non-conformance\" & IF(COUNTIF(AA8:AA69,\"NON CONFORMANT\")=1,\"\",\"s\"),\"\") & IF(Statistics!$S4=\"Yes\",\"\n\" & COUNTIF(AA74:AA117,\"NON CONFORMANT\") & \" Level AA Non-conformance\" & IF(COUNTIF(AA74:AA117,\"NON CONFORMANT\")=1,\"\",\"s\"),\"\") & IF(Statistics!$S5=\"Yes\",\"\n\" & COUNTIF(AA122:AA176,\"NON CONFORMANT\") & \" Level AAA Non-conformance\" & IF(COUNTIF(AA122:AA176,\"NON CONFORMANT\")=1,\"\",\"s\"),\"\")","v":"0 Level A Non-conformances\n0 Level AA Non-conformances"},{"$f":"IF(Statistics!$S3=\"Yes\",COUNTIF(AB8:AB69,\"NON CONFORMANT\") & \" Level A Non-conformance\" & IF(COUNTIF(AB8:AB69,\"NON CONFORMANT\")=1,\"\",\"s\"),\"\") & IF(Statistics!$S4=\"Yes\",\"\n\" & COUNTIF(AB74:AB117,\"NON CONFORMANT\") & \" Level AA Non-conformance\" & IF(COUNTIF(AB74:AB117,\"NON CONFORMANT\")=1,\"\",\"s\"),\"\") & IF(Statistics!$S5=\"Yes\",\"\n\" & COUNTIF(AB122:AB176,\"NON CONFORMANT\") & \" Level AAA Non-conformance\" & IF(COUNTIF(AB122:AB176,\"NON CONFORMANT\")=1,\"\",\"s\"),\"\")","v":"0 Level A Non-conformances\n0 Level AA Non-conformances"},{"$f":"IF(Statistics!$S3=\"Yes\",COUNTIF(AC8:AC69,\"NON CONFORMANT\") & \" Level A Non-conformance\" & IF(COUNTIF(AC8:AC69,\"NON CONFORMANT\")=1,\"\",\"s\"),\"\") & IF(Statistics!$S4=\"Yes\",\"\n\" & COUNTIF(AC74:AC117,\"NON CONFORMANT\") & \" Level AA Non-conformance\" & IF(COUNTIF(AC74:AC117,\"NON CONFORMANT\")=1,\"\",\"s\"),\"\") & IF(Statistics!$S5=\"Yes\",\"\n\" & COUNTIF(AC122:AC176,\"NON CONFORMANT\") & \" Level AAA Non-conformance\" & IF(COUNTIF(AC122:AC176,\"NON CONFORMANT\")=1,\"\",\"s\"),\"\")","v":"0 Level A Non-conformances\n0 Level AA Non-conformances"},{"$f":"IF(Statistics!$S3=\"Yes\",COUNTIF(AD8:AD69,\"NON CONFORMANT\") & \" Level A Non-conformance\" & IF(COUNTIF(AD8:AD69,\"NON CONFORMANT\")=1,\"\",\"s\"),\"\") & IF(Statistics!$S4=\"Yes\",\"\n\" & COUNTIF(AD74:AD117,\"NON CONFORMANT\") & \" Level AA Non-conformance\" & IF(COUNTIF(AD74:AD117,\"NON CONFORMANT\")=1,\"\",\"s\"),\"\") & IF(Statistics!$S5=\"Yes\",\"\n\" & COUNTIF(AD122:AD176,\"NON CONFORMANT\") & \" Level AAA Non-conformance\" & IF(COUNTIF(AD122:AD176,\"NON CONFORMANT\")=1,\"\",\"s\"),\"\")","v":"0 Level A Non-conformances\n0 Level AA Non-conformances"},{"$f":"IF(Statistics!$S3=\"Yes\",COUNTIF(AE8:AE69,\"NON CONFORMANT\") & \" Level A Non-conformance\" & IF(COUNTIF(AE8:AE69,\"NON CONFORMANT\")=1,\"\",\"s\"),\"\") & IF(Statistics!$S4=\"Yes\",\"\n\" & COUNTIF(AE74:AE117,\"NON CONFORMANT\") & \" Level AA Non-conformance\" & IF(COUNTIF(AE74:AE117,\"NON CONFORMANT\")=1,\"\",\"s\"),\"\") & IF(Statistics!$S5=\"Yes\",\"\n\" & COUNTIF(AE122:AE176,\"NON CONFORMANT\") & \" Level AAA Non-conformance\" & IF(COUNTIF(AE122:AE176,\"NON CONFORMANT\")=1,\"\",\"s\"),\"\")","v":"0 Level A Non-conformances\n0 Level AA Non-conformances"},{"$f":"IF(Statistics!$S3=\"Yes\",COUNTIF(AF8:AF69,\"NON CONFORMANT\") & \" Level A Non-conformance\" & IF(COUNTIF(AF8:AF69,\"NON CONFORMANT\")=1,\"\",\"s\"),\"\") & IF(Statistics!$S4=\"Yes\",\"\n\" & COUNTIF(AF74:AF117,\"NON CONFORMANT\") & \" Level AA Non-conformance\" & IF(COUNTIF(AF74:AF117,\"NON CONFORMANT\")=1,\"\",\"s\"),\"\") & IF(Statistics!$S5=\"Yes\",\"\n\" & COUNTIF(AF122:AF176,\"NON CONFORMANT\") & \" Level AAA Non-conformance\" & IF(COUNTIF(AF122:AF176,\"NON CONFORMANT\")=1,\"\",\"s\"),\"\")","v":"0 Level A Non-conformances\n0 Level AA Non-conformances"},{"$f":"IF(Statistics!$S3=\"Yes\",COUNTIF(AG8:AG69,\"NON CONFORMANT\") & \" Level A Non-conformance\" & IF(COUNTIF(AG8:AG69,\"NON CONFORMANT\")=1,\"\",\"s\"),\"\") & IF(Statistics!$S4=\"Yes\",\"\n\" & COUNTIF(AG74:AG117,\"NON CONFORMANT\") & \" Level AA Non-conformance\" & IF(COUNTIF(AG74:AG117,\"NON CONFORMANT\")=1,\"\",\"s\"),\"\") & IF(Statistics!$S5=\"Yes\",\"\n\" & COUNTIF(AG122:AG176,\"NON CONFORMANT\") & \" Level AAA Non-conformance\" & IF(COUNTIF(AG122:AG176,\"NON CONFORMANT\")=1,\"\",\"s\"),\"\")","v":"0 Level A Non-conformances\n0 Level AA Non-conformances"},{"$f":"IF(Statistics!$S3=\"Yes\",COUNTIF(AH8:AH69,\"NON CONFORMANT\") & \" Level A Non-conformance\" & IF(COUNTIF(AH8:AH69,\"NON CONFORMANT\")=1,\"\",\"s\"),\"\") & IF(Statistics!$S4=\"Yes\",\"\n\" & COUNTIF(AH74:AH117,\"NON CONFORMANT\") & \" Level AA Non-conformance\" & IF(COUNTIF(AH74:AH117,\"NON CONFORMANT\")=1,\"\",\"s\"),\"\") & IF(Statistics!$S5=\"Yes\",\"\n\" & COUNTIF(AH122:AH176,\"NON CONFORMANT\") & \" Level AAA Non-conformance\" & IF(COUNTIF(AH122:AH176,\"NON CONFORMANT\")=1,\"\",\"s\"),\"\")","v":"0 Level A Non-conformances\n0 Level AA Non-conformances"},{"$f":"IF(Statistics!$S3=\"Yes\",COUNTIF(AI8:AI69,\"NON CONFORMANT\") & \" Level A Non-conformance\" & IF(COUNTIF(AI8:AI69,\"NON CONFORMANT\")=1,\"\",\"s\"),\"\") & IF(Statistics!$S4=\"Yes\",\"\n\" & COUNTIF(AI74:AI117,\"NON CONFORMANT\") & \" Level AA Non-conformance\" & IF(COUNTIF(AI74:AI117,\"NON CONFORMANT\")=1,\"\",\"s\"),\"\") & IF(Statistics!$S5=\"Yes\",\"\n\" & COUNTIF(AI122:AI176,\"NON CONFORMANT\") & \" Level AAA Non-conformance\" & IF(COUNTIF(AI122:AI176,\"NON CONFORMANT\")=1,\"\",\"s\"),\"\")","v":"0 Level A Non-conformances\n0 Level AA Non-conformances"},{"$f":"IF(Statistics!$S3=\"Yes\",COUNTIF(AJ8:AJ69,\"NON CONFORMANT\") & \" Level A Non-conformance\" & IF(COUNTIF(AJ8:AJ69,\"NON CONFORMANT\")=1,\"\",\"s\"),\"\") & IF(Statistics!$S4=\"Yes\",\"\n\" & COUNTIF(AJ74:AJ117,\"NON CONFORMANT\") & \" Level AA Non-conformance\" & IF(COUNTIF(AJ74:AJ117,\"NON CONFORMANT\")=1,\"\",\"s\"),\"\") & IF(Statistics!$S5=\"Yes\",\"\n\" & COUNTIF(AJ122:AJ176,\"NON CONFORMANT\") & \" Level AAA Non-conformance\" & IF(COUNTIF(AJ122:AJ176,\"NON CONFORMANT\")=1,\"\",\"s\"),\"\")","v":"0 Level A Non-conformances\n0 Level AA Non-conformances"},{"$f":"IF(Statistics!$S3=\"Yes\",COUNTIF(AK8:AK69,\"NON CONFORMANT\") & \" Level A Non-conformance\" & IF(COUNTIF(AK8:AK69,\"NON CONFORMANT\")=1,\"\",\"s\"),\"\") & IF(Statistics!$S4=\"Yes\",\"\n\" & COUNTIF(AK74:AK117,\"NON CONFORMANT\") & \" Level AA Non-conformance\" & IF(COUNTIF(AK74:AK117,\"NON CONFORMANT\")=1,\"\",\"s\"),\"\") & IF(Statistics!$S5=\"Yes\",\"\n\" & COUNTIF(AK122:AK176,\"NON CONFORMANT\") & \" Level AAA Non-conformance\" & IF(COUNTIF(AK122:AK176,\"NON CONFORMANT\")=1,\"\",\"s\"),\"\")","v":"0 Level A Non-conformances\n0 Level AA Non-conformances"},{"$f":"IF(Statistics!$S3=\"Yes\",COUNTIF(AL8:AL69,\"NON CONFORMANT\") & \" Level A Non-conformance\" & IF(COUNTIF(AL8:AL69,\"NON CONFORMANT\")=1,\"\",\"s\"),\"\") & IF(Statistics!$S4=\"Yes\",\"\n\" & COUNTIF(AL74:AL117,\"NON CONFORMANT\") & \" Level AA Non-conformance\" & IF(COUNTIF(AL74:AL117,\"NON CONFORMANT\")=1,\"\",\"s\"),\"\") & IF(Statistics!$S5=\"Yes\",\"\n\" & COUNTIF(AL122:AL176,\"NON CONFORMANT\") & \" Level AAA Non-conformance\" & IF(COUNTIF(AL122:AL176,\"NON CONFORMANT\")=1,\"\",\"s\"),\"\")","v":"0 Level A Non-conformances\n0 Level AA Non-conformances"},{"$f":"IF(Statistics!$S3=\"Yes\",COUNTIF(AM8:AM69,\"NON CONFORMANT\") & \" Level A Non-conformance\" & IF(COUNTIF(AM8:AM69,\"NON CONFORMANT\")=1,\"\",\"s\"),\"\") & IF(Statistics!$S4=\"Yes\",\"\n\" & COUNTIF(AM74:AM117,\"NON CONFORMANT\") & \" Level AA Non-conformance\" & IF(COUNTIF(AM74:AM117,\"NON CONFORMANT\")=1,\"\",\"s\"),\"\") & IF(Statistics!$S5=\"Yes\",\"\n\" & COUNTIF(AM122:AM176,\"NON CONFORMANT\") & \" Level AAA Non-conformance\" & IF(COUNTIF(AM122:AM176,\"NON CONFORMANT\")=1,\"\",\"s\"),\"\")","v":"0 Level A Non-conformances\n0 Level AA Non-conformances"},{"$f":"IF(Statistics!$S3=\"Yes\",COUNTIF(AN8:AN69,\"NON CONFORMANT\") & \" Level A Non-conformance\" & IF(COUNTIF(AN8:AN69,\"NON CONFORMANT\")=1,\"\",\"s\"),\"\") & IF(Statistics!$S4=\"Yes\",\"\n\" & COUNTIF(AN74:AN117,\"NON CONFORMANT\") & \" Level AA Non-conformance\" & IF(COUNTIF(AN74:AN117,\"NON CONFORMANT\")=1,\"\",\"s\"),\"\") & IF(Statistics!$S5=\"Yes\",\"\n\" & COUNTIF(AN122:AN176,\"NON CONFORMANT\") & \" Level AAA Non-conformance\" & IF(COUNTIF(AN122:AN176,\"NON CONFORMANT\")=1,\"\",\"s\"),\"\")","v":"0 Level A Non-conformances\n0 Level AA Non-conformances"},{"$f":"IF(Statistics!$S3=\"Yes\",COUNTIF(AO8:AO69,\"NON CONFORMANT\") & \" Level A Non-conformance\" & IF(COUNTIF(AO8:AO69,\"NON CONFORMANT\")=1,\"\",\"s\"),\"\") & IF(Statistics!$S4=\"Yes\",\"\n\" & COUNTIF(AO74:AO117,\"NON CONFORMANT\") & \" Level AA Non-conformance\" & IF(COUNTIF(AO74:AO117,\"NON CONFORMANT\")=1,\"\",\"s\"),\"\") & IF(Statistics!$S5=\"Yes\",\"\n\" & COUNTIF(AO122:AO176,\"NON CONFORMANT\") & \" Level AAA Non-conformance\" & IF(COUNTIF(AO122:AO176,\"NON CONFORMANT\")=1,\"\",\"s\"),\"\")","v":"0 Level A Non-conformances\n0 Level AA Non-conformances"},{"$f":"IF(Statistics!$S3=\"Yes\",COUNTIF(AP8:AP69,\"NON CONFORMANT\") & \" Level A Non-conformance\" & IF(COUNTIF(AP8:AP69,\"NON CONFORMANT\")=1,\"\",\"s\"),\"\") & IF(Statistics!$S4=\"Yes\",\"\n\" & COUNTIF(AP74:AP117,\"NON CONFORMANT\") & \" Level AA Non-conformance\" & IF(COUNTIF(AP74:AP117,\"NON CONFORMANT\")=1,\"\",\"s\"),\"\") & IF(Statistics!$S5=\"Yes\",\"\n\" & COUNTIF(AP122:AP176,\"NON CONFORMANT\") & \" Level AAA Non-conformance\" & IF(COUNTIF(AP122:AP176,\"NON CONFORMANT\")=1,\"\",\"s\"),\"\")","v":"0 Level A Non-conformances\n0 Level AA Non-conformances"},{"$f":"IF(Statistics!$S3=\"Yes\",COUNTIF(AQ8:AQ69,\"NON CONFORMANT\") & \" Level A Non-conformance\" & IF(COUNTIF(AQ8:AQ69,\"NON CONFORMANT\")=1,\"\",\"s\"),\"\") & IF(Statistics!$S4=\"Yes\",\"\n\" & COUNTIF(AQ74:AQ117,\"NON CONFORMANT\") & \" Level AA Non-conformance\" & IF(COUNTIF(AQ74:AQ117,\"NON CONFORMANT\")=1,\"\",\"s\"),\"\") & IF(Statistics!$S5=\"Yes\",\"\n\" & COUNTIF(AQ122:AQ176,\"NON CONFORMANT\") & \" Level AAA Non-conformance\" & IF(COUNTIF(AQ122:AQ176,\"NON CONFORMANT\")=1,\"\",\"s\"),\"\")","v":"0 Level A Non-conformances\n0 Level AA Non-conformances"},{"$f":"IF(Statistics!$S3=\"Yes\",COUNTIF(AR8:AR69,\"NON CONFORMANT\") & \" Level A Non-conformance\" & IF(COUNTIF(AR8:AR69,\"NON CONFORMANT\")=1,\"\",\"s\"),\"\") & IF(Statistics!$S4=\"Yes\",\"\n\" & COUNTIF(AR74:AR117,\"NON CONFORMANT\") & \" Level AA Non-conformance\" & IF(COUNTIF(AR74:AR117,\"NON CONFORMANT\")=1,\"\",\"s\"),\"\") & IF(Statistics!$S5=\"Yes\",\"\n\" & COUNTIF(AR122:AR176,\"NON CONFORMANT\") & \" Level AAA Non-conformance\" & IF(COUNTIF(AR122:AR176,\"NON CONFORMANT\")=1,\"\",\"s\"),\"\")","v":"0 Level A Non-conformances\n0 Level AA Non-conformances"},{"$f":"IF(Statistics!$S3=\"Yes\",COUNTIF(AS8:AS69,\"NON CONFORMANT\") & \" Level A Non-conformance\" & IF(COUNTIF(AS8:AS69,\"NON CONFORMANT\")=1,\"\",\"s\"),\"\") & IF(Statistics!$S4=\"Yes\",\"\n\" & COUNTIF(AS74:AS117,\"NON CONFORMANT\") & \" Level AA Non-conformance\" & IF(COUNTIF(AS74:AS117,\"NON CONFORMANT\")=1,\"\",\"s\"),\"\") & IF(Statistics!$S5=\"Yes\",\"\n\" & COUNTIF(AS122:AS176,\"NON CONFORMANT\") & \" Level AAA Non-conformance\" & IF(COUNTIF(AS122:AS176,\"NON CONFORMANT\")=1,\"\",\"s\"),\"\")","v":"0 Level A Non-conformances\n0 Level AA Non-conformances"},{"$f":"IF(Statistics!$S3=\"Yes\",COUNTIF(AT8:AT69,\"NON CONFORMANT\") & \" Level A Non-conformance\" & IF(COUNTIF(AT8:AT69,\"NON CONFORMANT\")=1,\"\",\"s\"),\"\") & IF(Statistics!$S4=\"Yes\",\"\n\" & COUNTIF(AT74:AT117,\"NON CONFORMANT\") & \" Level AA Non-conformance\" & IF(COUNTIF(AT74:AT117,\"NON CONFORMANT\")=1,\"\",\"s\"),\"\") & IF(Statistics!$S5=\"Yes\",\"\n\" & COUNTIF(AT122:AT176,\"NON CONFORMANT\") & \" Level AAA Non-conformance\" & IF(COUNTIF(AT122:AT176,\"NON CONFORMANT\")=1,\"\",\"s\"),\"\")","v":"0 Level A Non-conformances\n0 Level AA Non-conformances"},{"$f":"IF(Statistics!$S3=\"Yes\",COUNTIF(AU8:AU69,\"NON CONFORMANT\") & \" Level A Non-conformance\" & IF(COUNTIF(AU8:AU69,\"NON CONFORMANT\")=1,\"\",\"s\"),\"\") & IF(Statistics!$S4=\"Yes\",\"\n\" & COUNTIF(AU74:AU117,\"NON CONFORMANT\") & \" Level AA Non-conformance\" & IF(COUNTIF(AU74:AU117,\"NON CONFORMANT\")=1,\"\",\"s\"),\"\") & IF(Statistics!$S5=\"Yes\",\"\n\" & COUNTIF(AU122:AU176,\"NON CONFORMANT\") & \" Level AAA Non-conformance\" & IF(COUNTIF(AU122:AU176,\"NON CONFORMANT\")=1,\"\",\"s\"),\"\")","v":"0 Level A Non-conformances\n0 Level AA Non-conformances"},{"$f":"IF(Statistics!$S3=\"Yes\",COUNTIF(AV8:AV69,\"NON CONFORMANT\") & \" Level A Non-conformance\" & IF(COUNTIF(AV8:AV69,\"NON CONFORMANT\")=1,\"\",\"s\"),\"\") & IF(Statistics!$S4=\"Yes\",\"\n\" & COUNTIF(AV74:AV117,\"NON CONFORMANT\") & \" Level AA Non-conformance\" & IF(COUNTIF(AV74:AV117,\"NON CONFORMANT\")=1,\"\",\"s\"),\"\") & IF(Statistics!$S5=\"Yes\",\"\n\" & COUNTIF(AV122:AV176,\"NON CONFORMANT\") & \" Level AAA Non-conformance\" & IF(COUNTIF(AV122:AV176,\"NON CONFORMANT\")=1,\"\",\"s\"),\"\")","v":"0 Level A Non-conformances\n0 Level AA Non-conformances"},{"$f":"IF(Statistics!$S3=\"Yes\",COUNTIF(AW8:AW69,\"NON CONFORMANT\") & \" Level A Non-conformance\" & IF(COUNTIF(AW8:AW69,\"NON CONFORMANT\")=1,\"\",\"s\"),\"\") & IF(Statistics!$S4=\"Yes\",\"\n\" & COUNTIF(AW74:AW117,\"NON CONFORMANT\") & \" Level AA Non-conformance\" & IF(COUNTIF(AW74:AW117,\"NON CONFORMANT\")=1,\"\",\"s\"),\"\") & IF(Statistics!$S5=\"Yes\",\"\n\" & COUNTIF(AW122:AW176,\"NON CONFORMANT\") & \" Level AAA Non-conformance\" & IF(COUNTIF(AW122:AW176,\"NON CONFORMANT\")=1,\"\",\"s\"),\"\")","v":"0 Level A Non-conformances\n0 Level AA Non-conformances"},{"$f":"IF(Statistics!$S3=\"Yes\",COUNTIF(AX8:AX69,\"NON CONFORMANT\") & \" Level A Non-conformance\" & IF(COUNTIF(AX8:AX69,\"NON CONFORMANT\")=1,\"\",\"s\"),\"\") & IF(Statistics!$S4=\"Yes\",\"\n\" & COUNTIF(AX74:AX117,\"NON CONFORMANT\") & \" Level AA Non-conformance\" & IF(COUNTIF(AX74:AX117,\"NON CONFORMANT\")=1,\"\",\"s\"),\"\") & IF(Statistics!$S5=\"Yes\",\"\n\" & COUNTIF(AX122:AX176,\"NON CONFORMANT\") & \" Level AAA Non-conformance\" & IF(COUNTIF(AX122:AX176,\"NON CONFORMANT\")=1,\"\",\"s\"),\"\")","v":"0 Level A Non-conformances\n0 Level AA Non-conformances"},{"$f":"IF(Statistics!$S3=\"Yes\",COUNTIF(AY8:AY69,\"NON CONFORMANT\") & \" Level A Non-conformance\" & IF(COUNTIF(AY8:AY69,\"NON CONFORMANT\")=1,\"\",\"s\"),\"\") & IF(Statistics!$S4=\"Yes\",\"\n\" & COUNTIF(AY74:AY117,\"NON CONFORMANT\") & \" Level AA Non-conformance\" & IF(COUNTIF(AY74:AY117,\"NON CONFORMANT\")=1,\"\",\"s\"),\"\") & IF(Statistics!$S5=\"Yes\",\"\n\" & COUNTIF(AY122:AY176,\"NON CONFORMANT\") & \" Level AAA Non-conformance\" & IF(COUNTIF(AY122:AY176,\"NON CONFORMANT\")=1,\"\",\"s\"),\"\")","v":"0 Level A Non-conformances\n0 Level AA Non-conformances"},{"$f":"IF(Statistics!$S3=\"Yes\",COUNTIF(AZ8:AZ69,\"NON CONFORMANT\") & \" Level A Non-conformance\" & IF(COUNTIF(AZ8:AZ69,\"NON CONFORMANT\")=1,\"\",\"s\"),\"\") & IF(Statistics!$S4=\"Yes\",\"\n\" & COUNTIF(AZ74:AZ117,\"NON CONFORMANT\") & \" Level AA Non-conformance\" & IF(COUNTIF(AZ74:AZ117,\"NON CONFORMANT\")=1,\"\",\"s\"),\"\") & IF(Statistics!$S5=\"Yes\",\"\n\" & COUNTIF(AZ122:AZ176,\"NON CONFORMANT\") & \" Level AAA Non-conformance\" & IF(COUNTIF(AZ122:AZ176,\"NON CONFORMANT\")=1,\"\",\"s\"),\"\")","v":"0 Level A Non-conformances\n0 Level AA Non-conformances"},{"$f":"IF(Statistics!$S3=\"Yes\",COUNTIF(BA8:BA69,\"NON CONFORMANT\") & \" Level A Non-conformance\" & IF(COUNTIF(BA8:BA69,\"NON CONFORMANT\")=1,\"\",\"s\"),\"\") & IF(Statistics!$S4=\"Yes\",\"\n\" & COUNTIF(BA74:BA117,\"NON CONFORMANT\") & \" Level AA Non-conformance\" & IF(COUNTIF(BA74:BA117,\"NON CONFORMANT\")=1,\"\",\"s\"),\"\") & IF(Statistics!$S5=\"Yes\",\"\n\" & COUNTIF(BA122:BA176,\"NON CONFORMANT\") & \" Level AAA Non-conformance\" & IF(COUNTIF(BA122:BA176,\"NON CONFORMANT\")=1,\"\",\"s\"),\"\")","v":"0 Level A Non-conformances\n0 Level AA Non-conformances"},{"$f":"IF(Statistics!$S3=\"Yes\",COUNTIF(BB8:BB69,\"NON CONFORMANT\") & \" Level A Non-conformance\" & IF(COUNTIF(BB8:BB69,\"NON CONFORMANT\")=1,\"\",\"s\"),\"\") & IF(Statistics!$S4=\"Yes\",\"\n\" & COUNTIF(BB74:BB117,\"NON CONFORMANT\") & \" Level AA Non-conformance\" & IF(COUNTIF(BB74:BB117,\"NON CONFORMANT\")=1,\"\",\"s\"),\"\") & IF(Statistics!$S5=\"Yes\",\"\n\" & COUNTIF(BB122:BB176,\"NON CONFORMANT\") & \" Level AAA Non-conformance\" & IF(COUNTIF(BB122:BB176,\"NON CONFORMANT\")=1,\"\",\"s\"),\"\")","v":"0 Level A Non-conformances\n0 Level AA Non-conformances"},{"$f":"IF(Statistics!$S3=\"Yes\",COUNTIF(BC8:BC69,\"NON CONFORMANT\") & \" Level A Non-conformance\" & IF(COUNTIF(BC8:BC69,\"NON CONFORMANT\")=1,\"\",\"s\"),\"\") & IF(Statistics!$S4=\"Yes\",\"\n\" & COUNTIF(BC74:BC117,\"NON CONFORMANT\") & \" Level AA Non-conformance\" & IF(COUNTIF(BC74:BC117,\"NON CONFORMANT\")=1,\"\",\"s\"),\"\") & IF(Statistics!$S5=\"Yes\",\"\n\" & COUNTIF(BC122:BC176,\"NON CONFORMANT\") & \" Level AAA Non-conformance\" & IF(COUNTIF(BC122:BC176,\"NON CONFORMANT\")=1,\"\",\"s\"),\"\")","v":"0 Level A Non-conformances\n0 Level AA Non-conformances"},{"$f":"IF(Statistics!$S3=\"Yes\",COUNTIF(BD8:BD69,\"NON CONFORMANT\") & \" Level A Non-conformance\" & IF(COUNTIF(BD8:BD69,\"NON CONFORMANT\")=1,\"\",\"s\"),\"\") & IF(Statistics!$S4=\"Yes\",\"\n\" & COUNTIF(BD74:BD117,\"NON CONFORMANT\") & \" Level AA Non-conformance\" & IF(COUNTIF(BD74:BD117,\"NON CONFORMANT\")=1,\"\",\"s\"),\"\") & IF(Statistics!$S5=\"Yes\",\"\n\" & COUNTIF(BD122:BD176,\"NON CONFORMANT\") & \" Level AAA Non-conformance\" & IF(COUNTIF(BD122:BD176,\"NON CONFORMANT\")=1,\"\",\"s\"),\"\")","v":"0 Level A Non-conformances\n0 Level AA Non-conformances"},{"$f":"IF(Statistics!$S3=\"Yes\",COUNTIF(BE8:BE69,\"NON CONFORMANT\") & \" Level A Non-conformance\" & IF(COUNTIF(BE8:BE69,\"NON CONFORMANT\")=1,\"\",\"s\"),\"\") & IF(Statistics!$S4=\"Yes\",\"\n\" & COUNTIF(BE74:BE117,\"NON CONFORMANT\") & \" Level AA Non-conformance\" & IF(COUNTIF(BE74:BE117,\"NON CONFORMANT\")=1,\"\",\"s\"),\"\") & IF(Statistics!$S5=\"Yes\",\"\n\" & COUNTIF(BE122:BE176,\"NON CONFORMANT\") & \" Level AAA Non-conformance\" & IF(COUNTIF(BE122:BE176,\"NON CONFORMANT\")=1,\"\",\"s\"),\"\")","v":"0 Level A Non-conformances\n0 Level AA Non-conformances"},{"$f":"IF(Statistics!$S3=\"Yes\",COUNTIF(BF8:BF69,\"NON CONFORMANT\") & \" Level A Non-conformance\" & IF(COUNTIF(BF8:BF69,\"NON CONFORMANT\")=1,\"\",\"s\"),\"\") & IF(Statistics!$S4=\"Yes\",\"\n\" & COUNTIF(BF74:BF117,\"NON CONFORMANT\") & \" Level AA Non-conformance\" & IF(COUNTIF(BF74:BF117,\"NON CONFORMANT\")=1,\"\",\"s\"),\"\") & IF(Statistics!$S5=\"Yes\",\"\n\" & COUNTIF(BF122:BF176,\"NON CONFORMANT\") & \" Level AAA Non-conformance\" & IF(COUNTIF(BF122:BF176,\"NON CONFORMANT\")=1,\"\",\"s\"),\"\")","v":"0 Level A Non-conformances\n0 Level AA Non-conformances"},{"$f":"IF(Statistics!$S3=\"Yes\",COUNTIF(BG8:BG69,\"NON CONFORMANT\") & \" Level A Non-conformance\" & IF(COUNTIF(BG8:BG69,\"NON CONFORMANT\")=1,\"\",\"s\"),\"\") & IF(Statistics!$S4=\"Yes\",\"\n\" & COUNTIF(BG74:BG117,\"NON CONFORMANT\") & \" Level AA Non-conformance\" & IF(COUNTIF(BG74:BG117,\"NON CONFORMANT\")=1,\"\",\"s\"),\"\") & IF(Statistics!$S5=\"Yes\",\"\n\" & COUNTIF(BG122:BG176,\"NON CONFORMANT\") & \" Level AAA Non-conformance\" & IF(COUNTIF(BG122:BG176,\"NON CONFORMANT\")=1,\"\",\"s\"),\"\")","v":"0 Level A Non-conformances\n0 Level AA Non-conformances"},{"$f":"IF(Statistics!$S3=\"Yes\",COUNTIF(BH8:BH69,\"NON CONFORMANT\") & \" Level A Non-conformance\" & IF(COUNTIF(BH8:BH69,\"NON CONFORMANT\")=1,\"\",\"s\"),\"\") & IF(Statistics!$S4=\"Yes\",\"\n\" & COUNTIF(BH74:BH117,\"NON CONFORMANT\") & \" Level AA Non-conformance\" & IF(COUNTIF(BH74:BH117,\"NON CONFORMANT\")=1,\"\",\"s\"),\"\") & IF(Statistics!$S5=\"Yes\",\"\n\" & COUNTIF(BH122:BH176,\"NON CONFORMANT\") & \" Level AAA Non-conformance\" & IF(COUNTIF(BH122:BH176,\"NON CONFORMANT\")=1,\"\",\"s\"),\"\")","v":"0 Level A Non-conformances\n0 Level AA Non-conformances"},{"$f":"IF(Statistics!$S3=\"Yes\",COUNTIF(BI8:BI69,\"NON CONFORMANT\") & \" Level A Non-conformance\" & IF(COUNTIF(BI8:BI69,\"NON CONFORMANT\")=1,\"\",\"s\"),\"\") & IF(Statistics!$S4=\"Yes\",\"\n\" & COUNTIF(BI74:BI117,\"NON CONFORMANT\") & \" Level AA Non-conformance\" & IF(COUNTIF(BI74:BI117,\"NON CONFORMANT\")=1,\"\",\"s\"),\"\") & IF(Statistics!$S5=\"Yes\",\"\n\" & COUNTIF(BI122:BI176,\"NON CONFORMANT\") & \" Level AAA Non-conformance\" & IF(COUNTIF(BI122:BI176,\"NON CONFORMANT\")=1,\"\",\"s\"),\"\")","v":"0 Level A Non-conformances\n0 Level AA Non-conformances"},{"$f":"IF(Statistics!$S3=\"Yes\",COUNTIF(BJ8:BJ69,\"NON CONFORMANT\") & \" Level A Non-conformance\" & IF(COUNTIF(BJ8:BJ69,\"NON CONFORMANT\")=1,\"\",\"s\"),\"\") & IF(Statistics!$S4=\"Yes\",\"\n\" & COUNTIF(BJ74:BJ117,\"NON CONFORMANT\") & \" Level AA Non-conformance\" & IF(COUNTIF(BJ74:BJ117,\"NON CONFORMANT\")=1,\"\",\"s\"),\"\") & IF(Statistics!$S5=\"Yes\",\"\n\" & COUNTIF(BJ122:BJ176,\"NON CONFORMANT\") & \" Level AAA Non-conformance\" & IF(COUNTIF(BJ122:BJ176,\"NON CONFORMANT\")=1,\"\",\"s\"),\"\")","v":"0 Level A Non-conformances\n0 Level AA Non-conformances"},{"$f":"IF(Statistics!$S3=\"Yes\",COUNTIF(BK8:BK69,\"NON CONFORMANT\") & \" Level A Non-conformance\" & IF(COUNTIF(BK8:BK69,\"NON CONFORMANT\")=1,\"\",\"s\"),\"\") & IF(Statistics!$S4=\"Yes\",\"\n\" & COUNTIF(BK74:BK117,\"NON CONFORMANT\") & \" Level AA Non-conformance\" & IF(COUNTIF(BK74:BK117,\"NON CONFORMANT\")=1,\"\",\"s\"),\"\") & IF(Statistics!$S5=\"Yes\",\"\n\" & COUNTIF(BK122:BK176,\"NON CONFORMANT\") & \" Level AAA Non-conformance\" & IF(COUNTIF(BK122:BK176,\"NON CONFORMANT\")=1,\"\",\"s\"),\"\")","v":"0 Level A Non-conformances\n0 Level AA Non-conformances"},{"$f":"IF(Statistics!$S3=\"Yes\",COUNTIF(BL8:BL69,\"NON CONFORMANT\") & \" Level A Non-conformance\" & IF(COUNTIF(BL8:BL69,\"NON CONFORMANT\")=1,\"\",\"s\"),\"\") & IF(Statistics!$S4=\"Yes\",\"\n\" & COUNTIF(BL74:BL117,\"NON CONFORMANT\") & \" Level AA Non-conformance\" & IF(COUNTIF(BL74:BL117,\"NON CONFORMANT\")=1,\"\",\"s\"),\"\") & IF(Statistics!$S5=\"Yes\",\"\n\" & COUNTIF(BL122:BL176,\"NON CONFORMANT\") & \" Level AAA Non-conformance\" & IF(COUNTIF(BL122:BL176,\"NON CONFORMANT\")=1,\"\",\"s\"),\"\")","v":"0 Level A Non-conformances\n0 Level AA Non-conformances"},{"$f":"IF(Statistics!$S3=\"Yes\",COUNTIF(BM8:BM69,\"NON CONFORMANT\") & \" Level A Non-conformance\" & IF(COUNTIF(BM8:BM69,\"NON CONFORMANT\")=1,\"\",\"s\"),\"\") & IF(Statistics!$S4=\"Yes\",\"\n\" & COUNTIF(BM74:BM117,\"NON CONFORMANT\") & \" Level AA Non-conformance\" & IF(COUNTIF(BM74:BM117,\"NON CONFORMANT\")=1,\"\",\"s\"),\"\") & IF(Statistics!$S5=\"Yes\",\"\n\" & COUNTIF(BM122:BM176,\"NON CONFORMANT\") & \" Level AAA Non-conformance\" & IF(COUNTIF(BM122:BM176,\"NON CONFORMANT\")=1,\"\",\"s\"),\"\")","v":"0 Level A Non-conformances\n0 Level AA Non-conformances"},{"$f":"IF(Statistics!$S3=\"Yes\",COUNTIF(BN8:BN69,\"NON CONFORMANT\") & \" Level A Non-conformance\" & IF(COUNTIF(BN8:BN69,\"NON CONFORMANT\")=1,\"\",\"s\"),\"\") & IF(Statistics!$S4=\"Yes\",\"\n\" & COUNTIF(BN74:BN117,\"NON CONFORMANT\") & \" Level AA Non-conformance\" & IF(COUNTIF(BN74:BN117,\"NON CONFORMANT\")=1,\"\",\"s\"),\"\") & IF(Statistics!$S5=\"Yes\",\"\n\" & COUNTIF(BN122:BN176,\"NON CONFORMANT\") & \" Level AAA Non-conformance\" & IF(COUNTIF(BN122:BN176,\"NON CONFORMANT\")=1,\"\",\"s\"),\"\")","v":"0 Level A Non-conformances\n0 Level AA Non-conformances"},{"$f":"IF(Statistics!$S3=\"Yes\",COUNTIF(BO8:BO69,\"NON CONFORMANT\") & \" Level A Non-conformance\" & IF(COUNTIF(BO8:BO69,\"NON CONFORMANT\")=1,\"\",\"s\"),\"\") & IF(Statistics!$S4=\"Yes\",\"\n\" & COUNTIF(BO74:BO117,\"NON CONFORMANT\") & \" Level AA Non-conformance\" & IF(COUNTIF(BO74:BO117,\"NON CONFORMANT\")=1,\"\",\"s\"),\"\") & IF(Statistics!$S5=\"Yes\",\"\n\" & COUNTIF(BO122:BO176,\"NON CONFORMANT\") & \" Level AAA Non-conformance\" & IF(COUNTIF(BO122:BO176,\"NON CONFORMANT\")=1,\"\",\"s\"),\"\")","v":"0 Level A Non-conformances\n0 Level AA Non-conformances"},{"$f":"IF(Statistics!$S3=\"Yes\",COUNTIF(BP8:BP69,\"NON CONFORMANT\") & \" Level A Non-conformance\" & IF(COUNTIF(BP8:BP69,\"NON CONFORMANT\")=1,\"\",\"s\"),\"\") & IF(Statistics!$S4=\"Yes\",\"\n\" & COUNTIF(BP74:BP117,\"NON CONFORMANT\") & \" Level AA Non-conformance\" & IF(COUNTIF(BP74:BP117,\"NON CONFORMANT\")=1,\"\",\"s\"),\"\") & IF(Statistics!$S5=\"Yes\",\"\n\" & COUNTIF(BP122:BP176,\"NON CONFORMANT\") & \" Level AAA Non-conformance\" & IF(COUNTIF(BP122:BP176,\"NON CONFORMANT\")=1,\"\",\"s\"),\"\")","v":"0 Level A Non-conformances\n0 Level AA Non-conformances"},{"$f":"IF(Statistics!$S3=\"Yes\",COUNTIF(BQ8:BQ69,\"NON CONFORMANT\") & \" Level A Non-conformance\" & IF(COUNTIF(BQ8:BQ69,\"NON CONFORMANT\")=1,\"\",\"s\"),\"\") & IF(Statistics!$S4=\"Yes\",\"\n\" & COUNTIF(BQ74:BQ117,\"NON CONFORMANT\") & \" Level AA Non-conformance\" & IF(COUNTIF(BQ74:BQ117,\"NON CONFORMANT\")=1,\"\",\"s\"),\"\") & IF(Statistics!$S5=\"Yes\",\"\n\" & COUNTIF(BQ122:BQ176,\"NON CONFORMANT\") & \" Level AAA Non-conformance\" & IF(COUNTIF(BQ122:BQ176,\"NON CONFORMANT\")=1,\"\",\"s\"),\"\")","v":"0 Level A Non-conformances\n0 Level AA Non-conformances"},{"$f":"IF(Statistics!$S3=\"Yes\",COUNTIF(BR8:BR69,\"NON CONFORMANT\") & \" Level A Non-conformance\" & IF(COUNTIF(BR8:BR69,\"NON CONFORMANT\")=1,\"\",\"s\"),\"\") & IF(Statistics!$S4=\"Yes\",\"\n\" & COUNTIF(BR74:BR117,\"NON CONFORMANT\") & \" Level AA Non-conformance\" & IF(COUNTIF(BR74:BR117,\"NON CONFORMANT\")=1,\"\",\"s\"),\"\") & IF(Statistics!$S5=\"Yes\",\"\n\" & COUNTIF(BR122:BR176,\"NON CONFORMANT\") & \" Level AAA Non-conformance\" & IF(COUNTIF(BR122:BR176,\"NON CONFORMANT\")=1,\"\",\"s\"),\"\")","v":"0 Level A Non-conformances\n0 Level AA Non-conformances"},{"$f":"IF(Statistics!$S3=\"Yes\",COUNTIF(BS8:BS69,\"NON CONFORMANT\") & \" Level A Non-conformance\" & IF(COUNTIF(BS8:BS69,\"NON CONFORMANT\")=1,\"\",\"s\"),\"\") & IF(Statistics!$S4=\"Yes\",\"\n\" & COUNTIF(BS74:BS117,\"NON CONFORMANT\") & \" Level AA Non-conformance\" & IF(COUNTIF(BS74:BS117,\"NON CONFORMANT\")=1,\"\",\"s\"),\"\") & IF(Statistics!$S5=\"Yes\",\"\n\" & COUNTIF(BS122:BS176,\"NON CONFORMANT\") & \" Level AAA Non-conformance\" & IF(COUNTIF(BS122:BS176,\"NON CONFORMANT\")=1,\"\",\"s\"),\"\")","v":"0 Level A Non-conformances\n0 Level AA Non-conformances"},{"$f":"IF(Statistics!$S3=\"Yes\",COUNTIF(BT8:BT69,\"NON CONFORMANT\") & \" Level A Non-conformance\" & IF(COUNTIF(BT8:BT69,\"NON CONFORMANT\")=1,\"\",\"s\"),\"\") & IF(Statistics!$S4=\"Yes\",\"\n\" & COUNTIF(BT74:BT117,\"NON CONFORMANT\") & \" Level AA Non-conformance\" & IF(COUNTIF(BT74:BT117,\"NON CONFORMANT\")=1,\"\",\"s\"),\"\") & IF(Statistics!$S5=\"Yes\",\"\n\" & COUNTIF(BT122:BT176,\"NON CONFORMANT\") & \" Level AAA Non-conformance\" & IF(COUNTIF(BT122:BT176,\"NON CONFORMANT\")=1,\"\",\"s\"),\"\")","v":"0 Level A Non-conformances\n0 Level AA Non-conformances"},{"$f":"IF(Statistics!$S3=\"Yes\",COUNTIF(BU8:BU69,\"NON CONFORMANT\") & \" Level A Non-conformance\" & IF(COUNTIF(BU8:BU69,\"NON CONFORMANT\")=1,\"\",\"s\"),\"\") & IF(Statistics!$S4=\"Yes\",\"\n\" & COUNTIF(BU74:BU117,\"NON CONFORMANT\") & \" Level AA Non-conformance\" & IF(COUNTIF(BU74:BU117,\"NON CONFORMANT\")=1,\"\",\"s\"),\"\") & IF(Statistics!$S5=\"Yes\",\"\n\" & COUNTIF(BU122:BU176,\"NON CONFORMANT\") & \" Level AAA Non-conformance\" & IF(COUNTIF(BU122:BU176,\"NON CONFORMANT\")=1,\"\",\"s\"),\"\")","v":"0 Level A Non-conformances\n0 Level AA Non-conformances"},{"$f":"IF(Statistics!$S3=\"Yes\",COUNTIF(BV8:BV69,\"NON CONFORMANT\") & \" Level A Non-conformance\" & IF(COUNTIF(BV8:BV69,\"NON CONFORMANT\")=1,\"\",\"s\"),\"\") & IF(Statistics!$S4=\"Yes\",\"\n\" & COUNTIF(BV74:BV117,\"NON CONFORMANT\") & \" Level AA Non-conformance\" & IF(COUNTIF(BV74:BV117,\"NON CONFORMANT\")=1,\"\",\"s\"),\"\") & IF(Statistics!$S5=\"Yes\",\"\n\" & COUNTIF(BV122:BV176,\"NON CONFORMANT\") & \" Level AAA Non-conformance\" & IF(COUNTIF(BV122:BV176,\"NON CONFORMANT\")=1,\"\",\"s\"),\"\")","v":"0 Level A Non-conformances\n0 Level AA Non-conformances"},{"$f":"IF(Statistics!$S3=\"Yes\",COUNTIF(BW8:BW69,\"NON CONFORMANT\") & \" Level A Non-conformance\" & IF(COUNTIF(BW8:BW69,\"NON CONFORMANT\")=1,\"\",\"s\"),\"\") & IF(Statistics!$S4=\"Yes\",\"\n\" & COUNTIF(BW74:BW117,\"NON CONFORMANT\") & \" Level AA Non-conformance\" & IF(COUNTIF(BW74:BW117,\"NON CONFORMANT\")=1,\"\",\"s\"),\"\") & IF(Statistics!$S5=\"Yes\",\"\n\" & COUNTIF(BW122:BW176,\"NON CONFORMANT\") & \" Level AAA Non-conformance\" & IF(COUNTIF(BW122:BW176,\"NON CONFORMANT\")=1,\"\",\"s\"),\"\")","v":"0 Level A Non-conformances\n0 Level AA Non-conformances"},{"$f":"IF(Statistics!$S3=\"Yes\",COUNTIF(BX8:BX69,\"NON CONFORMANT\") & \" Level A Non-conformance\" & IF(COUNTIF(BX8:BX69,\"NON CONFORMANT\")=1,\"\",\"s\"),\"\") & IF(Statistics!$S4=\"Yes\",\"\n\" & COUNTIF(BX74:BX117,\"NON CONFORMANT\") & \" Level AA Non-conformance\" & IF(COUNTIF(BX74:BX117,\"NON CONFORMANT\")=1,\"\",\"s\"),\"\") & IF(Statistics!$S5=\"Yes\",\"\n\" & COUNTIF(BX122:BX176,\"NON CONFORMANT\") & \" Level AAA Non-conformance\" & IF(COUNTIF(BX122:BX176,\"NON CONFORMANT\")=1,\"\",\"s\"),\"\")","v":"0 Level A Non-conformances\n0 Level AA Non-conformances"},{"$f":"IF(Statistics!$S3=\"Yes\",COUNTIF(BY8:BY69,\"NON CONFORMANT\") & \" Level A Non-conformance\" & IF(COUNTIF(BY8:BY69,\"NON CONFORMANT\")=1,\"\",\"s\"),\"\") & IF(Statistics!$S4=\"Yes\",\"\n\" & COUNTIF(BY74:BY117,\"NON CONFORMANT\") & \" Level AA Non-conformance\" & IF(COUNTIF(BY74:BY117,\"NON CONFORMANT\")=1,\"\",\"s\"),\"\") & IF(Statistics!$S5=\"Yes\",\"\n\" & COUNTIF(BY122:BY176,\"NON CONFORMANT\") & \" Level AAA Non-conformance\" & IF(COUNTIF(BY122:BY176,\"NON CONFORMANT\")=1,\"\",\"s\"),\"\")","v":"0 Level A Non-conformances\n0 Level AA Non-conformances"},{"$f":"IF(Statistics!$S3=\"Yes\",COUNTIF(BZ8:BZ69,\"NON CONFORMANT\") & \" Level A Non-conformance\" & IF(COUNTIF(BZ8:BZ69,\"NON CONFORMANT\")=1,\"\",\"s\"),\"\") & IF(Statistics!$S4=\"Yes\",\"\n\" & COUNTIF(BZ74:BZ117,\"NON CONFORMANT\") & \" Level AA Non-conformance\" & IF(COUNTIF(BZ74:BZ117,\"NON CONFORMANT\")=1,\"\",\"s\"),\"\") & IF(Statistics!$S5=\"Yes\",\"\n\" & COUNTIF(BZ122:BZ176,\"NON CONFORMANT\") & \" Level AAA Non-conformance\" & IF(COUNTIF(BZ122:BZ176,\"NON CONFORMANT\")=1,\"\",\"s\"),\"\")","v":"0 Level A Non-conformances\n0 Level AA Non-conformances"},{"$f":"IF(Statistics!$S3=\"Yes\",COUNTIF(CA8:CA69,\"NON CONFORMANT\") & \" Level A Non-conformance\" & IF(COUNTIF(CA8:CA69,\"NON CONFORMANT\")=1,\"\",\"s\"),\"\") & IF(Statistics!$S4=\"Yes\",\"\n\" & COUNTIF(CA74:CA117,\"NON CONFORMANT\") & \" Level AA Non-conformance\" & IF(COUNTIF(CA74:CA117,\"NON CONFORMANT\")=1,\"\",\"s\"),\"\") & IF(Statistics!$S5=\"Yes\",\"\n\" & COUNTIF(CA122:CA176,\"NON CONFORMANT\") & \" Level AAA Non-conformance\" & IF(COUNTIF(CA122:CA176,\"NON CONFORMANT\")=1,\"\",\"s\"),\"\")","v":"0 Level A Non-conformances\n0 Level AA Non-conformances"},{"$f":"IF(Statistics!$S3=\"Yes\",COUNTIF(CB8:CB69,\"NON CONFORMANT\") & \" Level A Non-conformance\" & IF(COUNTIF(CB8:CB69,\"NON CONFORMANT\")=1,\"\",\"s\"),\"\") & IF(Statistics!$S4=\"Yes\",\"\n\" & COUNTIF(CB74:CB117,\"NON CONFORMANT\") & \" Level AA Non-conformance\" & IF(COUNTIF(CB74:CB117,\"NON CONFORMANT\")=1,\"\",\"s\"),\"\") & IF(Statistics!$S5=\"Yes\",\"\n\" & COUNTIF(CB122:CB176,\"NON CONFORMANT\") & \" Level AAA Non-conformance\" & IF(COUNTIF(CB122:CB176,\"NON CONFORMANT\")=1,\"\",\"s\"),\"\")","v":"0 Level A Non-conformances\n0 Level AA Non-conformances"},{"$f":"IF(Statistics!$S3=\"Yes\",COUNTIF(CC8:CC69,\"NON CONFORMANT\") & \" Level A Non-conformance\" & IF(COUNTIF(CC8:CC69,\"NON CONFORMANT\")=1,\"\",\"s\"),\"\") & IF(Statistics!$S4=\"Yes\",\"\n\" & COUNTIF(CC74:CC117,\"NON CONFORMANT\") & \" Level AA Non-conformance\" & IF(COUNTIF(CC74:CC117,\"NON CONFORMANT\")=1,\"\",\"s\"),\"\") & IF(Statistics!$S5=\"Yes\",\"\n\" & COUNTIF(CC122:CC176,\"NON CONFORMANT\") & \" Level AAA Non-conformance\" & IF(COUNTIF(CC122:CC176,\"NON CONFORMANT\")=1,\"\",\"s\"),\"\")","v":"0 Level A Non-conformances\n0 Level AA Non-conformances"},{"$f":"IF(Statistics!$S3=\"Yes\",COUNTIF(CD8:CD69,\"NON CONFORMANT\") & \" Level A Non-conformance\" & IF(COUNTIF(CD8:CD69,\"NON CONFORMANT\")=1,\"\",\"s\"),\"\") & IF(Statistics!$S4=\"Yes\",\"\n\" & COUNTIF(CD74:CD117,\"NON CONFORMANT\") & \" Level AA Non-conformance\" & IF(COUNTIF(CD74:CD117,\"NON CONFORMANT\")=1,\"\",\"s\"),\"\") & IF(Statistics!$S5=\"Yes\",\"\n\" & COUNTIF(CD122:CD176,\"NON CONFORMANT\") & \" Level AAA Non-conformance\" & IF(COUNTIF(CD122:CD176,\"NON CONFORMANT\")=1,\"\",\"s\"),\"\")","v":"0 Level A Non-conformances\n0 Level AA Non-conformances"},{"$f":"IF(Statistics!$S3=\"Yes\",COUNTIF(CE8:CE69,\"NON CONFORMANT\") & \" Level A Non-conformance\" & IF(COUNTIF(CE8:CE69,\"NON CONFORMANT\")=1,\"\",\"s\"),\"\") & IF(Statistics!$S4=\"Yes\",\"\n\" & COUNTIF(CE74:CE117,\"NON CONFORMANT\") & \" Level AA Non-conformance\" & IF(COUNTIF(CE74:CE117,\"NON CONFORMANT\")=1,\"\",\"s\"),\"\") & IF(Statistics!$S5=\"Yes\",\"\n\" & COUNTIF(CE122:CE176,\"NON CONFORMANT\") & \" Level AAA Non-conformance\" & IF(COUNTIF(CE122:CE176,\"NON CONFORMANT\")=1,\"\",\"s\"),\"\")","v":"0 Level A Non-conformances\n0 Level AA Non-conformances"},{"$f":"IF(Statistics!$S3=\"Yes\",COUNTIF(CF8:CF69,\"NON CONFORMANT\") & \" Level A Non-conformance\" & IF(COUNTIF(CF8:CF69,\"NON CONFORMANT\")=1,\"\",\"s\"),\"\") & IF(Statistics!$S4=\"Yes\",\"\n\" & COUNTIF(CF74:CF117,\"NON CONFORMANT\") & \" Level AA Non-conformance\" & IF(COUNTIF(CF74:CF117,\"NON CONFORMANT\")=1,\"\",\"s\"),\"\") & IF(Statistics!$S5=\"Yes\",\"\n\" & COUNTIF(CF122:CF176,\"NON CONFORMANT\") & \" Level AAA Non-conformance\" & IF(COUNTIF(CF122:CF176,\"NON CONFORMANT\")=1,\"\",\"s\"),\"\")","v":"0 Level A Non-conformances\n0 Level AA Non-conformances"},{"$f":"IF(Statistics!$S3=\"Yes\",COUNTIF(CG8:CG69,\"NON CONFORMANT\") & \" Level A Non-conformance\" & IF(COUNTIF(CG8:CG69,\"NON CONFORMANT\")=1,\"\",\"s\"),\"\") & IF(Statistics!$S4=\"Yes\",\"\n\" & COUNTIF(CG74:CG117,\"NON CONFORMANT\") & \" Level AA Non-conformance\" & IF(COUNTIF(CG74:CG117,\"NON CONFORMANT\")=1,\"\",\"s\"),\"\") & IF(Statistics!$S5=\"Yes\",\"\n\" & COUNTIF(CG122:CG176,\"NON CONFORMANT\") & \" Level AAA Non-conformance\" & IF(COUNTIF(CG122:CG176,\"NON CONFORMANT\")=1,\"\",\"s\"),\"\")","v":"0 Level A Non-conformances\n0 Level AA Non-conformances"},{"$f":"IF(Statistics!$S3=\"Yes\",COUNTIF(CH8:CH69,\"NON CONFORMANT\") & \" Level A Non-conformance\" & IF(COUNTIF(CH8:CH69,\"NON CONFORMANT\")=1,\"\",\"s\"),\"\") & IF(Statistics!$S4=\"Yes\",\"\n\" & COUNTIF(CH74:CH117,\"NON CONFORMANT\") & \" Level AA Non-conformance\" & IF(COUNTIF(CH74:CH117,\"NON CONFORMANT\")=1,\"\",\"s\"),\"\") & IF(Statistics!$S5=\"Yes\",\"\n\" & COUNTIF(CH122:CH176,\"NON CONFORMANT\") & \" Level AAA Non-conformance\" & IF(COUNTIF(CH122:CH176,\"NON CONFORMANT\")=1,\"\",\"s\"),\"\")","v":"0 Level A Non-conformances\n0 Level AA Non-conformances"},{"$f":"IF(Statistics!$S3=\"Yes\",COUNTIF(CI8:CI69,\"NON CONFORMANT\") & \" Level A Non-conformance\" & IF(COUNTIF(CI8:CI69,\"NON CONFORMANT\")=1,\"\",\"s\"),\"\") & IF(Statistics!$S4=\"Yes\",\"\n\" & COUNTIF(CI74:CI117,\"NON CONFORMANT\") & \" Level AA Non-conformance\" & IF(COUNTIF(CI74:CI117,\"NON CONFORMANT\")=1,\"\",\"s\"),\"\") & IF(Statistics!$S5=\"Yes\",\"\n\" & COUNTIF(CI122:CI176,\"NON CONFORMANT\") & \" Level AAA Non-conformance\" & IF(COUNTIF(CI122:CI176,\"NON CONFORMANT\")=1,\"\",\"s\"),\"\")","v":"0 Level A Non-conformances\n0 Level AA Non-conformances"},{"$f":"IF(Statistics!$S3=\"Yes\",COUNTIF(CJ8:CJ69,\"NON CONFORMANT\") & \" Level A Non-conformance\" & IF(COUNTIF(CJ8:CJ69,\"NON CONFORMANT\")=1,\"\",\"s\"),\"\") & IF(Statistics!$S4=\"Yes\",\"\n\" & COUNTIF(CJ74:CJ117,\"NON CONFORMANT\") & \" Level AA Non-conformance\" & IF(COUNTIF(CJ74:CJ117,\"NON CONFORMANT\")=1,\"\",\"s\"),\"\") & IF(Statistics!$S5=\"Yes\",\"\n\" & COUNTIF(CJ122:CJ176,\"NON CONFORMANT\") & \" Level AAA Non-conformance\" & IF(COUNTIF(CJ122:CJ176,\"NON CONFORMANT\")=1,\"\",\"s\"),\"\")","v":"0 Level A Non-conformances\n0 Level AA Non-conformances"},{"$f":"IF(Statistics!$S3=\"Yes\",COUNTIF(CK8:CK69,\"NON CONFORMANT\") & \" Level A Non-conformance\" & IF(COUNTIF(CK8:CK69,\"NON CONFORMANT\")=1,\"\",\"s\"),\"\") & IF(Statistics!$S4=\"Yes\",\"\n\" & COUNTIF(CK74:CK117,\"NON CONFORMANT\") & \" Level AA Non-conformance\" & IF(COUNTIF(CK74:CK117,\"NON CONFORMANT\")=1,\"\",\"s\"),\"\") & IF(Statistics!$S5=\"Yes\",\"\n\" & COUNTIF(CK122:CK176,\"NON CONFORMANT\") & \" Level AAA Non-conformance\" & IF(COUNTIF(CK122:CK176,\"NON CONFORMANT\")=1,\"\",\"s\"),\"\")","v":"0 Level A Non-conformances\n0 Level AA Non-conformances"},{"$f":"IF(Statistics!$S3=\"Yes\",COUNTIF(CL8:CL69,\"NON CONFORMANT\") & \" Level A Non-conformance\" & IF(COUNTIF(CL8:CL69,\"NON CONFORMANT\")=1,\"\",\"s\"),\"\") & IF(Statistics!$S4=\"Yes\",\"\n\" & COUNTIF(CL74:CL117,\"NON CONFORMANT\") & \" Level AA Non-conformance\" & IF(COUNTIF(CL74:CL117,\"NON CONFORMANT\")=1,\"\",\"s\"),\"\") & IF(Statistics!$S5=\"Yes\",\"\n\" & COUNTIF(CL122:CL176,\"NON CONFORMANT\") & \" Level AAA Non-conformance\" & IF(COUNTIF(CL122:CL176,\"NON CONFORMANT\")=1,\"\",\"s\"),\"\")","v":"0 Level A Non-conformances\n0 Level AA Non-conformances"},{"$f":"IF(Statistics!$S3=\"Yes\",COUNTIF(CM8:CM69,\"NON CONFORMANT\") & \" Level A Non-conformance\" & IF(COUNTIF(CM8:CM69,\"NON CONFORMANT\")=1,\"\",\"s\"),\"\") & IF(Statistics!$S4=\"Yes\",\"\n\" & COUNTIF(CM74:CM117,\"NON CONFORMANT\") & \" Level AA Non-conformance\" & IF(COUNTIF(CM74:CM117,\"NON CONFORMANT\")=1,\"\",\"s\"),\"\") & IF(Statistics!$S5=\"Yes\",\"\n\" & COUNTIF(CM122:CM176,\"NON CONFORMANT\") & \" Level AAA Non-conformance\" & IF(COUNTIF(CM122:CM176,\"NON CONFORMANT\")=1,\"\",\"s\"),\"\")","v":"0 Level A Non-conformances\n0 Level AA Non-conformances"},{"$f":"IF(Statistics!$S3=\"Yes\",COUNTIF(CN8:CN69,\"NON CONFORMANT\") & \" Level A Non-conformance\" & IF(COUNTIF(CN8:CN69,\"NON CONFORMANT\")=1,\"\",\"s\"),\"\") & IF(Statistics!$S4=\"Yes\",\"\n\" & COUNTIF(CN74:CN117,\"NON CONFORMANT\") & \" Level AA Non-conformance\" & IF(COUNTIF(CN74:CN117,\"NON CONFORMANT\")=1,\"\",\"s\"),\"\") & IF(Statistics!$S5=\"Yes\",\"\n\" & COUNTIF(CN122:CN176,\"NON CONFORMANT\") & \" Level AAA Non-conformance\" & IF(COUNTIF(CN122:CN176,\"NON CONFORMANT\")=1,\"\",\"s\"),\"\")","v":"0 Level A Non-conformances\n0 Level AA Non-conformances"},{"$f":"IF(Statistics!$S3=\"Yes\",COUNTIF(CO8:CO69,\"NON CONFORMANT\") & \" Level A Non-conformance\" & IF(COUNTIF(CO8:CO69,\"NON CONFORMANT\")=1,\"\",\"s\"),\"\") & IF(Statistics!$S4=\"Yes\",\"\n\" & COUNTIF(CO74:CO117,\"NON CONFORMANT\") & \" Level AA Non-conformance\" & IF(COUNTIF(CO74:CO117,\"NON CONFORMANT\")=1,\"\",\"s\"),\"\") & IF(Statistics!$S5=\"Yes\",\"\n\" & COUNTIF(CO122:CO176,\"NON CONFORMANT\") & \" Level AAA Non-conformance\" & IF(COUNTIF(CO122:CO176,\"NON CONFORMANT\")=1,\"\",\"s\"),\"\")","v":"0 Level A Non-conformances\n0 Level AA Non-conformances"},{"$f":"IF(Statistics!$S3=\"Yes\",COUNTIF(CP8:CP69,\"NON CONFORMANT\") & \" Level A Non-conformance\" & IF(COUNTIF(CP8:CP69,\"NON CONFORMANT\")=1,\"\",\"s\"),\"\") & IF(Statistics!$S4=\"Yes\",\"\n\" & COUNTIF(CP74:CP117,\"NON CONFORMANT\") & \" Level AA Non-conformance\" & IF(COUNTIF(CP74:CP117,\"NON CONFORMANT\")=1,\"\",\"s\"),\"\") & IF(Statistics!$S5=\"Yes\",\"\n\" & COUNTIF(CP122:CP176,\"NON CONFORMANT\") & \" Level AAA Non-conformance\" & IF(COUNTIF(CP122:CP176,\"NON CONFORMANT\")=1,\"\",\"s\"),\"\")","v":"0 Level A Non-conformances\n0 Level AA Non-conformances"},{"$f":"IF(Statistics!$S3=\"Yes\",COUNTIF(CQ8:CQ69,\"NON CONFORMANT\") & \" Level A Non-conformance\" & IF(COUNTIF(CQ8:CQ69,\"NON CONFORMANT\")=1,\"\",\"s\"),\"\") & IF(Statistics!$S4=\"Yes\",\"\n\" & COUNTIF(CQ74:CQ117,\"NON CONFORMANT\") & \" Level AA Non-conformance\" & IF(COUNTIF(CQ74:CQ117,\"NON CONFORMANT\")=1,\"\",\"s\"),\"\") & IF(Statistics!$S5=\"Yes\",\"\n\" & COUNTIF(CQ122:CQ176,\"NON CONFORMANT\") & \" Level AAA Non-conformance\" & IF(COUNTIF(CQ122:CQ176,\"NON CONFORMANT\")=1,\"\",\"s\"),\"\")","v":"0 Level A Non-conformances\n0 Level AA Non-conformances"},{"$f":"IF(Statistics!$S3=\"Yes\",COUNTIF(CR8:CR69,\"NON CONFORMANT\") & \" Level A Non-conformance\" & IF(COUNTIF(CR8:CR69,\"NON CONFORMANT\")=1,\"\",\"s\"),\"\") & IF(Statistics!$S4=\"Yes\",\"\n\" & COUNTIF(CR74:CR117,\"NON CONFORMANT\") & \" Level AA Non-conformance\" & IF(COUNTIF(CR74:CR117,\"NON CONFORMANT\")=1,\"\",\"s\"),\"\") & IF(Statistics!$S5=\"Yes\",\"\n\" & COUNTIF(CR122:CR176,\"NON CONFORMANT\") & \" Level AAA Non-conformance\" & IF(COUNTIF(CR122:CR176,\"NON CONFORMANT\")=1,\"\",\"s\"),\"\")","v":"0 Level A Non-conformances\n0 Level AA Non-conformances"},{"$f":"IF(Statistics!$S3=\"Yes\",COUNTIF(CS8:CS69,\"NON CONFORMANT\") & \" Level A Non-conformance\" & IF(COUNTIF(CS8:CS69,\"NON CONFORMANT\")=1,\"\",\"s\"),\"\") & IF(Statistics!$S4=\"Yes\",\"\n\" & COUNTIF(CS74:CS117,\"NON CONFORMANT\") & \" Level AA Non-conformance\" & IF(COUNTIF(CS74:CS117,\"NON CONFORMANT\")=1,\"\",\"s\"),\"\") & IF(Statistics!$S5=\"Yes\",\"\n\" & COUNTIF(CS122:CS176,\"NON CONFORMANT\") & \" Level AAA Non-conformance\" & IF(COUNTIF(CS122:CS176,\"NON CONFORMANT\")=1,\"\",\"s\"),\"\")","v":"0 Level A Non-conformances\n0 Level AA Non-conformances"},{"$f":"IF(Statistics!$S3=\"Yes\",COUNTIF(CT8:CT69,\"NON CONFORMANT\") & \" Level A Non-conformance\" & IF(COUNTIF(CT8:CT69,\"NON CONFORMANT\")=1,\"\",\"s\"),\"\") & IF(Statistics!$S4=\"Yes\",\"\n\" & COUNTIF(CT74:CT117,\"NON CONFORMANT\") & \" Level AA Non-conformance\" & IF(COUNTIF(CT74:CT117,\"NON CONFORMANT\")=1,\"\",\"s\"),\"\") & IF(Statistics!$S5=\"Yes\",\"\n\" & COUNTIF(CT122:CT176,\"NON CONFORMANT\") & \" Level AAA Non-conformance\" & IF(COUNTIF(CT122:CT176,\"NON CONFORMANT\")=1,\"\",\"s\"),\"\")","v":"0 Level A Non-conformances\n0 Level AA Non-conformances"},{"$f":"IF(Statistics!$S3=\"Yes\",COUNTIF(CU8:CU69,\"NON CONFORMANT\") & \" Level A Non-conformance\" & IF(COUNTIF(CU8:CU69,\"NON CONFORMANT\")=1,\"\",\"s\"),\"\") & IF(Statistics!$S4=\"Yes\",\"\n\" & COUNTIF(CU74:CU117,\"NON CONFORMANT\") & \" Level AA Non-conformance\" & IF(COUNTIF(CU74:CU117,\"NON CONFORMANT\")=1,\"\",\"s\"),\"\") & IF(Statistics!$S5=\"Yes\",\"\n\" & COUNTIF(CU122:CU176,\"NON CONFORMANT\") & \" Level AAA Non-conformance\" & IF(COUNTIF(CU122:CU176,\"NON CONFORMANT\")=1,\"\",\"s\"),\"\")","v":"0 Level A Non-conformances\n0 Level AA Non-conformances"},{"$f":"IF(Statistics!$S3=\"Yes\",COUNTIF(CV8:CV69,\"NON CONFORMANT\") & \" Level A Non-conformance\" & IF(COUNTIF(CV8:CV69,\"NON CONFORMANT\")=1,\"\",\"s\"),\"\") & IF(Statistics!$S4=\"Yes\",\"\n\" & COUNTIF(CV74:CV117,\"NON CONFORMANT\") & \" Level AA Non-conformance\" & IF(COUNTIF(CV74:CV117,\"NON CONFORMANT\")=1,\"\",\"s\"),\"\") & IF(Statistics!$S5=\"Yes\",\"\n\" & COUNTIF(CV122:CV176,\"NON CONFORMANT\") & \" Level AAA Non-conformance\" & IF(COUNTIF(CV122:CV176,\"NON CONFORMANT\")=1,\"\",\"s\"),\"\")","v":"0 Level A Non-conformances\n0 Level AA Non-conformances"},{"$f":"IF(Statistics!$S3=\"Yes\",COUNTIF(CW8:CW69,\"NON CONFORMANT\") & \" Level A Non-conformance\" & IF(COUNTIF(CW8:CW69,\"NON CONFORMANT\")=1,\"\",\"s\"),\"\") & IF(Statistics!$S4=\"Yes\",\"\n\" & COUNTIF(CW74:CW117,\"NON CONFORMANT\") & \" Level AA Non-conformance\" & IF(COUNTIF(CW74:CW117,\"NON CONFORMANT\")=1,\"\",\"s\"),\"\") & IF(Statistics!$S5=\"Yes\",\"\n\" & COUNTIF(CW122:CW176,\"NON CONFORMANT\") & \" Level AAA Non-conformance\" & IF(COUNTIF(CW122:CW176,\"NON CONFORMANT\")=1,\"\",\"s\"),\"\")","v":"0 Level A Non-conformances\n0 Level AA Non-conformances"},{"$f":"IF(Statistics!$S3=\"Yes\",COUNTIF(CX8:CX69,\"NON CONFORMANT\") & \" Level A Non-conformance\" & IF(COUNTIF(CX8:CX69,\"NON CONFORMANT\")=1,\"\",\"s\"),\"\") & IF(Statistics!$S4=\"Yes\",\"\n\" & COUNTIF(CX74:CX117,\"NON CONFORMANT\") & \" Level AA Non-conformance\" & IF(COUNTIF(CX74:CX117,\"NON CONFORMANT\")=1,\"\",\"s\"),\"\") & IF(Statistics!$S5=\"Yes\",\"\n\" & COUNTIF(CX122:CX176,\"NON CONFORMANT\") & \" Level AAA Non-conformance\" & IF(COUNTIF(CX122:CX176,\"NON CONFORMANT\")=1,\"\",\"s\"),\"\")","v":"0 Level A Non-conformances\n0 Level AA Non-conformances"},{"$f":"IF(Statistics!$S3=\"Yes\",COUNTIF(CY8:CY69,\"NON CONFORMANT\") & \" Level A Non-conformance\" & IF(COUNTIF(CY8:CY69,\"NON CONFORMANT\")=1,\"\",\"s\"),\"\") & IF(Statistics!$S4=\"Yes\",\"\n\" & COUNTIF(CY74:CY117,\"NON CONFORMANT\") & \" Level AA Non-conformance\" & IF(COUNTIF(CY74:CY117,\"NON CONFORMANT\")=1,\"\",\"s\"),\"\") & IF(Statistics!$S5=\"Yes\",\"\n\" & COUNTIF(CY122:CY176,\"NON CONFORMANT\") & \" Level AAA Non-conformance\" & IF(COUNTIF(CY122:CY176,\"NON CONFORMANT\")=1,\"\",\"s\"),\"\")","v":"0 Level A Non-conformances\n0 Level AA Non-conformances"},{"$f":"IF(Statistics!$S3=\"Yes\",COUNTIF(CZ8:CZ69,\"NON CONFORMANT\") & \" Level A Non-conformance\" & IF(COUNTIF(CZ8:CZ69,\"NON CONFORMANT\")=1,\"\",\"s\"),\"\") & IF(Statistics!$S4=\"Yes\",\"\n\" & COUNTIF(CZ74:CZ117,\"NON CONFORMANT\") & \" Level AA Non-conformance\" & IF(COUNTIF(CZ74:CZ117,\"NON CONFORMANT\")=1,\"\",\"s\"),\"\") & IF(Statistics!$S5=\"Yes\",\"\n\" & COUNTIF(CZ122:CZ176,\"NON CONFORMANT\") & \" Level AAA Non-conformance\" & IF(COUNTIF(CZ122:CZ176,\"NON CONFORMANT\")=1,\"\",\"s\"),\"\")","v":"0 Level A Non-conformances\n0 Level AA Non-conformances"},{"$f":"IF(Statistics!$S3=\"Yes\",COUNTIF(DA8:DA69,\"NON CONFORMANT\") & \" Level A Non-conformance\" & IF(COUNTIF(DA8:DA69,\"NON CONFORMANT\")=1,\"\",\"s\"),\"\") & IF(Statistics!$S4=\"Yes\",\"\n\" & COUNTIF(DA74:DA117,\"NON CONFORMANT\") & \" Level AA Non-conformance\" & IF(COUNTIF(DA74:DA117,\"NON CONFORMANT\")=1,\"\",\"s\"),\"\") & IF(Statistics!$S5=\"Yes\",\"\n\" & COUNTIF(DA122:DA176,\"NON CONFORMANT\") & \" Level AAA Non-conformance\" & IF(COUNTIF(DA122:DA176,\"NON CONFORMANT\")=1,\"\",\"s\"),\"\")","v":"0 Level A Non-conformances\n0 Level AA Non-conformances"},{"$f":"IF(Statistics!$S3=\"Yes\",COUNTIF(DB8:DB69,\"NON CONFORMANT\") & \" Level A Non-conformance\" & IF(COUNTIF(DB8:DB69,\"NON CONFORMANT\")=1,\"\",\"s\"),\"\") & IF(Statistics!$S4=\"Yes\",\"\n\" & COUNTIF(DB74:DB117,\"NON CONFORMANT\") & \" Level AA Non-conformance\" & IF(COUNTIF(DB74:DB117,\"NON CONFORMANT\")=1,\"\",\"s\"),\"\") & IF(Statistics!$S5=\"Yes\",\"\n\" & COUNTIF(DB122:DB176,\"NON CONFORMANT\") & \" Level AAA Non-conformance\" & IF(COUNTIF(DB122:DB176,\"NON CONFORMANT\")=1,\"\",\"s\"),\"\")","v":"0 Level A Non-conformances\n0 Level AA Non-conformances"},{"$f":"IF(Statistics!$S3=\"Yes\",COUNTIF(DC8:DC69,\"NON CONFORMANT\") & \" Level A Non-conformance\" & IF(COUNTIF(DC8:DC69,\"NON CONFORMANT\")=1,\"\",\"s\"),\"\") & IF(Statistics!$S4=\"Yes\",\"\n\" & COUNTIF(DC74:DC117,\"NON CONFORMANT\") & \" Level AA Non-conformance\" & IF(COUNTIF(DC74:DC117,\"NON CONFORMANT\")=1,\"\",\"s\"),\"\") & IF(Statistics!$S5=\"Yes\",\"\n\" & COUNTIF(DC122:DC176,\"NON CONFORMANT\") & \" Level AAA Non-conformance\" & IF(COUNTIF(DC122:DC176,\"NON CONFORMANT\")=1,\"\",\"s\"),\"\")","v":"0 Level A Non-conformances\n0 Level AA Non-conformances"},{"$f":"IF(Statistics!$S3=\"Yes\",COUNTIF(DD8:DD69,\"NON CONFORMANT\") & \" Level A Non-conformance\" & IF(COUNTIF(DD8:DD69,\"NON CONFORMANT\")=1,\"\",\"s\"),\"\") & IF(Statistics!$S4=\"Yes\",\"\n\" & COUNTIF(DD74:DD117,\"NON CONFORMANT\") & \" Level AA Non-conformance\" & IF(COUNTIF(DD74:DD117,\"NON CONFORMANT\")=1,\"\",\"s\"),\"\") & IF(Statistics!$S5=\"Yes\",\"\n\" & COUNTIF(DD122:DD176,\"NON CONFORMANT\") & \" Level AAA Non-conformance\" & IF(COUNTIF(DD122:DD176,\"NON CONFORMANT\")=1,\"\",\"s\"),\"\")","v":"0 Level A Non-conformances\n0 Level AA Non-conformances"},{"$f":"IF(Statistics!$S3=\"Yes\",COUNTIF(DE8:DE69,\"NON CONFORMANT\") & \" Level A Non-conformance\" & IF(COUNTIF(DE8:DE69,\"NON CONFORMANT\")=1,\"\",\"s\"),\"\") & IF(Statistics!$S4=\"Yes\",\"\n\" & COUNTIF(DE74:DE117,\"NON CONFORMANT\") & \" Level AA Non-conformance\" & IF(COUNTIF(DE74:DE117,\"NON CONFORMANT\")=1,\"\",\"s\"),\"\") & IF(Statistics!$S5=\"Yes\",\"\n\" & COUNTIF(DE122:DE176,\"NON CONFORMANT\") & \" Level AAA Non-conformance\" & IF(COUNTIF(DE122:DE176,\"NON CONFORMANT\")=1,\"\",\"s\"),\"\")","v":"0 Level A Non-conformances\n0 Level AA Non-conformances"},{"$f":"IF(Statistics!$S3=\"Yes\",COUNTIF(DF8:DF69,\"NON CONFORMANT\") & \" Level A Non-conformance\" & IF(COUNTIF(DF8:DF69,\"NON CONFORMANT\")=1,\"\",\"s\"),\"\") & IF(Statistics!$S4=\"Yes\",\"\n\" & COUNTIF(DF74:DF117,\"NON CONFORMANT\") & \" Level AA Non-conformance\" & IF(COUNTIF(DF74:DF117,\"NON CONFORMANT\")=1,\"\",\"s\"),\"\") & IF(Statistics!$S5=\"Yes\",\"\n\" & COUNTIF(DF122:DF176,\"NON CONFORMANT\") & \" Level AAA Non-conformance\" & IF(COUNTIF(DF122:DF176,\"NON CONFORMANT\")=1,\"\",\"s\"),\"\")","v":"0 Level A Non-conformances\n0 Level AA Non-conformances"},{"$f":"IF(Statistics!$S3=\"Yes\",COUNTIF(DG8:DG69,\"NON CONFORMANT\") & \" Level A Non-conformance\" & IF(COUNTIF(DG8:DG69,\"NON CONFORMANT\")=1,\"\",\"s\"),\"\") & IF(Statistics!$S4=\"Yes\",\"\n\" & COUNTIF(DG74:DG117,\"NON CONFORMANT\") & \" Level AA Non-conformance\" & IF(COUNTIF(DG74:DG117,\"NON CONFORMANT\")=1,\"\",\"s\"),\"\") & IF(Statistics!$S5=\"Yes\",\"\n\" & COUNTIF(DG122:DG176,\"NON CONFORMANT\") & \" Level AAA Non-conformance\" & IF(COUNTIF(DG122:DG176,\"NON CONFORMANT\")=1,\"\",\"s\"),\"\")","v":"0 Level A Non-conformances\n0 Level AA Non-conformances"},{"$f":"IF(Statistics!$S3=\"Yes\",COUNTIF(DH8:DH69,\"NON CONFORMANT\") & \" Level A Non-conformance\" & IF(COUNTIF(DH8:DH69,\"NON CONFORMANT\")=1,\"\",\"s\"),\"\") & IF(Statistics!$S4=\"Yes\",\"\n\" & COUNTIF(DH74:DH117,\"NON CONFORMANT\") & \" Level AA Non-conformance\" & IF(COUNTIF(DH74:DH117,\"NON CONFORMANT\")=1,\"\",\"s\"),\"\") & IF(Statistics!$S5=\"Yes\",\"\n\" & COUNTIF(DH122:DH176,\"NON CONFORMANT\") & \" Level AAA Non-conformance\" & IF(COUNTIF(DH122:DH176,\"NON CONFORMANT\")=1,\"\",\"s\"),\"\")","v":"0 Level A Non-conformances\n0 Level AA Non-conformances"},{"$f":"IF(Statistics!$S3=\"Yes\",COUNTIF(DI8:DI69,\"NON CONFORMANT\") & \" Level A Non-conformance\" & IF(COUNTIF(DI8:DI69,\"NON CONFORMANT\")=1,\"\",\"s\"),\"\") & IF(Statistics!$S4=\"Yes\",\"\n\" & COUNTIF(DI74:DI117,\"NON CONFORMANT\") & \" Level AA Non-conformance\" & IF(COUNTIF(DI74:DI117,\"NON CONFORMANT\")=1,\"\",\"s\"),\"\") & IF(Statistics!$S5=\"Yes\",\"\n\" & COUNTIF(DI122:DI176,\"NON CONFORMANT\") & \" Level AAA Non-conformance\" & IF(COUNTIF(DI122:DI176,\"NON CONFORMANT\")=1,\"\",\"s\"),\"\")","v":"0 Level A Non-conformances\n0 Level AA Non-conformances"},{"$f":"IF(Statistics!$S3=\"Yes\",COUNTIF(DJ8:DJ69,\"NON CONFORMANT\") & \" Level A Non-conformance\" & IF(COUNTIF(DJ8:DJ69,\"NON CONFORMANT\")=1,\"\",\"s\"),\"\") & IF(Statistics!$S4=\"Yes\",\"\n\" & COUNTIF(DJ74:DJ117,\"NON CONFORMANT\") & \" Level AA Non-conformance\" & IF(COUNTIF(DJ74:DJ117,\"NON CONFORMANT\")=1,\"\",\"s\"),\"\") & IF(Statistics!$S5=\"Yes\",\"\n\" & COUNTIF(DJ122:DJ176,\"NON CONFORMANT\") & \" Level AAA Non-conformance\" & IF(COUNTIF(DJ122:DJ176,\"NON CONFORMANT\")=1,\"\",\"s\"),\"\")","v":"0 Level A Non-conformances\n0 Level AA Non-conformances"},{"$f":"IF(Statistics!$S3=\"Yes\",COUNTIF(DK8:DK69,\"NON CONFORMANT\") & \" Level A Non-conformance\" & IF(COUNTIF(DK8:DK69,\"NON CONFORMANT\")=1,\"\",\"s\"),\"\") & IF(Statistics!$S4=\"Yes\",\"\n\" & COUNTIF(DK74:DK117,\"NON CONFORMANT\") & \" Level AA Non-conformance\" & IF(COUNTIF(DK74:DK117,\"NON CONFORMANT\")=1,\"\",\"s\"),\"\") & IF(Statistics!$S5=\"Yes\",\"\n\" & COUNTIF(DK122:DK176,\"NON CONFORMANT\") & \" Level AAA Non-conformance\" & IF(COUNTIF(DK122:DK176,\"NON CONFORMANT\")=1,\"\",\"s\"),\"\")","v":"0 Level A Non-conformances\n0 Level AA Non-conformances"},{"$f":"IF(Statistics!$S3=\"Yes\",COUNTIF(DL8:DL69,\"NON CONFORMANT\") & \" Level A Non-conformance\" & IF(COUNTIF(DL8:DL69,\"NON CONFORMANT\")=1,\"\",\"s\"),\"\") & IF(Statistics!$S4=\"Yes\",\"\n\" & COUNTIF(DL74:DL117,\"NON CONFORMANT\") & \" Level AA Non-conformance\" & IF(COUNTIF(DL74:DL117,\"NON CONFORMANT\")=1,\"\",\"s\"),\"\") & IF(Statistics!$S5=\"Yes\",\"\n\" & COUNTIF(DL122:DL176,\"NON CONFORMANT\") & \" Level AAA Non-conformance\" & IF(COUNTIF(DL122:DL176,\"NON CONFORMANT\")=1,\"\",\"s\"),\"\")","v":"0 Level A Non-conformances\n0 Level AA Non-conformances"},{"$f":"IF(Statistics!$S3=\"Yes\",COUNTIF(DM8:DM69,\"NON CONFORMANT\") & \" Level A Non-conformance\" & IF(COUNTIF(DM8:DM69,\"NON CONFORMANT\")=1,\"\",\"s\"),\"\") & IF(Statistics!$S4=\"Yes\",\"\n\" & COUNTIF(DM74:DM117,\"NON CONFORMANT\") & \" Level AA Non-conformance\" & IF(COUNTIF(DM74:DM117,\"NON CONFORMANT\")=1,\"\",\"s\"),\"\") & IF(Statistics!$S5=\"Yes\",\"\n\" & COUNTIF(DM122:DM176,\"NON CONFORMANT\") & \" Level AAA Non-conformance\" & IF(COUNTIF(DM122:DM176,\"NON CONFORMANT\")=1,\"\",\"s\"),\"\")","v":"0 Level A Non-conformances\n0 Level AA Non-conformances"},{"$f":"IF(Statistics!$S3=\"Yes\",COUNTIF(DN8:DN69,\"NON CONFORMANT\") & \" Level A Non-conformance\" & IF(COUNTIF(DN8:DN69,\"NON CONFORMANT\")=1,\"\",\"s\"),\"\") & IF(Statistics!$S4=\"Yes\",\"\n\" & COUNTIF(DN74:DN117,\"NON CONFORMANT\") & \" Level AA Non-conformance\" & IF(COUNTIF(DN74:DN117,\"NON CONFORMANT\")=1,\"\",\"s\"),\"\") & IF(Statistics!$S5=\"Yes\",\"\n\" & COUNTIF(DN122:DN176,\"NON CONFORMANT\") & \" Level AAA Non-conformance\" & IF(COUNTIF(DN122:DN176,\"NON CONFORMANT\")=1,\"\",\"s\"),\"\")","v":"0 Level A Non-conformances\n0 Level AA Non-conformances"},{"$f":"IF(Statistics!$S3=\"Yes\",COUNTIF(DO8:DO69,\"NON CONFORMANT\") & \" Level A Non-conformance\" & IF(COUNTIF(DO8:DO69,\"NON CONFORMANT\")=1,\"\",\"s\"),\"\") & IF(Statistics!$S4=\"Yes\",\"\n\" & COUNTIF(DO74:DO117,\"NON CONFORMANT\") & \" Level AA Non-conformance\" & IF(COUNTIF(DO74:DO117,\"NON CONFORMANT\")=1,\"\",\"s\"),\"\") & IF(Statistics!$S5=\"Yes\",\"\n\" & COUNTIF(DO122:DO176,\"NON CONFORMANT\") & \" Level AAA Non-conformance\" & IF(COUNTIF(DO122:DO176,\"NON CONFORMANT\")=1,\"\",\"s\"),\"\")","v":"0 Level A Non-conformances\n0 Level AA Non-conformances"},{"$f":"IF(Statistics!$S3=\"Yes\",COUNTIF(DP8:DP69,\"NON CONFORMANT\") & \" Level A Non-conformance\" & IF(COUNTIF(DP8:DP69,\"NON CONFORMANT\")=1,\"\",\"s\"),\"\") & IF(Statistics!$S4=\"Yes\",\"\n\" & COUNTIF(DP74:DP117,\"NON CONFORMANT\") & \" Level AA Non-conformance\" & IF(COUNTIF(DP74:DP117,\"NON CONFORMANT\")=1,\"\",\"s\"),\"\") & IF(Statistics!$S5=\"Yes\",\"\n\" & COUNTIF(DP122:DP176,\"NON CONFORMANT\") & \" Level AAA Non-conformance\" & IF(COUNTIF(DP122:DP176,\"NON CONFORMANT\")=1,\"\",\"s\"),\"\")","v":"0 Level A Non-conformances\n0 Level AA Non-conformances"},{"$f":"IF(Statistics!$S3=\"Yes\",COUNTIF(DQ8:DQ69,\"NON CONFORMANT\") & \" Level A Non-conformance\" & IF(COUNTIF(DQ8:DQ69,\"NON CONFORMANT\")=1,\"\",\"s\"),\"\") & IF(Statistics!$S4=\"Yes\",\"\n\" & COUNTIF(DQ74:DQ117,\"NON CONFORMANT\") & \" Level AA Non-conformance\" & IF(COUNTIF(DQ74:DQ117,\"NON CONFORMANT\")=1,\"\",\"s\"),\"\") & IF(Statistics!$S5=\"Yes\",\"\n\" & COUNTIF(DQ122:DQ176,\"NON CONFORMANT\") & \" Level AAA Non-conformance\" & IF(COUNTIF(DQ122:DQ176,\"NON CONFORMANT\")=1,\"\",\"s\"),\"\")","v":"0 Level A Non-conformances\n0 Level AA Non-conformances"},{"$f":"IF(Statistics!$S3=\"Yes\",COUNTIF(DR8:DR69,\"NON CONFORMANT\") & \" Level A Non-conformance\" & IF(COUNTIF(DR8:DR69,\"NON CONFORMANT\")=1,\"\",\"s\"),\"\") & IF(Statistics!$S4=\"Yes\",\"\n\" & COUNTIF(DR74:DR117,\"NON CONFORMANT\") & \" Level AA Non-conformance\" & IF(COUNTIF(DR74:DR117,\"NON CONFORMANT\")=1,\"\",\"s\"),\"\") & IF(Statistics!$S5=\"Yes\",\"\n\" & COUNTIF(DR122:DR176,\"NON CONFORMANT\") & \" Level AAA Non-conformance\" & IF(COUNTIF(DR122:DR176,\"NON CONFORMANT\")=1,\"\",\"s\"),\"\")","v":"0 Level A Non-conformances\n0 Level AA Non-conformances"},{"$f":"IF(Statistics!$S3=\"Yes\",COUNTIF(DS8:DS69,\"NON CONFORMANT\") & \" Level A Non-conformance\" & IF(COUNTIF(DS8:DS69,\"NON CONFORMANT\")=1,\"\",\"s\"),\"\") & IF(Statistics!$S4=\"Yes\",\"\n\" & COUNTIF(DS74:DS117,\"NON CONFORMANT\") & \" Level AA Non-conformance\" & IF(COUNTIF(DS74:DS117,\"NON CONFORMANT\")=1,\"\",\"s\"),\"\") & IF(Statistics!$S5=\"Yes\",\"\n\" & COUNTIF(DS122:DS176,\"NON CONFORMANT\") & \" Level AAA Non-conformance\" & IF(COUNTIF(DS122:DS176,\"NON CONFORMANT\")=1,\"\",\"s\"),\"\")","v":"0 Level A Non-conformances\n0 Level AA Non-conformances"},{"$f":"IF(Statistics!$S3=\"Yes\",COUNTIF(DT8:DT69,\"NON CONFORMANT\") & \" Level A Non-conformance\" & IF(COUNTIF(DT8:DT69,\"NON CONFORMANT\")=1,\"\",\"s\"),\"\") & IF(Statistics!$S4=\"Yes\",\"\n\" & COUNTIF(DT74:DT117,\"NON CONFORMANT\") & \" Level AA Non-conformance\" & IF(COUNTIF(DT74:DT117,\"NON CONFORMANT\")=1,\"\",\"s\"),\"\") & IF(Statistics!$S5=\"Yes\",\"\n\" & COUNTIF(DT122:DT176,\"NON CONFORMANT\") & \" Level AAA Non-conformance\" & IF(COUNTIF(DT122:DT176,\"NON CONFORMANT\")=1,\"\",\"s\"),\"\")","v":"0 Level A Non-conformances\n0 Level AA Non-conformances"},{"$f":"IF(Statistics!$S3=\"Yes\",COUNTIF(DU8:DU69,\"NON CONFORMANT\") & \" Level A Non-conformance\" & IF(COUNTIF(DU8:DU69,\"NON CONFORMANT\")=1,\"\",\"s\"),\"\") & IF(Statistics!$S4=\"Yes\",\"\n\" & COUNTIF(DU74:DU117,\"NON CONFORMANT\") & \" Level AA Non-conformance\" & IF(COUNTIF(DU74:DU117,\"NON CONFORMANT\")=1,\"\",\"s\"),\"\") & IF(Statistics!$S5=\"Yes\",\"\n\" & COUNTIF(DU122:DU176,\"NON CONFORMANT\") & \" Level AAA Non-conformance\" & IF(COUNTIF(DU122:DU176,\"NON CONFORMANT\")=1,\"\",\"s\"),\"\")","v":"0 Level A Non-conformances\n0 Level AA Non-conformances"},{"$f":"IF(Statistics!$S3=\"Yes\",COUNTIF(DV8:DV69,\"NON CONFORMANT\") & \" Level A Non-conformance\" & IF(COUNTIF(DV8:DV69,\"NON CONFORMANT\")=1,\"\",\"s\"),\"\") & IF(Statistics!$S4=\"Yes\",\"\n\" & COUNTIF(DV74:DV117,\"NON CONFORMANT\") & \" Level AA Non-conformance\" & IF(COUNTIF(DV74:DV117,\"NON CONFORMANT\")=1,\"\",\"s\"),\"\") & IF(Statistics!$S5=\"Yes\",\"\n\" & COUNTIF(DV122:DV176,\"NON CONFORMANT\") & \" Level AAA Non-conformance\" & IF(COUNTIF(DV122:DV176,\"NON CONFORMANT\")=1,\"\",\"s\"),\"\")","v":"0 Level A Non-conformances\n0 Level AA Non-conformances"},{"$f":"IF(Statistics!$S3=\"Yes\",COUNTIF(DW8:DW69,\"NON CONFORMANT\") & \" Level A Non-conformance\" & IF(COUNTIF(DW8:DW69,\"NON CONFORMANT\")=1,\"\",\"s\"),\"\") & IF(Statistics!$S4=\"Yes\",\"\n\" & COUNTIF(DW74:DW117,\"NON CONFORMANT\") & \" Level AA Non-conformance\" & IF(COUNTIF(DW74:DW117,\"NON CONFORMANT\")=1,\"\",\"s\"),\"\") & IF(Statistics!$S5=\"Yes\",\"\n\" & COUNTIF(DW122:DW176,\"NON CONFORMANT\") & \" Level AAA Non-conformance\" & IF(COUNTIF(DW122:DW176,\"NON CONFORMANT\")=1,\"\",\"s\"),\"\")","v":"0 Level A Non-conformances\n0 Level AA Non-conformances"},{"$f":"IF(Statistics!$S3=\"Yes\",COUNTIF(DX8:DX69,\"NON CONFORMANT\") & \" Level A Non-conformance\" & IF(COUNTIF(DX8:DX69,\"NON CONFORMANT\")=1,\"\",\"s\"),\"\") & IF(Statistics!$S4=\"Yes\",\"\n\" & COUNTIF(DX74:DX117,\"NON CONFORMANT\") & \" Level AA Non-conformance\" & IF(COUNTIF(DX74:DX117,\"NON CONFORMANT\")=1,\"\",\"s\"),\"\") & IF(Statistics!$S5=\"Yes\",\"\n\" & COUNTIF(DX122:DX176,\"NON CONFORMANT\") & \" Level AAA Non-conformance\" & IF(COUNTIF(DX122:DX176,\"NON CONFORMANT\")=1,\"\",\"s\"),\"\")","v":"0 Level A Non-conformances\n0 Level AA Non-conformances"},{"$f":"IF(Statistics!$S3=\"Yes\",COUNTIF(DY8:DY69,\"NON CONFORMANT\") & \" Level A Non-conformance\" & IF(COUNTIF(DY8:DY69,\"NON CONFORMANT\")=1,\"\",\"s\"),\"\") & IF(Statistics!$S4=\"Yes\",\"\n\" & COUNTIF(DY74:DY117,\"NON CONFORMANT\") & \" Level AA Non-conformance\" & IF(COUNTIF(DY74:DY117,\"NON CONFORMANT\")=1,\"\",\"s\"),\"\") & IF(Statistics!$S5=\"Yes\",\"\n\" & COUNTIF(DY122:DY176,\"NON CONFORMANT\") & \" Level AAA Non-conformance\" & IF(COUNTIF(DY122:DY176,\"NON CONFORMANT\")=1,\"\",\"s\"),\"\")","v":"0 Level A Non-conformances\n0 Level AA Non-conformances"},{"$f":"IF(Statistics!$S3=\"Yes\",COUNTIF(DZ8:DZ69,\"NON CONFORMANT\") & \" Level A Non-conformance\" & IF(COUNTIF(DZ8:DZ69,\"NON CONFORMANT\")=1,\"\",\"s\"),\"\") & IF(Statistics!$S4=\"Yes\",\"\n\" & COUNTIF(DZ74:DZ117,\"NON CONFORMANT\") & \" Level AA Non-conformance\" & IF(COUNTIF(DZ74:DZ117,\"NON CONFORMANT\")=1,\"\",\"s\"),\"\") & IF(Statistics!$S5=\"Yes\",\"\n\" & COUNTIF(DZ122:DZ176,\"NON CONFORMANT\") & \" Level AAA Non-conformance\" & IF(COUNTIF(DZ122:DZ176,\"NON CONFORMANT\")=1,\"\",\"s\"),\"\")","v":"0 Level A Non-conformances\n0 Level AA Non-conformances"},{"$f":"IF(Statistics!$S3=\"Yes\",COUNTIF(EA8:EA69,\"NON CONFORMANT\") & \" Level A Non-conformance\" & IF(COUNTIF(EA8:EA69,\"NON CONFORMANT\")=1,\"\",\"s\"),\"\") & IF(Statistics!$S4=\"Yes\",\"\n\" & COUNTIF(EA74:EA117,\"NON CONFORMANT\") & \" Level AA Non-conformance\" & IF(COUNTIF(EA74:EA117,\"NON CONFORMANT\")=1,\"\",\"s\"),\"\") & IF(Statistics!$S5=\"Yes\",\"\n\" & COUNTIF(EA122:EA176,\"NON CONFORMANT\") & \" Level AAA Non-conformance\" & IF(COUNTIF(EA122:EA176,\"NON CONFORMANT\")=1,\"\",\"s\"),\"\")","v":"0 Level A Non-conformances\n0 Level AA Non-conformances"},{"$f":"IF(Statistics!$S3=\"Yes\",COUNTIF(EB8:EB69,\"NON CONFORMANT\") & \" Level A Non-conformance\" & IF(COUNTIF(EB8:EB69,\"NON CONFORMANT\")=1,\"\",\"s\"),\"\") & IF(Statistics!$S4=\"Yes\",\"\n\" & COUNTIF(EB74:EB117,\"NON CONFORMANT\") & \" Level AA Non-conformance\" & IF(COUNTIF(EB74:EB117,\"NON CONFORMANT\")=1,\"\",\"s\"),\"\") & IF(Statistics!$S5=\"Yes\",\"\n\" & COUNTIF(EB122:EB176,\"NON CONFORMANT\") & \" Level AAA Non-conformance\" & IF(COUNTIF(EB122:EB176,\"NON CONFORMANT\")=1,\"\",\"s\"),\"\")","v":"0 Level A Non-conformances\n0 Level AA Non-conformances"},{"$f":"IF(Statistics!$S3=\"Yes\",COUNTIF(EC8:EC69,\"NON CONFORMANT\") & \" Level A Non-conformance\" & IF(COUNTIF(EC8:EC69,\"NON CONFORMANT\")=1,\"\",\"s\"),\"\") & IF(Statistics!$S4=\"Yes\",\"\n\" & COUNTIF(EC74:EC117,\"NON CONFORMANT\") & \" Level AA Non-conformance\" & IF(COUNTIF(EC74:EC117,\"NON CONFORMANT\")=1,\"\",\"s\"),\"\") & IF(Statistics!$S5=\"Yes\",\"\n\" & COUNTIF(EC122:EC176,\"NON CONFORMANT\") & \" Level AAA Non-conformance\" & IF(COUNTIF(EC122:EC176,\"NON CONFORMANT\")=1,\"\",\"s\"),\"\")","v":"0 Level A Non-conformances\n0 Level AA Non-conformances"},{"$f":"IF(Statistics!$S3=\"Yes\",COUNTIF(ED8:ED69,\"NON CONFORMANT\") & \" Level A Non-conformance\" & IF(COUNTIF(ED8:ED69,\"NON CONFORMANT\")=1,\"\",\"s\"),\"\") & IF(Statistics!$S4=\"Yes\",\"\n\" & COUNTIF(ED74:ED117,\"NON CONFORMANT\") & \" Level AA Non-conformance\" & IF(COUNTIF(ED74:ED117,\"NON CONFORMANT\")=1,\"\",\"s\"),\"\") & IF(Statistics!$S5=\"Yes\",\"\n\" & COUNTIF(ED122:ED176,\"NON CONFORMANT\") & \" Level AAA Non-conformance\" & IF(COUNTIF(ED122:ED176,\"NON CONFORMANT\")=1,\"\",\"s\"),\"\")","v":"0 Level A Non-conformances\n0 Level AA Non-conformances"},{"$f":"IF(Statistics!$S3=\"Yes\",COUNTIF(EE8:EE69,\"NON CONFORMANT\") & \" Level A Non-conformance\" & IF(COUNTIF(EE8:EE69,\"NON CONFORMANT\")=1,\"\",\"s\"),\"\") & IF(Statistics!$S4=\"Yes\",\"\n\" & COUNTIF(EE74:EE117,\"NON CONFORMANT\") & \" Level AA Non-conformance\" & IF(COUNTIF(EE74:EE117,\"NON CONFORMANT\")=1,\"\",\"s\"),\"\") & IF(Statistics!$S5=\"Yes\",\"\n\" & COUNTIF(EE122:EE176,\"NON CONFORMANT\") & \" Level AAA Non-conformance\" & IF(COUNTIF(EE122:EE176,\"NON CONFORMANT\")=1,\"\",\"s\"),\"\")","v":"0 Level A Non-conformances\n0 Level AA Non-conformances"},{"$f":"IF(Statistics!$S3=\"Yes\",COUNTIF(EF8:EF69,\"NON CONFORMANT\") & \" Level A Non-conformance\" & IF(COUNTIF(EF8:EF69,\"NON CONFORMANT\")=1,\"\",\"s\"),\"\") & IF(Statistics!$S4=\"Yes\",\"\n\" & COUNTIF(EF74:EF117,\"NON CONFORMANT\") & \" Level AA Non-conformance\" & IF(COUNTIF(EF74:EF117,\"NON CONFORMANT\")=1,\"\",\"s\"),\"\") & IF(Statistics!$S5=\"Yes\",\"\n\" & COUNTIF(EF122:EF176,\"NON CONFORMANT\") & \" Level AAA Non-conformance\" & IF(COUNTIF(EF122:EF176,\"NON CONFORMANT\")=1,\"\",\"s\"),\"\")","v":"0 Level A Non-conformances\n0 Level AA Non-conformances"},{"$f":"IF(Statistics!$S3=\"Yes\",COUNTIF(EG8:EG69,\"NON CONFORMANT\") & \" Level A Non-conformance\" & IF(COUNTIF(EG8:EG69,\"NON CONFORMANT\")=1,\"\",\"s\"),\"\") & IF(Statistics!$S4=\"Yes\",\"\n\" & COUNTIF(EG74:EG117,\"NON CONFORMANT\") & \" Level AA Non-conformance\" & IF(COUNTIF(EG74:EG117,\"NON CONFORMANT\")=1,\"\",\"s\"),\"\") & IF(Statistics!$S5=\"Yes\",\"\n\" & COUNTIF(EG122:EG176,\"NON CONFORMANT\") & \" Level AAA Non-conformance\" & IF(COUNTIF(EG122:EG176,\"NON CONFORMANT\")=1,\"\",\"s\"),\"\")","v":"0 Level A Non-conformances\n0 Level AA Non-conformances"},{"$f":"IF(Statistics!$S3=\"Yes\",COUNTIF(EH8:EH69,\"NON CONFORMANT\") & \" Level A Non-conformance\" & IF(COUNTIF(EH8:EH69,\"NON CONFORMANT\")=1,\"\",\"s\"),\"\") & IF(Statistics!$S4=\"Yes\",\"\n\" & COUNTIF(EH74:EH117,\"NON CONFORMANT\") & \" Level AA Non-conformance\" & IF(COUNTIF(EH74:EH117,\"NON CONFORMANT\")=1,\"\",\"s\"),\"\") & IF(Statistics!$S5=\"Yes\",\"\n\" & COUNTIF(EH122:EH176,\"NON CONFORMANT\") & \" Level AAA Non-conformance\" & IF(COUNTIF(EH122:EH176,\"NON CONFORMANT\")=1,\"\",\"s\"),\"\")","v":"0 Level A Non-conformances\n0 Level AA Non-conformances"},{"$f":"IF(Statistics!$S3=\"Yes\",COUNTIF(EI8:EI69,\"NON CONFORMANT\") & \" Level A Non-conformance\" & IF(COUNTIF(EI8:EI69,\"NON CONFORMANT\")=1,\"\",\"s\"),\"\") & IF(Statistics!$S4=\"Yes\",\"\n\" & COUNTIF(EI74:EI117,\"NON CONFORMANT\") & \" Level AA Non-conformance\" & IF(COUNTIF(EI74:EI117,\"NON CONFORMANT\")=1,\"\",\"s\"),\"\") & IF(Statistics!$S5=\"Yes\",\"\n\" & COUNTIF(EI122:EI176,\"NON CONFORMANT\") & \" Level AAA Non-conformance\" & IF(COUNTIF(EI122:EI176,\"NON CONFORMANT\")=1,\"\",\"s\"),\"\")","v":"0 Level A Non-conformances\n0 Level AA Non-conformances"},{"$f":"IF(Statistics!$S3=\"Yes\",COUNTIF(EJ8:EJ69,\"NON CONFORMANT\") & \" Level A Non-conformance\" & IF(COUNTIF(EJ8:EJ69,\"NON CONFORMANT\")=1,\"\",\"s\"),\"\") & IF(Statistics!$S4=\"Yes\",\"\n\" & COUNTIF(EJ74:EJ117,\"NON CONFORMANT\") & \" Level AA Non-conformance\" & IF(COUNTIF(EJ74:EJ117,\"NON CONFORMANT\")=1,\"\",\"s\"),\"\") & IF(Statistics!$S5=\"Yes\",\"\n\" & COUNTIF(EJ122:EJ176,\"NON CONFORMANT\") & \" Level AAA Non-conformance\" & IF(COUNTIF(EJ122:EJ176,\"NON CONFORMANT\")=1,\"\",\"s\"),\"\")","v":"0 Level A Non-conformances\n0 Level AA Non-conformances"},{"$f":"IF(Statistics!$S3=\"Yes\",COUNTIF(EK8:EK69,\"NON CONFORMANT\") & \" Level A Non-conformance\" & IF(COUNTIF(EK8:EK69,\"NON CONFORMANT\")=1,\"\",\"s\"),\"\") & IF(Statistics!$S4=\"Yes\",\"\n\" & COUNTIF(EK74:EK117,\"NON CONFORMANT\") & \" Level AA Non-conformance\" & IF(COUNTIF(EK74:EK117,\"NON CONFORMANT\")=1,\"\",\"s\"),\"\") & IF(Statistics!$S5=\"Yes\",\"\n\" & COUNTIF(EK122:EK176,\"NON CONFORMANT\") & \" Level AAA Non-conformance\" & IF(COUNTIF(EK122:EK176,\"NON CONFORMANT\")=1,\"\",\"s\"),\"\")","v":"0 Level A Non-conformances\n0 Level AA Non-conformances"},{"$f":"IF(Statistics!$S3=\"Yes\",COUNTIF(EL8:EL69,\"NON CONFORMANT\") & \" Level A Non-conformance\" & IF(COUNTIF(EL8:EL69,\"NON CONFORMANT\")=1,\"\",\"s\"),\"\") & IF(Statistics!$S4=\"Yes\",\"\n\" & COUNTIF(EL74:EL117,\"NON CONFORMANT\") & \" Level AA Non-conformance\" & IF(COUNTIF(EL74:EL117,\"NON CONFORMANT\")=1,\"\",\"s\"),\"\") & IF(Statistics!$S5=\"Yes\",\"\n\" & COUNTIF(EL122:EL176,\"NON CONFORMANT\") & \" Level AAA Non-conformance\" & IF(COUNTIF(EL122:EL176,\"NON CONFORMANT\")=1,\"\",\"s\"),\"\")","v":"0 Level A Non-conformances\n0 Level AA Non-conformances"},{"$f":"IF(Statistics!$S3=\"Yes\",COUNTIF(EM8:EM69,\"NON CONFORMANT\") & \" Level A Non-conformance\" & IF(COUNTIF(EM8:EM69,\"NON CONFORMANT\")=1,\"\",\"s\"),\"\") & IF(Statistics!$S4=\"Yes\",\"\n\" & COUNTIF(EM74:EM117,\"NON CONFORMANT\") & \" Level AA Non-conformance\" & IF(COUNTIF(EM74:EM117,\"NON CONFORMANT\")=1,\"\",\"s\"),\"\") & IF(Statistics!$S5=\"Yes\",\"\n\" & COUNTIF(EM122:EM176,\"NON CONFORMANT\") & \" Level AAA Non-conformance\" & IF(COUNTIF(EM122:EM176,\"NON CONFORMANT\")=1,\"\",\"s\"),\"\")","v":"0 Level A Non-conformances\n0 Level AA Non-conformances"},{"$f":"IF(Statistics!$S3=\"Yes\",COUNTIF(EN8:EN69,\"NON CONFORMANT\") & \" Level A Non-conformance\" & IF(COUNTIF(EN8:EN69,\"NON CONFORMANT\")=1,\"\",\"s\"),\"\") & IF(Statistics!$S4=\"Yes\",\"\n\" & COUNTIF(EN74:EN117,\"NON CONFORMANT\") & \" Level AA Non-conformance\" & IF(COUNTIF(EN74:EN117,\"NON CONFORMANT\")=1,\"\",\"s\"),\"\") & IF(Statistics!$S5=\"Yes\",\"\n\" & COUNTIF(EN122:EN176,\"NON CONFORMANT\") & \" Level AAA Non-conformance\" & IF(COUNTIF(EN122:EN176,\"NON CONFORMANT\")=1,\"\",\"s\"),\"\")","v":"0 Level A Non-conformances\n0 Level AA Non-conformances"},{"$f":"IF(Statistics!$S3=\"Yes\",COUNTIF(EO8:EO69,\"NON CONFORMANT\") & \" Level A Non-conformance\" & IF(COUNTIF(EO8:EO69,\"NON CONFORMANT\")=1,\"\",\"s\"),\"\") & IF(Statistics!$S4=\"Yes\",\"\n\" & COUNTIF(EO74:EO117,\"NON CONFORMANT\") & \" Level AA Non-conformance\" & IF(COUNTIF(EO74:EO117,\"NON CONFORMANT\")=1,\"\",\"s\"),\"\") & IF(Statistics!$S5=\"Yes\",\"\n\" & COUNTIF(EO122:EO176,\"NON CONFORMANT\") & \" Level AAA Non-conformance\" & IF(COUNTIF(EO122:EO176,\"NON CONFORMANT\")=1,\"\",\"s\"),\"\")","v":"0 Level A Non-conformances\n0 Level AA Non-conformances"},{"$f":"IF(Statistics!$S3=\"Yes\",COUNTIF(EP8:EP69,\"NON CONFORMANT\") & \" Level A Non-conformance\" & IF(COUNTIF(EP8:EP69,\"NON CONFORMANT\")=1,\"\",\"s\"),\"\") & IF(Statistics!$S4=\"Yes\",\"\n\" & COUNTIF(EP74:EP117,\"NON CONFORMANT\") & \" Level AA Non-conformance\" & IF(COUNTIF(EP74:EP117,\"NON CONFORMANT\")=1,\"\",\"s\"),\"\") & IF(Statistics!$S5=\"Yes\",\"\n\" & COUNTIF(EP122:EP176,\"NON CONFORMANT\") & \" Level AAA Non-conformance\" & IF(COUNTIF(EP122:EP176,\"NON CONFORMANT\")=1,\"\",\"s\"),\"\")","v":"0 Level A Non-conformances\n0 Level AA Non-conformances"},{"$f":"IF(Statistics!$S3=\"Yes\",COUNTIF(EQ8:EQ69,\"NON CONFORMANT\") & \" Level A Non-conformance\" & IF(COUNTIF(EQ8:EQ69,\"NON CONFORMANT\")=1,\"\",\"s\"),\"\") & IF(Statistics!$S4=\"Yes\",\"\n\" & COUNTIF(EQ74:EQ117,\"NON CONFORMANT\") & \" Level AA Non-conformance\" & IF(COUNTIF(EQ74:EQ117,\"NON CONFORMANT\")=1,\"\",\"s\"),\"\") & IF(Statistics!$S5=\"Yes\",\"\n\" & COUNTIF(EQ122:EQ176,\"NON CONFORMANT\") & \" Level AAA Non-conformance\" & IF(COUNTIF(EQ122:EQ176,\"NON CONFORMANT\")=1,\"\",\"s\"),\"\")","v":"0 Level A Non-conformances\n0 Level AA Non-conformances"},{"$f":"IF(Statistics!$S3=\"Yes\",COUNTIF(ER8:ER69,\"NON CONFORMANT\") & \" Level A Non-conformance\" & IF(COUNTIF(ER8:ER69,\"NON CONFORMANT\")=1,\"\",\"s\"),\"\") & IF(Statistics!$S4=\"Yes\",\"\n\" & COUNTIF(ER74:ER117,\"NON CONFORMANT\") & \" Level AA Non-conformance\" & IF(COUNTIF(ER74:ER117,\"NON CONFORMANT\")=1,\"\",\"s\"),\"\") & IF(Statistics!$S5=\"Yes\",\"\n\" & COUNTIF(ER122:ER176,\"NON CONFORMANT\") & \" Level AAA Non-conformance\" & IF(COUNTIF(ER122:ER176,\"NON CONFORMANT\")=1,\"\",\"s\"),\"\")","v":"0 Level A Non-conformances\n0 Level AA Non-conformances"},{"$f":"IF(Statistics!$S3=\"Yes\",COUNTIF(ES8:ES69,\"NON CONFORMANT\") & \" Level A Non-conformance\" & IF(COUNTIF(ES8:ES69,\"NON CONFORMANT\")=1,\"\",\"s\"),\"\") & IF(Statistics!$S4=\"Yes\",\"\n\" & COUNTIF(ES74:ES117,\"NON CONFORMANT\") & \" Level AA Non-conformance\" & IF(COUNTIF(ES74:ES117,\"NON CONFORMANT\")=1,\"\",\"s\"),\"\") & IF(Statistics!$S5=\"Yes\",\"\n\" & COUNTIF(ES122:ES176,\"NON CONFORMANT\") & \" Level AAA Non-conformance\" & IF(COUNTIF(ES122:ES176,\"NON CONFORMANT\")=1,\"\",\"s\"),\"\")","v":"0 Level A Non-conformances\n0 Level AA Non-conformances"},{"$f":"IF(Statistics!$S3=\"Yes\",COUNTIF(ET8:ET69,\"NON CONFORMANT\") & \" Level A Non-conformance\" & IF(COUNTIF(ET8:ET69,\"NON CONFORMANT\")=1,\"\",\"s\"),\"\") & IF(Statistics!$S4=\"Yes\",\"\n\" & COUNTIF(ET74:ET117,\"NON CONFORMANT\") & \" Level AA Non-conformance\" & IF(COUNTIF(ET74:ET117,\"NON CONFORMANT\")=1,\"\",\"s\"),\"\") & IF(Statistics!$S5=\"Yes\",\"\n\" & COUNTIF(ET122:ET176,\"NON CONFORMANT\") & \" Level AAA Non-conformance\" & IF(COUNTIF(ET122:ET176,\"NON CONFORMANT\")=1,\"\",\"s\"),\"\")","v":"0 Level A Non-conformances\n0 Level AA Non-conformances"},{"$f":"IF(Statistics!$S3=\"Yes\",COUNTIF(EU8:EU69,\"NON CONFORMANT\") & \" Level A Non-conformance\" & IF(COUNTIF(EU8:EU69,\"NON CONFORMANT\")=1,\"\",\"s\"),\"\") & IF(Statistics!$S4=\"Yes\",\"\n\" & COUNTIF(EU74:EU117,\"NON CONFORMANT\") & \" Level AA Non-conformance\" & IF(COUNTIF(EU74:EU117,\"NON CONFORMANT\")=1,\"\",\"s\"),\"\") & IF(Statistics!$S5=\"Yes\",\"\n\" & COUNTIF(EU122:EU176,\"NON CONFORMANT\") & \" Level AAA Non-conformance\" & IF(COUNTIF(EU122:EU176,\"NON CONFORMANT\")=1,\"\",\"s\"),\"\")","v":"0 Level A Non-conformances\n0 Level AA Non-conformances"},{"$f":"IF(Statistics!$S3=\"Yes\",COUNTIF(EV8:EV69,\"NON CONFORMANT\") & \" Level A Non-conformance\" & IF(COUNTIF(EV8:EV69,\"NON CONFORMANT\")=1,\"\",\"s\"),\"\") & IF(Statistics!$S4=\"Yes\",\"\n\" & COUNTIF(EV74:EV117,\"NON CONFORMANT\") & \" Level AA Non-conformance\" & IF(COUNTIF(EV74:EV117,\"NON CONFORMANT\")=1,\"\",\"s\"),\"\") & IF(Statistics!$S5=\"Yes\",\"\n\" & COUNTIF(EV122:EV176,\"NON CONFORMANT\") & \" Level AAA Non-conformance\" & IF(COUNTIF(EV122:EV176,\"NON CONFORMANT\")=1,\"\",\"s\"),\"\")","v":"0 Level A Non-conformances\n0 Level AA Non-conformances"},{"$f":"IF(Statistics!$S3=\"Yes\",COUNTIF(EW8:EW69,\"NON CONFORMANT\") & \" Level A Non-conformance\" & IF(COUNTIF(EW8:EW69,\"NON CONFORMANT\")=1,\"\",\"s\"),\"\") & IF(Statistics!$S4=\"Yes\",\"\n\" & COUNTIF(EW74:EW117,\"NON CONFORMANT\") & \" Level AA Non-conformance\" & IF(COUNTIF(EW74:EW117,\"NON CONFORMANT\")=1,\"\",\"s\"),\"\") & IF(Statistics!$S5=\"Yes\",\"\n\" & COUNTIF(EW122:EW176,\"NON CONFORMANT\") & \" Level AAA Non-conformance\" & IF(COUNTIF(EW122:EW176,\"NON CONFORMANT\")=1,\"\",\"s\"),\"\")","v":"0 Level A Non-conformances\n0 Level AA Non-conformances"},{"$f":"IF(Statistics!$S3=\"Yes\",COUNTIF(EX8:EX69,\"NON CONFORMANT\") & \" Level A Non-conformance\" & IF(COUNTIF(EX8:EX69,\"NON CONFORMANT\")=1,\"\",\"s\"),\"\") & IF(Statistics!$S4=\"Yes\",\"\n\" & COUNTIF(EX74:EX117,\"NON CONFORMANT\") & \" Level AA Non-conformance\" & IF(COUNTIF(EX74:EX117,\"NON CONFORMANT\")=1,\"\",\"s\"),\"\") & IF(Statistics!$S5=\"Yes\",\"\n\" & COUNTIF(EX122:EX176,\"NON CONFORMANT\") & \" Level AAA Non-conformance\" & IF(COUNTIF(EX122:EX176,\"NON CONFORMANT\")=1,\"\",\"s\"),\"\")","v":"0 Level A Non-conformances\n0 Level AA Non-conformances"}]
["Level A Success Criteria",null,null,null,{"$f":"HYPERLINK(\"#Screenshots!\"&ADDRESS(1,COLUMN()-4,4),\"View screenshot\")","v":"View screenshot"},{"$f":"HYPERLINK(\"#Screenshots!\"&ADDRESS(1,COLUMN()-4,4),\"View screenshot\")","v":"View screenshot"},"View screenshot","View screenshot","View screenshot","View screenshot","View screenshot","View screenshot","View screenshot","View screenshot","View screenshot","View screenshot","View screenshot","View screenshot","View screenshot","View screenshot","View screenshot","View screenshot","View screenshot","View screenshot","View screenshot","View screenshot","View screenshot","View screenshot","View screenshot","View screenshot","View screenshot","View screenshot","View screenshot","View screenshot","View screenshot","View screenshot","View screenshot","View screenshot","View screenshot","View screenshot","View screenshot","View screenshot","View screenshot","View screenshot","View screenshot","View screenshot","View screenshot","View screenshot","View screenshot","View screenshot","View screenshot","View screenshot","View screenshot","View screenshot","View screenshot","View screenshot","View screenshot","View screenshot","View screenshot","View screenshot","View screenshot","View screenshot","View screenshot","View screenshot","View screenshot","View screenshot","View screenshot","View screenshot","View screenshot",{"$f":"HYPERLINK(\"#Screenshots!\"&ADDRESS(1,COLUMN()-4,4),\"View screenshot\")","v":"View screenshot"},"View screenshot","View screenshot","View screenshot","View screenshot","View screenshot","View screenshot","View screenshot","View screenshot","View screenshot","View screenshot","View screenshot","View screenshot","View screenshot","View screenshot","View screenshot","View screenshot","View screenshot","View screenshot","View screenshot","View screenshot","View screenshot","View screenshot","View screenshot","View screenshot","View screenshot","View screenshot","View screenshot","View screenshot","View screenshot","View screenshot","View screenshot","View screenshot","View screenshot","View screenshot","View screenshot","View screenshot","View screenshot","View screenshot","View screenshot","View screenshot","View screenshot","View screenshot","View screenshot","View screenshot","View screenshot","View screenshot","View screenshot","View screenshot","View screenshot","View screenshot","View screenshot","View screenshot","View screenshot","View screenshot","View screenshot","View screenshot","View screenshot","View screenshot","View screenshot","View screenshot","View screenshot","View screenshot","View screenshot",{"$f":"HYPERLINK(\"#Screenshots!\"&ADDRESS(1,COLUMN()-4,4),\"View screenshot\")","v":"View screenshot"},"View screenshot","View screenshot","View screenshot","View screenshot","View screenshot","View screenshot","View screenshot","View screenshot","View screenshot","View screenshot","View screenshot","View screenshot","View screenshot","View screenshot","View screenshot","View screenshot","View screenshot","View screenshot","View screenshot","View screenshot"]
["W3C Ref.","Level.",null,"Principle 1: Perceivable - Information and user interface components must be presentable to users in ways they can perceive."]
["1.1.1","A","Non-text Content","All non-text content that is presented to the user has a text alternative that serves the equivalent purpose.","PASS","PASS","PASS","PASS","PASS"]
[]
["1.2.1","A","Audio-only and Video-only (Pre-recorded)","For pre-recorded audio-only and pre-recorded video-only media, an alternative for time-based media or an audio track is provided that presents equivalent information. ","N/A","N/A","N/A","N/A","N/A"]
[null,null,null,null,"There is no pre-recorded audio-only and pre-recorded video-only media.","There is no pre-recorded audio-only and pre-recorded video-only media.","There is no pre-recorded audio-only and pre-recorded video-only media.","There is no pre-recorded audio-only and pre-recorded video-only media.","There is no pre-recorded audio-only and pre-recorded video-only media."]
["1.2.2","A","Captions (Pre-recorded)","Captions are provided for all pre-recorded audio content in synchronized media, except when the media is a media alternative for text and is clearly labelled as such. ","N/A","N/A","N/A","N/A","N/A"]
[null,null,null,null,"There is no synchronized media.","There is no synchronized media.","There is no synchronized media.","There is no synchronized media.","There is no synchronized media."]
["1.2.3","A","Audio Description or Media Alternative (Pre-recorded)","An alternative for time-based media or audio description of the pre-recorded video content is provided for synchronized media, except when the media is a media alternative for text and is clearly labelled as such.","N/A","N/A","N/A","N/A","N/A"]
[null,null,null,null,"There is no time-based media or synchronized media.","There is no time-based media or synchronized media.","There is no time-based media or synchronized media.","There is no time-based media or synchronized media.","There is no time-based media or synchronized media."]
["1.3.1","A","Info and Relationships","Information, structure, and relationships conveyed through presentation can be programmatically determined or are available in text.","NON CONFORMANT","NON CONFORMANT","NON CONFORMANT","NON CONFORMANT","NON CONFORMANT"]
[null,null,null,"Fourth Plinth Schools Awards 2022","The phrases \"What's on the Fourth Plinth now\", \"Fourth Plinth winners for 2022 and 2024\", \"Fourth Plinth: past commissions\" and \"Fourth Plinth Schools Awards 2022\" are <h3> headings, but they should be <h2> because they follow an <h1> heading. Alternatively, an <h2> heading could be added before them. DERP-5518\n\nThe sentence \"Subscribe to our newsletter and get the latest cultural news, views, plans, events and opportunities across the capital straight to your inbox every month\" is an <h3> heading, but it should not be a heading at all. It should be a <p> element instead. DERP-5519","The list containing the progress indicator does not have an accessible name to indicate its purpose. The attribute aria-label=\"Progress indicator\" should be added to the <ul> element. DERP-5520\n\nThe form is a single-page application, so the page does not reload when moving from step to step and assistive technologies are unaware that this has happened. An ARIA live region must therefore be added to announce something like \"Step 1 loaded\" when this page has finished loading after being accessed from step 2. DERP-5521\n\nComment: The current step in the progress indicator is conveyed using hidden text. This is ok, but it would be better to remove the hidden text and add the attribute aria-current=\"step\" to the <li> element. DERP-5520","The list containing the progress indicator does not have an accessible name to indicate its purpose. The attribute aria-label=\"Progress indicator\" should be added to the <ul> element. DERP-5520\n\nThe form is a single-page application, so the page does not reload when moving from step to step and assistive technologies are unaware that this has happened. An ARIA live region must therefore be added to announce something like \"Step 2 loaded\" when this page has finished loading after being accessed from step 1. DERP-5521\n\nThe page contains two <fieldset> elements, but they are not appropriate and they should be removed. Their <legend> elements should also be removed. DERP-5522\n\nThe error summary is in a <div role=\"contentinfo\" class=\"page-content\" aria-label=\"Error message\"> element. The role=\"contentinfo\" attribute must be removed because it is not appropriate - it is for footer content. The aria-label=\"Error message\" attribute must be removed because it is not valid on a <div> element and it is redundant because there is an <h2 class=\"visually-hidden\">Error message</h2> element. DERP-5523\n\nWhen creating a group entry, the form contains a <h4>Students</h4> heading. This should be an <h3> heading because it follows an <h2> heading. DERP-5524\n\nWhen entries have been added, they are displayed in a data table that does not have visible column headers. It does have a row of <th> elements that are hidden using \"display:none\". This should be removed and the cells should be set to have a height of 0px. Also, the contents of the headers needs to be corrected. DERP-5525\n\nComment: The current step in the progress indicator is conveyed using hidden text. This is ok, but it would be better to remove the hidden text and add the attribute aria-current=\"step\" to the <li> element. DERP-5520","The list containing the progress indicator does not have an accessible name to indicate its purpose. The attribute aria-label=\"Progress indicator\" should be added to the <ul> element. DERP-5520\n\nThe form is a single-page application, so the page does not reload when moving from step to step and assistive technologies are unaware that this has happened. An ARIA live region must therefore be added to announce something like \"Step 3 loaded\" when this page has finished loading after being accessed from step 2. DERP-5521\n\nComment: The current step in the progress indicator is conveyed using hidden text. This is ok, but it would be better to remove the hidden text and add the attribute aria-current=\"step\" to the <li> element. DERP-5520","The number of search results, such as \"Showing 1-12 of 14 results found\", is in a <header> element, which is not appropriate. This should be changed to a <p> element. DERP-5526"]
["1.3.2","A","Meaningful Sequence","When the sequence in which content is presented affects its meaning, a correct reading sequence can be programmatically determined.","PASS","PASS","PASS","PASS","PASS"]
[]
["1.3.3","A","Sensory Characteristics","Instructions provided for understanding and operating content do not rely solely on sensory characteristics of components such as shape, size, visual location, orientation, or sound. ","PASS","PASS","PASS","PASS","PASS"]
[]
["1.4.1","A","Use of Colour","Colour is not used as the only visual means of conveying information, indicating an action, prompting a response, or distinguishing a visual element.","PASS","PASS","PASS","PASS","PASS"]
[]
["1.4.2","A","Audio Control","If any audio on a Web page plays automatically for more than 3 seconds, either a mechanism is available to pause or stop the audio, or a mechanism is available to control audio volume independently from the overall system volume level. ","N/A","N/A","N/A","N/A","N/A"]
[null,null,null,null,"There is no audio.","There is no audio.","There is no audio.","There is no audio.","There is no audio."]
["W3C Ref.","Level.",null,"Principle 2: Operable - User interface components and navigation must be operable."]
["2.1.1","A","Keyboard Navigation","All functionality of the content is operable through a keyboard interface without requiring specific timings for individual keystrokes, except where the underlying function requires input that depends on the path of the user's movement and not just the endpoints.","PASS","PASS","PASS","PASS","NON CONFORMANT"]
[null,null,null,null,null,null,null,null,"Under the \"Filter results\" heading, the words Borough, School and Prize can be clicked to reveal their comboboxes. However, they do not receive focus so they cannot be operated using keyboard controls. See cell I70 for recommendations. DERP-5527\n\nEach search result contains an image and a heading that can be clicked to launch an overlay. However, they are just in <div> elements with JavaScript event handlers and they do not receive focus so they cannot be operated using keyboard controls. Each <div class=\"popup-gallery cboxElement\"> must be changed to an <a> element. DERP-5528\n\nWhen a link in the search results is clicked, an overlay launches containing a large version of the image. The focus should move into the overlay, but it does not, so the links in the overlay cannot be operated using keyboard controls. DERP-5529\n\nWhen the Close button is operated in the overlay, the focus should return to the link that launched it, but it does not. Instead, the focus moves to the bottom of the page. DERP-5530"]
["2.1.2","A","No Keyboard Trap","If keyboard focus can be moved to a component of the page using a keyboard interface, then focus can be moved away from that component using only a keyboard interface, and, if it requires more than unmodified arrow or tab keys or other standard exit methods, the user is advised of the method for moving focus away.","PASS","PASS","PASS","PASS","PASS"]
[]
["2.1.4","A","Character Key Shortcuts","If a keyboard shortcut is implemented in content using only letter (including upper- and lower-case letters), punctuation, number, or symbol characters, then at least one of the following is true:","PASS","PASS","PASS","PASS","PASS"]
[null,null,null,"\nTurn off: A mechanism is available to turn the shortcut off;\nRemap: A mechanism is available to remap the shortcut to use one or more non-printable keyboard characters (e.g. Ctrl, Alt, etc);\nActive only on focus: The keyboard shortcut for a user interface component is only active when that component has focus."]
["2.2.1","A","Timing Adjustable","For each time limit that is set by the content, at least one of the following is true:","PASS","PASS","PASS","PASS","PASS"]
[null,null,null,"Turn off: The user is allowed to turn off the time limit before encountering it; or\n\nAdjust: The user is allowed to adjust the time limit before encountering it over a wide range that is at least ten times the length of the default setting; or\n\nExtend: The user is warned before time expires and given at least 20 seconds to extend the time limit with a simple action (for example, \"press the space bar\"), and the user is allowed to extend the time limit at least ten times; or\n\nReal-time Exception: The time limit is a required part of a real-time event (for example, an auction), and no alternative to the time limit is possible; or\n\nEssential Exception: The time limit is essential and extending it would invalidate the activity; or\n\n20 Hour Exception: The time limit is longer than 20 hours.","There is no time limit.","There is no time limit.","There is no time limit.","There is no time limit.","There is no time limit."]
["2.2.2","A","Pause, Stop, Hide","For moving, blinking, scrolling, or auto-updating information.","N/A","N/A","N/A","N/A","N/A"]
[null,null,null,null,"There is no moving, blinking, scrolling, or auto-updating information.","There is no moving, blinking, scrolling, or auto-updating information.","There is no moving, blinking, scrolling, or auto-updating information.","There is no moving, blinking, scrolling, or auto-updating information.","There is no moving, blinking, scrolling, or auto-updating information."]
["2.3.1","A","Three Flashes or Below Threshold","Web pages do not contain anything that flashes more than three times in any one second period, or the flash is below the general flash and red flash thresholds.","PASS","PASS","PASS","PASS","PASS"]
[]
["2.4.1","A","Bypass Blocks","A mechanism is available to bypass blocks of content that are repeated on multiple Web pages.","N/A","N/A","N/A","N/A","N/A"]
[null,null,null,null,"The \"skip to content\" link and its target are outside the scope of this project.","The \"skip to content\" link and its target are outside the scope of this project.","The \"skip to content\" link and its target are outside the scope of this project.","The \"skip to content\" link and its target are outside the scope of this project.","The \"skip to content\" link and its target are outside the scope of this project."]
["2.4.2","A","Page Titled","Web pages have titles that describe topic or purpose.","PASS","PASS","NON CONFORMANT","NON CONFORMANT","NON CONFORMANT"]
[null,null,null,null,null,null,"The page title is the same as for step 1. The form is a single-page application, so the page does not reload when moving from step to step. JavaScript must therefore be used to change the <title> element to something like \"Fourth Plinth Schools Awards 2023 submissions form step 2 | London City Hall\". DERP-5532","The page title is the same as for steps 1 and 2. The form is a single-page application, so the page does not reload when moving from step to step. JavaScript must therefore be used to change the <title> element to something like \"Fourth Plinth Schools Awards 2023 submissions form step 3 | London City Hall\". DERP-5532","Page 2 has the same title as page 1. All the results pages should have unique titles. DERP-5533"]
["2.4.3","A","Focus Order","If a Web page can be navigated sequentially and the navigation sequences affect meaning or operation, focusable components receive focus in an order that preserves meaning and operability.","PASS","PASS","PASS","PASS","PASS"]
[]
["2.4.4","A","Link Purpose (In Context)","The purpose of each link can be determined from the link text alone or from the link text together with its programmatically determined link context, except where the purpose of the link would be ambiguous to users in general.","PASS","PASS","PASS","PASS","PASS"]
[]
["2.5.1","A","Pointer Gestures","All functionality that uses multipoint or path-based gestures for operation can be operated with a single pointer without a path-based gesture, unless a multipoint or path-based gesture is essential.","N/A","N/A","N/A","N/A","N/A"]
[null,null,null,null,"No functionality uses multipoint or path-based gestures.","No functionality uses multipoint or path-based gestures.","No functionality uses multipoint or path-based gestures.","No functionality uses multipoint or path-based gestures.","No functionality uses multipoint or path-based gestures."]
["2.5.2","A","Pointer Cancellation","For functionality that can be operated using a single pointer, at least one of the following is true:","PASS","PASS","NON CONFORMANT","PASS","PASS"]
[null,null,null,"\nNo Down-Event: The down-event of the pointer is not used to execute any part of the function;\nAbort or Undo: Completion of the function is on the up-event, and a mechanism is available to abort the function before completion or to undo the function after completion;\nUp Reversal: The up-event reverses any outcome of the preceding down-event;\nEssential: Completing the function on the down-event is essential.\n",null,null,"The down event of the pointer is used for the following:\n1. The \"Remove\" buttons.\n2. The \"Create entry\" button.\n3. The \"Edit entry\" button.\n4. The \"Update entry\" button.\n5. The \"Cancel\" buttons.\n6. The \"Add new entry\" button.\nDERP-5534"]
["2.5.3","A","Label in Name","For user interface components with labels that include text or images of text, the name contains the text that is presented visually.","PASS","PASS","PASS","PASS","NON CONFORMANT"]
[null,null,null,null,null,null,null,null,"In the pagination links, the link for the current page has the attribute aria-label=\"Current page\", so this is the accessible name. However, the visible text label is the page number, which is not in the accessible name. The attribute aria-label=\"Current page\" must be removed. The link already has the attribute aria-current=\"page\", which is sufficient to indicate that it is the current page. The link also has the hidden text \"Current page\", which should also be removed. DERP-5535"]
["2.5.4","A","Motion Actuation","Functionality that can be operated by device motion or user motion can also be operated by user interface components and responding to the motion can be disabled to prevent accidental actuation, except when:","N/A","N/A","N/A","N/A","N/A"]
[null,null,null,"Supported Interface: The motion is used to operate functionality through an accessibility supported interface;\nEssential: The motion is essential for the function and doing so would invalidate the activity.\n","No functionality is operated by device motion or user motion","No functionality is operated by device motion or user motion","No functionality is operated by device motion or user motion","No functionality is operated by device motion or user motion","No functionality is operated by device motion or user motion"]
["W3C Ref.","Level.",null,"Principle 3: Understandable - Information and the operation of user interface must be understandable."]
["3.1.1","A","Language of Page","The default human language of each Web page can be programmatically determined. ","PASS","PASS","PASS","PASS","PASS"]
[]
["3.2.1","A","On Focus","When any component receives focus, it does not initiate a change of context.","PASS","PASS","PASS","PASS","PASS"]
[]
["3.2.2","A","On Input","Changing the setting of any user interface component does not automatically cause a change of context unless the user has been advised of the behaviour before using the component","N/A","PASS","PASS","N/A","N/A"]
[null,null,null,null,"There is no provision for user input.",null,null,"There is no provision for user input.","There is no provision for user input."]
["3.3.1","A","Error Identification","If an input error is automatically detected, the item that is in error is identified and the error is described to the user in text.","N/A","PASS with comments","PASS with comments","N/A","N/A"]
[null,null,null,null,"There is no provision for user input.","If the form is submitted with errors, the errors are described in text in the error summary, which is above the progress indicator. However, the error summary is not visible even though the page automatically scrolls up such that the progress indicator is visible. It needs to scroll up more, so the error summary is visible. There are no error messages next to the form fields, just red borders and a red \"X\" image. DERP-5536","If the form is submitted with errors, the errors are described in text in the error summary, which is above the progress indicator. However, the error summary is not visible even though the page automatically scrolls up such that the progress indicator is visible. It needs to scroll up more, so the error summary is visible. There are no error messages next to the form fields, just red borders and a red \"X\" image. DERP-5536","There is no provision for user input.","There is no provision for user input."]
["3.3.2","A","Labels or Instructions","Labels or instructions are provided when content requires user input.","N/A","PASS","PASS","N/A","N/A"]
[null,null,null,null,"There is no provision for user input.",null,null,"There is no provision for user input.","There is no provision for user input."]
["W3C Ref.","Level.",null,"Guideline 4.1 Compatible: Maximize compatibility with current and future user agents, including assistive technologies."]
["4.1.1","A","Parsing","In content implemented using mark-up languages, elements have complete start and end tags, elements are nested according to their specifications, elements do not contain duplicate attributes, and any IDs are unique, except where the specifications allow these features.","PASS","PASS","PASS","PASS","PASS"]
[null,null,null,"\nThis is tested using the Nu Html Checker at https://validator.w3.org/nu/. The results are then filtered using the bookmarklet at https://github.com/stevefaulkner/wcagparsing/"]
["4.1.2","A","Name, Role, Value","For all user interface components (including but not limited to: form elements, links and components generated by scripts), the name and role can be programmatically determined; states, properties, and values that can be set by the user can be programmatically set; and notification of changes to these items is available to user agents, including assistive technologies. ","PASS","NON CONFORMANT","NON CONFORMANT","PASS","NON CONFORMANT"]
[null,null,null,null,null,"The attributes required=\"required\" and aria-required=\"true\" are present on the two <fieldset> elements, but they are not permitted on these elements, so they must be removed. A radio button is preselected in each <fieldset> element, so there is no need to provide any indication that they are required. DERP-5537\n\nThe first <option> element in each <select> element has the attribute value=\"_none\", which is not permitted. Either the value attribute must be empty, or the <option> element must have no text content. DERP-5538","The first <option> element in each <select> element has the attribute value=\"_none\", which is not permitted. Either the value attribute must be empty, or the <option> element must have no text content. DERP-5538\n\nWhen an image has been added, there is a link that can be used to rotate it. The link's label is the symbol ↻. NVDA screen reader announces this as \"clockwise open circle arrow\", which is the Unicode name for that symbol, but this does not convey the button's purpose. The attribute aria-label=\"rotate image clockwise\" must be added to the <a> element. Also, the attribute role=\"button\" must be added because links should only be used for navigation. DERP-5539",null,"Under the \"Filter results\" heading, the words Borough, School and Prize can be clicked to reveal their comboboxes. However, they are just <label> elements with JavaScript event handlers and they do not have a programmatic role and the expanded / collapsed state is not conveyed programmatically. The best solution would be to remove this functionality and have the comboboxes visible. If the hide / reveal functionality is essential, it must be implemented either using <detail> and <summary> elements or using a <button> element with an \"aria-expanded\" attribute that is set to \"true\" or \"false\" as appropriate. DERP-5527\n\nEach search result contains an image and a heading that can be clicked to launch an overlay. However, they are just in <div> elements with JavaScript event handlers and they do not have a programmatic role. Each <div class=\"popup-gallery cboxElement\"> must be changed to an <a> element. DERP-5528"]
[]
["Level AA Success Criteria"]
["W3C Ref.","Level.",null,"Principle 1: Perceivable - Information and user interface components must be presentable to users in ways they can perceive."]
["1.2.4","AA","Captions","Captions are provided for all live audio content in synchronized media. ","N/A","N/A","N/A","N/A","N/A"]
[null,null,null,null,"There is no synchronized media.","There is no synchronized media.","There is no synchronized media.","There is no synchronized media.","There is no synchronized media."]
["1.2.5","AA","Audio Description (Pre-recorded)","Audio description is provided for all pre-recorded video content in synchronized media.","N/A","N/A","N/A","N/A","N/A"]
[null,null,null,null,"There is no synchronized media.","There is no synchronized media.","There is no synchronized media.","There is no synchronized media.","There is no synchronized media."]
["1.3.4","AA","Orientation","Content does not restrict its view and operation to a single display orientation, such as portrait or landscape, unless a specific display orientation is essential.","PASS","PASS","PASS","PASS","PASS"]
[]
["1.3.5","AA"," Identify Input Purpose","The purpose of each input field collecting information about the user can be programmatically determined when:","N/A","N/A","N/A","N/A","N/A"]
[null,null,null,"\nThe input field serves a purpose identified in the Input Purposes for User Interface Components section; and\nThe content is implemented using technologies with support for identifying the expected meaning for form input data.","There is no provision for user input.","The input fields will not necessarily collect information about the user. It is not possible to tell when they do.","The input fields do not collect information about the user.","There is no provision for user input.","There is no provision for user input."]
["1.4.3","AA","Colour Contrast","The visual presentation of text and images of text has a contrast ratio of at least 4.5:1",{"$f":"IF('Colour Contrast Analysis'!Z4=\"0 Faults\",\"PASS\",\"NON CONFORMANT\")","v":"PASS"},{"$f":"IF('Colour Contrast Analysis'!AA4=\"0 Faults\",\"PASS\",\"NON CONFORMANT\")","v":"NON CONFORMANT"},{"$f":"IF('Colour Contrast Analysis'!AB4=\"0 Faults\",\"PASS\",\"NON CONFORMANT\")","v":"NON CONFORMANT"},{"$f":"IF('Colour Contrast Analysis'!AC4=\"0 Faults\",\"PASS\",\"NON CONFORMANT\")","v":"NON CONFORMANT"},{"$f":"IF('Colour Contrast Analysis'!AD4=\"0 Faults\",\"PASS\",\"NON CONFORMANT\")","v":"PASS"},{"$f":"IF('Colour Contrast Analysis'!AE4=\"0 Faults\",\"PASS\",\"NON CONFORMANT\")","v":"PASS"},{"$f":"IF('Colour Contrast Analysis'!AF4=\"0 Faults\",\"PASS\",\"NON CONFORMANT\")","v":"PASS"},{"$f":"IF('Colour Contrast Analysis'!AG4=\"0 Faults\",\"PASS\",\"NON CONFORMANT\")","v":"PASS"},{"$f":"IF('Colour Contrast Analysis'!AH4=\"0 Faults\",\"PASS\",\"NON CONFORMANT\")","v":"PASS"},{"$f":"IF('Colour Contrast Analysis'!AI4=\"0 Faults\",\"PASS\",\"NON CONFORMANT\")","v":"PASS"},{"$f":"IF('Colour Contrast Analysis'!AJ4=\"0 Faults\",\"PASS\",\"NON CONFORMANT\")","v":"PASS"},{"$f":"IF('Colour Contrast Analysis'!AK4=\"0 Faults\",\"PASS\",\"NON CONFORMANT\")","v":"PASS"},{"$f":"IF('Colour Contrast Analysis'!AL4=\"0 Faults\",\"PASS\",\"NON CONFORMANT\")","v":"PASS"},{"$f":"IF('Colour Contrast Analysis'!AM4=\"0 Faults\",\"PASS\",\"NON CONFORMANT\")","v":"PASS"},{"$f":"IF('Colour Contrast Analysis'!AN4=\"0 Faults\",\"PASS\",\"NON CONFORMANT\")","v":"PASS"},{"$f":"IF('Colour Contrast Analysis'!AO4=\"0 Faults\",\"PASS\",\"NON CONFORMANT\")","v":"PASS"},{"$f":"IF('Colour Contrast Analysis'!AP4=\"0 Faults\",\"PASS\",\"NON CONFORMANT\")","v":"PASS"},{"$f":"IF('Colour Contrast Analysis'!AQ4=\"0 Faults\",\"PASS\",\"NON CONFORMANT\")","v":"PASS"},{"$f":"IF('Colour Contrast Analysis'!AR4=\"0 Faults\",\"PASS\",\"NON CONFORMANT\")","v":"PASS"},{"$f":"IF('Colour Contrast Analysis'!AS4=\"0 Faults\",\"PASS\",\"NON CONFORMANT\")","v":"PASS"},{"$f":"IF('Colour Contrast Analysis'!AT4=\"0 Faults\",\"PASS\",\"NON CONFORMANT\")","v":"PASS"},{"$f":"IF('Colour Contrast Analysis'!AU4=\"0 Faults\",\"PASS\",\"NON CONFORMANT\")","v":"PASS"},{"$f":"IF('Colour Contrast Analysis'!AV4=\"0 Faults\",\"PASS\",\"NON CONFORMANT\")","v":"PASS"},{"$f":"IF('Colour Contrast Analysis'!AW4=\"0 Faults\",\"PASS\",\"NON CONFORMANT\")","v":"PASS"},{"$f":"IF('Colour Contrast Analysis'!AX4=\"0 Faults\",\"PASS\",\"NON CONFORMANT\")","v":"PASS"},{"$f":"IF('Colour Contrast Analysis'!AY4=\"0 Faults\",\"PASS\",\"NON CONFORMANT\")","v":"PASS"},{"$f":"IF('Colour Contrast Analysis'!AZ4=\"0 Faults\",\"PASS\",\"NON CONFORMANT\")","v":"PASS"},{"$f":"IF('Colour Contrast Analysis'!BA4=\"0 Faults\",\"PASS\",\"NON CONFORMANT\")","v":"PASS"},{"$f":"IF('Colour Contrast Analysis'!BB4=\"0 Faults\",\"PASS\",\"NON CONFORMANT\")","v":"PASS"},{"$f":"IF('Colour Contrast Analysis'!BC4=\"0 Faults\",\"PASS\",\"NON CONFORMANT\")","v":"PASS"},{"$f":"IF('Colour Contrast Analysis'!BD4=\"0 Faults\",\"PASS\",\"NON CONFORMANT\")","v":"PASS"},{"$f":"IF('Colour Contrast Analysis'!BE4=\"0 Faults\",\"PASS\",\"NON CONFORMANT\")","v":"PASS"},{"$f":"IF('Colour Contrast Analysis'!BF4=\"0 Faults\",\"PASS\",\"NON CONFORMANT\")","v":"PASS"},{"$f":"IF('Colour Contrast Analysis'!BG4=\"0 Faults\",\"PASS\",\"NON CONFORMANT\")","v":"PASS"},{"$f":"IF('Colour Contrast Analysis'!BH4=\"0 Faults\",\"PASS\",\"NON CONFORMANT\")","v":"PASS"},{"$f":"IF('Colour Contrast Analysis'!BI4=\"0 Faults\",\"PASS\",\"NON CONFORMANT\")","v":"PASS"},{"$f":"IF('Colour Contrast Analysis'!BJ4=\"0 Faults\",\"PASS\",\"NON CONFORMANT\")","v":"PASS"},{"$f":"IF('Colour Contrast Analysis'!BK4=\"0 Faults\",\"PASS\",\"NON CONFORMANT\")","v":"PASS"},{"$f":"IF('Colour Contrast Analysis'!BL4=\"0 Faults\",\"PASS\",\"NON CONFORMANT\")","v":"PASS"},{"$f":"IF('Colour Contrast Analysis'!BM4=\"0 Faults\",\"PASS\",\"NON CONFORMANT\")","v":"PASS"},{"$f":"IF('Colour Contrast Analysis'!BN4=\"0 Faults\",\"PASS\",\"NON CONFORMANT\")","v":"PASS"},{"$f":"IF('Colour Contrast Analysis'!BO4=\"0 Faults\",\"PASS\",\"NON CONFORMANT\")","v":"PASS"},{"$f":"IF('Colour Contrast Analysis'!BP4=\"0 Faults\",\"PASS\",\"NON CONFORMANT\")","v":"PASS"},{"$f":"IF('Colour Contrast Analysis'!BQ4=\"0 Faults\",\"PASS\",\"NON CONFORMANT\")","v":"PASS"},{"$f":"IF('Colour Contrast Analysis'!BR4=\"0 Faults\",\"PASS\",\"NON CONFORMANT\")","v":"PASS"},{"$f":"IF('Colour Contrast Analysis'!BS4=\"0 Faults\",\"PASS\",\"NON CONFORMANT\")","v":"PASS"},{"$f":"IF('Colour Contrast Analysis'!BT4=\"0 Faults\",\"PASS\",\"NON CONFORMANT\")","v":"PASS"},{"$f":"IF('Colour Contrast Analysis'!BU4=\"0 Faults\",\"PASS\",\"NON CONFORMANT\")","v":"PASS"},{"$f":"IF('Colour Contrast Analysis'!BV4=\"0 Faults\",\"PASS\",\"NON CONFORMANT\")","v":"PASS"},{"$f":"IF('Colour Contrast Analysis'!BW4=\"0 Faults\",\"PASS\",\"NON CONFORMANT\")","v":"PASS"},{"$f":"IF('Colour Contrast Analysis'!BX4=\"0 Faults\",\"PASS\",\"NON CONFORMANT\")","v":"PASS"},{"$f":"IF('Colour Contrast Analysis'!BY4=\"0 Faults\",\"PASS\",\"NON CONFORMANT\")","v":"PASS"},{"$f":"IF('Colour Contrast Analysis'!BZ4=\"0 Faults\",\"PASS\",\"NON CONFORMANT\")","v":"PASS"},{"$f":"IF('Colour Contrast Analysis'!CA4=\"0 Faults\",\"PASS\",\"NON CONFORMANT\")","v":"PASS"},{"$f":"IF('Colour Contrast Analysis'!CB4=\"0 Faults\",\"PASS\",\"NON CONFORMANT\")","v":"PASS"},{"$f":"IF('Colour Contrast Analysis'!CC4=\"0 Faults\",\"PASS\",\"NON CONFORMANT\")","v":"PASS"},{"$f":"IF('Colour Contrast Analysis'!CD4=\"0 Faults\",\"PASS\",\"NON CONFORMANT\")","v":"PASS"},{"$f":"IF('Colour Contrast Analysis'!CE4=\"0 Faults\",\"PASS\",\"NON CONFORMANT\")","v":"PASS"},{"$f":"IF('Colour Contrast Analysis'!CF4=\"0 Faults\",\"PASS\",\"NON CONFORMANT\")","v":"PASS"},{"$f":"IF('Colour Contrast Analysis'!CG4=\"0 Faults\",\"PASS\",\"NON CONFORMANT\")","v":"PASS"},{"$f":"IF('Colour Contrast Analysis'!CH4=\"0 Faults\",\"PASS\",\"NON CONFORMANT\")","v":"PASS"},{"$f":"IF('Colour Contrast Analysis'!CI4=\"0 Faults\",\"PASS\",\"NON CONFORMANT\")","v":"PASS"},{"$f":"IF('Colour Contrast Analysis'!CJ4=\"0 Faults\",\"PASS\",\"NON CONFORMANT\")","v":"PASS"},{"$f":"IF('Colour Contrast Analysis'!CK4=\"0 Faults\",\"PASS\",\"NON CONFORMANT\")","v":"PASS"},{"$f":"IF('Colour Contrast Analysis'!CL4=\"0 Faults\",\"PASS\",\"NON CONFORMANT\")","v":"PASS"},{"$f":"IF('Colour Contrast Analysis'!CM4=\"0 Faults\",\"PASS\",\"NON CONFORMANT\")","v":"PASS"},{"$f":"IF('Colour Contrast Analysis'!CN4=\"0 Faults\",\"PASS\",\"NON CONFORMANT\")","v":"PASS"},{"$f":"IF('Colour Contrast Analysis'!CO4=\"0 Faults\",\"PASS\",\"NON CONFORMANT\")","v":"PASS"},{"$f":"IF('Colour Contrast Analysis'!CP4=\"0 Faults\",\"PASS\",\"NON CONFORMANT\")","v":"PASS"},{"$f":"IF('Colour Contrast Analysis'!CQ4=\"0 Faults\",\"PASS\",\"NON CONFORMANT\")","v":"PASS"},{"$f":"IF('Colour Contrast Analysis'!CR4=\"0 Faults\",\"PASS\",\"NON CONFORMANT\")","v":"PASS"},{"$f":"IF('Colour Contrast Analysis'!CS4=\"0 Faults\",\"PASS\",\"NON CONFORMANT\")","v":"PASS"},{"$f":"IF('Colour Contrast Analysis'!CT4=\"0 Faults\",\"PASS\",\"NON CONFORMANT\")","v":"PASS"},{"$f":"IF('Colour Contrast Analysis'!CU4=\"0 Faults\",\"PASS\",\"NON CONFORMANT\")","v":"PASS"},{"$f":"IF('Colour Contrast Analysis'!CV4=\"0 Faults\",\"PASS\",\"NON CONFORMANT\")","v":"PASS"},{"$f":"IF('Colour Contrast Analysis'!CW4=\"0 Faults\",\"PASS\",\"NON CONFORMANT\")","v":"PASS"},{"$f":"IF('Colour Contrast Analysis'!CX4=\"0 Faults\",\"PASS\",\"NON CONFORMANT\")","v":"PASS"},{"$f":"IF('Colour Contrast Analysis'!CY4=\"0 Faults\",\"PASS\",\"NON CONFORMANT\")","v":"PASS"},{"$f":"IF('Colour Contrast Analysis'!CZ4=\"0 Faults\",\"PASS\",\"NON CONFORMANT\")","v":"PASS"},{"$f":"IF('Colour Contrast Analysis'!DA4=\"0 Faults\",\"PASS\",\"NON CONFORMANT\")","v":"PASS"},{"$f":"IF('Colour Contrast Analysis'!DB4=\"0 Faults\",\"PASS\",\"NON CONFORMANT\")","v":"PASS"},{"$f":"IF('Colour Contrast Analysis'!DC4=\"0 Faults\",\"PASS\",\"NON CONFORMANT\")","v":"PASS"},{"$f":"IF('Colour Contrast Analysis'!DD4=\"0 Faults\",\"PASS\",\"NON CONFORMANT\")","v":"PASS"},{"$f":"IF('Colour Contrast Analysis'!DE4=\"0 Faults\",\"PASS\",\"NON CONFORMANT\")","v":"PASS"},{"$f":"IF('Colour Contrast Analysis'!DF4=\"0 Faults\",\"PASS\",\"NON CONFORMANT\")","v":"PASS"},{"$f":"IF('Colour Contrast Analysis'!DG4=\"0 Faults\",\"PASS\",\"NON CONFORMANT\")","v":"PASS"},{"$f":"IF('Colour Contrast Analysis'!DH4=\"0 Faults\",\"PASS\",\"NON CONFORMANT\")","v":"PASS"},{"$f":"IF('Colour Contrast Analysis'!DI4=\"0 Faults\",\"PASS\",\"NON CONFORMANT\")","v":"PASS"},{"$f":"IF('Colour Contrast Analysis'!DJ4=\"0 Faults\",\"PASS\",\"NON CONFORMANT\")","v":"PASS"},{"$f":"IF('Colour Contrast Analysis'!DK4=\"0 Faults\",\"PASS\",\"NON CONFORMANT\")","v":"PASS"},{"$f":"IF('Colour Contrast Analysis'!DL4=\"0 Faults\",\"PASS\",\"NON CONFORMANT\")","v":"PASS"},{"$f":"IF('Colour Contrast Analysis'!DM4=\"0 Faults\",\"PASS\",\"NON CONFORMANT\")","v":"PASS"},{"$f":"IF('Colour Contrast Analysis'!DN4=\"0 Faults\",\"PASS\",\"NON CONFORMANT\")","v":"PASS"},{"$f":"IF('Colour Contrast Analysis'!DO4=\"0 Faults\",\"PASS\",\"NON CONFORMANT\")","v":"PASS"},{"$f":"IF('Colour Contrast Analysis'!DP4=\"0 Faults\",\"PASS\",\"NON CONFORMANT\")","v":"PASS"},{"$f":"IF('Colour Contrast Analysis'!DQ4=\"0 Faults\",\"PASS\",\"NON CONFORMANT\")","v":"PASS"},{"$f":"IF('Colour Contrast Analysis'!DR4=\"0 Faults\",\"PASS\",\"NON CONFORMANT\")","v":"PASS"},{"$f":"IF('Colour Contrast Analysis'!DS4=\"0 Faults\",\"PASS\",\"NON CONFORMANT\")","v":"PASS"},{"$f":"IF('Colour Contrast Analysis'!DT4=\"0 Faults\",\"PASS\",\"NON CONFORMANT\")","v":"PASS"},{"$f":"IF('Colour Contrast Analysis'!DU4=\"0 Faults\",\"PASS\",\"NON CONFORMANT\")","v":"PASS"},{"$f":"IF('Colour Contrast Analysis'!DV4=\"0 Faults\",\"PASS\",\"NON CONFORMANT\")","v":"PASS"},{"$f":"IF('Colour Contrast Analysis'!DW4=\"0 Faults\",\"PASS\",\"NON CONFORMANT\")","v":"PASS"},{"$f":"IF('Colour Contrast Analysis'!DX4=\"0 Faults\",\"PASS\",\"NON CONFORMANT\")","v":"PASS"},{"$f":"IF('Colour Contrast Analysis'!DY4=\"0 Faults\",\"PASS\",\"NON CONFORMANT\")","v":"PASS"},{"$f":"IF('Colour Contrast Analysis'!DZ4=\"0 Faults\",\"PASS\",\"NON CONFORMANT\")","v":"PASS"},{"$f":"IF('Colour Contrast Analysis'!EA4=\"0 Faults\",\"PASS\",\"NON CONFORMANT\")","v":"PASS"},{"$f":"IF('Colour Contrast Analysis'!EB4=\"0 Faults\",\"PASS\",\"NON CONFORMANT\")","v":"PASS"},{"$f":"IF('Colour Contrast Analysis'!EC4=\"0 Faults\",\"PASS\",\"NON CONFORMANT\")","v":"PASS"},{"$f":"IF('Colour Contrast Analysis'!ED4=\"0 Faults\",\"PASS\",\"NON CONFORMANT\")","v":"PASS"},{"$f":"IF('Colour Contrast Analysis'!EE4=\"0 Faults\",\"PASS\",\"NON CONFORMANT\")","v":"PASS"},{"$f":"IF('Colour Contrast Analysis'!EF4=\"0 Faults\",\"PASS\",\"NON CONFORMANT\")","v":"PASS"},{"$f":"IF('Colour Contrast Analysis'!EG4=\"0 Faults\",\"PASS\",\"NON CONFORMANT\")","v":"PASS"},{"$f":"IF('Colour Contrast Analysis'!EH4=\"0 Faults\",\"PASS\",\"NON CONFORMANT\")","v":"PASS"},{"$f":"IF('Colour Contrast Analysis'!EI4=\"0 Faults\",\"PASS\",\"NON CONFORMANT\")","v":"PASS"},{"$f":"IF('Colour Contrast Analysis'!EJ4=\"0 Faults\",\"PASS\",\"NON CONFORMANT\")","v":"PASS"},{"$f":"IF('Colour Contrast Analysis'!EK4=\"0 Faults\",\"PASS\",\"NON CONFORMANT\")","v":"PASS"},{"$f":"IF('Colour Contrast Analysis'!EL4=\"0 Faults\",\"PASS\",\"NON CONFORMANT\")","v":"PASS"},{"$f":"IF('Colour Contrast Analysis'!EM4=\"0 Faults\",\"PASS\",\"NON CONFORMANT\")","v":"PASS"},{"$f":"IF('Colour Contrast Analysis'!EN4=\"0 Faults\",\"PASS\",\"NON CONFORMANT\")","v":"PASS"},{"$f":"IF('Colour Contrast Analysis'!EO4=\"0 Faults\",\"PASS\",\"NON CONFORMANT\")","v":"PASS"},{"$f":"IF('Colour Contrast Analysis'!EP4=\"0 Faults\",\"PASS\",\"NON CONFORMANT\")","v":"PASS"},{"$f":"IF('Colour Contrast Analysis'!EQ4=\"0 Faults\",\"PASS\",\"NON CONFORMANT\")","v":"PASS"},{"$f":"IF('Colour Contrast Analysis'!ER4=\"0 Faults\",\"PASS\",\"NON CONFORMANT\")","v":"PASS"},{"$f":"IF('Colour Contrast Analysis'!ES4=\"0 Faults\",\"PASS\",\"NON CONFORMANT\")","v":"PASS"},{"$f":"IF('Colour Contrast Analysis'!ET4=\"0 Faults\",\"PASS\",\"NON CONFORMANT\")","v":"PASS"},{"$f":"IF('Colour Contrast Analysis'!EU4=\"0 Faults\",\"PASS\",\"NON CONFORMANT\")","v":"PASS"},{"$f":"IF('Colour Contrast Analysis'!EV4=\"0 Faults\",\"PASS\",\"NON CONFORMANT\")","v":"PASS"},{"$f":"IF('Colour Contrast Analysis'!EW4=\"0 Faults\",\"PASS\",\"NON CONFORMANT\")","v":"PASS"},{"$f":"IF('Colour Contrast Analysis'!EX4=\"0 Faults\",\"PASS\",\"NON CONFORMANT\")","v":"PASS"},{"$f":"IF('Colour Contrast Analysis'!EY4=\"0 Faults\",\"PASS\",\"NON CONFORMANT\")","v":"PASS"},{"$f":"IF('Colour Contrast Analysis'!EZ4=\"0 Faults\",\"PASS\",\"NON CONFORMANT\")","v":"PASS"},{"$f":"IF('Colour Contrast Analysis'!FA4=\"0 Faults\",\"PASS\",\"NON CONFORMANT\")","v":"PASS"},{"$f":"IF('Colour Contrast Analysis'!FB4=\"0 Faults\",\"PASS\",\"NON CONFORMANT\")","v":"PASS"},{"$f":"IF('Colour Contrast Analysis'!FC4=\"0 Faults\",\"PASS\",\"NON CONFORMANT\")","v":"PASS"},{"$f":"IF('Colour Contrast Analysis'!FD4=\"0 Faults\",\"PASS\",\"NON CONFORMANT\")","v":"PASS"},{"$f":"IF('Colour Contrast Analysis'!FE4=\"0 Faults\",\"PASS\",\"NON CONFORMANT\")","v":"PASS"},{"$f":"IF('Colour Contrast Analysis'!FF4=\"0 Faults\",\"PASS\",\"NON CONFORMANT\")","v":"PASS"},{"$f":"IF('Colour Contrast Analysis'!FG4=\"0 Faults\",\"PASS\",\"NON CONFORMANT\")","v":"PASS"},{"$f":"IF('Colour Contrast Analysis'!FH4=\"0 Faults\",\"PASS\",\"NON CONFORMANT\")","v":"PASS"},{"$f":"IF('Colour Contrast Analysis'!FI4=\"0 Faults\",\"PASS\",\"NON CONFORMANT\")","v":"PASS"},{"$f":"IF('Colour Contrast Analysis'!FJ4=\"0 Faults\",\"PASS\",\"NON CONFORMANT\")","v":"PASS"},{"$f":"IF('Colour Contrast Analysis'!FK4=\"0 Faults\",\"PASS\",\"NON CONFORMANT\")","v":"PASS"},{"$f":"IF('Colour Contrast Analysis'!FL4=\"0 Faults\",\"PASS\",\"NON CONFORMANT\")","v":"PASS"},{"$f":"IF('Colour Contrast Analysis'!FM4=\"0 Faults\",\"PASS\",\"NON CONFORMANT\")","v":"PASS"},{"$f":"IF('Colour Contrast Analysis'!FN4=\"0 Faults\",\"PASS\",\"NON CONFORMANT\")","v":"PASS"},{"$f":"IF('Colour Contrast Analysis'!FO4=\"0 Faults\",\"PASS\",\"NON CONFORMANT\")","v":"PASS"},{"$f":"IF('Colour Contrast Analysis'!FP4=\"0 Faults\",\"PASS\",\"NON CONFORMANT\")","v":"PASS"},{"$f":"IF('Colour Contrast Analysis'!FQ4=\"0 Faults\",\"PASS\",\"NON CONFORMANT\")","v":"PASS"},{"$f":"IF('Colour Contrast Analysis'!FR4=\"0 Faults\",\"PASS\",\"NON CONFORMANT\")","v":"PASS"},{"$f":"IF('Colour Contrast Analysis'!FS4=\"0 Faults\",\"PASS\",\"NON CONFORMANT\")","v":"PASS"}]
[null,null,null,null,{"$f":"IF('Colour Contrast Analysis'!Z4=\"0 Faults\",\"\",LEFT('Colour Contrast Analysis'!Z4,FIND(\" \",'Colour Contrast Analysis'!Z4)-1) &\" combination\" & IF('Colour Contrast Analysis'!Z4=\"1 Fault\",\"\",\"s\") & \" of foreground and background colours do\" & IF('Colour Contrast Analysis'!Z4=\"1 Fault\",\"es\",\"\") & \" not have sufficient contrast. Please see the Colour Contrast Analysis worksheet.\")","v":""},{"$f":"IF('Colour Contrast Analysis'!AA4=\"0 Faults\",\"\",LEFT('Colour Contrast Analysis'!AA4,FIND(\" \",'Colour Contrast Analysis'!AA4)-1) &\" combination\" & IF('Colour Contrast Analysis'!AA4=\"1 Fault\",\"\",\"s\") & \" of foreground and background colours do\" & IF('Colour Contrast Analysis'!AA4=\"1 Fault\",\"es\",\"\") & \" not have sufficient contrast. Please see the Colour Contrast Analysis worksheet.\")","v":"1 combination of foreground and background colours does not have sufficient contrast. Please see the Colour Contrast Analysis worksheet."},{"$f":"IF('Colour Contrast Analysis'!AB4=\"0 Faults\",\"\",LEFT('Colour Contrast Analysis'!AB4,FIND(\" \",'Colour Contrast Analysis'!AB4)-1) &\" combination\" & IF('Colour Contrast Analysis'!AB4=\"1 Fault\",\"\",\"s\") & \" of foreground and background colours do\" & IF('Colour Contrast Analysis'!AB4=\"1 Fault\",\"es\",\"\") & \" not have sufficient contrast. Please see the Colour Contrast Analysis worksheet.\")","v":"2 combinations of foreground and background colours do not have sufficient contrast. Please see the Colour Contrast Analysis worksheet."},{"$f":"IF('Colour Contrast Analysis'!AC4=\"0 Faults\",\"\",LEFT('Colour Contrast Analysis'!AC4,FIND(\" \",'Colour Contrast Analysis'!AC4)-1) &\" combination\" & IF('Colour Contrast Analysis'!AC4=\"1 Fault\",\"\",\"s\") & \" of foreground and background colours do\" & IF('Colour Contrast Analysis'!AC4=\"1 Fault\",\"es\",\"\") & \" not have sufficient contrast. Please see the Colour Contrast Analysis worksheet.\")","v":"1 combination of foreground and background colours does not have sufficient contrast. Please see the Colour Contrast Analysis worksheet."},{"$f":"IF('Colour Contrast Analysis'!AD4=\"0 Faults\",\"\",LEFT('Colour Contrast Analysis'!AD4,FIND(\" \",'Colour Contrast Analysis'!AD4)-1) &\" combination\" & IF('Colour Contrast Analysis'!AD4=\"1 Fault\",\"\",\"s\") & \" of foreground and background colours do\" & IF('Colour Contrast Analysis'!AD4=\"1 Fault\",\"es\",\"\") & \" not have sufficient contrast. Please see the Colour Contrast Analysis worksheet.\")","v":""},{"$f":"IF('Colour Contrast Analysis'!AE4=\"0 Faults\",\"\",LEFT('Colour Contrast Analysis'!AE4,FIND(\" \",'Colour Contrast Analysis'!AE4)-1) &\" combination\" & IF('Colour Contrast Analysis'!AE4=\"1 Fault\",\"\",\"s\") & \" of foreground and background colours do\" & IF('Colour Contrast Analysis'!AE4=\"1 Fault\",\"es\",\"\") & \" not have sufficient contrast. Please see the Colour Contrast Analysis worksheet.\")","v":""},{"$f":"IF('Colour Contrast Analysis'!AF4=\"0 Faults\",\"\",LEFT('Colour Contrast Analysis'!AF4,FIND(\" \",'Colour Contrast Analysis'!AF4)-1) &\" combination\" & IF('Colour Contrast Analysis'!AF4=\"1 Fault\",\"\",\"s\") & \" of foreground and background colours do\" & IF('Colour Contrast Analysis'!AF4=\"1 Fault\",\"es\",\"\") & \" not have sufficient contrast. Please see the Colour Contrast Analysis worksheet.\")","v":""},{"$f":"IF('Colour Contrast Analysis'!AG4=\"0 Faults\",\"\",LEFT('Colour Contrast Analysis'!AG4,FIND(\" \",'Colour Contrast Analysis'!AG4)-1) &\" combination\" & IF('Colour Contrast Analysis'!AG4=\"1 Fault\",\"\",\"s\") & \" of foreground and background colours do\" & IF('Colour Contrast Analysis'!AG4=\"1 Fault\",\"es\",\"\") & \" not have sufficient contrast. Please see the Colour Contrast Analysis worksheet.\")","v":""},{"$f":"IF('Colour Contrast Analysis'!AH4=\"0 Faults\",\"\",LEFT('Colour Contrast Analysis'!AH4,FIND(\" \",'Colour Contrast Analysis'!AH4)-1) &\" combination\" & IF('Colour Contrast Analysis'!AH4=\"1 Fault\",\"\",\"s\") & \" of foreground and background colours do\" & IF('Colour Contrast Analysis'!AH4=\"1 Fault\",\"es\",\"\") & \" not have sufficient contrast. Please see the Colour Contrast Analysis worksheet.\")","v":""},{"$f":"IF('Colour Contrast Analysis'!AI4=\"0 Faults\",\"\",LEFT('Colour Contrast Analysis'!AI4,FIND(\" \",'Colour Contrast Analysis'!AI4)-1) &\" combination\" & IF('Colour Contrast Analysis'!AI4=\"1 Fault\",\"\",\"s\") & \" of foreground and background colours do\" & IF('Colour Contrast Analysis'!AI4=\"1 Fault\",\"es\",\"\") & \" not have sufficient contrast. Please see the Colour Contrast Analysis worksheet.\")","v":""},{"$f":"IF('Colour Contrast Analysis'!AJ4=\"0 Faults\",\"\",LEFT('Colour Contrast Analysis'!AJ4,FIND(\" \",'Colour Contrast Analysis'!AJ4)-1) &\" combination\" & IF('Colour Contrast Analysis'!AJ4=\"1 Fault\",\"\",\"s\") & \" of foreground and background colours do\" & IF('Colour Contrast Analysis'!AJ4=\"1 Fault\",\"es\",\"\") & \" not have sufficient contrast. Please see the Colour Contrast Analysis worksheet.\")","v":""},{"$f":"IF('Colour Contrast Analysis'!AK4=\"0 Faults\",\"\",LEFT('Colour Contrast Analysis'!AK4,FIND(\" \",'Colour Contrast Analysis'!AK4)-1) &\" combination\" & IF('Colour Contrast Analysis'!AK4=\"1 Fault\",\"\",\"s\") & \" of foreground and background colours do\" & IF('Colour Contrast Analysis'!AK4=\"1 Fault\",\"es\",\"\") & \" not have sufficient contrast. Please see the Colour Contrast Analysis worksheet.\")","v":""},{"$f":"IF('Colour Contrast Analysis'!AL4=\"0 Faults\",\"\",LEFT('Colour Contrast Analysis'!AL4,FIND(\" \",'Colour Contrast Analysis'!AL4)-1) &\" combination\" & IF('Colour Contrast Analysis'!AL4=\"1 Fault\",\"\",\"s\") & \" of foreground and background colours do\" & IF('Colour Contrast Analysis'!AL4=\"1 Fault\",\"es\",\"\") & \" not have sufficient contrast. Please see the Colour Contrast Analysis worksheet.\")","v":""},{"$f":"IF('Colour Contrast Analysis'!AM4=\"0 Faults\",\"\",LEFT('Colour Contrast Analysis'!AM4,FIND(\" \",'Colour Contrast Analysis'!AM4)-1) &\" combination\" & IF('Colour Contrast Analysis'!AM4=\"1 Fault\",\"\",\"s\") & \" of foreground and background colours do\" & IF('Colour Contrast Analysis'!AM4=\"1 Fault\",\"es\",\"\") & \" not have sufficient contrast. Please see the Colour Contrast Analysis worksheet.\")","v":""},{"$f":"IF('Colour Contrast Analysis'!AN4=\"0 Faults\",\"\",LEFT('Colour Contrast Analysis'!AN4,FIND(\" \",'Colour Contrast Analysis'!AN4)-1) &\" combination\" & IF('Colour Contrast Analysis'!AN4=\"1 Fault\",\"\",\"s\") & \" of foreground and background colours do\" & IF('Colour Contrast Analysis'!AN4=\"1 Fault\",\"es\",\"\") & \" not have sufficient contrast. Please see the Colour Contrast Analysis worksheet.\")","v":""},{"$f":"IF('Colour Contrast Analysis'!AO4=\"0 Faults\",\"\",LEFT('Colour Contrast Analysis'!AO4,FIND(\" \",'Colour Contrast Analysis'!AO4)-1) &\" combination\" & IF('Colour Contrast Analysis'!AO4=\"1 Fault\",\"\",\"s\") & \" of foreground and background colours do\" & IF('Colour Contrast Analysis'!AO4=\"1 Fault\",\"es\",\"\") & \" not have sufficient contrast. Please see the Colour Contrast Analysis worksheet.\")","v":""},{"$f":"IF('Colour Contrast Analysis'!AP4=\"0 Faults\",\"\",LEFT('Colour Contrast Analysis'!AP4,FIND(\" \",'Colour Contrast Analysis'!AP4)-1) &\" combination\" & IF('Colour Contrast Analysis'!AP4=\"1 Fault\",\"\",\"s\") & \" of foreground and background colours do\" & IF('Colour Contrast Analysis'!AP4=\"1 Fault\",\"es\",\"\") & \" not have sufficient contrast. Please see the Colour Contrast Analysis worksheet.\")","v":""},{"$f":"IF('Colour Contrast Analysis'!AQ4=\"0 Faults\",\"\",LEFT('Colour Contrast Analysis'!AQ4,FIND(\" \",'Colour Contrast Analysis'!AQ4)-1) &\" combination\" & IF('Colour Contrast Analysis'!AQ4=\"1 Fault\",\"\",\"s\") & \" of foreground and background colours do\" & IF('Colour Contrast Analysis'!AQ4=\"1 Fault\",\"es\",\"\") & \" not have sufficient contrast. Please see the Colour Contrast Analysis worksheet.\")","v":""},{"$f":"IF('Colour Contrast Analysis'!AR4=\"0 Faults\",\"\",LEFT('Colour Contrast Analysis'!AR4,FIND(\" \",'Colour Contrast Analysis'!AR4)-1) &\" combination\" & IF('Colour Contrast Analysis'!AR4=\"1 Fault\",\"\",\"s\") & \" of foreground and background colours do\" & IF('Colour Contrast Analysis'!AR4=\"1 Fault\",\"es\",\"\") & \" not have sufficient contrast. Please see the Colour Contrast Analysis worksheet.\")","v":""},{"$f":"IF('Colour Contrast Analysis'!AS4=\"0 Faults\",\"\",LEFT('Colour Contrast Analysis'!AS4,FIND(\" \",'Colour Contrast Analysis'!AS4)-1) &\" combination\" & IF('Colour Contrast Analysis'!AS4=\"1 Fault\",\"\",\"s\") & \" of foreground and background colours do\" & IF('Colour Contrast Analysis'!AS4=\"1 Fault\",\"es\",\"\") & \" not have sufficient contrast. Please see the Colour Contrast Analysis worksheet.\")","v":""},{"$f":"IF('Colour Contrast Analysis'!AT4=\"0 Faults\",\"\",LEFT('Colour Contrast Analysis'!AT4,FIND(\" \",'Colour Contrast Analysis'!AT4)-1) &\" combination\" & IF('Colour Contrast Analysis'!AT4=\"1 Fault\",\"\",\"s\") & \" of foreground and background colours do\" & IF('Colour Contrast Analysis'!AT4=\"1 Fault\",\"es\",\"\") & \" not have sufficient contrast. Please see the Colour Contrast Analysis worksheet.\")","v":""},{"$f":"IF('Colour Contrast Analysis'!AU4=\"0 Faults\",\"\",LEFT('Colour Contrast Analysis'!AU4,FIND(\" \",'Colour Contrast Analysis'!AU4)-1) &\" combination\" & IF('Colour Contrast Analysis'!AU4=\"1 Fault\",\"\",\"s\") & \" of foreground and background colours do\" & IF('Colour Contrast Analysis'!AU4=\"1 Fault\",\"es\",\"\") & \" not have sufficient contrast. Please see the Colour Contrast Analysis worksheet.\")","v":""},{"$f":"IF('Colour Contrast Analysis'!AV4=\"0 Faults\",\"\",LEFT('Colour Contrast Analysis'!AV4,FIND(\" \",'Colour Contrast Analysis'!AV4)-1) &\" combination\" & IF('Colour Contrast Analysis'!AV4=\"1 Fault\",\"\",\"s\") & \" of foreground and background colours do\" & IF('Colour Contrast Analysis'!AV4=\"1 Fault\",\"es\",\"\") & \" not have sufficient contrast. Please see the Colour Contrast Analysis worksheet.\")","v":""},{"$f":"IF('Colour Contrast Analysis'!AW4=\"0 Faults\",\"\",LEFT('Colour Contrast Analysis'!AW4,FIND(\" \",'Colour Contrast Analysis'!AW4)-1) &\" combination\" & IF('Colour Contrast Analysis'!AW4=\"1 Fault\",\"\",\"s\") & \" of foreground and background colours do\" & IF('Colour Contrast Analysis'!AW4=\"1 Fault\",\"es\",\"\") & \" not have sufficient contrast. Please see the Colour Contrast Analysis worksheet.\")","v":""},{"$f":"IF('Colour Contrast Analysis'!AX4=\"0 Faults\",\"\",LEFT('Colour Contrast Analysis'!AX4,FIND(\" \",'Colour Contrast Analysis'!AX4)-1) &\" combination\" & IF('Colour Contrast Analysis'!AX4=\"1 Fault\",\"\",\"s\") & \" of foreground and background colours do\" & IF('Colour Contrast Analysis'!AX4=\"1 Fault\",\"es\",\"\") & \" not have sufficient contrast. Please see the Colour Contrast Analysis worksheet.\")","v":""},{"$f":"IF('Colour Contrast Analysis'!AY4=\"0 Faults\",\"\",LEFT('Colour Contrast Analysis'!AY4,FIND(\" \",'Colour Contrast Analysis'!AY4)-1) &\" combination\" & IF('Colour Contrast Analysis'!AY4=\"1 Fault\",\"\",\"s\") & \" of foreground and background colours do\" & IF('Colour Contrast Analysis'!AY4=\"1 Fault\",\"es\",\"\") & \" not have sufficient contrast. Please see the Colour Contrast Analysis worksheet.\")","v":""},{"$f":"IF('Colour Contrast Analysis'!AZ4=\"0 Faults\",\"\",LEFT('Colour Contrast Analysis'!AZ4,FIND(\" \",'Colour Contrast Analysis'!AZ4)-1) &\" combination\" & IF('Colour Contrast Analysis'!AZ4=\"1 Fault\",\"\",\"s\") & \" of foreground and background colours do\" & IF('Colour Contrast Analysis'!AZ4=\"1 Fault\",\"es\",\"\") & \" not have sufficient contrast. Please see the Colour Contrast Analysis worksheet.\")","v":""},{"$f":"IF('Colour Contrast Analysis'!BA4=\"0 Faults\",\"\",LEFT('Colour Contrast Analysis'!BA4,FIND(\" \",'Colour Contrast Analysis'!BA4)-1) &\" combination\" & IF('Colour Contrast Analysis'!BA4=\"1 Fault\",\"\",\"s\") & \" of foreground and background colours do\" & IF('Colour Contrast Analysis'!BA4=\"1 Fault\",\"es\",\"\") & \" not have sufficient contrast. Please see the Colour Contrast Analysis worksheet.\")","v":""},{"$f":"IF('Colour Contrast Analysis'!BB4=\"0 Faults\",\"\",LEFT('Colour Contrast Analysis'!BB4,FIND(\" \",'Colour Contrast Analysis'!BB4)-1) &\" combination\" & IF('Colour Contrast Analysis'!BB4=\"1 Fault\",\"\",\"s\") & \" of foreground and background colours do\" & IF('Colour Contrast Analysis'!BB4=\"1 Fault\",\"es\",\"\") & \" not have sufficient contrast. Please see the Colour Contrast Analysis worksheet.\")","v":""},{"$f":"IF('Colour Contrast Analysis'!BC4=\"0 Faults\",\"\",LEFT('Colour Contrast Analysis'!BC4,FIND(\" \",'Colour Contrast Analysis'!BC4)-1) &\" combination\" & IF('Colour Contrast Analysis'!BC4=\"1 Fault\",\"\",\"s\") & \" of foreground and background colours do\" & IF('Colour Contrast Analysis'!BC4=\"1 Fault\",\"es\",\"\") & \" not have sufficient contrast. Please see the Colour Contrast Analysis worksheet.\")","v":""},{"$f":"IF('Colour Contrast Analysis'!BD4=\"0 Faults\",\"\",LEFT('Colour Contrast Analysis'!BD4,FIND(\" \",'Colour Contrast Analysis'!BD4)-1) &\" combination\" & IF('Colour Contrast Analysis'!BD4=\"1 Fault\",\"\",\"s\") & \" of foreground and background colours do\" & IF('Colour Contrast Analysis'!BD4=\"1 Fault\",\"es\",\"\") & \" not have sufficient contrast. Please see the Colour Contrast Analysis worksheet.\")","v":""},{"$f":"IF('Colour Contrast Analysis'!BE4=\"0 Faults\",\"\",LEFT('Colour Contrast Analysis'!BE4,FIND(\" \",'Colour Contrast Analysis'!BE4)-1) &\" combination\" & IF('Colour Contrast Analysis'!BE4=\"1 Fault\",\"\",\"s\") & \" of foreground and background colours do\" & IF('Colour Contrast Analysis'!BE4=\"1 Fault\",\"es\",\"\") & \" not have sufficient contrast. Please see the Colour Contrast Analysis worksheet.\")","v":""},{"$f":"IF('Colour Contrast Analysis'!BF4=\"0 Faults\",\"\",LEFT('Colour Contrast Analysis'!BF4,FIND(\" \",'Colour Contrast Analysis'!BF4)-1) &\" combination\" & IF('Colour Contrast Analysis'!BF4=\"1 Fault\",\"\",\"s\") & \" of foreground and background colours do\" & IF('Colour Contrast Analysis'!BF4=\"1 Fault\",\"es\",\"\") & \" not have sufficient contrast. Please see the Colour Contrast Analysis worksheet.\")","v":""},{"$f":"IF('Colour Contrast Analysis'!BG4=\"0 Faults\",\"\",LEFT('Colour Contrast Analysis'!BG4,FIND(\" \",'Colour Contrast Analysis'!BG4)-1) &\" combination\" & IF('Colour Contrast Analysis'!BG4=\"1 Fault\",\"\",\"s\") & \" of foreground and background colours do\" & IF('Colour Contrast Analysis'!BG4=\"1 Fault\",\"es\",\"\") & \" not have sufficient contrast. Please see the Colour Contrast Analysis worksheet.\")","v":""},{"$f":"IF('Colour Contrast Analysis'!BH4=\"0 Faults\",\"\",LEFT('Colour Contrast Analysis'!BH4,FIND(\" \",'Colour Contrast Analysis'!BH4)-1) &\" combination\" & IF('Colour Contrast Analysis'!BH4=\"1 Fault\",\"\",\"s\") & \" of foreground and background colours do\" & IF('Colour Contrast Analysis'!BH4=\"1 Fault\",\"es\",\"\") & \" not have sufficient contrast. Please see the Colour Contrast Analysis worksheet.\")","v":""},{"$f":"IF('Colour Contrast Analysis'!BI4=\"0 Faults\",\"\",LEFT('Colour Contrast Analysis'!BI4,FIND(\" \",'Colour Contrast Analysis'!BI4)-1) &\" combination\" & IF('Colour Contrast Analysis'!BI4=\"1 Fault\",\"\",\"s\") & \" of foreground and background colours do\" & IF('Colour Contrast Analysis'!BI4=\"1 Fault\",\"es\",\"\") & \" not have sufficient contrast. Please see the Colour Contrast Analysis worksheet.\")","v":""},{"$f":"IF('Colour Contrast Analysis'!BJ4=\"0 Faults\",\"\",LEFT('Colour Contrast Analysis'!BJ4,FIND(\" \",'Colour Contrast Analysis'!BJ4)-1) &\" combination\" & IF('Colour Contrast Analysis'!BJ4=\"1 Fault\",\"\",\"s\") & \" of foreground and background colours do\" & IF('Colour Contrast Analysis'!BJ4=\"1 Fault\",\"es\",\"\") & \" not have sufficient contrast. Please see the Colour Contrast Analysis worksheet.\")","v":""},{"$f":"IF('Colour Contrast Analysis'!BK4=\"0 Faults\",\"\",LEFT('Colour Contrast Analysis'!BK4,FIND(\" \",'Colour Contrast Analysis'!BK4)-1) &\" combination\" & IF('Colour Contrast Analysis'!BK4=\"1 Fault\",\"\",\"s\") & \" of foreground and background colours do\" & IF('Colour Contrast Analysis'!BK4=\"1 Fault\",\"es\",\"\") & \" not have sufficient contrast. Please see the Colour Contrast Analysis worksheet.\")","v":""},{"$f":"IF('Colour Contrast Analysis'!BL4=\"0 Faults\",\"\",LEFT('Colour Contrast Analysis'!BL4,FIND(\" \",'Colour Contrast Analysis'!BL4)-1) &\" combination\" & IF('Colour Contrast Analysis'!BL4=\"1 Fault\",\"\",\"s\") & \" of foreground and background colours do\" & IF('Colour Contrast Analysis'!BL4=\"1 Fault\",\"es\",\"\") & \" not have sufficient contrast. Please see the Colour Contrast Analysis worksheet.\")","v":""},{"$f":"IF('Colour Contrast Analysis'!BM4=\"0 Faults\",\"\",LEFT('Colour Contrast Analysis'!BM4,FIND(\" \",'Colour Contrast Analysis'!BM4)-1) &\" combination\" & IF('Colour Contrast Analysis'!BM4=\"1 Fault\",\"\",\"s\") & \" of foreground and background colours do\" & IF('Colour Contrast Analysis'!BM4=\"1 Fault\",\"es\",\"\") & \" not have sufficient contrast. Please see the Colour Contrast Analysis worksheet.\")","v":""},{"$f":"IF('Colour Contrast Analysis'!BN4=\"0 Faults\",\"\",LEFT('Colour Contrast Analysis'!BN4,FIND(\" \",'Colour Contrast Analysis'!BN4)-1) &\" combination\" & IF('Colour Contrast Analysis'!BN4=\"1 Fault\",\"\",\"s\") & \" of foreground and background colours do\" & IF('Colour Contrast Analysis'!BN4=\"1 Fault\",\"es\",\"\") & \" not have sufficient contrast. Please see the Colour Contrast Analysis worksheet.\")","v":""},{"$f":"IF('Colour Contrast Analysis'!BO4=\"0 Faults\",\"\",LEFT('Colour Contrast Analysis'!BO4,FIND(\" \",'Colour Contrast Analysis'!BO4)-1) &\" combination\" & IF('Colour Contrast Analysis'!BO4=\"1 Fault\",\"\",\"s\") & \" of foreground and background colours do\" & IF('Colour Contrast Analysis'!BO4=\"1 Fault\",\"es\",\"\") & \" not have sufficient contrast. Please see the Colour Contrast Analysis worksheet.\")","v":""},{"$f":"IF('Colour Contrast Analysis'!BP4=\"0 Faults\",\"\",LEFT('Colour Contrast Analysis'!BP4,FIND(\" \",'Colour Contrast Analysis'!BP4)-1) &\" combination\" & IF('Colour Contrast Analysis'!BP4=\"1 Fault\",\"\",\"s\") & \" of foreground and background colours do\" & IF('Colour Contrast Analysis'!BP4=\"1 Fault\",\"es\",\"\") & \" not have sufficient contrast. Please see the Colour Contrast Analysis worksheet.\")","v":""},{"$f":"IF('Colour Contrast Analysis'!BQ4=\"0 Faults\",\"\",LEFT('Colour Contrast Analysis'!BQ4,FIND(\" \",'Colour Contrast Analysis'!BQ4)-1) &\" combination\" & IF('Colour Contrast Analysis'!BQ4=\"1 Fault\",\"\",\"s\") & \" of foreground and background colours do\" & IF('Colour Contrast Analysis'!BQ4=\"1 Fault\",\"es\",\"\") & \" not have sufficient contrast. Please see the Colour Contrast Analysis worksheet.\")","v":""},{"$f":"IF('Colour Contrast Analysis'!BR4=\"0 Faults\",\"\",LEFT('Colour Contrast Analysis'!BR4,FIND(\" \",'Colour Contrast Analysis'!BR4)-1) &\" combination\" & IF('Colour Contrast Analysis'!BR4=\"1 Fault\",\"\",\"s\") & \" of foreground and background colours do\" & IF('Colour Contrast Analysis'!BR4=\"1 Fault\",\"es\",\"\") & \" not have sufficient contrast. Please see the Colour Contrast Analysis worksheet.\")","v":""},{"$f":"IF('Colour Contrast Analysis'!BS4=\"0 Faults\",\"\",LEFT('Colour Contrast Analysis'!BS4,FIND(\" \",'Colour Contrast Analysis'!BS4)-1) &\" combination\" & IF('Colour Contrast Analysis'!BS4=\"1 Fault\",\"\",\"s\") & \" of foreground and background colours do\" & IF('Colour Contrast Analysis'!BS4=\"1 Fault\",\"es\",\"\") & \" not have sufficient contrast. Please see the Colour Contrast Analysis worksheet.\")","v":""},{"$f":"IF('Colour Contrast Analysis'!BT4=\"0 Faults\",\"\",LEFT('Colour Contrast Analysis'!BT4,FIND(\" \",'Colour Contrast Analysis'!BT4)-1) &\" combination\" & IF('Colour Contrast Analysis'!BT4=\"1 Fault\",\"\",\"s\") & \" of foreground and background colours do\" & IF('Colour Contrast Analysis'!BT4=\"1 Fault\",\"es\",\"\") & \" not have sufficient contrast. Please see the Colour Contrast Analysis worksheet.\")","v":""},{"$f":"IF('Colour Contrast Analysis'!BU4=\"0 Faults\",\"\",LEFT('Colour Contrast Analysis'!BU4,FIND(\" \",'Colour Contrast Analysis'!BU4)-1) &\" combination\" & IF('Colour Contrast Analysis'!BU4=\"1 Fault\",\"\",\"s\") & \" of foreground and background colours do\" & IF('Colour Contrast Analysis'!BU4=\"1 Fault\",\"es\",\"\") & \" not have sufficient contrast. Please see the Colour Contrast Analysis worksheet.\")","v":""},{"$f":"IF('Colour Contrast Analysis'!BV4=\"0 Faults\",\"\",LEFT('Colour Contrast Analysis'!BV4,FIND(\" \",'Colour Contrast Analysis'!BV4)-1) &\" combination\" & IF('Colour Contrast Analysis'!BV4=\"1 Fault\",\"\",\"s\") & \" of foreground and background colours do\" & IF('Colour Contrast Analysis'!BV4=\"1 Fault\",\"es\",\"\") & \" not have sufficient contrast. Please see the Colour Contrast Analysis worksheet.\")","v":""},{"$f":"IF('Colour Contrast Analysis'!BW4=\"0 Faults\",\"\",LEFT('Colour Contrast Analysis'!BW4,FIND(\" \",'Colour Contrast Analysis'!BW4)-1) &\" combination\" & IF('Colour Contrast Analysis'!BW4=\"1 Fault\",\"\",\"s\") & \" of foreground and background colours do\" & IF('Colour Contrast Analysis'!BW4=\"1 Fault\",\"es\",\"\") & \" not have sufficient contrast. Please see the Colour Contrast Analysis worksheet.\")","v":""},{"$f":"IF('Colour Contrast Analysis'!BX4=\"0 Faults\",\"\",LEFT('Colour Contrast Analysis'!BX4,FIND(\" \",'Colour Contrast Analysis'!BX4)-1) &\" combination\" & IF('Colour Contrast Analysis'!BX4=\"1 Fault\",\"\",\"s\") & \" of foreground and background colours do\" & IF('Colour Contrast Analysis'!BX4=\"1 Fault\",\"es\",\"\") & \" not have sufficient contrast. Please see the Colour Contrast Analysis worksheet.\")","v":""},{"$f":"IF('Colour Contrast Analysis'!BY4=\"0 Faults\",\"\",LEFT('Colour Contrast Analysis'!BY4,FIND(\" \",'Colour Contrast Analysis'!BY4)-1) &\" combination\" & IF('Colour Contrast Analysis'!BY4=\"1 Fault\",\"\",\"s\") & \" of foreground and background colours do\" & IF('Colour Contrast Analysis'!BY4=\"1 Fault\",\"es\",\"\") & \" not have sufficient contrast. Please see the Colour Contrast Analysis worksheet.\")","v":""},{"$f":"IF('Colour Contrast Analysis'!BZ4=\"0 Faults\",\"\",LEFT('Colour Contrast Analysis'!BZ4,FIND(\" \",'Colour Contrast Analysis'!BZ4)-1) &\" combination\" & IF('Colour Contrast Analysis'!BZ4=\"1 Fault\",\"\",\"s\") & \" of foreground and background colours do\" & IF('Colour Contrast Analysis'!BZ4=\"1 Fault\",\"es\",\"\") & \" not have sufficient contrast. Please see the Colour Contrast Analysis worksheet.\")","v":""},{"$f":"IF('Colour Contrast Analysis'!CA4=\"0 Faults\",\"\",LEFT('Colour Contrast Analysis'!CA4,FIND(\" \",'Colour Contrast Analysis'!CA4)-1) &\" combination\" & IF('Colour Contrast Analysis'!CA4=\"1 Fault\",\"\",\"s\") & \" of foreground and background colours do\" & IF('Colour Contrast Analysis'!CA4=\"1 Fault\",\"es\",\"\") & \" not have sufficient contrast. Please see the Colour Contrast Analysis worksheet.\")","v":""},{"$f":"IF('Colour Contrast Analysis'!CB4=\"0 Faults\",\"\",LEFT('Colour Contrast Analysis'!CB4,FIND(\" \",'Colour Contrast Analysis'!CB4)-1) &\" combination\" & IF('Colour Contrast Analysis'!CB4=\"1 Fault\",\"\",\"s\") & \" of foreground and background colours do\" & IF('Colour Contrast Analysis'!CB4=\"1 Fault\",\"es\",\"\") & \" not have sufficient contrast. Please see the Colour Contrast Analysis worksheet.\")","v":""},{"$f":"IF('Colour Contrast Analysis'!CC4=\"0 Faults\",\"\",LEFT('Colour Contrast Analysis'!CC4,FIND(\" \",'Colour Contrast Analysis'!CC4)-1) &\" combination\" & IF('Colour Contrast Analysis'!CC4=\"1 Fault\",\"\",\"s\") & \" of foreground and background colours do\" & IF('Colour Contrast Analysis'!CC4=\"1 Fault\",\"es\",\"\") & \" not have sufficient contrast. Please see the Colour Contrast Analysis worksheet.\")","v":""},{"$f":"IF('Colour Contrast Analysis'!CD4=\"0 Faults\",\"\",LEFT('Colour Contrast Analysis'!CD4,FIND(\" \",'Colour Contrast Analysis'!CD4)-1) &\" combination\" & IF('Colour Contrast Analysis'!CD4=\"1 Fault\",\"\",\"s\") & \" of foreground and background colours do\" & IF('Colour Contrast Analysis'!CD4=\"1 Fault\",\"es\",\"\") & \" not have sufficient contrast. Please see the Colour Contrast Analysis worksheet.\")","v":""},{"$f":"IF('Colour Contrast Analysis'!CE4=\"0 Faults\",\"\",LEFT('Colour Contrast Analysis'!CE4,FIND(\" \",'Colour Contrast Analysis'!CE4)-1) &\" combination\" & IF('Colour Contrast Analysis'!CE4=\"1 Fault\",\"\",\"s\") & \" of foreground and background colours do\" & IF('Colour Contrast Analysis'!CE4=\"1 Fault\",\"es\",\"\") & \" not have sufficient contrast. Please see the Colour Contrast Analysis worksheet.\")","v":""},{"$f":"IF('Colour Contrast Analysis'!CF4=\"0 Faults\",\"\",LEFT('Colour Contrast Analysis'!CF4,FIND(\" \",'Colour Contrast Analysis'!CF4)-1) &\" combination\" & IF('Colour Contrast Analysis'!CF4=\"1 Fault\",\"\",\"s\") & \" of foreground and background colours do\" & IF('Colour Contrast Analysis'!CF4=\"1 Fault\",\"es\",\"\") & \" not have sufficient contrast. Please see the Colour Contrast Analysis worksheet.\")","v":""},{"$f":"IF('Colour Contrast Analysis'!CG4=\"0 Faults\",\"\",LEFT('Colour Contrast Analysis'!CG4,FIND(\" \",'Colour Contrast Analysis'!CG4)-1) &\" combination\" & IF('Colour Contrast Analysis'!CG4=\"1 Fault\",\"\",\"s\") & \" of foreground and background colours do\" & IF('Colour Contrast Analysis'!CG4=\"1 Fault\",\"es\",\"\") & \" not have sufficient contrast. Please see the Colour Contrast Analysis worksheet.\")","v":""},{"$f":"IF('Colour Contrast Analysis'!CH4=\"0 Faults\",\"\",LEFT('Colour Contrast Analysis'!CH4,FIND(\" \",'Colour Contrast Analysis'!CH4)-1) &\" combination\" & IF('Colour Contrast Analysis'!CH4=\"1 Fault\",\"\",\"s\") & \" of foreground and background colours do\" & IF('Colour Contrast Analysis'!CH4=\"1 Fault\",\"es\",\"\") & \" not have sufficient contrast. Please see the Colour Contrast Analysis worksheet.\")","v":""},{"$f":"IF('Colour Contrast Analysis'!CI4=\"0 Faults\",\"\",LEFT('Colour Contrast Analysis'!CI4,FIND(\" \",'Colour Contrast Analysis'!CI4)-1) &\" combination\" & IF('Colour Contrast Analysis'!CI4=\"1 Fault\",\"\",\"s\") & \" of foreground and background colours do\" & IF('Colour Contrast Analysis'!CI4=\"1 Fault\",\"es\",\"\") & \" not have sufficient contrast. Please see the Colour Contrast Analysis worksheet.\")","v":""},{"$f":"IF('Colour Contrast Analysis'!CJ4=\"0 Faults\",\"\",LEFT('Colour Contrast Analysis'!CJ4,FIND(\" \",'Colour Contrast Analysis'!CJ4)-1) &\" combination\" & IF('Colour Contrast Analysis'!CJ4=\"1 Fault\",\"\",\"s\") & \" of foreground and background colours do\" & IF('Colour Contrast Analysis'!CJ4=\"1 Fault\",\"es\",\"\") & \" not have sufficient contrast. Please see the Colour Contrast Analysis worksheet.\")","v":""},{"$f":"IF('Colour Contrast Analysis'!CK4=\"0 Faults\",\"\",LEFT('Colour Contrast Analysis'!CK4,FIND(\" \",'Colour Contrast Analysis'!CK4)-1) &\" combination\" & IF('Colour Contrast Analysis'!CK4=\"1 Fault\",\"\",\"s\") & \" of foreground and background colours do\" & IF('Colour Contrast Analysis'!CK4=\"1 Fault\",\"es\",\"\") & \" not have sufficient contrast. Please see the Colour Contrast Analysis worksheet.\")","v":""},{"$f":"IF('Colour Contrast Analysis'!CL4=\"0 Faults\",\"\",LEFT('Colour Contrast Analysis'!CL4,FIND(\" \",'Colour Contrast Analysis'!CL4)-1) &\" combination\" & IF('Colour Contrast Analysis'!CL4=\"1 Fault\",\"\",\"s\") & \" of foreground and background colours do\" & IF('Colour Contrast Analysis'!CL4=\"1 Fault\",\"es\",\"\") & \" not have sufficient contrast. Please see the Colour Contrast Analysis worksheet.\")","v":""},{"$f":"IF('Colour Contrast Analysis'!CM4=\"0 Faults\",\"\",LEFT('Colour Contrast Analysis'!CM4,FIND(\" \",'Colour Contrast Analysis'!CM4)-1) &\" combination\" & IF('Colour Contrast Analysis'!CM4=\"1 Fault\",\"\",\"s\") & \" of foreground and background colours do\" & IF('Colour Contrast Analysis'!CM4=\"1 Fault\",\"es\",\"\") & \" not have sufficient contrast. Please see the Colour Contrast Analysis worksheet.\")","v":""},{"$f":"IF('Colour Contrast Analysis'!CN4=\"0 Faults\",\"\",LEFT('Colour Contrast Analysis'!CN4,FIND(\" \",'Colour Contrast Analysis'!CN4)-1) &\" combination\" & IF('Colour Contrast Analysis'!CN4=\"1 Fault\",\"\",\"s\") & \" of foreground and background colours do\" & IF('Colour Contrast Analysis'!CN4=\"1 Fault\",\"es\",\"\") & \" not have sufficient contrast. Please see the Colour Contrast Analysis worksheet.\")","v":""},{"$f":"IF('Colour Contrast Analysis'!CO4=\"0 Faults\",\"\",LEFT('Colour Contrast Analysis'!CO4,FIND(\" \",'Colour Contrast Analysis'!CO4)-1) &\" combination\" & IF('Colour Contrast Analysis'!CO4=\"1 Fault\",\"\",\"s\") & \" of foreground and background colours do\" & IF('Colour Contrast Analysis'!CO4=\"1 Fault\",\"es\",\"\") & \" not have sufficient contrast. Please see the Colour Contrast Analysis worksheet.\")","v":""},{"$f":"IF('Colour Contrast Analysis'!CP4=\"0 Faults\",\"\",LEFT('Colour Contrast Analysis'!CP4,FIND(\" \",'Colour Contrast Analysis'!CP4)-1) &\" combination\" & IF('Colour Contrast Analysis'!CP4=\"1 Fault\",\"\",\"s\") & \" of foreground and background colours do\" & IF('Colour Contrast Analysis'!CP4=\"1 Fault\",\"es\",\"\") & \" not have sufficient contrast. Please see the Colour Contrast Analysis worksheet.\")","v":""},{"$f":"IF('Colour Contrast Analysis'!CQ4=\"0 Faults\",\"\",LEFT('Colour Contrast Analysis'!CQ4,FIND(\" \",'Colour Contrast Analysis'!CQ4)-1) &\" combination\" & IF('Colour Contrast Analysis'!CQ4=\"1 Fault\",\"\",\"s\") & \" of foreground and background colours do\" & IF('Colour Contrast Analysis'!CQ4=\"1 Fault\",\"es\",\"\") & \" not have sufficient contrast. Please see the Colour Contrast Analysis worksheet.\")","v":""},{"$f":"IF('Colour Contrast Analysis'!CR4=\"0 Faults\",\"\",LEFT('Colour Contrast Analysis'!CR4,FIND(\" \",'Colour Contrast Analysis'!CR4)-1) &\" combination\" & IF('Colour Contrast Analysis'!CR4=\"1 Fault\",\"\",\"s\") & \" of foreground and background colours do\" & IF('Colour Contrast Analysis'!CR4=\"1 Fault\",\"es\",\"\") & \" not have sufficient contrast. Please see the Colour Contrast Analysis worksheet.\")","v":""},{"$f":"IF('Colour Contrast Analysis'!CS4=\"0 Faults\",\"\",LEFT('Colour Contrast Analysis'!CS4,FIND(\" \",'Colour Contrast Analysis'!CS4)-1) &\" combination\" & IF('Colour Contrast Analysis'!CS4=\"1 Fault\",\"\",\"s\") & \" of foreground and background colours do\" & IF('Colour Contrast Analysis'!CS4=\"1 Fault\",\"es\",\"\") & \" not have sufficient contrast. Please see the Colour Contrast Analysis worksheet.\")","v":""},{"$f":"IF('Colour Contrast Analysis'!CT4=\"0 Faults\",\"\",LEFT('Colour Contrast Analysis'!CT4,FIND(\" \",'Colour Contrast Analysis'!CT4)-1) &\" combination\" & IF('Colour Contrast Analysis'!CT4=\"1 Fault\",\"\",\"s\") & \" of foreground and background colours do\" & IF('Colour Contrast Analysis'!CT4=\"1 Fault\",\"es\",\"\") & \" not have sufficient contrast. Please see the Colour Contrast Analysis worksheet.\")","v":""},{"$f":"IF('Colour Contrast Analysis'!CU4=\"0 Faults\",\"\",LEFT('Colour Contrast Analysis'!CU4,FIND(\" \",'Colour Contrast Analysis'!CU4)-1) &\" combination\" & IF('Colour Contrast Analysis'!CU4=\"1 Fault\",\"\",\"s\") & \" of foreground and background colours do\" & IF('Colour Contrast Analysis'!CU4=\"1 Fault\",\"es\",\"\") & \" not have sufficient contrast. Please see the Colour Contrast Analysis worksheet.\")","v":""},{"$f":"IF('Colour Contrast Analysis'!CV4=\"0 Faults\",\"\",LEFT('Colour Contrast Analysis'!CV4,FIND(\" \",'Colour Contrast Analysis'!CV4)-1) &\" combination\" & IF('Colour Contrast Analysis'!CV4=\"1 Fault\",\"\",\"s\") & \" of foreground and background colours do\" & IF('Colour Contrast Analysis'!CV4=\"1 Fault\",\"es\",\"\") & \" not have sufficient contrast. Please see the Colour Contrast Analysis worksheet.\")","v":""},{"$f":"IF('Colour Contrast Analysis'!CW4=\"0 Faults\",\"\",LEFT('Colour Contrast Analysis'!CW4,FIND(\" \",'Colour Contrast Analysis'!CW4)-1) &\" combination\" & IF('Colour Contrast Analysis'!CW4=\"1 Fault\",\"\",\"s\") & \" of foreground and background colours do\" & IF('Colour Contrast Analysis'!CW4=\"1 Fault\",\"es\",\"\") & \" not have sufficient contrast. Please see the Colour Contrast Analysis worksheet.\")","v":""},{"$f":"IF('Colour Contrast Analysis'!CX4=\"0 Faults\",\"\",LEFT('Colour Contrast Analysis'!CX4,FIND(\" \",'Colour Contrast Analysis'!CX4)-1) &\" combination\" & IF('Colour Contrast Analysis'!CX4=\"1 Fault\",\"\",\"s\") & \" of foreground and background colours do\" & IF('Colour Contrast Analysis'!CX4=\"1 Fault\",\"es\",\"\") & \" not have sufficient contrast. Please see the Colour Contrast Analysis worksheet.\")","v":""},{"$f":"IF('Colour Contrast Analysis'!CY4=\"0 Faults\",\"\",LEFT('Colour Contrast Analysis'!CY4,FIND(\" \",'Colour Contrast Analysis'!CY4)-1) &\" combination\" & IF('Colour Contrast Analysis'!CY4=\"1 Fault\",\"\",\"s\") & \" of foreground and background colours do\" & IF('Colour Contrast Analysis'!CY4=\"1 Fault\",\"es\",\"\") & \" not have sufficient contrast. Please see the Colour Contrast Analysis worksheet.\")","v":""},{"$f":"IF('Colour Contrast Analysis'!CZ4=\"0 Faults\",\"\",LEFT('Colour Contrast Analysis'!CZ4,FIND(\" \",'Colour Contrast Analysis'!CZ4)-1) &\" combination\" & IF('Colour Contrast Analysis'!CZ4=\"1 Fault\",\"\",\"s\") & \" of foreground and background colours do\" & IF('Colour Contrast Analysis'!CZ4=\"1 Fault\",\"es\",\"\") & \" not have sufficient contrast. Please see the Colour Contrast Analysis worksheet.\")","v":""},{"$f":"IF('Colour Contrast Analysis'!DA4=\"0 Faults\",\"\",LEFT('Colour Contrast Analysis'!DA4,FIND(\" \",'Colour Contrast Analysis'!DA4)-1) &\" combination\" & IF('Colour Contrast Analysis'!DA4=\"1 Fault\",\"\",\"s\") & \" of foreground and background colours do\" & IF('Colour Contrast Analysis'!DA4=\"1 Fault\",\"es\",\"\") & \" not have sufficient contrast. Please see the Colour Contrast Analysis worksheet.\")","v":""},{"$f":"IF('Colour Contrast Analysis'!DB4=\"0 Faults\",\"\",LEFT('Colour Contrast Analysis'!DB4,FIND(\" \",'Colour Contrast Analysis'!DB4)-1) &\" combination\" & IF('Colour Contrast Analysis'!DB4=\"1 Fault\",\"\",\"s\") & \" of foreground and background colours do\" & IF('Colour Contrast Analysis'!DB4=\"1 Fault\",\"es\",\"\") & \" not have sufficient contrast. Please see the Colour Contrast Analysis worksheet.\")","v":""},{"$f":"IF('Colour Contrast Analysis'!DC4=\"0 Faults\",\"\",LEFT('Colour Contrast Analysis'!DC4,FIND(\" \",'Colour Contrast Analysis'!DC4)-1) &\" combination\" & IF('Colour Contrast Analysis'!DC4=\"1 Fault\",\"\",\"s\") & \" of foreground and background colours do\" & IF('Colour Contrast Analysis'!DC4=\"1 Fault\",\"es\",\"\") & \" not have sufficient contrast. Please see the Colour Contrast Analysis worksheet.\")","v":""},{"$f":"IF('Colour Contrast Analysis'!DD4=\"0 Faults\",\"\",LEFT('Colour Contrast Analysis'!DD4,FIND(\" \",'Colour Contrast Analysis'!DD4)-1) &\" combination\" & IF('Colour Contrast Analysis'!DD4=\"1 Fault\",\"\",\"s\") & \" of foreground and background colours do\" & IF('Colour Contrast Analysis'!DD4=\"1 Fault\",\"es\",\"\") & \" not have sufficient contrast. Please see the Colour Contrast Analysis worksheet.\")","v":""},{"$f":"IF('Colour Contrast Analysis'!DE4=\"0 Faults\",\"\",LEFT('Colour Contrast Analysis'!DE4,FIND(\" \",'Colour Contrast Analysis'!DE4)-1) &\" combination\" & IF('Colour Contrast Analysis'!DE4=\"1 Fault\",\"\",\"s\") & \" of foreground and background colours do\" & IF('Colour Contrast Analysis'!DE4=\"1 Fault\",\"es\",\"\") & \" not have sufficient contrast. Please see the Colour Contrast Analysis worksheet.\")","v":""},{"$f":"IF('Colour Contrast Analysis'!DF4=\"0 Faults\",\"\",LEFT('Colour Contrast Analysis'!DF4,FIND(\" \",'Colour Contrast Analysis'!DF4)-1) &\" combination\" & IF('Colour Contrast Analysis'!DF4=\"1 Fault\",\"\",\"s\") & \" of foreground and background colours do\" & IF('Colour Contrast Analysis'!DF4=\"1 Fault\",\"es\",\"\") & \" not have sufficient contrast. Please see the Colour Contrast Analysis worksheet.\")","v":""},{"$f":"IF('Colour Contrast Analysis'!DG4=\"0 Faults\",\"\",LEFT('Colour Contrast Analysis'!DG4,FIND(\" \",'Colour Contrast Analysis'!DG4)-1) &\" combination\" & IF('Colour Contrast Analysis'!DG4=\"1 Fault\",\"\",\"s\") & \" of foreground and background colours do\" & IF('Colour Contrast Analysis'!DG4=\"1 Fault\",\"es\",\"\") & \" not have sufficient contrast. Please see the Colour Contrast Analysis worksheet.\")","v":""},{"$f":"IF('Colour Contrast Analysis'!DH4=\"0 Faults\",\"\",LEFT('Colour Contrast Analysis'!DH4,FIND(\" \",'Colour Contrast Analysis'!DH4)-1) &\" combination\" & IF('Colour Contrast Analysis'!DH4=\"1 Fault\",\"\",\"s\") & \" of foreground and background colours do\" & IF('Colour Contrast Analysis'!DH4=\"1 Fault\",\"es\",\"\") & \" not have sufficient contrast. Please see the Colour Contrast Analysis worksheet.\")","v":""},{"$f":"IF('Colour Contrast Analysis'!DI4=\"0 Faults\",\"\",LEFT('Colour Contrast Analysis'!DI4,FIND(\" \",'Colour Contrast Analysis'!DI4)-1) &\" combination\" & IF('Colour Contrast Analysis'!DI4=\"1 Fault\",\"\",\"s\") & \" of foreground and background colours do\" & IF('Colour Contrast Analysis'!DI4=\"1 Fault\",\"es\",\"\") & \" not have sufficient contrast. Please see the Colour Contrast Analysis worksheet.\")","v":""},{"$f":"IF('Colour Contrast Analysis'!DJ4=\"0 Faults\",\"\",LEFT('Colour Contrast Analysis'!DJ4,FIND(\" \",'Colour Contrast Analysis'!DJ4)-1) &\" combination\" & IF('Colour Contrast Analysis'!DJ4=\"1 Fault\",\"\",\"s\") & \" of foreground and background colours do\" & IF('Colour Contrast Analysis'!DJ4=\"1 Fault\",\"es\",\"\") & \" not have sufficient contrast. Please see the Colour Contrast Analysis worksheet.\")","v":""},{"$f":"IF('Colour Contrast Analysis'!DK4=\"0 Faults\",\"\",LEFT('Colour Contrast Analysis'!DK4,FIND(\" \",'Colour Contrast Analysis'!DK4)-1) &\" combination\" & IF('Colour Contrast Analysis'!DK4=\"1 Fault\",\"\",\"s\") & \" of foreground and background colours do\" & IF('Colour Contrast Analysis'!DK4=\"1 Fault\",\"es\",\"\") & \" not have sufficient contrast. Please see the Colour Contrast Analysis worksheet.\")","v":""},{"$f":"IF('Colour Contrast Analysis'!DL4=\"0 Faults\",\"\",LEFT('Colour Contrast Analysis'!DL4,FIND(\" \",'Colour Contrast Analysis'!DL4)-1) &\" combination\" & IF('Colour Contrast Analysis'!DL4=\"1 Fault\",\"\",\"s\") & \" of foreground and background colours do\" & IF('Colour Contrast Analysis'!DL4=\"1 Fault\",\"es\",\"\") & \" not have sufficient contrast. Please see the Colour Contrast Analysis worksheet.\")","v":""},{"$f":"IF('Colour Contrast Analysis'!DM4=\"0 Faults\",\"\",LEFT('Colour Contrast Analysis'!DM4,FIND(\" \",'Colour Contrast Analysis'!DM4)-1) &\" combination\" & IF('Colour Contrast Analysis'!DM4=\"1 Fault\",\"\",\"s\") & \" of foreground and background colours do\" & IF('Colour Contrast Analysis'!DM4=\"1 Fault\",\"es\",\"\") & \" not have sufficient contrast. Please see the Colour Contrast Analysis worksheet.\")","v":""},{"$f":"IF('Colour Contrast Analysis'!DN4=\"0 Faults\",\"\",LEFT('Colour Contrast Analysis'!DN4,FIND(\" \",'Colour Contrast Analysis'!DN4)-1) &\" combination\" & IF('Colour Contrast Analysis'!DN4=\"1 Fault\",\"\",\"s\") & \" of foreground and background colours do\" & IF('Colour Contrast Analysis'!DN4=\"1 Fault\",\"es\",\"\") & \" not have sufficient contrast. Please see the Colour Contrast Analysis worksheet.\")","v":""},{"$f":"IF('Colour Contrast Analysis'!DO4=\"0 Faults\",\"\",LEFT('Colour Contrast Analysis'!DO4,FIND(\" \",'Colour Contrast Analysis'!DO4)-1) &\" combination\" & IF('Colour Contrast Analysis'!DO4=\"1 Fault\",\"\",\"s\") & \" of foreground and background colours do\" & IF('Colour Contrast Analysis'!DO4=\"1 Fault\",\"es\",\"\") & \" not have sufficient contrast. Please see the Colour Contrast Analysis worksheet.\")","v":""},{"$f":"IF('Colour Contrast Analysis'!DP4=\"0 Faults\",\"\",LEFT('Colour Contrast Analysis'!DP4,FIND(\" \",'Colour Contrast Analysis'!DP4)-1) &\" combination\" & IF('Colour Contrast Analysis'!DP4=\"1 Fault\",\"\",\"s\") & \" of foreground and background colours do\" & IF('Colour Contrast Analysis'!DP4=\"1 Fault\",\"es\",\"\") & \" not have sufficient contrast. Please see the Colour Contrast Analysis worksheet.\")","v":""},{"$f":"IF('Colour Contrast Analysis'!DQ4=\"0 Faults\",\"\",LEFT('Colour Contrast Analysis'!DQ4,FIND(\" \",'Colour Contrast Analysis'!DQ4)-1) &\" combination\" & IF('Colour Contrast Analysis'!DQ4=\"1 Fault\",\"\",\"s\") & \" of foreground and background colours do\" & IF('Colour Contrast Analysis'!DQ4=\"1 Fault\",\"es\",\"\") & \" not have sufficient contrast. Please see the Colour Contrast Analysis worksheet.\")","v":""},{"$f":"IF('Colour Contrast Analysis'!DR4=\"0 Faults\",\"\",LEFT('Colour Contrast Analysis'!DR4,FIND(\" \",'Colour Contrast Analysis'!DR4)-1) &\" combination\" & IF('Colour Contrast Analysis'!DR4=\"1 Fault\",\"\",\"s\") & \" of foreground and background colours do\" & IF('Colour Contrast Analysis'!DR4=\"1 Fault\",\"es\",\"\") & \" not have sufficient contrast. Please see the Colour Contrast Analysis worksheet.\")","v":""},{"$f":"IF('Colour Contrast Analysis'!DS4=\"0 Faults\",\"\",LEFT('Colour Contrast Analysis'!DS4,FIND(\" \",'Colour Contrast Analysis'!DS4)-1) &\" combination\" & IF('Colour Contrast Analysis'!DS4=\"1 Fault\",\"\",\"s\") & \" of foreground and background colours do\" & IF('Colour Contrast Analysis'!DS4=\"1 Fault\",\"es\",\"\") & \" not have sufficient contrast. Please see the Colour Contrast Analysis worksheet.\")","v":""},{"$f":"IF('Colour Contrast Analysis'!DT4=\"0 Faults\",\"\",LEFT('Colour Contrast Analysis'!DT4,FIND(\" \",'Colour Contrast Analysis'!DT4)-1) &\" combination\" & IF('Colour Contrast Analysis'!DT4=\"1 Fault\",\"\",\"s\") & \" of foreground and background colours do\" & IF('Colour Contrast Analysis'!DT4=\"1 Fault\",\"es\",\"\") & \" not have sufficient contrast. Please see the Colour Contrast Analysis worksheet.\")","v":""},{"$f":"IF('Colour Contrast Analysis'!DU4=\"0 Faults\",\"\",LEFT('Colour Contrast Analysis'!DU4,FIND(\" \",'Colour Contrast Analysis'!DU4)-1) &\" combination\" & IF('Colour Contrast Analysis'!DU4=\"1 Fault\",\"\",\"s\") & \" of foreground and background colours do\" & IF('Colour Contrast Analysis'!DU4=\"1 Fault\",\"es\",\"\") & \" not have sufficient contrast. Please see the Colour Contrast Analysis worksheet.\")","v":""},{"$f":"IF('Colour Contrast Analysis'!DV4=\"0 Faults\",\"\",LEFT('Colour Contrast Analysis'!DV4,FIND(\" \",'Colour Contrast Analysis'!DV4)-1) &\" combination\" & IF('Colour Contrast Analysis'!DV4=\"1 Fault\",\"\",\"s\") & \" of foreground and background colours do\" & IF('Colour Contrast Analysis'!DV4=\"1 Fault\",\"es\",\"\") & \" not have sufficient contrast. Please see the Colour Contrast Analysis worksheet.\")","v":""},{"$f":"IF('Colour Contrast Analysis'!DW4=\"0 Faults\",\"\",LEFT('Colour Contrast Analysis'!DW4,FIND(\" \",'Colour Contrast Analysis'!DW4)-1) &\" combination\" & IF('Colour Contrast Analysis'!DW4=\"1 Fault\",\"\",\"s\") & \" of foreground and background colours do\" & IF('Colour Contrast Analysis'!DW4=\"1 Fault\",\"es\",\"\") & \" not have sufficient contrast. Please see the Colour Contrast Analysis worksheet.\")","v":""},{"$f":"IF('Colour Contrast Analysis'!DX4=\"0 Faults\",\"\",LEFT('Colour Contrast Analysis'!DX4,FIND(\" \",'Colour Contrast Analysis'!DX4)-1) &\" combination\" & IF('Colour Contrast Analysis'!DX4=\"1 Fault\",\"\",\"s\") & \" of foreground and background colours do\" & IF('Colour Contrast Analysis'!DX4=\"1 Fault\",\"es\",\"\") & \" not have sufficient contrast. Please see the Colour Contrast Analysis worksheet.\")","v":""},{"$f":"IF('Colour Contrast Analysis'!DY4=\"0 Faults\",\"\",LEFT('Colour Contrast Analysis'!DY4,FIND(\" \",'Colour Contrast Analysis'!DY4)-1) &\" combination\" & IF('Colour Contrast Analysis'!DY4=\"1 Fault\",\"\",\"s\") & \" of foreground and background colours do\" & IF('Colour Contrast Analysis'!DY4=\"1 Fault\",\"es\",\"\") & \" not have sufficient contrast. Please see the Colour Contrast Analysis worksheet.\")","v":""},{"$f":"IF('Colour Contrast Analysis'!DZ4=\"0 Faults\",\"\",LEFT('Colour Contrast Analysis'!DZ4,FIND(\" \",'Colour Contrast Analysis'!DZ4)-1) &\" combination\" & IF('Colour Contrast Analysis'!DZ4=\"1 Fault\",\"\",\"s\") & \" of foreground and background colours do\" & IF('Colour Contrast Analysis'!DZ4=\"1 Fault\",\"es\",\"\") & \" not have sufficient contrast. Please see the Colour Contrast Analysis worksheet.\")","v":""},{"$f":"IF('Colour Contrast Analysis'!EA4=\"0 Faults\",\"\",LEFT('Colour Contrast Analysis'!EA4,FIND(\" \",'Colour Contrast Analysis'!EA4)-1) &\" combination\" & IF('Colour Contrast Analysis'!EA4=\"1 Fault\",\"\",\"s\") & \" of foreground and background colours do\" & IF('Colour Contrast Analysis'!EA4=\"1 Fault\",\"es\",\"\") & \" not have sufficient contrast. Please see the Colour Contrast Analysis worksheet.\")","v":""},{"$f":"IF('Colour Contrast Analysis'!EB4=\"0 Faults\",\"\",LEFT('Colour Contrast Analysis'!EB4,FIND(\" \",'Colour Contrast Analysis'!EB4)-1) &\" combination\" & IF('Colour Contrast Analysis'!EB4=\"1 Fault\",\"\",\"s\") & \" of foreground and background colours do\" & IF('Colour Contrast Analysis'!EB4=\"1 Fault\",\"es\",\"\") & \" not have sufficient contrast. Please see the Colour Contrast Analysis worksheet.\")","v":""},{"$f":"IF('Colour Contrast Analysis'!EC4=\"0 Faults\",\"\",LEFT('Colour Contrast Analysis'!EC4,FIND(\" \",'Colour Contrast Analysis'!EC4)-1) &\" combination\" & IF('Colour Contrast Analysis'!EC4=\"1 Fault\",\"\",\"s\") & \" of foreground and background colours do\" & IF('Colour Contrast Analysis'!EC4=\"1 Fault\",\"es\",\"\") & \" not have sufficient contrast. Please see the Colour Contrast Analysis worksheet.\")","v":""},{"$f":"IF('Colour Contrast Analysis'!ED4=\"0 Faults\",\"\",LEFT('Colour Contrast Analysis'!ED4,FIND(\" \",'Colour Contrast Analysis'!ED4)-1) &\" combination\" & IF('Colour Contrast Analysis'!ED4=\"1 Fault\",\"\",\"s\") & \" of foreground and background colours do\" & IF('Colour Contrast Analysis'!ED4=\"1 Fault\",\"es\",\"\") & \" not have sufficient contrast. Please see the Colour Contrast Analysis worksheet.\")","v":""},{"$f":"IF('Colour Contrast Analysis'!EE4=\"0 Faults\",\"\",LEFT('Colour Contrast Analysis'!EE4,FIND(\" \",'Colour Contrast Analysis'!EE4)-1) &\" combination\" & IF('Colour Contrast Analysis'!EE4=\"1 Fault\",\"\",\"s\") & \" of foreground and background colours do\" & IF('Colour Contrast Analysis'!EE4=\"1 Fault\",\"es\",\"\") & \" not have sufficient contrast. Please see the Colour Contrast Analysis worksheet.\")","v":""},{"$f":"IF('Colour Contrast Analysis'!EF4=\"0 Faults\",\"\",LEFT('Colour Contrast Analysis'!EF4,FIND(\" \",'Colour Contrast Analysis'!EF4)-1) &\" combination\" & IF('Colour Contrast Analysis'!EF4=\"1 Fault\",\"\",\"s\") & \" of foreground and background colours do\" & IF('Colour Contrast Analysis'!EF4=\"1 Fault\",\"es\",\"\") & \" not have sufficient contrast. Please see the Colour Contrast Analysis worksheet.\")","v":""},{"$f":"IF('Colour Contrast Analysis'!EG4=\"0 Faults\",\"\",LEFT('Colour Contrast Analysis'!EG4,FIND(\" \",'Colour Contrast Analysis'!EG4)-1) &\" combination\" & IF('Colour Contrast Analysis'!EG4=\"1 Fault\",\"\",\"s\") & \" of foreground and background colours do\" & IF('Colour Contrast Analysis'!EG4=\"1 Fault\",\"es\",\"\") & \" not have sufficient contrast. Please see the Colour Contrast Analysis worksheet.\")","v":""},{"$f":"IF('Colour Contrast Analysis'!EH4=\"0 Faults\",\"\",LEFT('Colour Contrast Analysis'!EH4,FIND(\" \",'Colour Contrast Analysis'!EH4)-1) &\" combination\" & IF('Colour Contrast Analysis'!EH4=\"1 Fault\",\"\",\"s\") & \" of foreground and background colours do\" & IF('Colour Contrast Analysis'!EH4=\"1 Fault\",\"es\",\"\") & \" not have sufficient contrast. Please see the Colour Contrast Analysis worksheet.\")","v":""},{"$f":"IF('Colour Contrast Analysis'!EI4=\"0 Faults\",\"\",LEFT('Colour Contrast Analysis'!EI4,FIND(\" \",'Colour Contrast Analysis'!EI4)-1) &\" combination\" & IF('Colour Contrast Analysis'!EI4=\"1 Fault\",\"\",\"s\") & \" of foreground and background colours do\" & IF('Colour Contrast Analysis'!EI4=\"1 Fault\",\"es\",\"\") & \" not have sufficient contrast. Please see the Colour Contrast Analysis worksheet.\")","v":""},{"$f":"IF('Colour Contrast Analysis'!EJ4=\"0 Faults\",\"\",LEFT('Colour Contrast Analysis'!EJ4,FIND(\" \",'Colour Contrast Analysis'!EJ4)-1) &\" combination\" & IF('Colour Contrast Analysis'!EJ4=\"1 Fault\",\"\",\"s\") & \" of foreground and background colours do\" & IF('Colour Contrast Analysis'!EJ4=\"1 Fault\",\"es\",\"\") & \" not have sufficient contrast. Please see the Colour Contrast Analysis worksheet.\")","v":""},{"$f":"IF('Colour Contrast Analysis'!EK4=\"0 Faults\",\"\",LEFT('Colour Contrast Analysis'!EK4,FIND(\" \",'Colour Contrast Analysis'!EK4)-1) &\" combination\" & IF('Colour Contrast Analysis'!EK4=\"1 Fault\",\"\",\"s\") & \" of foreground and background colours do\" & IF('Colour Contrast Analysis'!EK4=\"1 Fault\",\"es\",\"\") & \" not have sufficient contrast. Please see the Colour Contrast Analysis worksheet.\")","v":""},{"$f":"IF('Colour Contrast Analysis'!EL4=\"0 Faults\",\"\",LEFT('Colour Contrast Analysis'!EL4,FIND(\" \",'Colour Contrast Analysis'!EL4)-1) &\" combination\" & IF('Colour Contrast Analysis'!EL4=\"1 Fault\",\"\",\"s\") & \" of foreground and background colours do\" & IF('Colour Contrast Analysis'!EL4=\"1 Fault\",\"es\",\"\") & \" not have sufficient contrast. Please see the Colour Contrast Analysis worksheet.\")","v":""},{"$f":"IF('Colour Contrast Analysis'!EM4=\"0 Faults\",\"\",LEFT('Colour Contrast Analysis'!EM4,FIND(\" \",'Colour Contrast Analysis'!EM4)-1) &\" combination\" & IF('Colour Contrast Analysis'!EM4=\"1 Fault\",\"\",\"s\") & \" of foreground and background colours do\" & IF('Colour Contrast Analysis'!EM4=\"1 Fault\",\"es\",\"\") & \" not have sufficient contrast. Please see the Colour Contrast Analysis worksheet.\")","v":""},{"$f":"IF('Colour Contrast Analysis'!EN4=\"0 Faults\",\"\",LEFT('Colour Contrast Analysis'!EN4,FIND(\" \",'Colour Contrast Analysis'!EN4)-1) &\" combination\" & IF('Colour Contrast Analysis'!EN4=\"1 Fault\",\"\",\"s\") & \" of foreground and background colours do\" & IF('Colour Contrast Analysis'!EN4=\"1 Fault\",\"es\",\"\") & \" not have sufficient contrast. Please see the Colour Contrast Analysis worksheet.\")","v":""},{"$f":"IF('Colour Contrast Analysis'!EO4=\"0 Faults\",\"\",LEFT('Colour Contrast Analysis'!EO4,FIND(\" \",'Colour Contrast Analysis'!EO4)-1) &\" combination\" & IF('Colour Contrast Analysis'!EO4=\"1 Fault\",\"\",\"s\") & \" of foreground and background colours do\" & IF('Colour Contrast Analysis'!EO4=\"1 Fault\",\"es\",\"\") & \" not have sufficient contrast. Please see the Colour Contrast Analysis worksheet.\")","v":""},{"$f":"IF('Colour Contrast Analysis'!EP4=\"0 Faults\",\"\",LEFT('Colour Contrast Analysis'!EP4,FIND(\" \",'Colour Contrast Analysis'!EP4)-1) &\" combination\" & IF('Colour Contrast Analysis'!EP4=\"1 Fault\",\"\",\"s\") & \" of foreground and background colours do\" & IF('Colour Contrast Analysis'!EP4=\"1 Fault\",\"es\",\"\") & \" not have sufficient contrast. Please see the Colour Contrast Analysis worksheet.\")","v":""},{"$f":"IF('Colour Contrast Analysis'!EQ4=\"0 Faults\",\"\",LEFT('Colour Contrast Analysis'!EQ4,FIND(\" \",'Colour Contrast Analysis'!EQ4)-1) &\" combination\" & IF('Colour Contrast Analysis'!EQ4=\"1 Fault\",\"\",\"s\") & \" of foreground and background colours do\" & IF('Colour Contrast Analysis'!EQ4=\"1 Fault\",\"es\",\"\") & \" not have sufficient contrast. Please see the Colour Contrast Analysis worksheet.\")","v":""},{"$f":"IF('Colour Contrast Analysis'!ER4=\"0 Faults\",\"\",LEFT('Colour Contrast Analysis'!ER4,FIND(\" \",'Colour Contrast Analysis'!ER4)-1) &\" combination\" & IF('Colour Contrast Analysis'!ER4=\"1 Fault\",\"\",\"s\") & \" of foreground and background colours do\" & IF('Colour Contrast Analysis'!ER4=\"1 Fault\",\"es\",\"\") & \" not have sufficient contrast. Please see the Colour Contrast Analysis worksheet.\")","v":""},{"$f":"IF('Colour Contrast Analysis'!ES4=\"0 Faults\",\"\",LEFT('Colour Contrast Analysis'!ES4,FIND(\" \",'Colour Contrast Analysis'!ES4)-1) &\" combination\" & IF('Colour Contrast Analysis'!ES4=\"1 Fault\",\"\",\"s\") & \" of foreground and background colours do\" & IF('Colour Contrast Analysis'!ES4=\"1 Fault\",\"es\",\"\") & \" not have sufficient contrast. Please see the Colour Contrast Analysis worksheet.\")","v":""},{"$f":"IF('Colour Contrast Analysis'!ET4=\"0 Faults\",\"\",LEFT('Colour Contrast Analysis'!ET4,FIND(\" \",'Colour Contrast Analysis'!ET4)-1) &\" combination\" & IF('Colour Contrast Analysis'!ET4=\"1 Fault\",\"\",\"s\") & \" of foreground and background colours do\" & IF('Colour Contrast Analysis'!ET4=\"1 Fault\",\"es\",\"\") & \" not have sufficient contrast. Please see the Colour Contrast Analysis worksheet.\")","v":""},{"$f":"IF('Colour Contrast Analysis'!EU4=\"0 Faults\",\"\",LEFT('Colour Contrast Analysis'!EU4,FIND(\" \",'Colour Contrast Analysis'!EU4)-1) &\" combination\" & IF('Colour Contrast Analysis'!EU4=\"1 Fault\",\"\",\"s\") & \" of foreground and background colours do\" & IF('Colour Contrast Analysis'!EU4=\"1 Fault\",\"es\",\"\") & \" not have sufficient contrast. Please see the Colour Contrast Analysis worksheet.\")","v":""},{"$f":"IF('Colour Contrast Analysis'!EV4=\"0 Faults\",\"\",LEFT('Colour Contrast Analysis'!EV4,FIND(\" \",'Colour Contrast Analysis'!EV4)-1) &\" combination\" & IF('Colour Contrast Analysis'!EV4=\"1 Fault\",\"\",\"s\") & \" of foreground and background colours do\" & IF('Colour Contrast Analysis'!EV4=\"1 Fault\",\"es\",\"\") & \" not have sufficient contrast. Please see the Colour Contrast Analysis worksheet.\")","v":""},{"$f":"IF('Colour Contrast Analysis'!EW4=\"0 Faults\",\"\",LEFT('Colour Contrast Analysis'!EW4,FIND(\" \",'Colour Contrast Analysis'!EW4)-1) &\" combination\" & IF('Colour Contrast Analysis'!EW4=\"1 Fault\",\"\",\"s\") & \" of foreground and background colours do\" & IF('Colour Contrast Analysis'!EW4=\"1 Fault\",\"es\",\"\") & \" not have sufficient contrast. Please see the Colour Contrast Analysis worksheet.\")","v":""},{"$f":"IF('Colour Contrast Analysis'!EX4=\"0 Faults\",\"\",LEFT('Colour Contrast Analysis'!EX4,FIND(\" \",'Colour Contrast Analysis'!EX4)-1) &\" combination\" & IF('Colour Contrast Analysis'!EX4=\"1 Fault\",\"\",\"s\") & \" of foreground and background colours do\" & IF('Colour Contrast Analysis'!EX4=\"1 Fault\",\"es\",\"\") & \" not have sufficient contrast. Please see the Colour Contrast Analysis worksheet.\")","v":""},{"$f":"IF('Colour Contrast Analysis'!EY4=\"0 Faults\",\"\",LEFT('Colour Contrast Analysis'!EY4,FIND(\" \",'Colour Contrast Analysis'!EY4)-1) &\" combination\" & IF('Colour Contrast Analysis'!EY4=\"1 Fault\",\"\",\"s\") & \" of foreground and background colours do\" & IF('Colour Contrast Analysis'!EY4=\"1 Fault\",\"es\",\"\") & \" not have sufficient contrast. Please see the Colour Contrast Analysis worksheet.\")","v":""},{"$f":"IF('Colour Contrast Analysis'!EZ4=\"0 Faults\",\"\",LEFT('Colour Contrast Analysis'!EZ4,FIND(\" \",'Colour Contrast Analysis'!EZ4)-1) &\" combination\" & IF('Colour Contrast Analysis'!EZ4=\"1 Fault\",\"\",\"s\") & \" of foreground and background colours do\" & IF('Colour Contrast Analysis'!EZ4=\"1 Fault\",\"es\",\"\") & \" not have sufficient contrast. Please see the Colour Contrast Analysis worksheet.\")","v":""},{"$f":"IF('Colour Contrast Analysis'!FA4=\"0 Faults\",\"\",LEFT('Colour Contrast Analysis'!FA4,FIND(\" \",'Colour Contrast Analysis'!FA4)-1) &\" combination\" & IF('Colour Contrast Analysis'!FA4=\"1 Fault\",\"\",\"s\") & \" of foreground and background colours do\" & IF('Colour Contrast Analysis'!FA4=\"1 Fault\",\"es\",\"\") & \" not have sufficient contrast. Please see the Colour Contrast Analysis worksheet.\")","v":""},{"$f":"IF('Colour Contrast Analysis'!FB4=\"0 Faults\",\"\",LEFT('Colour Contrast Analysis'!FB4,FIND(\" \",'Colour Contrast Analysis'!FB4)-1) &\" combination\" & IF('Colour Contrast Analysis'!FB4=\"1 Fault\",\"\",\"s\") & \" of foreground and background colours do\" & IF('Colour Contrast Analysis'!FB4=\"1 Fault\",\"es\",\"\") & \" not have sufficient contrast. Please see the Colour Contrast Analysis worksheet.\")","v":""},{"$f":"IF('Colour Contrast Analysis'!FC4=\"0 Faults\",\"\",LEFT('Colour Contrast Analysis'!FC4,FIND(\" \",'Colour Contrast Analysis'!FC4)-1) &\" combination\" & IF('Colour Contrast Analysis'!FC4=\"1 Fault\",\"\",\"s\") & \" of foreground and background colours do\" & IF('Colour Contrast Analysis'!FC4=\"1 Fault\",\"es\",\"\") & \" not have sufficient contrast. Please see the Colour Contrast Analysis worksheet.\")","v":""},{"$f":"IF('Colour Contrast Analysis'!FD4=\"0 Faults\",\"\",LEFT('Colour Contrast Analysis'!FD4,FIND(\" \",'Colour Contrast Analysis'!FD4)-1) &\" combination\" & IF('Colour Contrast Analysis'!FD4=\"1 Fault\",\"\",\"s\") & \" of foreground and background colours do\" & IF('Colour Contrast Analysis'!FD4=\"1 Fault\",\"es\",\"\") & \" not have sufficient contrast. Please see the Colour Contrast Analysis worksheet.\")","v":""},{"$f":"IF('Colour Contrast Analysis'!FE4=\"0 Faults\",\"\",LEFT('Colour Contrast Analysis'!FE4,FIND(\" \",'Colour Contrast Analysis'!FE4)-1) &\" combination\" & IF('Colour Contrast Analysis'!FE4=\"1 Fault\",\"\",\"s\") & \" of foreground and background colours do\" & IF('Colour Contrast Analysis'!FE4=\"1 Fault\",\"es\",\"\") & \" not have sufficient contrast. Please see the Colour Contrast Analysis worksheet.\")","v":""},{"$f":"IF('Colour Contrast Analysis'!FF4=\"0 Faults\",\"\",LEFT('Colour Contrast Analysis'!FF4,FIND(\" \",'Colour Contrast Analysis'!FF4)-1) &\" combination\" & IF('Colour Contrast Analysis'!FF4=\"1 Fault\",\"\",\"s\") & \" of foreground and background colours do\" & IF('Colour Contrast Analysis'!FF4=\"1 Fault\",\"es\",\"\") & \" not have sufficient contrast. Please see the Colour Contrast Analysis worksheet.\")","v":""},{"$f":"IF('Colour Contrast Analysis'!FG4=\"0 Faults\",\"\",LEFT('Colour Contrast Analysis'!FG4,FIND(\" \",'Colour Contrast Analysis'!FG4)-1) &\" combination\" & IF('Colour Contrast Analysis'!FG4=\"1 Fault\",\"\",\"s\") & \" of foreground and background colours do\" & IF('Colour Contrast Analysis'!FG4=\"1 Fault\",\"es\",\"\") & \" not have sufficient contrast. Please see the Colour Contrast Analysis worksheet.\")","v":""},{"$f":"IF('Colour Contrast Analysis'!FH4=\"0 Faults\",\"\",LEFT('Colour Contrast Analysis'!FH4,FIND(\" \",'Colour Contrast Analysis'!FH4)-1) &\" combination\" & IF('Colour Contrast Analysis'!FH4=\"1 Fault\",\"\",\"s\") & \" of foreground and background colours do\" & IF('Colour Contrast Analysis'!FH4=\"1 Fault\",\"es\",\"\") & \" not have sufficient contrast. Please see the Colour Contrast Analysis worksheet.\")","v":""},{"$f":"IF('Colour Contrast Analysis'!FI4=\"0 Faults\",\"\",LEFT('Colour Contrast Analysis'!FI4,FIND(\" \",'Colour Contrast Analysis'!FI4)-1) &\" combination\" & IF('Colour Contrast Analysis'!FI4=\"1 Fault\",\"\",\"s\") & \" of foreground and background colours do\" & IF('Colour Contrast Analysis'!FI4=\"1 Fault\",\"es\",\"\") & \" not have sufficient contrast. Please see the Colour Contrast Analysis worksheet.\")","v":""},{"$f":"IF('Colour Contrast Analysis'!FJ4=\"0 Faults\",\"\",LEFT('Colour Contrast Analysis'!FJ4,FIND(\" \",'Colour Contrast Analysis'!FJ4)-1) &\" combination\" & IF('Colour Contrast Analysis'!FJ4=\"1 Fault\",\"\",\"s\") & \" of foreground and background colours do\" & IF('Colour Contrast Analysis'!FJ4=\"1 Fault\",\"es\",\"\") & \" not have sufficient contrast. Please see the Colour Contrast Analysis worksheet.\")","v":""},{"$f":"IF('Colour Contrast Analysis'!FK4=\"0 Faults\",\"\",LEFT('Colour Contrast Analysis'!FK4,FIND(\" \",'Colour Contrast Analysis'!FK4)-1) &\" combination\" & IF('Colour Contrast Analysis'!FK4=\"1 Fault\",\"\",\"s\") & \" of foreground and background colours do\" & IF('Colour Contrast Analysis'!FK4=\"1 Fault\",\"es\",\"\") & \" not have sufficient contrast. Please see the Colour Contrast Analysis worksheet.\")","v":""},{"$f":"IF('Colour Contrast Analysis'!FL4=\"0 Faults\",\"\",LEFT('Colour Contrast Analysis'!FL4,FIND(\" \",'Colour Contrast Analysis'!FL4)-1) &\" combination\" & IF('Colour Contrast Analysis'!FL4=\"1 Fault\",\"\",\"s\") & \" of foreground and background colours do\" & IF('Colour Contrast Analysis'!FL4=\"1 Fault\",\"es\",\"\") & \" not have sufficient contrast. Please see the Colour Contrast Analysis worksheet.\")","v":""},{"$f":"IF('Colour Contrast Analysis'!FM4=\"0 Faults\",\"\",LEFT('Colour Contrast Analysis'!FM4,FIND(\" \",'Colour Contrast Analysis'!FM4)-1) &\" combination\" & IF('Colour Contrast Analysis'!FM4=\"1 Fault\",\"\",\"s\") & \" of foreground and background colours do\" & IF('Colour Contrast Analysis'!FM4=\"1 Fault\",\"es\",\"\") & \" not have sufficient contrast. Please see the Colour Contrast Analysis worksheet.\")","v":""},{"$f":"IF('Colour Contrast Analysis'!FN4=\"0 Faults\",\"\",LEFT('Colour Contrast Analysis'!FN4,FIND(\" \",'Colour Contrast Analysis'!FN4)-1) &\" combination\" & IF('Colour Contrast Analysis'!FN4=\"1 Fault\",\"\",\"s\") & \" of foreground and background colours do\" & IF('Colour Contrast Analysis'!FN4=\"1 Fault\",\"es\",\"\") & \" not have sufficient contrast. Please see the Colour Contrast Analysis worksheet.\")","v":""},{"$f":"IF('Colour Contrast Analysis'!FO4=\"0 Faults\",\"\",LEFT('Colour Contrast Analysis'!FO4,FIND(\" \",'Colour Contrast Analysis'!FO4)-1) &\" combination\" & IF('Colour Contrast Analysis'!FO4=\"1 Fault\",\"\",\"s\") & \" of foreground and background colours do\" & IF('Colour Contrast Analysis'!FO4=\"1 Fault\",\"es\",\"\") & \" not have sufficient contrast. Please see the Colour Contrast Analysis worksheet.\")","v":""},{"$f":"IF('Colour Contrast Analysis'!FP4=\"0 Faults\",\"\",LEFT('Colour Contrast Analysis'!FP4,FIND(\" \",'Colour Contrast Analysis'!FP4)-1) &\" combination\" & IF('Colour Contrast Analysis'!FP4=\"1 Fault\",\"\",\"s\") & \" of foreground and background colours do\" & IF('Colour Contrast Analysis'!FP4=\"1 Fault\",\"es\",\"\") & \" not have sufficient contrast. Please see the Colour Contrast Analysis worksheet.\")","v":""},{"$f":"IF('Colour Contrast Analysis'!FQ4=\"0 Faults\",\"\",LEFT('Colour Contrast Analysis'!FQ4,FIND(\" \",'Colour Contrast Analysis'!FQ4)-1) &\" combination\" & IF('Colour Contrast Analysis'!FQ4=\"1 Fault\",\"\",\"s\") & \" of foreground and background colours do\" & IF('Colour Contrast Analysis'!FQ4=\"1 Fault\",\"es\",\"\") & \" not have sufficient contrast. Please see the Colour Contrast Analysis worksheet.\")","v":""},{"$f":"IF('Colour Contrast Analysis'!FR4=\"0 Faults\",\"\",LEFT('Colour Contrast Analysis'!FR4,FIND(\" \",'Colour Contrast Analysis'!FR4)-1) &\" combination\" & IF('Colour Contrast Analysis'!FR4=\"1 Fault\",\"\",\"s\") & \" of foreground and background colours do\" & IF('Colour Contrast Analysis'!FR4=\"1 Fault\",\"es\",\"\") & \" not have sufficient contrast. Please see the Colour Contrast Analysis worksheet.\")","v":""},{"$f":"IF('Colour Contrast Analysis'!FS4=\"0 Faults\",\"\",LEFT('Colour Contrast Analysis'!FS4,FIND(\" \",'Colour Contrast Analysis'!FS4)-1) &\" combination\" & IF('Colour Contrast Analysis'!FS4=\"1 Fault\",\"\",\"s\") & \" of foreground and background colours do\" & IF('Colour Contrast Analysis'!FS4=\"1 Fault\",\"es\",\"\") & \" not have sufficient contrast. Please see the Colour Contrast Analysis worksheet.\")","v":""}]
[null,null,null,"Comments:",null,"DERP-5540","DERP-5540 and DERP-5541","DERP-5540"]
["1.4.4","AA","Resize Text","Except for captions and images of text, text can be resized without assistive technology up to 200 percent without loss of content or functionality.","PASS","PASS","PASS","PASS","PASS"]
[]
["1.4.5","AA","Images of Text","If the technologies being used can achieve the visual presentation, text is used to convey information rather than images of text except for the following:","PASS","PASS","PASS","PASS","PASS"]
[null,null,null,"\nCustomizable: The image of text can be visually customized to the user's requirements;\nEssential: A particular presentation of text is essential to the information being conveyed.\n"]
["1.4.10","AA","Reflow","Content can be presented without loss of information or functionality, and without requiring scrolling in two dimensions for:","PASS","PASS with comments","NON CONFORMANT","PASS","PASS"]
[null,null,null,"\nVertical scrolling content at a width equivalent to 320 CSS pixels;\nHorizontal scrolling content at a height equivalent to 256 CSS pixels.\nExcept for parts of the content which require two-dimensional layout for usage or meaning.",null,"If there are a lot of errors when the form is submitted, it can be difficult to see the whole of the error summary when scrolling up and down using a scrollwheel. However, it is possible to see the error summary by dragging the scrollbar up and down.","When viewing the table of submitted entries at 400% zoom, the thumbnail images are extremely small and may not be visible at all. The two images I had uploaded were displayed as 7px square and 0px square. DERP-5542"]
["1.4.11","AA","Non-text Contrast","The visual presentation of the following have a contrast ratio of at least 3:1 against adjacent colour(s):",{"$f":"IF('Non-text Contrast'!AA4=\"0 Faults\",\"PASS\",\"NON CONFORMANT\")","v":"PASS"},{"$f":"IF('Non-text Contrast'!AB4=\"0 Faults\",\"PASS\",\"NON CONFORMANT\")","v":"PASS"},{"$f":"IF('Non-text Contrast'!AC4=\"0 Faults\",\"PASS\",\"NON CONFORMANT\")","v":"NON CONFORMANT"},{"$f":"IF('Non-text Contrast'!AD4=\"0 Faults\",\"PASS\",\"NON CONFORMANT\")","v":"PASS"},{"$f":"IF('Non-text Contrast'!AE4=\"0 Faults\",\"PASS\",\"NON CONFORMANT\")","v":"PASS"},{"$f":"IF('Non-text Contrast'!AF4=\"0 Faults\",\"PASS\",\"NON CONFORMANT\")","v":"PASS"},{"$f":"IF('Non-text Contrast'!AG4=\"0 Faults\",\"PASS\",\"NON CONFORMANT\")","v":"PASS"},{"$f":"IF('Non-text Contrast'!AH4=\"0 Faults\",\"PASS\",\"NON CONFORMANT\")","v":"PASS"},{"$f":"IF('Non-text Contrast'!AI4=\"0 Faults\",\"PASS\",\"NON CONFORMANT\")","v":"PASS"},{"$f":"IF('Non-text Contrast'!AJ4=\"0 Faults\",\"PASS\",\"NON CONFORMANT\")","v":"PASS"},{"$f":"IF('Non-text Contrast'!AK4=\"0 Faults\",\"PASS\",\"NON CONFORMANT\")","v":"PASS"},{"$f":"IF('Non-text Contrast'!AL4=\"0 Faults\",\"PASS\",\"NON CONFORMANT\")","v":"PASS"},{"$f":"IF('Non-text Contrast'!AM4=\"0 Faults\",\"PASS\",\"NON CONFORMANT\")","v":"PASS"},{"$f":"IF('Non-text Contrast'!AN4=\"0 Faults\",\"PASS\",\"NON CONFORMANT\")","v":"PASS"},{"$f":"IF('Non-text Contrast'!AO4=\"0 Faults\",\"PASS\",\"NON CONFORMANT\")","v":"PASS"},{"$f":"IF('Non-text Contrast'!AP4=\"0 Faults\",\"PASS\",\"NON CONFORMANT\")","v":"PASS"},{"$f":"IF('Non-text Contrast'!AQ4=\"0 Faults\",\"PASS\",\"NON CONFORMANT\")","v":"PASS"},{"$f":"IF('Non-text Contrast'!AR4=\"0 Faults\",\"PASS\",\"NON CONFORMANT\")","v":"PASS"},{"$f":"IF('Non-text Contrast'!AS4=\"0 Faults\",\"PASS\",\"NON CONFORMANT\")","v":"PASS"},{"$f":"IF('Non-text Contrast'!AT4=\"0 Faults\",\"PASS\",\"NON CONFORMANT\")","v":"PASS"},{"$f":"IF('Non-text Contrast'!AU4=\"0 Faults\",\"PASS\",\"NON CONFORMANT\")","v":"PASS"},{"$f":"IF('Non-text Contrast'!AV4=\"0 Faults\",\"PASS\",\"NON CONFORMANT\")","v":"PASS"},{"$f":"IF('Non-text Contrast'!AW4=\"0 Faults\",\"PASS\",\"NON CONFORMANT\")","v":"PASS"},{"$f":"IF('Non-text Contrast'!AX4=\"0 Faults\",\"PASS\",\"NON CONFORMANT\")","v":"PASS"},{"$f":"IF('Non-text Contrast'!AY4=\"0 Faults\",\"PASS\",\"NON CONFORMANT\")","v":"PASS"},{"$f":"IF('Non-text Contrast'!AZ4=\"0 Faults\",\"PASS\",\"NON CONFORMANT\")","v":"PASS"},{"$f":"IF('Non-text Contrast'!BA4=\"0 Faults\",\"PASS\",\"NON CONFORMANT\")","v":"PASS"},{"$f":"IF('Non-text Contrast'!BB4=\"0 Faults\",\"PASS\",\"NON CONFORMANT\")","v":"PASS"},{"$f":"IF('Non-text Contrast'!BC4=\"0 Faults\",\"PASS\",\"NON CONFORMANT\")","v":"PASS"},{"$f":"IF('Non-text Contrast'!BD4=\"0 Faults\",\"PASS\",\"NON CONFORMANT\")","v":"PASS"},{"$f":"IF('Non-text Contrast'!BE4=\"0 Faults\",\"PASS\",\"NON CONFORMANT\")","v":"PASS"},{"$f":"IF('Non-text Contrast'!BF4=\"0 Faults\",\"PASS\",\"NON CONFORMANT\")","v":"PASS"},{"$f":"IF('Non-text Contrast'!BG4=\"0 Faults\",\"PASS\",\"NON CONFORMANT\")","v":"PASS"},{"$f":"IF('Non-text Contrast'!BH4=\"0 Faults\",\"PASS\",\"NON CONFORMANT\")","v":"PASS"},{"$f":"IF('Non-text Contrast'!BI4=\"0 Faults\",\"PASS\",\"NON CONFORMANT\")","v":"PASS"},{"$f":"IF('Non-text Contrast'!BJ4=\"0 Faults\",\"PASS\",\"NON CONFORMANT\")","v":"PASS"},{"$f":"IF('Non-text Contrast'!BK4=\"0 Faults\",\"PASS\",\"NON CONFORMANT\")","v":"PASS"},{"$f":"IF('Non-text Contrast'!BL4=\"0 Faults\",\"PASS\",\"NON CONFORMANT\")","v":"PASS"},{"$f":"IF('Non-text Contrast'!BM4=\"0 Faults\",\"PASS\",\"NON CONFORMANT\")","v":"PASS"},{"$f":"IF('Non-text Contrast'!BN4=\"0 Faults\",\"PASS\",\"NON CONFORMANT\")","v":"PASS"},{"$f":"IF('Non-text Contrast'!BO4=\"0 Faults\",\"PASS\",\"NON CONFORMANT\")","v":"PASS"},{"$f":"IF('Non-text Contrast'!BP4=\"0 Faults\",\"PASS\",\"NON CONFORMANT\")","v":"PASS"},{"$f":"IF('Non-text Contrast'!BQ4=\"0 Faults\",\"PASS\",\"NON CONFORMANT\")","v":"PASS"},{"$f":"IF('Non-text Contrast'!BR4=\"0 Faults\",\"PASS\",\"NON CONFORMANT\")","v":"PASS"},{"$f":"IF('Non-text Contrast'!BS4=\"0 Faults\",\"PASS\",\"NON CONFORMANT\")","v":"PASS"},{"$f":"IF('Non-text Contrast'!BT4=\"0 Faults\",\"PASS\",\"NON CONFORMANT\")","v":"PASS"},{"$f":"IF('Non-text Contrast'!BU4=\"0 Faults\",\"PASS\",\"NON CONFORMANT\")","v":"PASS"},{"$f":"IF('Non-text Contrast'!BV4=\"0 Faults\",\"PASS\",\"NON CONFORMANT\")","v":"PASS"},{"$f":"IF('Non-text Contrast'!BW4=\"0 Faults\",\"PASS\",\"NON CONFORMANT\")","v":"PASS"},{"$f":"IF('Non-text Contrast'!BX4=\"0 Faults\",\"PASS\",\"NON CONFORMANT\")","v":"PASS"},{"$f":"IF('Non-text Contrast'!BY4=\"0 Faults\",\"PASS\",\"NON CONFORMANT\")","v":"PASS"},{"$f":"IF('Non-text Contrast'!BZ4=\"0 Faults\",\"PASS\",\"NON CONFORMANT\")","v":"PASS"},{"$f":"IF('Non-text Contrast'!CA4=\"0 Faults\",\"PASS\",\"NON CONFORMANT\")","v":"PASS"},{"$f":"IF('Non-text Contrast'!CB4=\"0 Faults\",\"PASS\",\"NON CONFORMANT\")","v":"PASS"},{"$f":"IF('Non-text Contrast'!CC4=\"0 Faults\",\"PASS\",\"NON CONFORMANT\")","v":"PASS"},{"$f":"IF('Non-text Contrast'!CD4=\"0 Faults\",\"PASS\",\"NON CONFORMANT\")","v":"PASS"},{"$f":"IF('Non-text Contrast'!CE4=\"0 Faults\",\"PASS\",\"NON CONFORMANT\")","v":"PASS"},{"$f":"IF('Non-text Contrast'!CF4=\"0 Faults\",\"PASS\",\"NON CONFORMANT\")","v":"PASS"},{"$f":"IF('Non-text Contrast'!CG4=\"0 Faults\",\"PASS\",\"NON CONFORMANT\")","v":"PASS"},{"$f":"IF('Non-text Contrast'!CH4=\"0 Faults\",\"PASS\",\"NON CONFORMANT\")","v":"PASS"},{"$f":"IF('Non-text Contrast'!CI4=\"0 Faults\",\"PASS\",\"NON CONFORMANT\")","v":"PASS"},{"$f":"IF('Non-text Contrast'!CJ4=\"0 Faults\",\"PASS\",\"NON CONFORMANT\")","v":"PASS"},{"$f":"IF('Non-text Contrast'!CK4=\"0 Faults\",\"PASS\",\"NON CONFORMANT\")","v":"PASS"},{"$f":"IF('Non-text Contrast'!CL4=\"0 Faults\",\"PASS\",\"NON CONFORMANT\")","v":"PASS"},{"$f":"IF('Non-text Contrast'!CM4=\"0 Faults\",\"PASS\",\"NON CONFORMANT\")","v":"PASS"},{"$f":"IF('Non-text Contrast'!CN4=\"0 Faults\",\"PASS\",\"NON CONFORMANT\")","v":"PASS"},{"$f":"IF('Non-text Contrast'!CO4=\"0 Faults\",\"PASS\",\"NON CONFORMANT\")","v":"PASS"},{"$f":"IF('Non-text Contrast'!CP4=\"0 Faults\",\"PASS\",\"NON CONFORMANT\")","v":"PASS"},{"$f":"IF('Non-text Contrast'!CQ4=\"0 Faults\",\"PASS\",\"NON CONFORMANT\")","v":"PASS"},{"$f":"IF('Non-text Contrast'!CR4=\"0 Faults\",\"PASS\",\"NON CONFORMANT\")","v":"PASS"},{"$f":"IF('Non-text Contrast'!CS4=\"0 Faults\",\"PASS\",\"NON CONFORMANT\")","v":"PASS"},{"$f":"IF('Non-text Contrast'!CT4=\"0 Faults\",\"PASS\",\"NON CONFORMANT\")","v":"PASS"},{"$f":"IF('Non-text Contrast'!CU4=\"0 Faults\",\"PASS\",\"NON CONFORMANT\")","v":"PASS"},{"$f":"IF('Non-text Contrast'!CV4=\"0 Faults\",\"PASS\",\"NON CONFORMANT\")","v":"PASS"},{"$f":"IF('Non-text Contrast'!CW4=\"0 Faults\",\"PASS\",\"NON CONFORMANT\")","v":"PASS"},{"$f":"IF('Non-text Contrast'!CX4=\"0 Faults\",\"PASS\",\"NON CONFORMANT\")","v":"PASS"},{"$f":"IF('Non-text Contrast'!CY4=\"0 Faults\",\"PASS\",\"NON CONFORMANT\")","v":"PASS"},{"$f":"IF('Non-text Contrast'!CZ4=\"0 Faults\",\"PASS\",\"NON CONFORMANT\")","v":"PASS"},{"$f":"IF('Non-text Contrast'!DA4=\"0 Faults\",\"PASS\",\"NON CONFORMANT\")","v":"PASS"},{"$f":"IF('Non-text Contrast'!DB4=\"0 Faults\",\"PASS\",\"NON CONFORMANT\")","v":"PASS"},{"$f":"IF('Non-text Contrast'!DC4=\"0 Faults\",\"PASS\",\"NON CONFORMANT\")","v":"PASS"},{"$f":"IF('Non-text Contrast'!DD4=\"0 Faults\",\"PASS\",\"NON CONFORMANT\")","v":"PASS"},{"$f":"IF('Non-text Contrast'!DE4=\"0 Faults\",\"PASS\",\"NON CONFORMANT\")","v":"PASS"},{"$f":"IF('Non-text Contrast'!DF4=\"0 Faults\",\"PASS\",\"NON CONFORMANT\")","v":"PASS"},{"$f":"IF('Non-text Contrast'!DG4=\"0 Faults\",\"PASS\",\"NON CONFORMANT\")","v":"PASS"},{"$f":"IF('Non-text Contrast'!DH4=\"0 Faults\",\"PASS\",\"NON CONFORMANT\")","v":"PASS"},{"$f":"IF('Non-text Contrast'!DI4=\"0 Faults\",\"PASS\",\"NON CONFORMANT\")","v":"PASS"},{"$f":"IF('Non-text Contrast'!DJ4=\"0 Faults\",\"PASS\",\"NON CONFORMANT\")","v":"PASS"},{"$f":"IF('Non-text Contrast'!DK4=\"0 Faults\",\"PASS\",\"NON CONFORMANT\")","v":"PASS"},{"$f":"IF('Non-text Contrast'!DL4=\"0 Faults\",\"PASS\",\"NON CONFORMANT\")","v":"PASS"},{"$f":"IF('Non-text Contrast'!DM4=\"0 Faults\",\"PASS\",\"NON CONFORMANT\")","v":"PASS"},{"$f":"IF('Non-text Contrast'!DN4=\"0 Faults\",\"PASS\",\"NON CONFORMANT\")","v":"PASS"},{"$f":"IF('Non-text Contrast'!DO4=\"0 Faults\",\"PASS\",\"NON CONFORMANT\")","v":"PASS"},{"$f":"IF('Non-text Contrast'!DP4=\"0 Faults\",\"PASS\",\"NON CONFORMANT\")","v":"PASS"},{"$f":"IF('Non-text Contrast'!DQ4=\"0 Faults\",\"PASS\",\"NON CONFORMANT\")","v":"PASS"},{"$f":"IF('Non-text Contrast'!DR4=\"0 Faults\",\"PASS\",\"NON CONFORMANT\")","v":"PASS"},{"$f":"IF('Non-text Contrast'!DS4=\"0 Faults\",\"PASS\",\"NON CONFORMANT\")","v":"PASS"},{"$f":"IF('Non-text Contrast'!DT4=\"0 Faults\",\"PASS\",\"NON CONFORMANT\")","v":"PASS"},{"$f":"IF('Non-text Contrast'!DU4=\"0 Faults\",\"PASS\",\"NON CONFORMANT\")","v":"PASS"},{"$f":"IF('Non-text Contrast'!DV4=\"0 Faults\",\"PASS\",\"NON CONFORMANT\")","v":"PASS"},{"$f":"IF('Non-text Contrast'!DW4=\"0 Faults\",\"PASS\",\"NON CONFORMANT\")","v":"PASS"},{"$f":"IF('Non-text Contrast'!DX4=\"0 Faults\",\"PASS\",\"NON CONFORMANT\")","v":"PASS"},{"$f":"IF('Non-text Contrast'!DY4=\"0 Faults\",\"PASS\",\"NON CONFORMANT\")","v":"PASS"},{"$f":"IF('Non-text Contrast'!DZ4=\"0 Faults\",\"PASS\",\"NON CONFORMANT\")","v":"PASS"},{"$f":"IF('Non-text Contrast'!EA4=\"0 Faults\",\"PASS\",\"NON CONFORMANT\")","v":"PASS"},{"$f":"IF('Non-text Contrast'!EB4=\"0 Faults\",\"PASS\",\"NON CONFORMANT\")","v":"PASS"},{"$f":"IF('Non-text Contrast'!EC4=\"0 Faults\",\"PASS\",\"NON CONFORMANT\")","v":"PASS"},{"$f":"IF('Non-text Contrast'!ED4=\"0 Faults\",\"PASS\",\"NON CONFORMANT\")","v":"PASS"},{"$f":"IF('Non-text Contrast'!EE4=\"0 Faults\",\"PASS\",\"NON CONFORMANT\")","v":"PASS"},{"$f":"IF('Non-text Contrast'!EF4=\"0 Faults\",\"PASS\",\"NON CONFORMANT\")","v":"PASS"},{"$f":"IF('Non-text Contrast'!EG4=\"0 Faults\",\"PASS\",\"NON CONFORMANT\")","v":"PASS"},{"$f":"IF('Non-text Contrast'!EH4=\"0 Faults\",\"PASS\",\"NON CONFORMANT\")","v":"PASS"},{"$f":"IF('Non-text Contrast'!EI4=\"0 Faults\",\"PASS\",\"NON CONFORMANT\")","v":"PASS"},{"$f":"IF('Non-text Contrast'!EJ4=\"0 Faults\",\"PASS\",\"NON CONFORMANT\")","v":"PASS"},{"$f":"IF('Non-text Contrast'!EK4=\"0 Faults\",\"PASS\",\"NON CONFORMANT\")","v":"PASS"},{"$f":"IF('Non-text Contrast'!EL4=\"0 Faults\",\"PASS\",\"NON CONFORMANT\")","v":"PASS"},{"$f":"IF('Non-text Contrast'!EM4=\"0 Faults\",\"PASS\",\"NON CONFORMANT\")","v":"PASS"},{"$f":"IF('Non-text Contrast'!EN4=\"0 Faults\",\"PASS\",\"NON CONFORMANT\")","v":"PASS"},{"$f":"IF('Non-text Contrast'!EO4=\"0 Faults\",\"PASS\",\"NON CONFORMANT\")","v":"PASS"},{"$f":"IF('Non-text Contrast'!EP4=\"0 Faults\",\"PASS\",\"NON CONFORMANT\")","v":"PASS"},{"$f":"IF('Non-text Contrast'!EQ4=\"0 Faults\",\"PASS\",\"NON CONFORMANT\")","v":"PASS"},{"$f":"IF('Non-text Contrast'!ER4=\"0 Faults\",\"PASS\",\"NON CONFORMANT\")","v":"PASS"},{"$f":"IF('Non-text Contrast'!ES4=\"0 Faults\",\"PASS\",\"NON CONFORMANT\")","v":"PASS"},{"$f":"IF('Non-text Contrast'!ET4=\"0 Faults\",\"PASS\",\"NON CONFORMANT\")","v":"PASS"},{"$f":"IF('Non-text Contrast'!EU4=\"0 Faults\",\"PASS\",\"NON CONFORMANT\")","v":"PASS"},{"$f":"IF('Non-text Contrast'!EV4=\"0 Faults\",\"PASS\",\"NON CONFORMANT\")","v":"PASS"},{"$f":"IF('Non-text Contrast'!EW4=\"0 Faults\",\"PASS\",\"NON CONFORMANT\")","v":"PASS"},{"$f":"IF('Non-text Contrast'!EX4=\"0 Faults\",\"PASS\",\"NON CONFORMANT\")","v":"PASS"},{"$f":"IF('Non-text Contrast'!EY4=\"0 Faults\",\"PASS\",\"NON CONFORMANT\")","v":"PASS"},{"$f":"IF('Non-text Contrast'!EZ4=\"0 Faults\",\"PASS\",\"NON CONFORMANT\")","v":"PASS"},{"$f":"IF('Non-text Contrast'!FA4=\"0 Faults\",\"PASS\",\"NON CONFORMANT\")","v":"PASS"},{"$f":"IF('Non-text Contrast'!FB4=\"0 Faults\",\"PASS\",\"NON CONFORMANT\")","v":"PASS"},{"$f":"IF('Non-text Contrast'!FC4=\"0 Faults\",\"PASS\",\"NON CONFORMANT\")","v":"PASS"},{"$f":"IF('Non-text Contrast'!FD4=\"0 Faults\",\"PASS\",\"NON CONFORMANT\")","v":"PASS"},{"$f":"IF('Non-text Contrast'!FE4=\"0 Faults\",\"PASS\",\"NON CONFORMANT\")","v":"PASS"},{"$f":"IF('Non-text Contrast'!FF4=\"0 Faults\",\"PASS\",\"NON CONFORMANT\")","v":"PASS"},{"$f":"IF('Non-text Contrast'!FG4=\"0 Faults\",\"PASS\",\"NON CONFORMANT\")","v":"PASS"},{"$f":"IF('Non-text Contrast'!FH4=\"0 Faults\",\"PASS\",\"NON CONFORMANT\")","v":"PASS"},{"$f":"IF('Non-text Contrast'!FI4=\"0 Faults\",\"PASS\",\"NON CONFORMANT\")","v":"PASS"},{"$f":"IF('Non-text Contrast'!FJ4=\"0 Faults\",\"PASS\",\"NON CONFORMANT\")","v":"PASS"},{"$f":"IF('Non-text Contrast'!FK4=\"0 Faults\",\"PASS\",\"NON CONFORMANT\")","v":"PASS"},{"$f":"IF('Non-text Contrast'!FL4=\"0 Faults\",\"PASS\",\"NON CONFORMANT\")","v":"PASS"},{"$f":"IF('Non-text Contrast'!FM4=\"0 Faults\",\"PASS\",\"NON CONFORMANT\")","v":"PASS"},{"$f":"IF('Non-text Contrast'!FN4=\"0 Faults\",\"PASS\",\"NON CONFORMANT\")","v":"PASS"},{"$f":"IF('Non-text Contrast'!FO4=\"0 Faults\",\"PASS\",\"NON CONFORMANT\")","v":"PASS"},{"$f":"IF('Non-text Contrast'!FP4=\"0 Faults\",\"PASS\",\"NON CONFORMANT\")","v":"PASS"},{"$f":"IF('Non-text Contrast'!FQ4=\"0 Faults\",\"PASS\",\"NON CONFORMANT\")","v":"PASS"},{"$f":"IF('Non-text Contrast'!FR4=\"0 Faults\",\"PASS\",\"NON CONFORMANT\")","v":"PASS"},{"$f":"IF('Non-text Contrast'!FS4=\"0 Faults\",\"PASS\",\"NON CONFORMANT\")","v":"PASS"},{"$f":"IF('Non-text Contrast'!FT4=\"0 Faults\",\"PASS\",\"NON CONFORMANT\")","v":"PASS"}]
[null,null,null,"\nUser Interface Components: Visual information required to identify user interface components and states, except for inactive components or where the appearance of the component is determined by the user agent and not modified by the author;\nGraphical Objects: Parts of graphics required to understand the content, except when a particular presentation of graphics is essential to the information being conveyed.",{"$f":"IF('Non-text Contrast'!AA4=\"0 Faults\",\"\",LEFT('Non-text Contrast'!AA4,FIND(\" \",'Non-text Contrast'!AA4)-1) &\" combination\" & IF('Non-text Contrast'!AA4=\"1 Fault\",\"\",\"s\") & \" of adjacent colours do\" & IF('Non-text Contrast'!AA4=\"1 Fault\",\"es\",\"\") & \" not have sufficient contrast. Please see the Non-text Contrast worksheet.\")","v":""},{"$f":"IF('Non-text Contrast'!AB4=\"0 Faults\",\"\",LEFT('Non-text Contrast'!AB4,FIND(\" \",'Non-text Contrast'!AB4)-1) &\" combination\" & IF('Non-text Contrast'!AB4=\"1 Fault\",\"\",\"s\") & \" of adjacent colours do\" & IF('Non-text Contrast'!AB4=\"1 Fault\",\"es\",\"\") & \" not have sufficient contrast. Please see the Non-text Contrast worksheet.\")","v":""},{"$f":"IF('Non-text Contrast'!AC4=\"0 Faults\",\"\",LEFT('Non-text Contrast'!AC4,FIND(\" \",'Non-text Contrast'!AC4)-1) &\" combination\" & IF('Non-text Contrast'!AC4=\"1 Fault\",\"\",\"s\") & \" of adjacent colours do\" & IF('Non-text Contrast'!AC4=\"1 Fault\",\"es\",\"\") & \" not have sufficient contrast. Please see the Non-text Contrast worksheet.\")","v":"1 combination of adjacent colours does not have sufficient contrast. Please see the Non-text Contrast worksheet."},{"$f":"IF('Non-text Contrast'!AD4=\"0 Faults\",\"\",LEFT('Non-text Contrast'!AD4,FIND(\" \",'Non-text Contrast'!AD4)-1) &\" combination\" & IF('Non-text Contrast'!AD4=\"1 Fault\",\"\",\"s\") & \" of adjacent colours do\" & IF('Non-text Contrast'!AD4=\"1 Fault\",\"es\",\"\") & \" not have sufficient contrast. Please see the Non-text Contrast worksheet.\")","v":""},{"$f":"IF('Non-text Contrast'!AE4=\"0 Faults\",\"\",LEFT('Non-text Contrast'!AE4,FIND(\" \",'Non-text Contrast'!AE4)-1) &\" combination\" & IF('Non-text Contrast'!AE4=\"1 Fault\",\"\",\"s\") & \" of adjacent colours do\" & IF('Non-text Contrast'!AE4=\"1 Fault\",\"es\",\"\") & \" not have sufficient contrast. Please see the Non-text Contrast worksheet.\")","v":""},{"$f":"IF('Non-text Contrast'!AF4=\"0 Faults\",\"\",LEFT('Non-text Contrast'!AF4,FIND(\" \",'Non-text Contrast'!AF4)-1) &\" combination\" & IF('Non-text Contrast'!AF4=\"1 Fault\",\"\",\"s\") & \" of adjacent colours do\" & IF('Non-text Contrast'!AF4=\"1 Fault\",\"es\",\"\") & \" not have sufficient contrast. Please see the Non-text Contrast worksheet.\")","v":""},{"$f":"IF('Non-text Contrast'!AG4=\"0 Faults\",\"\",LEFT('Non-text Contrast'!AG4,FIND(\" \",'Non-text Contrast'!AG4)-1) &\" combination\" & IF('Non-text Contrast'!AG4=\"1 Fault\",\"\",\"s\") & \" of adjacent colours do\" & IF('Non-text Contrast'!AG4=\"1 Fault\",\"es\",\"\") & \" not have sufficient contrast. Please see the Non-text Contrast worksheet.\")","v":""},{"$f":"IF('Non-text Contrast'!AH4=\"0 Faults\",\"\",LEFT('Non-text Contrast'!AH4,FIND(\" \",'Non-text Contrast'!AH4)-1) &\" combination\" & IF('Non-text Contrast'!AH4=\"1 Fault\",\"\",\"s\") & \" of adjacent colours do\" & IF('Non-text Contrast'!AH4=\"1 Fault\",\"es\",\"\") & \" not have sufficient contrast. Please see the Non-text Contrast worksheet.\")","v":""},{"$f":"IF('Non-text Contrast'!AI4=\"0 Faults\",\"\",LEFT('Non-text Contrast'!AI4,FIND(\" \",'Non-text Contrast'!AI4)-1) &\" combination\" & IF('Non-text Contrast'!AI4=\"1 Fault\",\"\",\"s\") & \" of adjacent colours do\" & IF('Non-text Contrast'!AI4=\"1 Fault\",\"es\",\"\") & \" not have sufficient contrast. Please see the Non-text Contrast worksheet.\")","v":""},{"$f":"IF('Non-text Contrast'!AJ4=\"0 Faults\",\"\",LEFT('Non-text Contrast'!AJ4,FIND(\" \",'Non-text Contrast'!AJ4)-1) &\" combination\" & IF('Non-text Contrast'!AJ4=\"1 Fault\",\"\",\"s\") & \" of adjacent colours do\" & IF('Non-text Contrast'!AJ4=\"1 Fault\",\"es\",\"\") & \" not have sufficient contrast. Please see the Non-text Contrast worksheet.\")","v":""},{"$f":"IF('Non-text Contrast'!AK4=\"0 Faults\",\"\",LEFT('Non-text Contrast'!AK4,FIND(\" \",'Non-text Contrast'!AK4)-1) &\" combination\" & IF('Non-text Contrast'!AK4=\"1 Fault\",\"\",\"s\") & \" of adjacent colours do\" & IF('Non-text Contrast'!AK4=\"1 Fault\",\"es\",\"\") & \" not have sufficient contrast. Please see the Non-text Contrast worksheet.\")","v":""},{"$f":"IF('Non-text Contrast'!AL4=\"0 Faults\",\"\",LEFT('Non-text Contrast'!AL4,FIND(\" \",'Non-text Contrast'!AL4)-1) &\" combination\" & IF('Non-text Contrast'!AL4=\"1 Fault\",\"\",\"s\") & \" of adjacent colours do\" & IF('Non-text Contrast'!AL4=\"1 Fault\",\"es\",\"\") & \" not have sufficient contrast. Please see the Non-text Contrast worksheet.\")","v":""},{"$f":"IF('Non-text Contrast'!AM4=\"0 Faults\",\"\",LEFT('Non-text Contrast'!AM4,FIND(\" \",'Non-text Contrast'!AM4)-1) &\" combination\" & IF('Non-text Contrast'!AM4=\"1 Fault\",\"\",\"s\") & \" of adjacent colours do\" & IF('Non-text Contrast'!AM4=\"1 Fault\",\"es\",\"\") & \" not have sufficient contrast. Please see the Non-text Contrast worksheet.\")","v":""},{"$f":"IF('Non-text Contrast'!AN4=\"0 Faults\",\"\",LEFT('Non-text Contrast'!AN4,FIND(\" \",'Non-text Contrast'!AN4)-1) &\" combination\" & IF('Non-text Contrast'!AN4=\"1 Fault\",\"\",\"s\") & \" of adjacent colours do\" & IF('Non-text Contrast'!AN4=\"1 Fault\",\"es\",\"\") & \" not have sufficient contrast. Please see the Non-text Contrast worksheet.\")","v":""},{"$f":"IF('Non-text Contrast'!AO4=\"0 Faults\",\"\",LEFT('Non-text Contrast'!AO4,FIND(\" \",'Non-text Contrast'!AO4)-1) &\" combination\" & IF('Non-text Contrast'!AO4=\"1 Fault\",\"\",\"s\") & \" of adjacent colours do\" & IF('Non-text Contrast'!AO4=\"1 Fault\",\"es\",\"\") & \" not have sufficient contrast. Please see the Non-text Contrast worksheet.\")","v":""},{"$f":"IF('Non-text Contrast'!AP4=\"0 Faults\",\"\",LEFT('Non-text Contrast'!AP4,FIND(\" \",'Non-text Contrast'!AP4)-1) &\" combination\" & IF('Non-text Contrast'!AP4=\"1 Fault\",\"\",\"s\") & \" of adjacent colours do\" & IF('Non-text Contrast'!AP4=\"1 Fault\",\"es\",\"\") & \" not have sufficient contrast. Please see the Non-text Contrast worksheet.\")","v":""},{"$f":"IF('Non-text Contrast'!AQ4=\"0 Faults\",\"\",LEFT('Non-text Contrast'!AQ4,FIND(\" \",'Non-text Contrast'!AQ4)-1) &\" combination\" & IF('Non-text Contrast'!AQ4=\"1 Fault\",\"\",\"s\") & \" of adjacent colours do\" & IF('Non-text Contrast'!AQ4=\"1 Fault\",\"es\",\"\") & \" not have sufficient contrast. Please see the Non-text Contrast worksheet.\")","v":""},{"$f":"IF('Non-text Contrast'!AR4=\"0 Faults\",\"\",LEFT('Non-text Contrast'!AR4,FIND(\" \",'Non-text Contrast'!AR4)-1) &\" combination\" & IF('Non-text Contrast'!AR4=\"1 Fault\",\"\",\"s\") & \" of adjacent colours do\" & IF('Non-text Contrast'!AR4=\"1 Fault\",\"es\",\"\") & \" not have sufficient contrast. Please see the Non-text Contrast worksheet.\")","v":""},{"$f":"IF('Non-text Contrast'!AS4=\"0 Faults\",\"\",LEFT('Non-text Contrast'!AS4,FIND(\" \",'Non-text Contrast'!AS4)-1) &\" combination\" & IF('Non-text Contrast'!AS4=\"1 Fault\",\"\",\"s\") & \" of adjacent colours do\" & IF('Non-text Contrast'!AS4=\"1 Fault\",\"es\",\"\") & \" not have sufficient contrast. Please see the Non-text Contrast worksheet.\")","v":""},{"$f":"IF('Non-text Contrast'!AT4=\"0 Faults\",\"\",LEFT('Non-text Contrast'!AT4,FIND(\" \",'Non-text Contrast'!AT4)-1) &\" combination\" & IF('Non-text Contrast'!AT4=\"1 Fault\",\"\",\"s\") & \" of adjacent colours do\" & IF('Non-text Contrast'!AT4=\"1 Fault\",\"es\",\"\") & \" not have sufficient contrast. Please see the Non-text Contrast worksheet.\")","v":""},{"$f":"IF('Non-text Contrast'!AU4=\"0 Faults\",\"\",LEFT('Non-text Contrast'!AU4,FIND(\" \",'Non-text Contrast'!AU4)-1) &\" combination\" & IF('Non-text Contrast'!AU4=\"1 Fault\",\"\",\"s\") & \" of adjacent colours do\" & IF('Non-text Contrast'!AU4=\"1 Fault\",\"es\",\"\") & \" not have sufficient contrast. Please see the Non-text Contrast worksheet.\")","v":""},{"$f":"IF('Non-text Contrast'!AV4=\"0 Faults\",\"\",LEFT('Non-text Contrast'!AV4,FIND(\" \",'Non-text Contrast'!AV4)-1) &\" combination\" & IF('Non-text Contrast'!AV4=\"1 Fault\",\"\",\"s\") & \" of adjacent colours do\" & IF('Non-text Contrast'!AV4=\"1 Fault\",\"es\",\"\") & \" not have sufficient contrast. Please see the Non-text Contrast worksheet.\")","v":""},{"$f":"IF('Non-text Contrast'!AW4=\"0 Faults\",\"\",LEFT('Non-text Contrast'!AW4,FIND(\" \",'Non-text Contrast'!AW4)-1) &\" combination\" & IF('Non-text Contrast'!AW4=\"1 Fault\",\"\",\"s\") & \" of adjacent colours do\" & IF('Non-text Contrast'!AW4=\"1 Fault\",\"es\",\"\") & \" not have sufficient contrast. Please see the Non-text Contrast worksheet.\")","v":""},{"$f":"IF('Non-text Contrast'!AX4=\"0 Faults\",\"\",LEFT('Non-text Contrast'!AX4,FIND(\" \",'Non-text Contrast'!AX4)-1) &\" combination\" & IF('Non-text Contrast'!AX4=\"1 Fault\",\"\",\"s\") & \" of adjacent colours do\" & IF('Non-text Contrast'!AX4=\"1 Fault\",\"es\",\"\") & \" not have sufficient contrast. Please see the Non-text Contrast worksheet.\")","v":""},{"$f":"IF('Non-text Contrast'!AY4=\"0 Faults\",\"\",LEFT('Non-text Contrast'!AY4,FIND(\" \",'Non-text Contrast'!AY4)-1) &\" combination\" & IF('Non-text Contrast'!AY4=\"1 Fault\",\"\",\"s\") & \" of adjacent colours do\" & IF('Non-text Contrast'!AY4=\"1 Fault\",\"es\",\"\") & \" not have sufficient contrast. Please see the Non-text Contrast worksheet.\")","v":""},{"$f":"IF('Non-text Contrast'!AZ4=\"0 Faults\",\"\",LEFT('Non-text Contrast'!AZ4,FIND(\" \",'Non-text Contrast'!AZ4)-1) &\" combination\" & IF('Non-text Contrast'!AZ4=\"1 Fault\",\"\",\"s\") & \" of adjacent colours do\" & IF('Non-text Contrast'!AZ4=\"1 Fault\",\"es\",\"\") & \" not have sufficient contrast. Please see the Non-text Contrast worksheet.\")","v":""},{"$f":"IF('Non-text Contrast'!BA4=\"0 Faults\",\"\",LEFT('Non-text Contrast'!BA4,FIND(\" \",'Non-text Contrast'!BA4)-1) &\" combination\" & IF('Non-text Contrast'!BA4=\"1 Fault\",\"\",\"s\") & \" of adjacent colours do\" & IF('Non-text Contrast'!BA4=\"1 Fault\",\"es\",\"\") & \" not have sufficient contrast. Please see the Non-text Contrast worksheet.\")","v":""},{"$f":"IF('Non-text Contrast'!BB4=\"0 Faults\",\"\",LEFT('Non-text Contrast'!BB4,FIND(\" \",'Non-text Contrast'!BB4)-1) &\" combination\" & IF('Non-text Contrast'!BB4=\"1 Fault\",\"\",\"s\") & \" of adjacent colours do\" & IF('Non-text Contrast'!BB4=\"1 Fault\",\"es\",\"\") & \" not have sufficient contrast. Please see the Non-text Contrast worksheet.\")","v":""},{"$f":"IF('Non-text Contrast'!BC4=\"0 Faults\",\"\",LEFT('Non-text Contrast'!BC4,FIND(\" \",'Non-text Contrast'!BC4)-1) &\" combination\" & IF('Non-text Contrast'!BC4=\"1 Fault\",\"\",\"s\") & \" of adjacent colours do\" & IF('Non-text Contrast'!BC4=\"1 Fault\",\"es\",\"\") & \" not have sufficient contrast. Please see the Non-text Contrast worksheet.\")","v":""},{"$f":"IF('Non-text Contrast'!BD4=\"0 Faults\",\"\",LEFT('Non-text Contrast'!BD4,FIND(\" \",'Non-text Contrast'!BD4)-1) &\" combination\" & IF('Non-text Contrast'!BD4=\"1 Fault\",\"\",\"s\") & \" of adjacent colours do\" & IF('Non-text Contrast'!BD4=\"1 Fault\",\"es\",\"\") & \" not have sufficient contrast. Please see the Non-text Contrast worksheet.\")","v":""},{"$f":"IF('Non-text Contrast'!BE4=\"0 Faults\",\"\",LEFT('Non-text Contrast'!BE4,FIND(\" \",'Non-text Contrast'!BE4)-1) &\" combination\" & IF('Non-text Contrast'!BE4=\"1 Fault\",\"\",\"s\") & \" of adjacent colours do\" & IF('Non-text Contrast'!BE4=\"1 Fault\",\"es\",\"\") & \" not have sufficient contrast. Please see the Non-text Contrast worksheet.\")","v":""},{"$f":"IF('Non-text Contrast'!BF4=\"0 Faults\",\"\",LEFT('Non-text Contrast'!BF4,FIND(\" \",'Non-text Contrast'!BF4)-1) &\" combination\" & IF('Non-text Contrast'!BF4=\"1 Fault\",\"\",\"s\") & \" of adjacent colours do\" & IF('Non-text Contrast'!BF4=\"1 Fault\",\"es\",\"\") & \" not have sufficient contrast. Please see the Non-text Contrast worksheet.\")","v":""},{"$f":"IF('Non-text Contrast'!BG4=\"0 Faults\",\"\",LEFT('Non-text Contrast'!BG4,FIND(\" \",'Non-text Contrast'!BG4)-1) &\" combination\" & IF('Non-text Contrast'!BG4=\"1 Fault\",\"\",\"s\") & \" of adjacent colours do\" & IF('Non-text Contrast'!BG4=\"1 Fault\",\"es\",\"\") & \" not have sufficient contrast. Please see the Non-text Contrast worksheet.\")","v":""},{"$f":"IF('Non-text Contrast'!BH4=\"0 Faults\",\"\",LEFT('Non-text Contrast'!BH4,FIND(\" \",'Non-text Contrast'!BH4)-1) &\" combination\" & IF('Non-text Contrast'!BH4=\"1 Fault\",\"\",\"s\") & \" of adjacent colours do\" & IF('Non-text Contrast'!BH4=\"1 Fault\",\"es\",\"\") & \" not have sufficient contrast. Please see the Non-text Contrast worksheet.\")","v":""},{"$f":"IF('Non-text Contrast'!BI4=\"0 Faults\",\"\",LEFT('Non-text Contrast'!BI4,FIND(\" \",'Non-text Contrast'!BI4)-1) &\" combination\" & IF('Non-text Contrast'!BI4=\"1 Fault\",\"\",\"s\") & \" of adjacent colours do\" & IF('Non-text Contrast'!BI4=\"1 Fault\",\"es\",\"\") & \" not have sufficient contrast. Please see the Non-text Contrast worksheet.\")","v":""},{"$f":"IF('Non-text Contrast'!BJ4=\"0 Faults\",\"\",LEFT('Non-text Contrast'!BJ4,FIND(\" \",'Non-text Contrast'!BJ4)-1) &\" combination\" & IF('Non-text Contrast'!BJ4=\"1 Fault\",\"\",\"s\") & \" of adjacent colours do\" & IF('Non-text Contrast'!BJ4=\"1 Fault\",\"es\",\"\") & \" not have sufficient contrast. Please see the Non-text Contrast worksheet.\")","v":""},{"$f":"IF('Non-text Contrast'!BK4=\"0 Faults\",\"\",LEFT('Non-text Contrast'!BK4,FIND(\" \",'Non-text Contrast'!BK4)-1) &\" combination\" & IF('Non-text Contrast'!BK4=\"1 Fault\",\"\",\"s\") & \" of adjacent colours do\" & IF('Non-text Contrast'!BK4=\"1 Fault\",\"es\",\"\") & \" not have sufficient contrast. Please see the Non-text Contrast worksheet.\")","v":""},{"$f":"IF('Non-text Contrast'!BL4=\"0 Faults\",\"\",LEFT('Non-text Contrast'!BL4,FIND(\" \",'Non-text Contrast'!BL4)-1) &\" combination\" & IF('Non-text Contrast'!BL4=\"1 Fault\",\"\",\"s\") & \" of adjacent colours do\" & IF('Non-text Contrast'!BL4=\"1 Fault\",\"es\",\"\") & \" not have sufficient contrast. Please see the Non-text Contrast worksheet.\")","v":""},{"$f":"IF('Non-text Contrast'!BM4=\"0 Faults\",\"\",LEFT('Non-text Contrast'!BM4,FIND(\" \",'Non-text Contrast'!BM4)-1) &\" combination\" & IF('Non-text Contrast'!BM4=\"1 Fault\",\"\",\"s\") & \" of adjacent colours do\" & IF('Non-text Contrast'!BM4=\"1 Fault\",\"es\",\"\") & \" not have sufficient contrast. Please see the Non-text Contrast worksheet.\")","v":""},{"$f":"IF('Non-text Contrast'!BN4=\"0 Faults\",\"\",LEFT('Non-text Contrast'!BN4,FIND(\" \",'Non-text Contrast'!BN4)-1) &\" combination\" & IF('Non-text Contrast'!BN4=\"1 Fault\",\"\",\"s\") & \" of adjacent colours do\" & IF('Non-text Contrast'!BN4=\"1 Fault\",\"es\",\"\") & \" not have sufficient contrast. Please see the Non-text Contrast worksheet.\")","v":""},{"$f":"IF('Non-text Contrast'!BO4=\"0 Faults\",\"\",LEFT('Non-text Contrast'!BO4,FIND(\" \",'Non-text Contrast'!BO4)-1) &\" combination\" & IF('Non-text Contrast'!BO4=\"1 Fault\",\"\",\"s\") & \" of adjacent colours do\" & IF('Non-text Contrast'!BO4=\"1 Fault\",\"es\",\"\") & \" not have sufficient contrast. Please see the Non-text Contrast worksheet.\")","v":""},{"$f":"IF('Non-text Contrast'!BP4=\"0 Faults\",\"\",LEFT('Non-text Contrast'!BP4,FIND(\" \",'Non-text Contrast'!BP4)-1) &\" combination\" & IF('Non-text Contrast'!BP4=\"1 Fault\",\"\",\"s\") & \" of adjacent colours do\" & IF('Non-text Contrast'!BP4=\"1 Fault\",\"es\",\"\") & \" not have sufficient contrast. Please see the Non-text Contrast worksheet.\")","v":""},{"$f":"IF('Non-text Contrast'!BQ4=\"0 Faults\",\"\",LEFT('Non-text Contrast'!BQ4,FIND(\" \",'Non-text Contrast'!BQ4)-1) &\" combination\" & IF('Non-text Contrast'!BQ4=\"1 Fault\",\"\",\"s\") & \" of adjacent colours do\" & IF('Non-text Contrast'!BQ4=\"1 Fault\",\"es\",\"\") & \" not have sufficient contrast. Please see the Non-text Contrast worksheet.\")","v":""},{"$f":"IF('Non-text Contrast'!BR4=\"0 Faults\",\"\",LEFT('Non-text Contrast'!BR4,FIND(\" \",'Non-text Contrast'!BR4)-1) &\" combination\" & IF('Non-text Contrast'!BR4=\"1 Fault\",\"\",\"s\") & \" of adjacent colours do\" & IF('Non-text Contrast'!BR4=\"1 Fault\",\"es\",\"\") & \" not have sufficient contrast. Please see the Non-text Contrast worksheet.\")","v":""},{"$f":"IF('Non-text Contrast'!BS4=\"0 Faults\",\"\",LEFT('Non-text Contrast'!BS4,FIND(\" \",'Non-text Contrast'!BS4)-1) &\" combination\" & IF('Non-text Contrast'!BS4=\"1 Fault\",\"\",\"s\") & \" of adjacent colours do\" & IF('Non-text Contrast'!BS4=\"1 Fault\",\"es\",\"\") & \" not have sufficient contrast. Please see the Non-text Contrast worksheet.\")","v":""},{"$f":"IF('Non-text Contrast'!BT4=\"0 Faults\",\"\",LEFT('Non-text Contrast'!BT4,FIND(\" \",'Non-text Contrast'!BT4)-1) &\" combination\" & IF('Non-text Contrast'!BT4=\"1 Fault\",\"\",\"s\") & \" of adjacent colours do\" & IF('Non-text Contrast'!BT4=\"1 Fault\",\"es\",\"\") & \" not have sufficient contrast. Please see the Non-text Contrast worksheet.\")","v":""},{"$f":"IF('Non-text Contrast'!BU4=\"0 Faults\",\"\",LEFT('Non-text Contrast'!BU4,FIND(\" \",'Non-text Contrast'!BU4)-1) &\" combination\" & IF('Non-text Contrast'!BU4=\"1 Fault\",\"\",\"s\") & \" of adjacent colours do\" & IF('Non-text Contrast'!BU4=\"1 Fault\",\"es\",\"\") & \" not have sufficient contrast. Please see the Non-text Contrast worksheet.\")","v":""},{"$f":"IF('Non-text Contrast'!BV4=\"0 Faults\",\"\",LEFT('Non-text Contrast'!BV4,FIND(\" \",'Non-text Contrast'!BV4)-1) &\" combination\" & IF('Non-text Contrast'!BV4=\"1 Fault\",\"\",\"s\") & \" of adjacent colours do\" & IF('Non-text Contrast'!BV4=\"1 Fault\",\"es\",\"\") & \" not have sufficient contrast. Please see the Non-text Contrast worksheet.\")","v":""},{"$f":"IF('Non-text Contrast'!BW4=\"0 Faults\",\"\",LEFT('Non-text Contrast'!BW4,FIND(\" \",'Non-text Contrast'!BW4)-1) &\" combination\" & IF('Non-text Contrast'!BW4=\"1 Fault\",\"\",\"s\") & \" of adjacent colours do\" & IF('Non-text Contrast'!BW4=\"1 Fault\",\"es\",\"\") & \" not have sufficient contrast. Please see the Non-text Contrast worksheet.\")","v":""},{"$f":"IF('Non-text Contrast'!BX4=\"0 Faults\",\"\",LEFT('Non-text Contrast'!BX4,FIND(\" \",'Non-text Contrast'!BX4)-1) &\" combination\" & IF('Non-text Contrast'!BX4=\"1 Fault\",\"\",\"s\") & \" of adjacent colours do\" & IF('Non-text Contrast'!BX4=\"1 Fault\",\"es\",\"\") & \" not have sufficient contrast. Please see the Non-text Contrast worksheet.\")","v":""},{"$f":"IF('Non-text Contrast'!BY4=\"0 Faults\",\"\",LEFT('Non-text Contrast'!BY4,FIND(\" \",'Non-text Contrast'!BY4)-1) &\" combination\" & IF('Non-text Contrast'!BY4=\"1 Fault\",\"\",\"s\") & \" of adjacent colours do\" & IF('Non-text Contrast'!BY4=\"1 Fault\",\"es\",\"\") & \" not have sufficient contrast. Please see the Non-text Contrast worksheet.\")","v":""},{"$f":"IF('Non-text Contrast'!BZ4=\"0 Faults\",\"\",LEFT('Non-text Contrast'!BZ4,FIND(\" \",'Non-text Contrast'!BZ4)-1) &\" combination\" & IF('Non-text Contrast'!BZ4=\"1 Fault\",\"\",\"s\") & \" of adjacent colours do\" & IF('Non-text Contrast'!BZ4=\"1 Fault\",\"es\",\"\") & \" not have sufficient contrast. Please see the Non-text Contrast worksheet.\")","v":""},{"$f":"IF('Non-text Contrast'!CA4=\"0 Faults\",\"\",LEFT('Non-text Contrast'!CA4,FIND(\" \",'Non-text Contrast'!CA4)-1) &\" combination\" & IF('Non-text Contrast'!CA4=\"1 Fault\",\"\",\"s\") & \" of adjacent colours do\" & IF('Non-text Contrast'!CA4=\"1 Fault\",\"es\",\"\") & \" not have sufficient contrast. Please see the Non-text Contrast worksheet.\")","v":""},{"$f":"IF('Non-text Contrast'!CB4=\"0 Faults\",\"\",LEFT('Non-text Contrast'!CB4,FIND(\" \",'Non-text Contrast'!CB4)-1) &\" combination\" & IF('Non-text Contrast'!CB4=\"1 Fault\",\"\",\"s\") & \" of adjacent colours do\" & IF('Non-text Contrast'!CB4=\"1 Fault\",\"es\",\"\") & \" not have sufficient contrast. Please see the Non-text Contrast worksheet.\")","v":""},{"$f":"IF('Non-text Contrast'!CC4=\"0 Faults\",\"\",LEFT('Non-text Contrast'!CC4,FIND(\" \",'Non-text Contrast'!CC4)-1) &\" combination\" & IF('Non-text Contrast'!CC4=\"1 Fault\",\"\",\"s\") & \" of adjacent colours do\" & IF('Non-text Contrast'!CC4=\"1 Fault\",\"es\",\"\") & \" not have sufficient contrast. Please see the Non-text Contrast worksheet.\")","v":""},{"$f":"IF('Non-text Contrast'!CD4=\"0 Faults\",\"\",LEFT('Non-text Contrast'!CD4,FIND(\" \",'Non-text Contrast'!CD4)-1) &\" combination\" & IF('Non-text Contrast'!CD4=\"1 Fault\",\"\",\"s\") & \" of adjacent colours do\" & IF('Non-text Contrast'!CD4=\"1 Fault\",\"es\",\"\") & \" not have sufficient contrast. Please see the Non-text Contrast worksheet.\")","v":""},{"$f":"IF('Non-text Contrast'!CE4=\"0 Faults\",\"\",LEFT('Non-text Contrast'!CE4,FIND(\" \",'Non-text Contrast'!CE4)-1) &\" combination\" & IF('Non-text Contrast'!CE4=\"1 Fault\",\"\",\"s\") & \" of adjacent colours do\" & IF('Non-text Contrast'!CE4=\"1 Fault\",\"es\",\"\") & \" not have sufficient contrast. Please see the Non-text Contrast worksheet.\")","v":""},{"$f":"IF('Non-text Contrast'!CF4=\"0 Faults\",\"\",LEFT('Non-text Contrast'!CF4,FIND(\" \",'Non-text Contrast'!CF4)-1) &\" combination\" & IF('Non-text Contrast'!CF4=\"1 Fault\",\"\",\"s\") & \" of adjacent colours do\" & IF('Non-text Contrast'!CF4=\"1 Fault\",\"es\",\"\") & \" not have sufficient contrast. Please see the Non-text Contrast worksheet.\")","v":""},{"$f":"IF('Non-text Contrast'!CG4=\"0 Faults\",\"\",LEFT('Non-text Contrast'!CG4,FIND(\" \",'Non-text Contrast'!CG4)-1) &\" combination\" & IF('Non-text Contrast'!CG4=\"1 Fault\",\"\",\"s\") & \" of adjacent colours do\" & IF('Non-text Contrast'!CG4=\"1 Fault\",\"es\",\"\") & \" not have sufficient contrast. Please see the Non-text Contrast worksheet.\")","v":""},{"$f":"IF('Non-text Contrast'!CH4=\"0 Faults\",\"\",LEFT('Non-text Contrast'!CH4,FIND(\" \",'Non-text Contrast'!CH4)-1) &\" combination\" & IF('Non-text Contrast'!CH4=\"1 Fault\",\"\",\"s\") & \" of adjacent colours do\" & IF('Non-text Contrast'!CH4=\"1 Fault\",\"es\",\"\") & \" not have sufficient contrast. Please see the Non-text Contrast worksheet.\")","v":""},{"$f":"IF('Non-text Contrast'!CI4=\"0 Faults\",\"\",LEFT('Non-text Contrast'!CI4,FIND(\" \",'Non-text Contrast'!CI4)-1) &\" combination\" & IF('Non-text Contrast'!CI4=\"1 Fault\",\"\",\"s\") & \" of adjacent colours do\" & IF('Non-text Contrast'!CI4=\"1 Fault\",\"es\",\"\") & \" not have sufficient contrast. Please see the Non-text Contrast worksheet.\")","v":""},{"$f":"IF('Non-text Contrast'!CJ4=\"0 Faults\",\"\",LEFT('Non-text Contrast'!CJ4,FIND(\" \",'Non-text Contrast'!CJ4)-1) &\" combination\" & IF('Non-text Contrast'!CJ4=\"1 Fault\",\"\",\"s\") & \" of adjacent colours do\" & IF('Non-text Contrast'!CJ4=\"1 Fault\",\"es\",\"\") & \" not have sufficient contrast. Please see the Non-text Contrast worksheet.\")","v":""},{"$f":"IF('Non-text Contrast'!CK4=\"0 Faults\",\"\",LEFT('Non-text Contrast'!CK4,FIND(\" \",'Non-text Contrast'!CK4)-1) &\" combination\" & IF('Non-text Contrast'!CK4=\"1 Fault\",\"\",\"s\") & \" of adjacent colours do\" & IF('Non-text Contrast'!CK4=\"1 Fault\",\"es\",\"\") & \" not have sufficient contrast. Please see the Non-text Contrast worksheet.\")","v":""},{"$f":"IF('Non-text Contrast'!CL4=\"0 Faults\",\"\",LEFT('Non-text Contrast'!CL4,FIND(\" \",'Non-text Contrast'!CL4)-1) &\" combination\" & IF('Non-text Contrast'!CL4=\"1 Fault\",\"\",\"s\") & \" of adjacent colours do\" & IF('Non-text Contrast'!CL4=\"1 Fault\",\"es\",\"\") & \" not have sufficient contrast. Please see the Non-text Contrast worksheet.\")","v":""},{"$f":"IF('Non-text Contrast'!CM4=\"0 Faults\",\"\",LEFT('Non-text Contrast'!CM4,FIND(\" \",'Non-text Contrast'!CM4)-1) &\" combination\" & IF('Non-text Contrast'!CM4=\"1 Fault\",\"\",\"s\") & \" of adjacent colours do\" & IF('Non-text Contrast'!CM4=\"1 Fault\",\"es\",\"\") & \" not have sufficient contrast. Please see the Non-text Contrast worksheet.\")","v":""},{"$f":"IF('Non-text Contrast'!CN4=\"0 Faults\",\"\",LEFT('Non-text Contrast'!CN4,FIND(\" \",'Non-text Contrast'!CN4)-1) &\" combination\" & IF('Non-text Contrast'!CN4=\"1 Fault\",\"\",\"s\") & \" of adjacent colours do\" & IF('Non-text Contrast'!CN4=\"1 Fault\",\"es\",\"\") & \" not have sufficient contrast. Please see the Non-text Contrast worksheet.\")","v":""},{"$f":"IF('Non-text Contrast'!CO4=\"0 Faults\",\"\",LEFT('Non-text Contrast'!CO4,FIND(\" \",'Non-text Contrast'!CO4)-1) &\" combination\" & IF('Non-text Contrast'!CO4=\"1 Fault\",\"\",\"s\") & \" of adjacent colours do\" & IF('Non-text Contrast'!CO4=\"1 Fault\",\"es\",\"\") & \" not have sufficient contrast. Please see the Non-text Contrast worksheet.\")","v":""},{"$f":"IF('Non-text Contrast'!CP4=\"0 Faults\",\"\",LEFT('Non-text Contrast'!CP4,FIND(\" \",'Non-text Contrast'!CP4)-1) &\" combination\" & IF('Non-text Contrast'!CP4=\"1 Fault\",\"\",\"s\") & \" of adjacent colours do\" & IF('Non-text Contrast'!CP4=\"1 Fault\",\"es\",\"\") & \" not have sufficient contrast. Please see the Non-text Contrast worksheet.\")","v":""},{"$f":"IF('Non-text Contrast'!CQ4=\"0 Faults\",\"\",LEFT('Non-text Contrast'!CQ4,FIND(\" \",'Non-text Contrast'!CQ4)-1) &\" combination\" & IF('Non-text Contrast'!CQ4=\"1 Fault\",\"\",\"s\") & \" of adjacent colours do\" & IF('Non-text Contrast'!CQ4=\"1 Fault\",\"es\",\"\") & \" not have sufficient contrast. Please see the Non-text Contrast worksheet.\")","v":""},{"$f":"IF('Non-text Contrast'!CR4=\"0 Faults\",\"\",LEFT('Non-text Contrast'!CR4,FIND(\" \",'Non-text Contrast'!CR4)-1) &\" combination\" & IF('Non-text Contrast'!CR4=\"1 Fault\",\"\",\"s\") & \" of adjacent colours do\" & IF('Non-text Contrast'!CR4=\"1 Fault\",\"es\",\"\") & \" not have sufficient contrast. Please see the Non-text Contrast worksheet.\")","v":""},{"$f":"IF('Non-text Contrast'!CS4=\"0 Faults\",\"\",LEFT('Non-text Contrast'!CS4,FIND(\" \",'Non-text Contrast'!CS4)-1) &\" combination\" & IF('Non-text Contrast'!CS4=\"1 Fault\",\"\",\"s\") & \" of adjacent colours do\" & IF('Non-text Contrast'!CS4=\"1 Fault\",\"es\",\"\") & \" not have sufficient contrast. Please see the Non-text Contrast worksheet.\")","v":""},{"$f":"IF('Non-text Contrast'!CT4=\"0 Faults\",\"\",LEFT('Non-text Contrast'!CT4,FIND(\" \",'Non-text Contrast'!CT4)-1) &\" combination\" & IF('Non-text Contrast'!CT4=\"1 Fault\",\"\",\"s\") & \" of adjacent colours do\" & IF('Non-text Contrast'!CT4=\"1 Fault\",\"es\",\"\") & \" not have sufficient contrast. Please see the Non-text Contrast worksheet.\")","v":""},{"$f":"IF('Non-text Contrast'!CU4=\"0 Faults\",\"\",LEFT('Non-text Contrast'!CU4,FIND(\" \",'Non-text Contrast'!CU4)-1) &\" combination\" & IF('Non-text Contrast'!CU4=\"1 Fault\",\"\",\"s\") & \" of adjacent colours do\" & IF('Non-text Contrast'!CU4=\"1 Fault\",\"es\",\"\") & \" not have sufficient contrast. Please see the Non-text Contrast worksheet.\")","v":""},{"$f":"IF('Non-text Contrast'!CV4=\"0 Faults\",\"\",LEFT('Non-text Contrast'!CV4,FIND(\" \",'Non-text Contrast'!CV4)-1) &\" combination\" & IF('Non-text Contrast'!CV4=\"1 Fault\",\"\",\"s\") & \" of adjacent colours do\" & IF('Non-text Contrast'!CV4=\"1 Fault\",\"es\",\"\") & \" not have sufficient contrast. Please see the Non-text Contrast worksheet.\")","v":""},{"$f":"IF('Non-text Contrast'!CW4=\"0 Faults\",\"\",LEFT('Non-text Contrast'!CW4,FIND(\" \",'Non-text Contrast'!CW4)-1) &\" combination\" & IF('Non-text Contrast'!CW4=\"1 Fault\",\"\",\"s\") & \" of adjacent colours do\" & IF('Non-text Contrast'!CW4=\"1 Fault\",\"es\",\"\") & \" not have sufficient contrast. Please see the Non-text Contrast worksheet.\")","v":""},{"$f":"IF('Non-text Contrast'!CX4=\"0 Faults\",\"\",LEFT('Non-text Contrast'!CX4,FIND(\" \",'Non-text Contrast'!CX4)-1) &\" combination\" & IF('Non-text Contrast'!CX4=\"1 Fault\",\"\",\"s\") & \" of adjacent colours do\" & IF('Non-text Contrast'!CX4=\"1 Fault\",\"es\",\"\") & \" not have sufficient contrast. Please see the Non-text Contrast worksheet.\")","v":""},{"$f":"IF('Non-text Contrast'!CY4=\"0 Faults\",\"\",LEFT('Non-text Contrast'!CY4,FIND(\" \",'Non-text Contrast'!CY4)-1) &\" combination\" & IF('Non-text Contrast'!CY4=\"1 Fault\",\"\",\"s\") & \" of adjacent colours do\" & IF('Non-text Contrast'!CY4=\"1 Fault\",\"es\",\"\") & \" not have sufficient contrast. Please see the Non-text Contrast worksheet.\")","v":""},{"$f":"IF('Non-text Contrast'!CZ4=\"0 Faults\",\"\",LEFT('Non-text Contrast'!CZ4,FIND(\" \",'Non-text Contrast'!CZ4)-1) &\" combination\" & IF('Non-text Contrast'!CZ4=\"1 Fault\",\"\",\"s\") & \" of adjacent colours do\" & IF('Non-text Contrast'!CZ4=\"1 Fault\",\"es\",\"\") & \" not have sufficient contrast. Please see the Non-text Contrast worksheet.\")","v":""},{"$f":"IF('Non-text Contrast'!DA4=\"0 Faults\",\"\",LEFT('Non-text Contrast'!DA4,FIND(\" \",'Non-text Contrast'!DA4)-1) &\" combination\" & IF('Non-text Contrast'!DA4=\"1 Fault\",\"\",\"s\") & \" of adjacent colours do\" & IF('Non-text Contrast'!DA4=\"1 Fault\",\"es\",\"\") & \" not have sufficient contrast. Please see the Non-text Contrast worksheet.\")","v":""},{"$f":"IF('Non-text Contrast'!DB4=\"0 Faults\",\"\",LEFT('Non-text Contrast'!DB4,FIND(\" \",'Non-text Contrast'!DB4)-1) &\" combination\" & IF('Non-text Contrast'!DB4=\"1 Fault\",\"\",\"s\") & \" of adjacent colours do\" & IF('Non-text Contrast'!DB4=\"1 Fault\",\"es\",\"\") & \" not have sufficient contrast. Please see the Non-text Contrast worksheet.\")","v":""},{"$f":"IF('Non-text Contrast'!DC4=\"0 Faults\",\"\",LEFT('Non-text Contrast'!DC4,FIND(\" \",'Non-text Contrast'!DC4)-1) &\" combination\" & IF('Non-text Contrast'!DC4=\"1 Fault\",\"\",\"s\") & \" of adjacent colours do\" & IF('Non-text Contrast'!DC4=\"1 Fault\",\"es\",\"\") & \" not have sufficient contrast. Please see the Non-text Contrast worksheet.\")","v":""},{"$f":"IF('Non-text Contrast'!DD4=\"0 Faults\",\"\",LEFT('Non-text Contrast'!DD4,FIND(\" \",'Non-text Contrast'!DD4)-1) &\" combination\" & IF('Non-text Contrast'!DD4=\"1 Fault\",\"\",\"s\") & \" of adjacent colours do\" & IF('Non-text Contrast'!DD4=\"1 Fault\",\"es\",\"\") & \" not have sufficient contrast. Please see the Non-text Contrast worksheet.\")","v":""},{"$f":"IF('Non-text Contrast'!DE4=\"0 Faults\",\"\",LEFT('Non-text Contrast'!DE4,FIND(\" \",'Non-text Contrast'!DE4)-1) &\" combination\" & IF('Non-text Contrast'!DE4=\"1 Fault\",\"\",\"s\") & \" of adjacent colours do\" & IF('Non-text Contrast'!DE4=\"1 Fault\",\"es\",\"\") & \" not have sufficient contrast. Please see the Non-text Contrast worksheet.\")","v":""},{"$f":"IF('Non-text Contrast'!DF4=\"0 Faults\",\"\",LEFT('Non-text Contrast'!DF4,FIND(\" \",'Non-text Contrast'!DF4)-1) &\" combination\" & IF('Non-text Contrast'!DF4=\"1 Fault\",\"\",\"s\") & \" of adjacent colours do\" & IF('Non-text Contrast'!DF4=\"1 Fault\",\"es\",\"\") & \" not have sufficient contrast. Please see the Non-text Contrast worksheet.\")","v":""},{"$f":"IF('Non-text Contrast'!DG4=\"0 Faults\",\"\",LEFT('Non-text Contrast'!DG4,FIND(\" \",'Non-text Contrast'!DG4)-1) &\" combination\" & IF('Non-text Contrast'!DG4=\"1 Fault\",\"\",\"s\") & \" of adjacent colours do\" & IF('Non-text Contrast'!DG4=\"1 Fault\",\"es\",\"\") & \" not have sufficient contrast. Please see the Non-text Contrast worksheet.\")","v":""},{"$f":"IF('Non-text Contrast'!DH4=\"0 Faults\",\"\",LEFT('Non-text Contrast'!DH4,FIND(\" \",'Non-text Contrast'!DH4)-1) &\" combination\" & IF('Non-text Contrast'!DH4=\"1 Fault\",\"\",\"s\") & \" of adjacent colours do\" & IF('Non-text Contrast'!DH4=\"1 Fault\",\"es\",\"\") & \" not have sufficient contrast. Please see the Non-text Contrast worksheet.\")","v":""},{"$f":"IF('Non-text Contrast'!DI4=\"0 Faults\",\"\",LEFT('Non-text Contrast'!DI4,FIND(\" \",'Non-text Contrast'!DI4)-1) &\" combination\" & IF('Non-text Contrast'!DI4=\"1 Fault\",\"\",\"s\") & \" of adjacent colours do\" & IF('Non-text Contrast'!DI4=\"1 Fault\",\"es\",\"\") & \" not have sufficient contrast. Please see the Non-text Contrast worksheet.\")","v":""},{"$f":"IF('Non-text Contrast'!DJ4=\"0 Faults\",\"\",LEFT('Non-text Contrast'!DJ4,FIND(\" \",'Non-text Contrast'!DJ4)-1) &\" combination\" & IF('Non-text Contrast'!DJ4=\"1 Fault\",\"\",\"s\") & \" of adjacent colours do\" & IF('Non-text Contrast'!DJ4=\"1 Fault\",\"es\",\"\") & \" not have sufficient contrast. Please see the Non-text Contrast worksheet.\")","v":""},{"$f":"IF('Non-text Contrast'!DK4=\"0 Faults\",\"\",LEFT('Non-text Contrast'!DK4,FIND(\" \",'Non-text Contrast'!DK4)-1) &\" combination\" & IF('Non-text Contrast'!DK4=\"1 Fault\",\"\",\"s\") & \" of adjacent colours do\" & IF('Non-text Contrast'!DK4=\"1 Fault\",\"es\",\"\") & \" not have sufficient contrast. Please see the Non-text Contrast worksheet.\")","v":""},{"$f":"IF('Non-text Contrast'!DL4=\"0 Faults\",\"\",LEFT('Non-text Contrast'!DL4,FIND(\" \",'Non-text Contrast'!DL4)-1) &\" combination\" & IF('Non-text Contrast'!DL4=\"1 Fault\",\"\",\"s\") & \" of adjacent colours do\" & IF('Non-text Contrast'!DL4=\"1 Fault\",\"es\",\"\") & \" not have sufficient contrast. Please see the Non-text Contrast worksheet.\")","v":""},{"$f":"IF('Non-text Contrast'!DM4=\"0 Faults\",\"\",LEFT('Non-text Contrast'!DM4,FIND(\" \",'Non-text Contrast'!DM4)-1) &\" combination\" & IF('Non-text Contrast'!DM4=\"1 Fault\",\"\",\"s\") & \" of adjacent colours do\" & IF('Non-text Contrast'!DM4=\"1 Fault\",\"es\",\"\") & \" not have sufficient contrast. Please see the Non-text Contrast worksheet.\")","v":""},{"$f":"IF('Non-text Contrast'!DN4=\"0 Faults\",\"\",LEFT('Non-text Contrast'!DN4,FIND(\" \",'Non-text Contrast'!DN4)-1) &\" combination\" & IF('Non-text Contrast'!DN4=\"1 Fault\",\"\",\"s\") & \" of adjacent colours do\" & IF('Non-text Contrast'!DN4=\"1 Fault\",\"es\",\"\") & \" not have sufficient contrast. Please see the Non-text Contrast worksheet.\")","v":""},{"$f":"IF('Non-text Contrast'!DO4=\"0 Faults\",\"\",LEFT('Non-text Contrast'!DO4,FIND(\" \",'Non-text Contrast'!DO4)-1) &\" combination\" & IF('Non-text Contrast'!DO4=\"1 Fault\",\"\",\"s\") & \" of adjacent colours do\" & IF('Non-text Contrast'!DO4=\"1 Fault\",\"es\",\"\") & \" not have sufficient contrast. Please see the Non-text Contrast worksheet.\")","v":""},{"$f":"IF('Non-text Contrast'!DP4=\"0 Faults\",\"\",LEFT('Non-text Contrast'!DP4,FIND(\" \",'Non-text Contrast'!DP4)-1) &\" combination\" & IF('Non-text Contrast'!DP4=\"1 Fault\",\"\",\"s\") & \" of adjacent colours do\" & IF('Non-text Contrast'!DP4=\"1 Fault\",\"es\",\"\") & \" not have sufficient contrast. Please see the Non-text Contrast worksheet.\")","v":""},{"$f":"IF('Non-text Contrast'!DQ4=\"0 Faults\",\"\",LEFT('Non-text Contrast'!DQ4,FIND(\" \",'Non-text Contrast'!DQ4)-1) &\" combination\" & IF('Non-text Contrast'!DQ4=\"1 Fault\",\"\",\"s\") & \" of adjacent colours do\" & IF('Non-text Contrast'!DQ4=\"1 Fault\",\"es\",\"\") & \" not have sufficient contrast. Please see the Non-text Contrast worksheet.\")","v":""},{"$f":"IF('Non-text Contrast'!DR4=\"0 Faults\",\"\",LEFT('Non-text Contrast'!DR4,FIND(\" \",'Non-text Contrast'!DR4)-1) &\" combination\" & IF('Non-text Contrast'!DR4=\"1 Fault\",\"\",\"s\") & \" of adjacent colours do\" & IF('Non-text Contrast'!DR4=\"1 Fault\",\"es\",\"\") & \" not have sufficient contrast. Please see the Non-text Contrast worksheet.\")","v":""},{"$f":"IF('Non-text Contrast'!DS4=\"0 Faults\",\"\",LEFT('Non-text Contrast'!DS4,FIND(\" \",'Non-text Contrast'!DS4)-1) &\" combination\" & IF('Non-text Contrast'!DS4=\"1 Fault\",\"\",\"s\") & \" of adjacent colours do\" & IF('Non-text Contrast'!DS4=\"1 Fault\",\"es\",\"\") & \" not have sufficient contrast. Please see the Non-text Contrast worksheet.\")","v":""},{"$f":"IF('Non-text Contrast'!DT4=\"0 Faults\",\"\",LEFT('Non-text Contrast'!DT4,FIND(\" \",'Non-text Contrast'!DT4)-1) &\" combination\" & IF('Non-text Contrast'!DT4=\"1 Fault\",\"\",\"s\") & \" of adjacent colours do\" & IF('Non-text Contrast'!DT4=\"1 Fault\",\"es\",\"\") & \" not have sufficient contrast. Please see the Non-text Contrast worksheet.\")","v":""},{"$f":"IF('Non-text Contrast'!DU4=\"0 Faults\",\"\",LEFT('Non-text Contrast'!DU4,FIND(\" \",'Non-text Contrast'!DU4)-1) &\" combination\" & IF('Non-text Contrast'!DU4=\"1 Fault\",\"\",\"s\") & \" of adjacent colours do\" & IF('Non-text Contrast'!DU4=\"1 Fault\",\"es\",\"\") & \" not have sufficient contrast. Please see the Non-text Contrast worksheet.\")","v":""},{"$f":"IF('Non-text Contrast'!DV4=\"0 Faults\",\"\",LEFT('Non-text Contrast'!DV4,FIND(\" \",'Non-text Contrast'!DV4)-1) &\" combination\" & IF('Non-text Contrast'!DV4=\"1 Fault\",\"\",\"s\") & \" of adjacent colours do\" & IF('Non-text Contrast'!DV4=\"1 Fault\",\"es\",\"\") & \" not have sufficient contrast. Please see the Non-text Contrast worksheet.\")","v":""},{"$f":"IF('Non-text Contrast'!DW4=\"0 Faults\",\"\",LEFT('Non-text Contrast'!DW4,FIND(\" \",'Non-text Contrast'!DW4)-1) &\" combination\" & IF('Non-text Contrast'!DW4=\"1 Fault\",\"\",\"s\") & \" of adjacent colours do\" & IF('Non-text Contrast'!DW4=\"1 Fault\",\"es\",\"\") & \" not have sufficient contrast. Please see the Non-text Contrast worksheet.\")","v":""},{"$f":"IF('Non-text Contrast'!DX4=\"0 Faults\",\"\",LEFT('Non-text Contrast'!DX4,FIND(\" \",'Non-text Contrast'!DX4)-1) &\" combination\" & IF('Non-text Contrast'!DX4=\"1 Fault\",\"\",\"s\") & \" of adjacent colours do\" & IF('Non-text Contrast'!DX4=\"1 Fault\",\"es\",\"\") & \" not have sufficient contrast. Please see the Non-text Contrast worksheet.\")","v":""},{"$f":"IF('Non-text Contrast'!DY4=\"0 Faults\",\"\",LEFT('Non-text Contrast'!DY4,FIND(\" \",'Non-text Contrast'!DY4)-1) &\" combination\" & IF('Non-text Contrast'!DY4=\"1 Fault\",\"\",\"s\") & \" of adjacent colours do\" & IF('Non-text Contrast'!DY4=\"1 Fault\",\"es\",\"\") & \" not have sufficient contrast. Please see the Non-text Contrast worksheet.\")","v":""},{"$f":"IF('Non-text Contrast'!DZ4=\"0 Faults\",\"\",LEFT('Non-text Contrast'!DZ4,FIND(\" \",'Non-text Contrast'!DZ4)-1) &\" combination\" & IF('Non-text Contrast'!DZ4=\"1 Fault\",\"\",\"s\") & \" of adjacent colours do\" & IF('Non-text Contrast'!DZ4=\"1 Fault\",\"es\",\"\") & \" not have sufficient contrast. Please see the Non-text Contrast worksheet.\")","v":""},{"$f":"IF('Non-text Contrast'!EA4=\"0 Faults\",\"\",LEFT('Non-text Contrast'!EA4,FIND(\" \",'Non-text Contrast'!EA4)-1) &\" combination\" & IF('Non-text Contrast'!EA4=\"1 Fault\",\"\",\"s\") & \" of adjacent colours do\" & IF('Non-text Contrast'!EA4=\"1 Fault\",\"es\",\"\") & \" not have sufficient contrast. Please see the Non-text Contrast worksheet.\")","v":""},{"$f":"IF('Non-text Contrast'!EB4=\"0 Faults\",\"\",LEFT('Non-text Contrast'!EB4,FIND(\" \",'Non-text Contrast'!EB4)-1) &\" combination\" & IF('Non-text Contrast'!EB4=\"1 Fault\",\"\",\"s\") & \" of adjacent colours do\" & IF('Non-text Contrast'!EB4=\"1 Fault\",\"es\",\"\") & \" not have sufficient contrast. Please see the Non-text Contrast worksheet.\")","v":""},{"$f":"IF('Non-text Contrast'!EC4=\"0 Faults\",\"\",LEFT('Non-text Contrast'!EC4,FIND(\" \",'Non-text Contrast'!EC4)-1) &\" combination\" & IF('Non-text Contrast'!EC4=\"1 Fault\",\"\",\"s\") & \" of adjacent colours do\" & IF('Non-text Contrast'!EC4=\"1 Fault\",\"es\",\"\") & \" not have sufficient contrast. Please see the Non-text Contrast worksheet.\")","v":""},{"$f":"IF('Non-text Contrast'!ED4=\"0 Faults\",\"\",LEFT('Non-text Contrast'!ED4,FIND(\" \",'Non-text Contrast'!ED4)-1) &\" combination\" & IF('Non-text Contrast'!ED4=\"1 Fault\",\"\",\"s\") & \" of adjacent colours do\" & IF('Non-text Contrast'!ED4=\"1 Fault\",\"es\",\"\") & \" not have sufficient contrast. Please see the Non-text Contrast worksheet.\")","v":""},{"$f":"IF('Non-text Contrast'!EE4=\"0 Faults\",\"\",LEFT('Non-text Contrast'!EE4,FIND(\" \",'Non-text Contrast'!EE4)-1) &\" combination\" & IF('Non-text Contrast'!EE4=\"1 Fault\",\"\",\"s\") & \" of adjacent colours do\" & IF('Non-text Contrast'!EE4=\"1 Fault\",\"es\",\"\") & \" not have sufficient contrast. Please see the Non-text Contrast worksheet.\")","v":""},{"$f":"IF('Non-text Contrast'!EF4=\"0 Faults\",\"\",LEFT('Non-text Contrast'!EF4,FIND(\" \",'Non-text Contrast'!EF4)-1) &\" combination\" & IF('Non-text Contrast'!EF4=\"1 Fault\",\"\",\"s\") & \" of adjacent colours do\" & IF('Non-text Contrast'!EF4=\"1 Fault\",\"es\",\"\") & \" not have sufficient contrast. Please see the Non-text Contrast worksheet.\")","v":""},{"$f":"IF('Non-text Contrast'!EG4=\"0 Faults\",\"\",LEFT('Non-text Contrast'!EG4,FIND(\" \",'Non-text Contrast'!EG4)-1) &\" combination\" & IF('Non-text Contrast'!EG4=\"1 Fault\",\"\",\"s\") & \" of adjacent colours do\" & IF('Non-text Contrast'!EG4=\"1 Fault\",\"es\",\"\") & \" not have sufficient contrast. Please see the Non-text Contrast worksheet.\")","v":""},{"$f":"IF('Non-text Contrast'!EH4=\"0 Faults\",\"\",LEFT('Non-text Contrast'!EH4,FIND(\" \",'Non-text Contrast'!EH4)-1) &\" combination\" & IF('Non-text Contrast'!EH4=\"1 Fault\",\"\",\"s\") & \" of adjacent colours do\" & IF('Non-text Contrast'!EH4=\"1 Fault\",\"es\",\"\") & \" not have sufficient contrast. Please see the Non-text Contrast worksheet.\")","v":""},{"$f":"IF('Non-text Contrast'!EI4=\"0 Faults\",\"\",LEFT('Non-text Contrast'!EI4,FIND(\" \",'Non-text Contrast'!EI4)-1) &\" combination\" & IF('Non-text Contrast'!EI4=\"1 Fault\",\"\",\"s\") & \" of adjacent colours do\" & IF('Non-text Contrast'!EI4=\"1 Fault\",\"es\",\"\") & \" not have sufficient contrast. Please see the Non-text Contrast worksheet.\")","v":""},{"$f":"IF('Non-text Contrast'!EJ4=\"0 Faults\",\"\",LEFT('Non-text Contrast'!EJ4,FIND(\" \",'Non-text Contrast'!EJ4)-1) &\" combination\" & IF('Non-text Contrast'!EJ4=\"1 Fault\",\"\",\"s\") & \" of adjacent colours do\" & IF('Non-text Contrast'!EJ4=\"1 Fault\",\"es\",\"\") & \" not have sufficient contrast. Please see the Non-text Contrast worksheet.\")","v":""},{"$f":"IF('Non-text Contrast'!EK4=\"0 Faults\",\"\",LEFT('Non-text Contrast'!EK4,FIND(\" \",'Non-text Contrast'!EK4)-1) &\" combination\" & IF('Non-text Contrast'!EK4=\"1 Fault\",\"\",\"s\") & \" of adjacent colours do\" & IF('Non-text Contrast'!EK4=\"1 Fault\",\"es\",\"\") & \" not have sufficient contrast. Please see the Non-text Contrast worksheet.\")","v":""},{"$f":"IF('Non-text Contrast'!EL4=\"0 Faults\",\"\",LEFT('Non-text Contrast'!EL4,FIND(\" \",'Non-text Contrast'!EL4)-1) &\" combination\" & IF('Non-text Contrast'!EL4=\"1 Fault\",\"\",\"s\") & \" of adjacent colours do\" & IF('Non-text Contrast'!EL4=\"1 Fault\",\"es\",\"\") & \" not have sufficient contrast. Please see the Non-text Contrast worksheet.\")","v":""},{"$f":"IF('Non-text Contrast'!EM4=\"0 Faults\",\"\",LEFT('Non-text Contrast'!EM4,FIND(\" \",'Non-text Contrast'!EM4)-1) &\" combination\" & IF('Non-text Contrast'!EM4=\"1 Fault\",\"\",\"s\") & \" of adjacent colours do\" & IF('Non-text Contrast'!EM4=\"1 Fault\",\"es\",\"\") & \" not have sufficient contrast. Please see the Non-text Contrast worksheet.\")","v":""},{"$f":"IF('Non-text Contrast'!EN4=\"0 Faults\",\"\",LEFT('Non-text Contrast'!EN4,FIND(\" \",'Non-text Contrast'!EN4)-1) &\" combination\" & IF('Non-text Contrast'!EN4=\"1 Fault\",\"\",\"s\") & \" of adjacent colours do\" & IF('Non-text Contrast'!EN4=\"1 Fault\",\"es\",\"\") & \" not have sufficient contrast. Please see the Non-text Contrast worksheet.\")","v":""},{"$f":"IF('Non-text Contrast'!EO4=\"0 Faults\",\"\",LEFT('Non-text Contrast'!EO4,FIND(\" \",'Non-text Contrast'!EO4)-1) &\" combination\" & IF('Non-text Contrast'!EO4=\"1 Fault\",\"\",\"s\") & \" of adjacent colours do\" & IF('Non-text Contrast'!EO4=\"1 Fault\",\"es\",\"\") & \" not have sufficient contrast. Please see the Non-text Contrast worksheet.\")","v":""},{"$f":"IF('Non-text Contrast'!EP4=\"0 Faults\",\"\",LEFT('Non-text Contrast'!EP4,FIND(\" \",'Non-text Contrast'!EP4)-1) &\" combination\" & IF('Non-text Contrast'!EP4=\"1 Fault\",\"\",\"s\") & \" of adjacent colours do\" & IF('Non-text Contrast'!EP4=\"1 Fault\",\"es\",\"\") & \" not have sufficient contrast. Please see the Non-text Contrast worksheet.\")","v":""},{"$f":"IF('Non-text Contrast'!EQ4=\"0 Faults\",\"\",LEFT('Non-text Contrast'!EQ4,FIND(\" \",'Non-text Contrast'!EQ4)-1) &\" combination\" & IF('Non-text Contrast'!EQ4=\"1 Fault\",\"\",\"s\") & \" of adjacent colours do\" & IF('Non-text Contrast'!EQ4=\"1 Fault\",\"es\",\"\") & \" not have sufficient contrast. Please see the Non-text Contrast worksheet.\")","v":""},{"$f":"IF('Non-text Contrast'!ER4=\"0 Faults\",\"\",LEFT('Non-text Contrast'!ER4,FIND(\" \",'Non-text Contrast'!ER4)-1) &\" combination\" & IF('Non-text Contrast'!ER4=\"1 Fault\",\"\",\"s\") & \" of adjacent colours do\" & IF('Non-text Contrast'!ER4=\"1 Fault\",\"es\",\"\") & \" not have sufficient contrast. Please see the Non-text Contrast worksheet.\")","v":""},{"$f":"IF('Non-text Contrast'!ES4=\"0 Faults\",\"\",LEFT('Non-text Contrast'!ES4,FIND(\" \",'Non-text Contrast'!ES4)-1) &\" combination\" & IF('Non-text Contrast'!ES4=\"1 Fault\",\"\",\"s\") & \" of adjacent colours do\" & IF('Non-text Contrast'!ES4=\"1 Fault\",\"es\",\"\") & \" not have sufficient contrast. Please see the Non-text Contrast worksheet.\")","v":""},{"$f":"IF('Non-text Contrast'!ET4=\"0 Faults\",\"\",LEFT('Non-text Contrast'!ET4,FIND(\" \",'Non-text Contrast'!ET4)-1) &\" combination\" & IF('Non-text Contrast'!ET4=\"1 Fault\",\"\",\"s\") & \" of adjacent colours do\" & IF('Non-text Contrast'!ET4=\"1 Fault\",\"es\",\"\") & \" not have sufficient contrast. Please see the Non-text Contrast worksheet.\")","v":""},{"$f":"IF('Non-text Contrast'!EU4=\"0 Faults\",\"\",LEFT('Non-text Contrast'!EU4,FIND(\" \",'Non-text Contrast'!EU4)-1) &\" combination\" & IF('Non-text Contrast'!EU4=\"1 Fault\",\"\",\"s\") & \" of adjacent colours do\" & IF('Non-text Contrast'!EU4=\"1 Fault\",\"es\",\"\") & \" not have sufficient contrast. Please see the Non-text Contrast worksheet.\")","v":""},{"$f":"IF('Non-text Contrast'!EV4=\"0 Faults\",\"\",LEFT('Non-text Contrast'!EV4,FIND(\" \",'Non-text Contrast'!EV4)-1) &\" combination\" & IF('Non-text Contrast'!EV4=\"1 Fault\",\"\",\"s\") & \" of adjacent colours do\" & IF('Non-text Contrast'!EV4=\"1 Fault\",\"es\",\"\") & \" not have sufficient contrast. Please see the Non-text Contrast worksheet.\")","v":""},{"$f":"IF('Non-text Contrast'!EW4=\"0 Faults\",\"\",LEFT('Non-text Contrast'!EW4,FIND(\" \",'Non-text Contrast'!EW4)-1) &\" combination\" & IF('Non-text Contrast'!EW4=\"1 Fault\",\"\",\"s\") & \" of adjacent colours do\" & IF('Non-text Contrast'!EW4=\"1 Fault\",\"es\",\"\") & \" not have sufficient contrast. Please see the Non-text Contrast worksheet.\")","v":""},{"$f":"IF('Non-text Contrast'!EX4=\"0 Faults\",\"\",LEFT('Non-text Contrast'!EX4,FIND(\" \",'Non-text Contrast'!EX4)-1) &\" combination\" & IF('Non-text Contrast'!EX4=\"1 Fault\",\"\",\"s\") & \" of adjacent colours do\" & IF('Non-text Contrast'!EX4=\"1 Fault\",\"es\",\"\") & \" not have sufficient contrast. Please see the Non-text Contrast worksheet.\")","v":""},{"$f":"IF('Non-text Contrast'!EY4=\"0 Faults\",\"\",LEFT('Non-text Contrast'!EY4,FIND(\" \",'Non-text Contrast'!EY4)-1) &\" combination\" & IF('Non-text Contrast'!EY4=\"1 Fault\",\"\",\"s\") & \" of adjacent colours do\" & IF('Non-text Contrast'!EY4=\"1 Fault\",\"es\",\"\") & \" not have sufficient contrast. Please see the Non-text Contrast worksheet.\")","v":""},{"$f":"IF('Non-text Contrast'!EZ4=\"0 Faults\",\"\",LEFT('Non-text Contrast'!EZ4,FIND(\" \",'Non-text Contrast'!EZ4)-1) &\" combination\" & IF('Non-text Contrast'!EZ4=\"1 Fault\",\"\",\"s\") & \" of adjacent colours do\" & IF('Non-text Contrast'!EZ4=\"1 Fault\",\"es\",\"\") & \" not have sufficient contrast. Please see the Non-text Contrast worksheet.\")","v":""},{"$f":"IF('Non-text Contrast'!FA4=\"0 Faults\",\"\",LEFT('Non-text Contrast'!FA4,FIND(\" \",'Non-text Contrast'!FA4)-1) &\" combination\" & IF('Non-text Contrast'!FA4=\"1 Fault\",\"\",\"s\") & \" of adjacent colours do\" & IF('Non-text Contrast'!FA4=\"1 Fault\",\"es\",\"\") & \" not have sufficient contrast. Please see the Non-text Contrast worksheet.\")","v":""},{"$f":"IF('Non-text Contrast'!FB4=\"0 Faults\",\"\",LEFT('Non-text Contrast'!FB4,FIND(\" \",'Non-text Contrast'!FB4)-1) &\" combination\" & IF('Non-text Contrast'!FB4=\"1 Fault\",\"\",\"s\") & \" of adjacent colours do\" & IF('Non-text Contrast'!FB4=\"1 Fault\",\"es\",\"\") & \" not have sufficient contrast. Please see the Non-text Contrast worksheet.\")","v":""},{"$f":"IF('Non-text Contrast'!FC4=\"0 Faults\",\"\",LEFT('Non-text Contrast'!FC4,FIND(\" \",'Non-text Contrast'!FC4)-1) &\" combination\" & IF('Non-text Contrast'!FC4=\"1 Fault\",\"\",\"s\") & \" of adjacent colours do\" & IF('Non-text Contrast'!FC4=\"1 Fault\",\"es\",\"\") & \" not have sufficient contrast. Please see the Non-text Contrast worksheet.\")","v":""},{"$f":"IF('Non-text Contrast'!FD4=\"0 Faults\",\"\",LEFT('Non-text Contrast'!FD4,FIND(\" \",'Non-text Contrast'!FD4)-1) &\" combination\" & IF('Non-text Contrast'!FD4=\"1 Fault\",\"\",\"s\") & \" of adjacent colours do\" & IF('Non-text Contrast'!FD4=\"1 Fault\",\"es\",\"\") & \" not have sufficient contrast. Please see the Non-text Contrast worksheet.\")","v":""},{"$f":"IF('Non-text Contrast'!FE4=\"0 Faults\",\"\",LEFT('Non-text Contrast'!FE4,FIND(\" \",'Non-text Contrast'!FE4)-1) &\" combination\" & IF('Non-text Contrast'!FE4=\"1 Fault\",\"\",\"s\") & \" of adjacent colours do\" & IF('Non-text Contrast'!FE4=\"1 Fault\",\"es\",\"\") & \" not have sufficient contrast. Please see the Non-text Contrast worksheet.\")","v":""},{"$f":"IF('Non-text Contrast'!FF4=\"0 Faults\",\"\",LEFT('Non-text Contrast'!FF4,FIND(\" \",'Non-text Contrast'!FF4)-1) &\" combination\" & IF('Non-text Contrast'!FF4=\"1 Fault\",\"\",\"s\") & \" of adjacent colours do\" & IF('Non-text Contrast'!FF4=\"1 Fault\",\"es\",\"\") & \" not have sufficient contrast. Please see the Non-text Contrast worksheet.\")","v":""},{"$f":"IF('Non-text Contrast'!FG4=\"0 Faults\",\"\",LEFT('Non-text Contrast'!FG4,FIND(\" \",'Non-text Contrast'!FG4)-1) &\" combination\" & IF('Non-text Contrast'!FG4=\"1 Fault\",\"\",\"s\") & \" of adjacent colours do\" & IF('Non-text Contrast'!FG4=\"1 Fault\",\"es\",\"\") & \" not have sufficient contrast. Please see the Non-text Contrast worksheet.\")","v":""},{"$f":"IF('Non-text Contrast'!FH4=\"0 Faults\",\"\",LEFT('Non-text Contrast'!FH4,FIND(\" \",'Non-text Contrast'!FH4)-1) &\" combination\" & IF('Non-text Contrast'!FH4=\"1 Fault\",\"\",\"s\") & \" of adjacent colours do\" & IF('Non-text Contrast'!FH4=\"1 Fault\",\"es\",\"\") & \" not have sufficient contrast. Please see the Non-text Contrast worksheet.\")","v":""},{"$f":"IF('Non-text Contrast'!FI4=\"0 Faults\",\"\",LEFT('Non-text Contrast'!FI4,FIND(\" \",'Non-text Contrast'!FI4)-1) &\" combination\" & IF('Non-text Contrast'!FI4=\"1 Fault\",\"\",\"s\") & \" of adjacent colours do\" & IF('Non-text Contrast'!FI4=\"1 Fault\",\"es\",\"\") & \" not have sufficient contrast. Please see the Non-text Contrast worksheet.\")","v":""},{"$f":"IF('Non-text Contrast'!FJ4=\"0 Faults\",\"\",LEFT('Non-text Contrast'!FJ4,FIND(\" \",'Non-text Contrast'!FJ4)-1) &\" combination\" & IF('Non-text Contrast'!FJ4=\"1 Fault\",\"\",\"s\") & \" of adjacent colours do\" & IF('Non-text Contrast'!FJ4=\"1 Fault\",\"es\",\"\") & \" not have sufficient contrast. Please see the Non-text Contrast worksheet.\")","v":""},{"$f":"IF('Non-text Contrast'!FK4=\"0 Faults\",\"\",LEFT('Non-text Contrast'!FK4,FIND(\" \",'Non-text Contrast'!FK4)-1) &\" combination\" & IF('Non-text Contrast'!FK4=\"1 Fault\",\"\",\"s\") & \" of adjacent colours do\" & IF('Non-text Contrast'!FK4=\"1 Fault\",\"es\",\"\") & \" not have sufficient contrast. Please see the Non-text Contrast worksheet.\")","v":""},{"$f":"IF('Non-text Contrast'!FL4=\"0 Faults\",\"\",LEFT('Non-text Contrast'!FL4,FIND(\" \",'Non-text Contrast'!FL4)-1) &\" combination\" & IF('Non-text Contrast'!FL4=\"1 Fault\",\"\",\"s\") & \" of adjacent colours do\" & IF('Non-text Contrast'!FL4=\"1 Fault\",\"es\",\"\") & \" not have sufficient contrast. Please see the Non-text Contrast worksheet.\")","v":""},{"$f":"IF('Non-text Contrast'!FM4=\"0 Faults\",\"\",LEFT('Non-text Contrast'!FM4,FIND(\" \",'Non-text Contrast'!FM4)-1) &\" combination\" & IF('Non-text Contrast'!FM4=\"1 Fault\",\"\",\"s\") & \" of adjacent colours do\" & IF('Non-text Contrast'!FM4=\"1 Fault\",\"es\",\"\") & \" not have sufficient contrast. Please see the Non-text Contrast worksheet.\")","v":""},{"$f":"IF('Non-text Contrast'!FN4=\"0 Faults\",\"\",LEFT('Non-text Contrast'!FN4,FIND(\" \",'Non-text Contrast'!FN4)-1) &\" combination\" & IF('Non-text Contrast'!FN4=\"1 Fault\",\"\",\"s\") & \" of adjacent colours do\" & IF('Non-text Contrast'!FN4=\"1 Fault\",\"es\",\"\") & \" not have sufficient contrast. Please see the Non-text Contrast worksheet.\")","v":""},{"$f":"IF('Non-text Contrast'!FO4=\"0 Faults\",\"\",LEFT('Non-text Contrast'!FO4,FIND(\" \",'Non-text Contrast'!FO4)-1) &\" combination\" & IF('Non-text Contrast'!FO4=\"1 Fault\",\"\",\"s\") & \" of adjacent colours do\" & IF('Non-text Contrast'!FO4=\"1 Fault\",\"es\",\"\") & \" not have sufficient contrast. Please see the Non-text Contrast worksheet.\")","v":""},{"$f":"IF('Non-text Contrast'!FP4=\"0 Faults\",\"\",LEFT('Non-text Contrast'!FP4,FIND(\" \",'Non-text Contrast'!FP4)-1) &\" combination\" & IF('Non-text Contrast'!FP4=\"1 Fault\",\"\",\"s\") & \" of adjacent colours do\" & IF('Non-text Contrast'!FP4=\"1 Fault\",\"es\",\"\") & \" not have sufficient contrast. Please see the Non-text Contrast worksheet.\")","v":""},{"$f":"IF('Non-text Contrast'!FQ4=\"0 Faults\",\"\",LEFT('Non-text Contrast'!FQ4,FIND(\" \",'Non-text Contrast'!FQ4)-1) &\" combination\" & IF('Non-text Contrast'!FQ4=\"1 Fault\",\"\",\"s\") & \" of adjacent colours do\" & IF('Non-text Contrast'!FQ4=\"1 Fault\",\"es\",\"\") & \" not have sufficient contrast. Please see the Non-text Contrast worksheet.\")","v":""},{"$f":"IF('Non-text Contrast'!FR4=\"0 Faults\",\"\",LEFT('Non-text Contrast'!FR4,FIND(\" \",'Non-text Contrast'!FR4)-1) &\" combination\" & IF('Non-text Contrast'!FR4=\"1 Fault\",\"\",\"s\") & \" of adjacent colours do\" & IF('Non-text Contrast'!FR4=\"1 Fault\",\"es\",\"\") & \" not have sufficient contrast. Please see the Non-text Contrast worksheet.\")","v":""},{"$f":"IF('Non-text Contrast'!FS4=\"0 Faults\",\"\",LEFT('Non-text Contrast'!FS4,FIND(\" \",'Non-text Contrast'!FS4)-1) &\" combination\" & IF('Non-text Contrast'!FS4=\"1 Fault\",\"\",\"s\") & \" of adjacent colours do\" & IF('Non-text Contrast'!FS4=\"1 Fault\",\"es\",\"\") & \" not have sufficient contrast. Please see the Non-text Contrast worksheet.\")","v":""},{"$f":"IF('Non-text Contrast'!FT4=\"0 Faults\",\"\",LEFT('Non-text Contrast'!FT4,FIND(\" \",'Non-text Contrast'!FT4)-1) &\" combination\" & IF('Non-text Contrast'!FT4=\"1 Fault\",\"\",\"s\") & \" of adjacent colours do\" & IF('Non-text Contrast'!FT4=\"1 Fault\",\"es\",\"\") & \" not have sufficient contrast. Please see the Non-text Contrast worksheet.\")","v":""}]
[null,null,null,"Comments:",null,null,"DERP-5543"]
["1.4.12","AA","Text Spacing","In content implemented using mark-up languages that support the following text style properties, no loss of content or functionality occurs by setting all of the following and by changing no other style property:","PASS","PASS","PASS","PASS","PASS"]
[null,null,null,"Line height (line spacing) to at least 1.5 times the font size;\nSpacing following paragraphs to at least 2 times the font size;\nLetter spacing (tracking) to at least 0.12 times the font size;\nWord spacing to at least 0.16 times the font size.\nException: Human languages and scripts that do not make use of one or more of these text style properties in written text can conform using only the properties that exist for that combination of language and script."]
["1.4.13","AA","Content on Hover or Focus","Where receiving and then removing pointer hover or keyboard focus triggers additional content to become visible and then hidden, the following are true:","N/A","N/A","N/A","N/A","N/A"]
[null,null,null,"\nDismissable: A mechanism is available to dismiss the additional content without moving pointer hover or keyboard focus, unless the additional content communicates an input error or does not obscure or replace other content;\nHoverable: If pointer hover can trigger the additional content, then the pointer can be moved over the additional content without the additional content disappearing;\nPersistent: The additional content remains visible until the hover or focus trigger is removed, the user dismisses it, or its information is no longer valid.\nException: The visual presentation of the additional content is controlled by the user agent and is not modified by the author.\n"]
["W3C Ref.","Level.",null,"Principle 2: Operable - User interface components and navigation must be operable."]
["2.4.5","AA","Multiple Ways","More than one way is available to locate a Web page within a set of Web pages except where the Web Page is the result of, or a step in, a process. ","PASS","NON CONFORMANT","N/A","N/A","PASS with comments"]
[null,null,null,null,"The page can be accessed from the \"Current culture projects\" page and from the site search results.","The page can only be accessed from the site search results. We would expect there to be a link on the Fourth Plinth home page, but there is not. DERP-5544","The page is a step in a process.","The page is a step in a process.","The page can only be accessed from step 3 of the form or from the site search results. We would expect there to be a link on the Fourth Plinth home page, but there is not. DERP-5545"]
["2.4.6","AA","Headings and Labels","Headings and labels describe topic or purpose.","PASS","PASS","PASS","PASS","PASS"]
[]
["2.4.7","AA","Focus Visible","Any keyboard operable user interface has a mode of operation where the keyboard focus indicator is visible.","PASS with comments","PASS with comments","NON CONFORMANT","PASS with comments","PASS with comments"]
[null,null,null,null,"Focusable elements do have a visible focus indicator, but its behaviour is very strange. A purple outline is displayed around the focused element, but it disappears if the mouse is moved, even by a tiny amount. If the Tab key is used to move the focus, the focus indicator does not reappear if the next focusable element is a form control or button. The focus indicator only reappears when a link receives focus. This behaviour has been verified in Chrome and Firefox on two different machines. DERP-5546","Focusable elements do have a visible focus indicator, but its behaviour is very strange. A purple outline is displayed around the focused element, but it disappears if the mouse is moved, even by a tiny amount. If the Tab key is used to move the focus, the focus indicator does not reappear if the next focusable element is a form control or button. The focus indicator only reappears when a link receives focus. This behaviour has been verified in Chrome and Firefox on two different machines. DERP-5546","When adding a group entry at step 2, the students must be added. After adding a student, a Remove button is displayed. When the Remove button is operated, a Confirm Removal button is displayed. Next to it is an “arrow” button that does not have a focus indicator. DERP-5547","Focusable elements do have a visible focus indicator, but its behaviour is very strange. A purple outline is displayed around the focused element, but it disappears if the mouse is moved, even by a tiny amount. If the Tab key is used to move the focus, the focus indicator does not reappear if the next focusable element is a form control or button. The focus indicator only reappears when a link receives focus. This behaviour has been verified in Chrome and Firefox on two different machines. DERP-5546","Focusable elements do have a visible focus indicator, but its behaviour is very strange. A purple outline is displayed around the focused element, but it disappears if the mouse is moved, even by a tiny amount. If the Tab key is used to move the focus, the focus indicator does not reappear if the next focusable element is a form control or button. The focus indicator only reappears when a link receives focus. This behaviour has been verified in Chrome and Firefox on two different machines. DERP-5546"]
["W3C Ref.","Level.",null,"Principle 3: Understandable - Information and the operation of user interface must be understandable."]
["3.1.2","AA","Language of Parts","The human language of each passage or phrase in the content can be programmatically determined except for proper names, technical terms, words of indeterminate language, and words or phrases that have become part of the vernacular of the immediately surrounding text.","N/A","N/A","N/A","N/A","N/A"]
[null,null,null,null,"The human language does not change.","The human language does not change.","The human language does not change.","The human language does not change.","The human language does not change."]
["3.2.3","AA","Consistent Navigation","Navigational mechanisms that are repeated on multiple Web pages within a set of Web pages occur in the same relative order each time they are repeated, unless a change is initiated by the user.","N/A","N/A","N/A","N/A","N/A"]
[null,null,null,null,"The page header is out of scope.","The page header is out of scope.","The page header is out of scope.","The page header is out of scope.","The page header is out of scope."]
["3.2.4","AA","Consistent Identification","Components that have the same functionality within a set of Web pages are identified consistently.","PASS","PASS","PASS","PASS","PASS"]
[]
["3.3.3","AA","Error Suggestion","If an input error is automatically detected and suggestions for correction are known, then the suggestions are provided to the user, unless it would jeopardize the security or purpose of the content.","N/A","NON CONFORMANT","PASS","N/A","N/A"]
[null,null,null,null,"There is no provision for user input.","If the email address is not valid, the error message does not state what is wrong with it. DERP-5548",null,"There is no provision for user input.","There is no provision for user input."]
["3.3.4","AA","Error Prevention (Legal, Financial, Data)","For Web pages that cause legal commitments or financial transactions for the user to occur, that modify or delete user-controllable data in data storage systems, or that submit user test responses, at least one of the following is true: Reversible, Checked, Confirmed.","N/A","N/A","N/A","N/A","N/A"]
[]
["W3C Ref.","Level.",null,"Guideline 4.1 Compatible: Maximize compatibility with current and future user agents, including assistive technologies."]
["4.1.3","AA","Status Messages","In content implemented using mark-up languages, status messages can be programmatically determined through role or properties such that they can be presented to the user by assistive technologies without receiving focus.","N/A","NON CONFORMANT","N/A","N/A","N/A"]
[null,null,null,null,"There are no status messages.","When the setting of the Borough combobox is changed, a rotating progress indicator and the phrase \"Please wait\" are displayed while the contents of the School combobox are updated. This sometimes takes as little as 6 or 7 seconds, but it can take a long time, perhaps as much as a minute. The phrase \"Please wait\" must be in an ARIA live region so it is announced to assistive technologies. We recommend that the live region is triggered every 5 seconds, so the user knows something is happening. When the School combobox has been updated, the phrase \"Please wait\" is removed. At this point the live region should announce the phrase \"Please continue\", although this does not need to be displayed.\n\nThe phrase \"Please wait\" is in a <div> element as shown below.\n<div class=\"message\">Please wait...</div>\nThe element is added to the DOM when the message needs to be displayed, but this is not suitable for a live region. Instead, the element must always be in the DOM. It should have the attribute “display:none” initially, so it is hidden. This must be changed to “display:block” to reveal it and trigger the announcement.\nAlso, the role=\"alert\" attribute must be added, so the initial state of the element must look like this:\n<div class=\"message\" role=\"alert\" style=”display:none\">Please wait...</div>\nThe message can be repeated every 5 seconds by momentarily changing the style=”display:none\" attribute to style=”display:block\" and back.\nThe phrase \"Please continue\" can be announced by replacing the phrase \"Please wait...\" with \"Please continue\" and toggling the \"display:none\" attribute. DERP-5549","There are no status messages.","There are no status messages.","There are no status messages."]
[]
["Level AAA Success Criteria"]
["W3C Ref.","Level.",null,"Principle 1: Perceivable - Information and user interface components must be presentable to users in ways they can perceive."]
["1.2.6","AAA","Sign Language (Prerecorded)","Sign language interpretation is provided for all prerecorded audio content in synchronized media.","NOT TESTED","NOT TESTED","NOT TESTED","NOT TESTED","NOT TESTED","NOT TESTED","NOT TESTED","NOT TESTED","NOT TESTED","NOT TESTED","NOT TESTED","NOT TESTED","NOT TESTED","NOT TESTED","NOT TESTED","NOT TESTED","NOT TESTED","NOT TESTED","NOT TESTED","NOT TESTED","NOT TESTED","NOT TESTED","NOT TESTED","NOT TESTED","NOT TESTED","NOT TESTED","NOT TESTED","NOT TESTED","NOT TESTED","NOT TESTED","NOT TESTED","NOT TESTED","NOT TESTED","NOT TESTED","NOT TESTED","NOT TESTED","NOT TESTED","NOT TESTED","NOT TESTED","NOT TESTED","NOT TESTED","NOT TESTED","NOT TESTED","NOT TESTED","NOT TESTED","NOT TESTED","NOT TESTED","NOT TESTED","NOT TESTED","NOT TESTED","NOT TESTED","NOT TESTED","NOT TESTED","NOT TESTED","NOT TESTED","NOT TESTED","NOT TESTED","NOT TESTED","NOT TESTED","NOT TESTED","NOT TESTED","NOT TESTED","NOT TESTED","NOT TESTED","NOT TESTED","NOT TESTED","NOT TESTED","NOT TESTED","NOT TESTED","NOT TESTED","NOT TESTED","NOT TESTED","NOT TESTED","NOT TESTED","NOT TESTED","NOT TESTED","NOT TESTED","NOT TESTED","NOT TESTED","NOT TESTED","NOT TESTED","NOT TESTED","NOT TESTED","NOT TESTED","NOT TESTED","NOT TESTED","NOT TESTED","NOT TESTED","NOT TESTED","NOT TESTED","NOT TESTED","NOT TESTED","NOT TESTED","NOT TESTED","NOT TESTED","NOT TESTED","NOT TESTED","NOT TESTED","NOT TESTED","NOT TESTED","NOT TESTED","NOT TESTED","NOT TESTED","NOT TESTED","NOT TESTED","NOT TESTED","NOT TESTED","NOT TESTED","NOT TESTED","NOT TESTED","NOT TESTED","NOT TESTED","NOT TESTED","NOT TESTED","NOT TESTED","NOT TESTED","NOT TESTED","NOT TESTED","NOT TESTED","NOT TESTED","NOT TESTED","NOT TESTED","NOT TESTED","NOT TESTED","NOT TESTED","NOT TESTED","NOT TESTED","NOT TESTED","NOT TESTED","NOT TESTED","NOT TESTED","NOT TESTED","NOT TESTED","NOT TESTED","NOT TESTED","NOT TESTED","NOT TESTED","NOT TESTED","NOT TESTED","NOT TESTED","NOT TESTED","NOT TESTED","NOT TESTED","NOT TESTED","NOT TESTED","NOT TESTED","NOT TESTED","NOT TESTED","NOT TESTED","NOT TESTED"]
[null,null,null,null,"When testing for conformance with AA, leave all AAA results set to Not Tested.\n\nWhen testing for conformance with AAA, delete the Not Tested result setting from all 50 columns even if fewer than 50 are being tested."]
["1.2.7","AAA","Extended Audio Description (Prerecorded)","Where pauses in foreground audio are insufficient to allow audio descriptions to convey the sense of the video, extended audio description is provided for all prerecorded video content in synchronized media.","NOT TESTED","NOT TESTED","NOT TESTED","NOT TESTED","NOT TESTED","NOT TESTED","NOT TESTED","NOT TESTED","NOT TESTED","NOT TESTED","NOT TESTED","NOT TESTED","NOT TESTED","NOT TESTED","NOT TESTED","NOT TESTED","NOT TESTED","NOT TESTED","NOT TESTED","NOT TESTED","NOT TESTED","NOT TESTED","NOT TESTED","NOT TESTED","NOT TESTED","NOT TESTED","NOT TESTED","NOT TESTED","NOT TESTED","NOT TESTED","NOT TESTED","NOT TESTED","NOT TESTED","NOT TESTED","NOT TESTED","NOT TESTED","NOT TESTED","NOT TESTED","NOT TESTED","NOT TESTED","NOT TESTED","NOT TESTED","NOT TESTED","NOT TESTED","NOT TESTED","NOT TESTED","NOT TESTED","NOT TESTED","NOT TESTED","NOT TESTED","NOT TESTED","NOT TESTED","NOT TESTED","NOT TESTED","NOT TESTED","NOT TESTED","NOT TESTED","NOT TESTED","NOT TESTED","NOT TESTED","NOT TESTED","NOT TESTED","NOT TESTED","NOT TESTED","NOT TESTED","NOT TESTED","NOT TESTED","NOT TESTED","NOT TESTED","NOT TESTED","NOT TESTED","NOT TESTED","NOT TESTED","NOT TESTED","NOT TESTED","NOT TESTED","NOT TESTED","NOT TESTED","NOT TESTED","NOT TESTED","NOT TESTED","NOT TESTED","NOT TESTED","NOT TESTED","NOT TESTED","NOT TESTED","NOT TESTED","NOT TESTED","NOT TESTED","NOT TESTED","NOT TESTED","NOT TESTED","NOT TESTED","NOT TESTED","NOT TESTED","NOT TESTED","NOT TESTED","NOT TESTED","NOT TESTED","NOT TESTED","NOT TESTED","NOT TESTED","NOT TESTED","NOT TESTED","NOT TESTED","NOT TESTED","NOT TESTED","NOT TESTED","NOT TESTED","NOT TESTED","NOT TESTED","NOT TESTED","NOT TESTED","NOT TESTED","NOT TESTED","NOT TESTED","NOT TESTED","NOT TESTED","NOT TESTED","NOT TESTED","NOT TESTED","NOT TESTED","NOT TESTED","NOT TESTED","NOT TESTED","NOT TESTED","NOT TESTED","NOT TESTED","NOT TESTED","NOT TESTED","NOT TESTED","NOT TESTED","NOT TESTED","NOT TESTED","NOT TESTED","NOT TESTED","NOT TESTED","NOT TESTED","NOT TESTED","NOT TESTED","NOT TESTED","NOT TESTED","NOT TESTED","NOT TESTED","NOT TESTED","NOT TESTED","NOT TESTED","NOT TESTED","NOT TESTED","NOT TESTED"]
[]
["1.2.8","AAA","Media Alternative (Prerecorded)","An alternative for time-based media is provided for all prerecorded synchronized media and for all prerecorded video-only media.","NOT TESTED","NOT TESTED","NOT TESTED","NOT TESTED","NOT TESTED","NOT TESTED","NOT TESTED","NOT TESTED","NOT TESTED","NOT TESTED","NOT TESTED","NOT TESTED","NOT TESTED","NOT TESTED","NOT TESTED","NOT TESTED","NOT TESTED","NOT TESTED","NOT TESTED","NOT TESTED","NOT TESTED","NOT TESTED","NOT TESTED","NOT TESTED","NOT TESTED","NOT TESTED","NOT TESTED","NOT TESTED","NOT TESTED","NOT TESTED","NOT TESTED","NOT TESTED","NOT TESTED","NOT TESTED","NOT TESTED","NOT TESTED","NOT TESTED","NOT TESTED","NOT TESTED","NOT TESTED","NOT TESTED","NOT TESTED","NOT TESTED","NOT TESTED","NOT TESTED","NOT TESTED","NOT TESTED","NOT TESTED","NOT TESTED","NOT TESTED","NOT TESTED","NOT TESTED","NOT TESTED","NOT TESTED","NOT TESTED","NOT TESTED","NOT TESTED","NOT TESTED","NOT TESTED","NOT TESTED","NOT TESTED","NOT TESTED","NOT TESTED","NOT TESTED","NOT TESTED","NOT TESTED","NOT TESTED","NOT TESTED","NOT TESTED","NOT TESTED","NOT TESTED","NOT TESTED","NOT TESTED","NOT TESTED","NOT TESTED","NOT TESTED","NOT TESTED","NOT TESTED","NOT TESTED","NOT TESTED","NOT TESTED","NOT TESTED","NOT TESTED","NOT TESTED","NOT TESTED","NOT TESTED","NOT TESTED","NOT TESTED","NOT TESTED","NOT TESTED","NOT TESTED","NOT TESTED","NOT TESTED","NOT TESTED","NOT TESTED","NOT TESTED","NOT TESTED","NOT TESTED","NOT TESTED","NOT TESTED","NOT TESTED","NOT TESTED","NOT TESTED","NOT TESTED","NOT TESTED","NOT TESTED","NOT TESTED","NOT TESTED","NOT TESTED","NOT TESTED","NOT TESTED","NOT TESTED","NOT TESTED","NOT TESTED","NOT TESTED","NOT TESTED","NOT TESTED","NOT TESTED","NOT TESTED","NOT TESTED","NOT TESTED","NOT TESTED","NOT TESTED","NOT TESTED","NOT TESTED","NOT TESTED","NOT TESTED","NOT TESTED","NOT TESTED","NOT TESTED","NOT TESTED","NOT TESTED","NOT TESTED","NOT TESTED","NOT TESTED","NOT TESTED","NOT TESTED","NOT TESTED","NOT TESTED","NOT TESTED","NOT TESTED","NOT TESTED","NOT TESTED","NOT TESTED","NOT TESTED","NOT TESTED","NOT TESTED","NOT TESTED","NOT TESTED","NOT TESTED"]
[]
["1.2.9","AAA","Audio-only (Live)","An alternative for time-based media that presents equivalent information for live audio-only content is provided.","NOT TESTED","NOT TESTED","NOT TESTED","NOT TESTED","NOT TESTED","NOT TESTED","NOT TESTED","NOT TESTED","NOT TESTED","NOT TESTED","NOT TESTED","NOT TESTED","NOT TESTED","NOT TESTED","NOT TESTED","NOT TESTED","NOT TESTED","NOT TESTED","NOT TESTED","NOT TESTED","NOT TESTED","NOT TESTED","NOT TESTED","NOT TESTED","NOT TESTED","NOT TESTED","NOT TESTED","NOT TESTED","NOT TESTED","NOT TESTED","NOT TESTED","NOT TESTED","NOT TESTED","NOT TESTED","NOT TESTED","NOT TESTED","NOT TESTED","NOT TESTED","NOT TESTED","NOT TESTED","NOT TESTED","NOT TESTED","NOT TESTED","NOT TESTED","NOT TESTED","NOT TESTED","NOT TESTED","NOT TESTED","NOT TESTED","NOT TESTED","NOT TESTED","NOT TESTED","NOT TESTED","NOT TESTED","NOT TESTED","NOT TESTED","NOT TESTED","NOT TESTED","NOT TESTED","NOT TESTED","NOT TESTED","NOT TESTED","NOT TESTED","NOT TESTED","NOT TESTED","NOT TESTED","NOT TESTED","NOT TESTED","NOT TESTED","NOT TESTED","NOT TESTED","NOT TESTED","NOT TESTED","NOT TESTED","NOT TESTED","NOT TESTED","NOT TESTED","NOT TESTED","NOT TESTED","NOT TESTED","NOT TESTED","NOT TESTED","NOT TESTED","NOT TESTED","NOT TESTED","NOT TESTED","NOT TESTED","NOT TESTED","NOT TESTED","NOT TESTED","NOT TESTED","NOT TESTED","NOT TESTED","NOT TESTED","NOT TESTED","NOT TESTED","NOT TESTED","NOT TESTED","NOT TESTED","NOT TESTED","NOT TESTED","NOT TESTED","NOT TESTED","NOT TESTED","NOT TESTED","NOT TESTED","NOT TESTED","NOT TESTED","NOT TESTED","NOT TESTED","NOT TESTED","NOT TESTED","NOT TESTED","NOT TESTED","NOT TESTED","NOT TESTED","NOT TESTED","NOT TESTED","NOT TESTED","NOT TESTED","NOT TESTED","NOT TESTED","NOT TESTED","NOT TESTED","NOT TESTED","NOT TESTED","NOT TESTED","NOT TESTED","NOT TESTED","NOT TESTED","NOT TESTED","NOT TESTED","NOT TESTED","NOT TESTED","NOT TESTED","NOT TESTED","NOT TESTED","NOT TESTED","NOT TESTED","NOT TESTED","NOT TESTED","NOT TESTED","NOT TESTED","NOT TESTED","NOT TESTED","NOT TESTED","NOT TESTED","NOT TESTED","NOT TESTED","NOT TESTED"]
[]
["1.3.6","AAA","Identify Purpose","In content implemented using markup languages, the purpose of User Interface Components, icons, and regions can be programmatically determined.","NOT TESTED","NOT TESTED","NOT TESTED","NOT TESTED","NOT TESTED","NOT TESTED","NOT TESTED","NOT TESTED","NOT TESTED","NOT TESTED","NOT TESTED","NOT TESTED","NOT TESTED","NOT TESTED","NOT TESTED","NOT TESTED","NOT TESTED","NOT TESTED","NOT TESTED","NOT TESTED","NOT TESTED","NOT TESTED","NOT TESTED","NOT TESTED","NOT TESTED","NOT TESTED","NOT TESTED","NOT TESTED","NOT TESTED","NOT TESTED","NOT TESTED","NOT TESTED","NOT TESTED","NOT TESTED","NOT TESTED","NOT TESTED","NOT TESTED","NOT TESTED","NOT TESTED","NOT TESTED","NOT TESTED","NOT TESTED","NOT TESTED","NOT TESTED","NOT TESTED","NOT TESTED","NOT TESTED","NOT TESTED","NOT TESTED","NOT TESTED","NOT TESTED","NOT TESTED","NOT TESTED","NOT TESTED","NOT TESTED","NOT TESTED","NOT TESTED","NOT TESTED","NOT TESTED","NOT TESTED","NOT TESTED","NOT TESTED","NOT TESTED","NOT TESTED","NOT TESTED","NOT TESTED","NOT TESTED","NOT TESTED","NOT TESTED","NOT TESTED","NOT TESTED","NOT TESTED","NOT TESTED","NOT TESTED","NOT TESTED","NOT TESTED","NOT TESTED","NOT TESTED","NOT TESTED","NOT TESTED","NOT TESTED","NOT TESTED","NOT TESTED","NOT TESTED","NOT TESTED","NOT TESTED","NOT TESTED","NOT TESTED","NOT TESTED","NOT TESTED","NOT TESTED","NOT TESTED","NOT TESTED","NOT TESTED","NOT TESTED","NOT TESTED","NOT TESTED","NOT TESTED","NOT TESTED","NOT TESTED","NOT TESTED","NOT TESTED","NOT TESTED","NOT TESTED","NOT TESTED","NOT TESTED","NOT TESTED","NOT TESTED","NOT TESTED","NOT TESTED","NOT TESTED","NOT TESTED","NOT TESTED","NOT TESTED","NOT TESTED","NOT TESTED","NOT TESTED","NOT TESTED","NOT TESTED","NOT TESTED","NOT TESTED","NOT TESTED","NOT TESTED","NOT TESTED","NOT TESTED","NOT TESTED","NOT TESTED","NOT TESTED","NOT TESTED","NOT TESTED","NOT TESTED","NOT TESTED","NOT TESTED","NOT TESTED","NOT TESTED","NOT TESTED","NOT TESTED","NOT TESTED","NOT TESTED","NOT TESTED","NOT TESTED","NOT TESTED","NOT TESTED","NOT TESTED","NOT TESTED","NOT TESTED","NOT TESTED","NOT TESTED","NOT TESTED","NOT TESTED"]
[]
["1.4.6","AAA","Contrast (Enhanced)","The visual presentation of text and images of text has a contrast ratio of at least 7:1, except for the following:","NOT TESTED","NOT TESTED","NOT TESTED","NOT TESTED","NOT TESTED","NOT TESTED","NOT TESTED","NOT TESTED","NOT TESTED","NOT TESTED","NOT TESTED","NOT TESTED","NOT TESTED","NOT TESTED","NOT TESTED","NOT TESTED","NOT TESTED","NOT TESTED","NOT TESTED","NOT TESTED","NOT TESTED","NOT TESTED","NOT TESTED","NOT TESTED","NOT TESTED","NOT TESTED","NOT TESTED","NOT TESTED","NOT TESTED","NOT TESTED","NOT TESTED","NOT TESTED","NOT TESTED","NOT TESTED","NOT TESTED","NOT TESTED","NOT TESTED","NOT TESTED","NOT TESTED","NOT TESTED","NOT TESTED","NOT TESTED","NOT TESTED","NOT TESTED","NOT TESTED","NOT TESTED","NOT TESTED","NOT TESTED","NOT TESTED","NOT TESTED","NOT TESTED","NOT TESTED","NOT TESTED","NOT TESTED","NOT TESTED","NOT TESTED","NOT TESTED","NOT TESTED","NOT TESTED","NOT TESTED","NOT TESTED","NOT TESTED","NOT TESTED","NOT TESTED","NOT TESTED","NOT TESTED","NOT TESTED","NOT TESTED","NOT TESTED","NOT TESTED","NOT TESTED","NOT TESTED","NOT TESTED","NOT TESTED","NOT TESTED","NOT TESTED","NOT TESTED","NOT TESTED","NOT TESTED","NOT TESTED","NOT TESTED","NOT TESTED","NOT TESTED","NOT TESTED","NOT TESTED","NOT TESTED","NOT TESTED","NOT TESTED","NOT TESTED","NOT TESTED","NOT TESTED","NOT TESTED","NOT TESTED","NOT TESTED","NOT TESTED","NOT TESTED","NOT TESTED","NOT TESTED","NOT TESTED","NOT TESTED","NOT TESTED","NOT TESTED","NOT TESTED","NOT TESTED","NOT TESTED","NOT TESTED","NOT TESTED","NOT TESTED","NOT TESTED","NOT TESTED","NOT TESTED","NOT TESTED","NOT TESTED","NOT TESTED","NOT TESTED","NOT TESTED","NOT TESTED","NOT TESTED","NOT TESTED","NOT TESTED","NOT TESTED","NOT TESTED","NOT TESTED","NOT TESTED","NOT TESTED","NOT TESTED","NOT TESTED","NOT TESTED","NOT TESTED","NOT TESTED","NOT TESTED","NOT TESTED","NOT TESTED","NOT TESTED","NOT TESTED","NOT TESTED","NOT TESTED","NOT TESTED","NOT TESTED","NOT TESTED","NOT TESTED","NOT TESTED","NOT TESTED","NOT TESTED","NOT TESTED","NOT TESTED","NOT TESTED","NOT TESTED","NOT TESTED","NOT TESTED"]
[null,null,null,"\nLarge Text: Large-scale text and images of large-scale text have a contrast ratio of at least 4.5:1;\nIncidental: Text or images of text that are part of an inactive user interface component, that are pure decoration, that are not visible to anyone, or that are part of a picture that contains significant other visual content, have no contrast requirement.\nLogotypes: Text that is part of a logo or brand name has no contrast requirement."]
["1.4.7","AAA","Low or No Background Audio","For prerecorded audio-only content that (1) contains primarily speech in the foreground, (2) is not an audio CAPTCHA or audio logo, and (3) is not vocalization intended to be primarily musical expression such as singing or rapping, at least one of the following is true:","NOT TESTED","NOT TESTED","NOT TESTED","NOT TESTED","NOT TESTED","NOT TESTED","NOT TESTED","NOT TESTED","NOT TESTED","NOT TESTED","NOT TESTED","NOT TESTED","NOT TESTED","NOT TESTED","NOT TESTED","NOT TESTED","NOT TESTED","NOT TESTED","NOT TESTED","NOT TESTED","NOT TESTED","NOT TESTED","NOT TESTED","NOT TESTED","NOT TESTED","NOT TESTED","NOT TESTED","NOT TESTED","NOT TESTED","NOT TESTED","NOT TESTED","NOT TESTED","NOT TESTED","NOT TESTED","NOT TESTED","NOT TESTED","NOT TESTED","NOT TESTED","NOT TESTED","NOT TESTED","NOT TESTED","NOT TESTED","NOT TESTED","NOT TESTED","NOT TESTED","NOT TESTED","NOT TESTED","NOT TESTED","NOT TESTED","NOT TESTED","NOT TESTED","NOT TESTED","NOT TESTED","NOT TESTED","NOT TESTED","NOT TESTED","NOT TESTED","NOT TESTED","NOT TESTED","NOT TESTED","NOT TESTED","NOT TESTED","NOT TESTED","NOT TESTED","NOT TESTED","NOT TESTED","NOT TESTED","NOT TESTED","NOT TESTED","NOT TESTED","NOT TESTED","NOT TESTED","NOT TESTED","NOT TESTED","NOT TESTED","NOT TESTED","NOT TESTED","NOT TESTED","NOT TESTED","NOT TESTED","NOT TESTED","NOT TESTED","NOT TESTED","NOT TESTED","NOT TESTED","NOT TESTED","NOT TESTED","NOT TESTED","NOT TESTED","NOT TESTED","NOT TESTED","NOT TESTED","NOT TESTED","NOT TESTED","NOT TESTED","NOT TESTED","NOT TESTED","NOT TESTED","NOT TESTED","NOT TESTED","NOT TESTED","NOT TESTED","NOT TESTED","NOT TESTED","NOT TESTED","NOT TESTED","NOT TESTED","NOT TESTED","NOT TESTED","NOT TESTED","NOT TESTED","NOT TESTED","NOT TESTED","NOT TESTED","NOT TESTED","NOT TESTED","NOT TESTED","NOT TESTED","NOT TESTED","NOT TESTED","NOT TESTED","NOT TESTED","NOT TESTED","NOT TESTED","NOT TESTED","NOT TESTED","NOT TESTED","NOT TESTED","NOT TESTED","NOT TESTED","NOT TESTED","NOT TESTED","NOT TESTED","NOT TESTED","NOT TESTED","NOT TESTED","NOT TESTED","NOT TESTED","NOT TESTED","NOT TESTED","NOT TESTED","NOT TESTED","NOT TESTED","NOT TESTED","NOT TESTED","NOT TESTED","NOT TESTED","NOT TESTED","NOT TESTED","NOT TESTED"]
[null,null,null,"\nNo Background: The audio does not contain background sounds.\nTurn Off: The background sounds can be turned off.\n20 dB: The background sounds are at least 20 decibels lower than the foreground speech content, with the exception of occasional sounds that last for only one or two seconds.\n"]
["1.4.8","AAA","Visual Presentation","For the visual presentation of blocks of text, a mechanism is available to achieve the following:","NOT TESTED","NOT TESTED","NOT TESTED","NOT TESTED","NOT TESTED","NOT TESTED","NOT TESTED","NOT TESTED","NOT TESTED","NOT TESTED","NOT TESTED","NOT TESTED","NOT TESTED","NOT TESTED","NOT TESTED","NOT TESTED","NOT TESTED","NOT TESTED","NOT TESTED","NOT TESTED","NOT TESTED","NOT TESTED","NOT TESTED","NOT TESTED","NOT TESTED","NOT TESTED","NOT TESTED","NOT TESTED","NOT TESTED","NOT TESTED","NOT TESTED","NOT TESTED","NOT TESTED","NOT TESTED","NOT TESTED","NOT TESTED","NOT TESTED","NOT TESTED","NOT TESTED","NOT TESTED","NOT TESTED","NOT TESTED","NOT TESTED","NOT TESTED","NOT TESTED","NOT TESTED","NOT TESTED","NOT TESTED","NOT TESTED","NOT TESTED","NOT TESTED","NOT TESTED","NOT TESTED","NOT TESTED","NOT TESTED","NOT TESTED","NOT TESTED","NOT TESTED","NOT TESTED","NOT TESTED","NOT TESTED","NOT TESTED","NOT TESTED","NOT TESTED","NOT TESTED","NOT TESTED","NOT TESTED","NOT TESTED","NOT TESTED","NOT TESTED","NOT TESTED","NOT TESTED","NOT TESTED","NOT TESTED","NOT TESTED","NOT TESTED","NOT TESTED","NOT TESTED","NOT TESTED","NOT TESTED","NOT TESTED","NOT TESTED","NOT TESTED","NOT TESTED","NOT TESTED","NOT TESTED","NOT TESTED","NOT TESTED","NOT TESTED","NOT TESTED","NOT TESTED","NOT TESTED","NOT TESTED","NOT TESTED","NOT TESTED","NOT TESTED","NOT TESTED","NOT TESTED","NOT TESTED","NOT TESTED","NOT TESTED","NOT TESTED","NOT TESTED","NOT TESTED","NOT TESTED","NOT TESTED","NOT TESTED","NOT TESTED","NOT TESTED","NOT TESTED","NOT TESTED","NOT TESTED","NOT TESTED","NOT TESTED","NOT TESTED","NOT TESTED","NOT TESTED","NOT TESTED","NOT TESTED","NOT TESTED","NOT TESTED","NOT TESTED","NOT TESTED","NOT TESTED","NOT TESTED","NOT TESTED","NOT TESTED","NOT TESTED","NOT TESTED","NOT TESTED","NOT TESTED","NOT TESTED","NOT TESTED","NOT TESTED","NOT TESTED","NOT TESTED","NOT TESTED","NOT TESTED","NOT TESTED","NOT TESTED","NOT TESTED","NOT TESTED","NOT TESTED","NOT TESTED","NOT TESTED","NOT TESTED","NOT TESTED","NOT TESTED","NOT TESTED","NOT TESTED"]
[null,null,null,"\na) Foreground and background colors can be selected by the user.\nb) Width is no more than 80 characters or glyphs (40 if CJK).\nc) Text is not justified (aligned to both the left and the right margins).\nd) Line spacing (leading) is at least space-and-a-half within paragraphs, and paragraph spacing is at least 1.5 times larger than the line spacing.\ne) Text can be resized without assistive technology up to 200 percent in a way that does not require the user to scroll horizontally to read a line of text on a full-screen window."]
["1.4.9","AAA","Images of Text (No Exception)","Images of text are only used for pure decoration or where a particular presentation of text is essential to the information being conveyed.","NOT TESTED","NOT TESTED","NOT TESTED","NOT TESTED","NOT TESTED","NOT TESTED","NOT TESTED","NOT TESTED","NOT TESTED","NOT TESTED","NOT TESTED","NOT TESTED","NOT TESTED","NOT TESTED","NOT TESTED","NOT TESTED","NOT TESTED","NOT TESTED","NOT TESTED","NOT TESTED","NOT TESTED","NOT TESTED","NOT TESTED","NOT TESTED","NOT TESTED","NOT TESTED","NOT TESTED","NOT TESTED","NOT TESTED","NOT TESTED","NOT TESTED","NOT TESTED","NOT TESTED","NOT TESTED","NOT TESTED","NOT TESTED","NOT TESTED","NOT TESTED","NOT TESTED","NOT TESTED","NOT TESTED","NOT TESTED","NOT TESTED","NOT TESTED","NOT TESTED","NOT TESTED","NOT TESTED","NOT TESTED","NOT TESTED","NOT TESTED","NOT TESTED","NOT TESTED","NOT TESTED","NOT TESTED","NOT TESTED","NOT TESTED","NOT TESTED","NOT TESTED","NOT TESTED","NOT TESTED","NOT TESTED","NOT TESTED","NOT TESTED","NOT TESTED","NOT TESTED","NOT TESTED","NOT TESTED","NOT TESTED","NOT TESTED","NOT TESTED","NOT TESTED","NOT TESTED","NOT TESTED","NOT TESTED","NOT TESTED","NOT TESTED","NOT TESTED","NOT TESTED","NOT TESTED","NOT TESTED","NOT TESTED","NOT TESTED","NOT TESTED","NOT TESTED","NOT TESTED","NOT TESTED","NOT TESTED","NOT TESTED","NOT TESTED","NOT TESTED","NOT TESTED","NOT TESTED","NOT TESTED","NOT TESTED","NOT TESTED","NOT TESTED","NOT TESTED","NOT TESTED","NOT TESTED","NOT TESTED","NOT TESTED","NOT TESTED","NOT TESTED","NOT TESTED","NOT TESTED","NOT TESTED","NOT TESTED","NOT TESTED","NOT TESTED","NOT TESTED","NOT TESTED","NOT TESTED","NOT TESTED","NOT TESTED","NOT TESTED","NOT TESTED","NOT TESTED","NOT TESTED","NOT TESTED","NOT TESTED","NOT TESTED","NOT TESTED","NOT TESTED","NOT TESTED","NOT TESTED","NOT TESTED","NOT TESTED","NOT TESTED","NOT TESTED","NOT TESTED","NOT TESTED","NOT TESTED","NOT TESTED","NOT TESTED","NOT TESTED","NOT TESTED","NOT TESTED","NOT TESTED","NOT TESTED","NOT TESTED","NOT TESTED","NOT TESTED","NOT TESTED","NOT TESTED","NOT TESTED","NOT TESTED","NOT TESTED","NOT TESTED","NOT TESTED","NOT TESTED"]
[]
["2.1.3","AAA","Keyboard (No Exception)","All functionality of the content is operable through a keyboard interface without requiring specific timings for individual keystrokes.","NOT TESTED","NOT TESTED","NOT TESTED","NOT TESTED","NOT TESTED","NOT TESTED","NOT TESTED","NOT TESTED","NOT TESTED","NOT TESTED","NOT TESTED","NOT TESTED","NOT TESTED","NOT TESTED","NOT TESTED","NOT TESTED","NOT TESTED","NOT TESTED","NOT TESTED","NOT TESTED","NOT TESTED","NOT TESTED","NOT TESTED","NOT TESTED","NOT TESTED","NOT TESTED","NOT TESTED","NOT TESTED","NOT TESTED","NOT TESTED","NOT TESTED","NOT TESTED","NOT TESTED","NOT TESTED","NOT TESTED","NOT TESTED","NOT TESTED","NOT TESTED","NOT TESTED","NOT TESTED","NOT TESTED","NOT TESTED","NOT TESTED","NOT TESTED","NOT TESTED","NOT TESTED","NOT TESTED","NOT TESTED","NOT TESTED","NOT TESTED","NOT TESTED","NOT TESTED","NOT TESTED","NOT TESTED","NOT TESTED","NOT TESTED","NOT TESTED","NOT TESTED","NOT TESTED","NOT TESTED","NOT TESTED","NOT TESTED","NOT TESTED","NOT TESTED","NOT TESTED","NOT TESTED","NOT TESTED","NOT TESTED","NOT TESTED","NOT TESTED","NOT TESTED","NOT TESTED","NOT TESTED","NOT TESTED","NOT TESTED","NOT TESTED","NOT TESTED","NOT TESTED","NOT TESTED","NOT TESTED","NOT TESTED","NOT TESTED","NOT TESTED","NOT TESTED","NOT TESTED","NOT TESTED","NOT TESTED","NOT TESTED","NOT TESTED","NOT TESTED","NOT TESTED","NOT TESTED","NOT TESTED","NOT TESTED","NOT TESTED","NOT TESTED","NOT TESTED","NOT TESTED","NOT TESTED","NOT TESTED","NOT TESTED","NOT TESTED","NOT TESTED","NOT TESTED","NOT TESTED","NOT TESTED","NOT TESTED","NOT TESTED","NOT TESTED","NOT TESTED","NOT TESTED","NOT TESTED","NOT TESTED","NOT TESTED","NOT TESTED","NOT TESTED","NOT TESTED","NOT TESTED","NOT TESTED","NOT TESTED","NOT TESTED","NOT TESTED","NOT TESTED","NOT TESTED","NOT TESTED","NOT TESTED","NOT TESTED","NOT TESTED","NOT TESTED","NOT TESTED","NOT TESTED","NOT TESTED","NOT TESTED","NOT TESTED","NOT TESTED","NOT TESTED","NOT TESTED","NOT TESTED","NOT TESTED","NOT TESTED","NOT TESTED","NOT TESTED","NOT TESTED","NOT TESTED","NOT TESTED","NOT TESTED","NOT TESTED","NOT TESTED","NOT TESTED","NOT TESTED"]
[]
["2.2.3","AAA","No Timing","Timing is not an essential part of the event or activity presented by the content, except for non-interactive synchronized media and real-time events.","NOT TESTED","NOT TESTED","NOT TESTED","NOT TESTED","NOT TESTED","NOT TESTED","NOT TESTED","NOT TESTED","NOT TESTED","NOT TESTED","NOT TESTED","NOT TESTED","NOT TESTED","NOT TESTED","NOT TESTED","NOT TESTED","NOT TESTED","NOT TESTED","NOT TESTED","NOT TESTED","NOT TESTED","NOT TESTED","NOT TESTED","NOT TESTED","NOT TESTED","NOT TESTED","NOT TESTED","NOT TESTED","NOT TESTED","NOT TESTED","NOT TESTED","NOT TESTED","NOT TESTED","NOT TESTED","NOT TESTED","NOT TESTED","NOT TESTED","NOT TESTED","NOT TESTED","NOT TESTED","NOT TESTED","NOT TESTED","NOT TESTED","NOT TESTED","NOT TESTED","NOT TESTED","NOT TESTED","NOT TESTED","NOT TESTED","NOT TESTED","NOT TESTED","NOT TESTED","NOT TESTED","NOT TESTED","NOT TESTED","NOT TESTED","NOT TESTED","NOT TESTED","NOT TESTED","NOT TESTED","NOT TESTED","NOT TESTED","NOT TESTED","NOT TESTED","NOT TESTED","NOT TESTED","NOT TESTED","NOT TESTED","NOT TESTED","NOT TESTED","NOT TESTED","NOT TESTED","NOT TESTED","NOT TESTED","NOT TESTED","NOT TESTED","NOT TESTED","NOT TESTED","NOT TESTED","NOT TESTED","NOT TESTED","NOT TESTED","NOT TESTED","NOT TESTED","NOT TESTED","NOT TESTED","NOT TESTED","NOT TESTED","NOT TESTED","NOT TESTED","NOT TESTED","NOT TESTED","NOT TESTED","NOT TESTED","NOT TESTED","NOT TESTED","NOT TESTED","NOT TESTED","NOT TESTED","NOT TESTED","NOT TESTED","NOT TESTED","NOT TESTED","NOT TESTED","NOT TESTED","NOT TESTED","NOT TESTED","NOT TESTED","NOT TESTED","NOT TESTED","NOT TESTED","NOT TESTED","NOT TESTED","NOT TESTED","NOT TESTED","NOT TESTED","NOT TESTED","NOT TESTED","NOT TESTED","NOT TESTED","NOT TESTED","NOT TESTED","NOT TESTED","NOT TESTED","NOT TESTED","NOT TESTED","NOT TESTED","NOT TESTED","NOT TESTED","NOT TESTED","NOT TESTED","NOT TESTED","NOT TESTED","NOT TESTED","NOT TESTED","NOT TESTED","NOT TESTED","NOT TESTED","NOT TESTED","NOT TESTED","NOT TESTED","NOT TESTED","NOT TESTED","NOT TESTED","NOT TESTED","NOT TESTED","NOT TESTED","NOT TESTED","NOT TESTED","NOT TESTED"]
[]
["2.2.4","AAA","Interruptions","Interruptions can be postponed or suppressed by the user, except interruptions involving an emergency.","NOT TESTED","NOT TESTED","NOT TESTED","NOT TESTED","NOT TESTED","NOT TESTED","NOT TESTED","NOT TESTED","NOT TESTED","NOT TESTED","NOT TESTED","NOT TESTED","NOT TESTED","NOT TESTED","NOT TESTED","NOT TESTED","NOT TESTED","NOT TESTED","NOT TESTED","NOT TESTED","NOT TESTED","NOT TESTED","NOT TESTED","NOT TESTED","NOT TESTED","NOT TESTED","NOT TESTED","NOT TESTED","NOT TESTED","NOT TESTED","NOT TESTED","NOT TESTED","NOT TESTED","NOT TESTED","NOT TESTED","NOT TESTED","NOT TESTED","NOT TESTED","NOT TESTED","NOT TESTED","NOT TESTED","NOT TESTED","NOT TESTED","NOT TESTED","NOT TESTED","NOT TESTED","NOT TESTED","NOT TESTED","NOT TESTED","NOT TESTED","NOT TESTED","NOT TESTED","NOT TESTED","NOT TESTED","NOT TESTED","NOT TESTED","NOT TESTED","NOT TESTED","NOT TESTED","NOT TESTED","NOT TESTED","NOT TESTED","NOT TESTED","NOT TESTED","NOT TESTED","NOT TESTED","NOT TESTED","NOT TESTED","NOT TESTED","NOT TESTED","NOT TESTED","NOT TESTED","NOT TESTED","NOT TESTED","NOT TESTED","NOT TESTED","NOT TESTED","NOT TESTED","NOT TESTED","NOT TESTED","NOT TESTED","NOT TESTED","NOT TESTED","NOT TESTED","NOT TESTED","NOT TESTED","NOT TESTED","NOT TESTED","NOT TESTED","NOT TESTED","NOT TESTED","NOT TESTED","NOT TESTED","NOT TESTED","NOT TESTED","NOT TESTED","NOT TESTED","NOT TESTED","NOT TESTED","NOT TESTED","NOT TESTED","NOT TESTED","NOT TESTED","NOT TESTED","NOT TESTED","NOT TESTED","NOT TESTED","NOT TESTED","NOT TESTED","NOT TESTED","NOT TESTED","NOT TESTED","NOT TESTED","NOT TESTED","NOT TESTED","NOT TESTED","NOT TESTED","NOT TESTED","NOT TESTED","NOT TESTED","NOT TESTED","NOT TESTED","NOT TESTED","NOT TESTED","NOT TESTED","NOT TESTED","NOT TESTED","NOT TESTED","NOT TESTED","NOT TESTED","NOT TESTED","NOT TESTED","NOT TESTED","NOT TESTED","NOT TESTED","NOT TESTED","NOT TESTED","NOT TESTED","NOT TESTED","NOT TESTED","NOT TESTED","NOT TESTED","NOT TESTED","NOT TESTED","NOT TESTED","NOT TESTED","NOT TESTED","NOT TESTED","NOT TESTED","NOT TESTED"]
[]
["2.2.5","AAA","Re-authenticating","When an authenticated session expires, the user can continue the activity without loss of data after re-authenticating.","NOT TESTED","NOT TESTED","NOT TESTED","NOT TESTED","NOT TESTED","NOT TESTED","NOT TESTED","NOT TESTED","NOT TESTED","NOT TESTED","NOT TESTED","NOT TESTED","NOT TESTED","NOT TESTED","NOT TESTED","NOT TESTED","NOT TESTED","NOT TESTED","NOT TESTED","NOT TESTED","NOT TESTED","NOT TESTED","NOT TESTED","NOT TESTED","NOT TESTED","NOT TESTED","NOT TESTED","NOT TESTED","NOT TESTED","NOT TESTED","NOT TESTED","NOT TESTED","NOT TESTED","NOT TESTED","NOT TESTED","NOT TESTED","NOT TESTED","NOT TESTED","NOT TESTED","NOT TESTED","NOT TESTED","NOT TESTED","NOT TESTED","NOT TESTED","NOT TESTED","NOT TESTED","NOT TESTED","NOT TESTED","NOT TESTED","NOT TESTED","NOT TESTED","NOT TESTED","NOT TESTED","NOT TESTED","NOT TESTED","NOT TESTED","NOT TESTED","NOT TESTED","NOT TESTED","NOT TESTED","NOT TESTED","NOT TESTED","NOT TESTED","NOT TESTED","NOT TESTED","NOT TESTED","NOT TESTED","NOT TESTED","NOT TESTED","NOT TESTED","NOT TESTED","NOT TESTED","NOT TESTED","NOT TESTED","NOT TESTED","NOT TESTED","NOT TESTED","NOT TESTED","NOT TESTED","NOT TESTED","NOT TESTED","NOT TESTED","NOT TESTED","NOT TESTED","NOT TESTED","NOT TESTED","NOT TESTED","NOT TESTED","NOT TESTED","NOT TESTED","NOT TESTED","NOT TESTED","NOT TESTED","NOT TESTED","NOT TESTED","NOT TESTED","NOT TESTED","NOT TESTED","NOT TESTED","NOT TESTED","NOT TESTED","NOT TESTED","NOT TESTED","NOT TESTED","NOT TESTED","NOT TESTED","NOT TESTED","NOT TESTED","NOT TESTED","NOT TESTED","NOT TESTED","NOT TESTED","NOT TESTED","NOT TESTED","NOT TESTED","NOT TESTED","NOT TESTED","NOT TESTED","NOT TESTED","NOT TESTED","NOT TESTED","NOT TESTED","NOT TESTED","NOT TESTED","NOT TESTED","NOT TESTED","NOT TESTED","NOT TESTED","NOT TESTED","NOT TESTED","NOT TESTED","NOT TESTED","NOT TESTED","NOT TESTED","NOT TESTED","NOT TESTED","NOT TESTED","NOT TESTED","NOT TESTED","NOT TESTED","NOT TESTED","NOT TESTED","NOT TESTED","NOT TESTED","NOT TESTED","NOT TESTED","NOT TESTED","NOT TESTED","NOT TESTED","NOT TESTED"]
[]
["2.2.6","AAA","Timeouts","Users are warned of the duration of any user inactivity that could cause data loss, unless the data is preserved for more than 20 hours when the user does not take any actions.","NOT TESTED","NOT TESTED","NOT TESTED","NOT TESTED","NOT TESTED","NOT TESTED","NOT TESTED","NOT TESTED","NOT TESTED","NOT TESTED","NOT TESTED","NOT TESTED","NOT TESTED","NOT TESTED","NOT TESTED","NOT TESTED","NOT TESTED","NOT TESTED","NOT TESTED","NOT TESTED","NOT TESTED","NOT TESTED","NOT TESTED","NOT TESTED","NOT TESTED","NOT TESTED","NOT TESTED","NOT TESTED","NOT TESTED","NOT TESTED","NOT TESTED","NOT TESTED","NOT TESTED","NOT TESTED","NOT TESTED","NOT TESTED","NOT TESTED","NOT TESTED","NOT TESTED","NOT TESTED","NOT TESTED","NOT TESTED","NOT TESTED","NOT TESTED","NOT TESTED","NOT TESTED","NOT TESTED","NOT TESTED","NOT TESTED","NOT TESTED","NOT TESTED","NOT TESTED","NOT TESTED","NOT TESTED","NOT TESTED","NOT TESTED","NOT TESTED","NOT TESTED","NOT TESTED","NOT TESTED","NOT TESTED","NOT TESTED","NOT TESTED","NOT TESTED","NOT TESTED","NOT TESTED","NOT TESTED","NOT TESTED","NOT TESTED","NOT TESTED","NOT TESTED","NOT TESTED","NOT TESTED","NOT TESTED","NOT TESTED","NOT TESTED","NOT TESTED","NOT TESTED","NOT TESTED","NOT TESTED","NOT TESTED","NOT TESTED","NOT TESTED","NOT TESTED","NOT TESTED","NOT TESTED","NOT TESTED","NOT TESTED","NOT TESTED","NOT TESTED","NOT TESTED","NOT TESTED","NOT TESTED","NOT TESTED","NOT TESTED","NOT TESTED","NOT TESTED","NOT TESTED","NOT TESTED","NOT TESTED","NOT TESTED","NOT TESTED","NOT TESTED","NOT TESTED","NOT TESTED","NOT TESTED","NOT TESTED","NOT TESTED","NOT TESTED","NOT TESTED","NOT TESTED","NOT TESTED","NOT TESTED","NOT TESTED","NOT TESTED","NOT TESTED","NOT TESTED","NOT TESTED","NOT TESTED","NOT TESTED","NOT TESTED","NOT TESTED","NOT TESTED","NOT TESTED","NOT TESTED","NOT TESTED","NOT TESTED","NOT TESTED","NOT TESTED","NOT TESTED","NOT TESTED","NOT TESTED","NOT TESTED","NOT TESTED","NOT TESTED","NOT TESTED","NOT TESTED","NOT TESTED","NOT TESTED","NOT TESTED","NOT TESTED","NOT TESTED","NOT TESTED","NOT TESTED","NOT TESTED","NOT TESTED","NOT TESTED","NOT TESTED","NOT TESTED","NOT TESTED"]
[]
["2.3.2","AAA","Three Flashes","Web pages do not contain anything that flashes more than three times in any one second period.","NOT TESTED","NOT TESTED","NOT TESTED","NOT TESTED","NOT TESTED","NOT TESTED","NOT TESTED","NOT TESTED","NOT TESTED","NOT TESTED","NOT TESTED","NOT TESTED","NOT TESTED","NOT TESTED","NOT TESTED","NOT TESTED","NOT TESTED","NOT TESTED","NOT TESTED","NOT TESTED","NOT TESTED","NOT TESTED","NOT TESTED","NOT TESTED","NOT TESTED","NOT TESTED","NOT TESTED","NOT TESTED","NOT TESTED","NOT TESTED","NOT TESTED","NOT TESTED","NOT TESTED","NOT TESTED","NOT TESTED","NOT TESTED","NOT TESTED","NOT TESTED","NOT TESTED","NOT TESTED","NOT TESTED","NOT TESTED","NOT TESTED","NOT TESTED","NOT TESTED","NOT TESTED","NOT TESTED","NOT TESTED","NOT TESTED","NOT TESTED","NOT TESTED","NOT TESTED","NOT TESTED","NOT TESTED","NOT TESTED","NOT TESTED","NOT TESTED","NOT TESTED","NOT TESTED","NOT TESTED","NOT TESTED","NOT TESTED","NOT TESTED","NOT TESTED","NOT TESTED","NOT TESTED","NOT TESTED","NOT TESTED","NOT TESTED","NOT TESTED","NOT TESTED","NOT TESTED","NOT TESTED","NOT TESTED","NOT TESTED","NOT TESTED","NOT TESTED","NOT TESTED","NOT TESTED","NOT TESTED","NOT TESTED","NOT TESTED","NOT TESTED","NOT TESTED","NOT TESTED","NOT TESTED","NOT TESTED","NOT TESTED","NOT TESTED","NOT TESTED","NOT TESTED","NOT TESTED","NOT TESTED","NOT TESTED","NOT TESTED","NOT TESTED","NOT TESTED","NOT TESTED","NOT TESTED","NOT TESTED","NOT TESTED","NOT TESTED","NOT TESTED","NOT TESTED","NOT TESTED","NOT TESTED","NOT TESTED","NOT TESTED","NOT TESTED","NOT TESTED","NOT TESTED","NOT TESTED","NOT TESTED","NOT TESTED","NOT TESTED","NOT TESTED","NOT TESTED","NOT TESTED","NOT TESTED","NOT TESTED","NOT TESTED","NOT TESTED","NOT TESTED","NOT TESTED","NOT TESTED","NOT TESTED","NOT TESTED","NOT TESTED","NOT TESTED","NOT TESTED","NOT TESTED","NOT TESTED","NOT TESTED","NOT TESTED","NOT TESTED","NOT TESTED","NOT TESTED","NOT TESTED","NOT TESTED","NOT TESTED","NOT TESTED","NOT TESTED","NOT TESTED","NOT TESTED","NOT TESTED","NOT TESTED","NOT TESTED","NOT TESTED","NOT TESTED","NOT TESTED"]
[]
["2.3.3","AAA","Animation from Interactions","Motion animation triggered by interaction can be disabled, unless the animation is essential to the functionality or the information being conveyed.","NOT TESTED","NOT TESTED","NOT TESTED","NOT TESTED","NOT TESTED","NOT TESTED","NOT TESTED","NOT TESTED","NOT TESTED","NOT TESTED","NOT TESTED","NOT TESTED","NOT TESTED","NOT TESTED","NOT TESTED","NOT TESTED","NOT TESTED","NOT TESTED","NOT TESTED","NOT TESTED","NOT TESTED","NOT TESTED","NOT TESTED","NOT TESTED","NOT TESTED","NOT TESTED","NOT TESTED","NOT TESTED","NOT TESTED","NOT TESTED","NOT TESTED","NOT TESTED","NOT TESTED","NOT TESTED","NOT TESTED","NOT TESTED","NOT TESTED","NOT TESTED","NOT TESTED","NOT TESTED","NOT TESTED","NOT TESTED","NOT TESTED","NOT TESTED","NOT TESTED","NOT TESTED","NOT TESTED","NOT TESTED","NOT TESTED","NOT TESTED","NOT TESTED","NOT TESTED","NOT TESTED","NOT TESTED","NOT TESTED","NOT TESTED","NOT TESTED","NOT TESTED","NOT TESTED","NOT TESTED","NOT TESTED","NOT TESTED","NOT TESTED","NOT TESTED","NOT TESTED","NOT TESTED","NOT TESTED","NOT TESTED","NOT TESTED","NOT TESTED","NOT TESTED","NOT TESTED","NOT TESTED","NOT TESTED","NOT TESTED","NOT TESTED","NOT TESTED","NOT TESTED","NOT TESTED","NOT TESTED","NOT TESTED","NOT TESTED","NOT TESTED","NOT TESTED","NOT TESTED","NOT TESTED","NOT TESTED","NOT TESTED","NOT TESTED","NOT TESTED","NOT TESTED","NOT TESTED","NOT TESTED","NOT TESTED","NOT TESTED","NOT TESTED","NOT TESTED","NOT TESTED","NOT TESTED","NOT TESTED","NOT TESTED","NOT TESTED","NOT TESTED","NOT TESTED","NOT TESTED","NOT TESTED","NOT TESTED","NOT TESTED","NOT TESTED","NOT TESTED","NOT TESTED","NOT TESTED","NOT TESTED","NOT TESTED","NOT TESTED","NOT TESTED","NOT TESTED","NOT TESTED","NOT TESTED","NOT TESTED","NOT TESTED","NOT TESTED","NOT TESTED","NOT TESTED","NOT TESTED","NOT TESTED","NOT TESTED","NOT TESTED","NOT TESTED","NOT TESTED","NOT TESTED","NOT TESTED","NOT TESTED","NOT TESTED","NOT TESTED","NOT TESTED","NOT TESTED","NOT TESTED","NOT TESTED","NOT TESTED","NOT TESTED","NOT TESTED","NOT TESTED","NOT TESTED","NOT TESTED","NOT TESTED","NOT TESTED","NOT TESTED","NOT TESTED","NOT TESTED"]
[]
["2.4.8","AAA","Location","Information about the user's location within a set of Web pages is available.","NOT TESTED","NOT TESTED","NOT TESTED","NOT TESTED","NOT TESTED","NOT TESTED","NOT TESTED","NOT TESTED","NOT TESTED","NOT TESTED","NOT TESTED","NOT TESTED","NOT TESTED","NOT TESTED","NOT TESTED","NOT TESTED","NOT TESTED","NOT TESTED","NOT TESTED","NOT TESTED","NOT TESTED","NOT TESTED","NOT TESTED","NOT TESTED","NOT TESTED","NOT TESTED","NOT TESTED","NOT TESTED","NOT TESTED","NOT TESTED","NOT TESTED","NOT TESTED","NOT TESTED","NOT TESTED","NOT TESTED","NOT TESTED","NOT TESTED","NOT TESTED","NOT TESTED","NOT TESTED","NOT TESTED","NOT TESTED","NOT TESTED","NOT TESTED","NOT TESTED","NOT TESTED","NOT TESTED","NOT TESTED","NOT TESTED","NOT TESTED","NOT TESTED","NOT TESTED","NOT TESTED","NOT TESTED","NOT TESTED","NOT TESTED","NOT TESTED","NOT TESTED","NOT TESTED","NOT TESTED","NOT TESTED","NOT TESTED","NOT TESTED","NOT TESTED","NOT TESTED","NOT TESTED","NOT TESTED","NOT TESTED","NOT TESTED","NOT TESTED","NOT TESTED","NOT TESTED","NOT TESTED","NOT TESTED","NOT TESTED","NOT TESTED","NOT TESTED","NOT TESTED","NOT TESTED","NOT TESTED","NOT TESTED","NOT TESTED","NOT TESTED","NOT TESTED","NOT TESTED","NOT TESTED","NOT TESTED","NOT TESTED","NOT TESTED","NOT TESTED","NOT TESTED","NOT TESTED","NOT TESTED","NOT TESTED","NOT TESTED","NOT TESTED","NOT TESTED","NOT TESTED","NOT TESTED","NOT TESTED","NOT TESTED","NOT TESTED","NOT TESTED","NOT TESTED","NOT TESTED","NOT TESTED","NOT TESTED","NOT TESTED","NOT TESTED","NOT TESTED","NOT TESTED","NOT TESTED","NOT TESTED","NOT TESTED","NOT TESTED","NOT TESTED","NOT TESTED","NOT TESTED","NOT TESTED","NOT TESTED","NOT TESTED","NOT TESTED","NOT TESTED","NOT TESTED","NOT TESTED","NOT TESTED","NOT TESTED","NOT TESTED","NOT TESTED","NOT TESTED","NOT TESTED","NOT TESTED","NOT TESTED","NOT TESTED","NOT TESTED","NOT TESTED","NOT TESTED","NOT TESTED","NOT TESTED","NOT TESTED","NOT TESTED","NOT TESTED","NOT TESTED","NOT TESTED","NOT TESTED","NOT TESTED","NOT TESTED","NOT TESTED","NOT TESTED","NOT TESTED"]
[]
["2.4.9","AAA","Link Purpose (Link Only)","A mechanism is available to allow the purpose of each link to be identified from link text alone, except where the purpose of the link would be ambiguous to users in general.","NOT TESTED","NOT TESTED","NOT TESTED","NOT TESTED","NOT TESTED","NOT TESTED","NOT TESTED","NOT TESTED","NOT TESTED","NOT TESTED","NOT TESTED","NOT TESTED","NOT TESTED","NOT TESTED","NOT TESTED","NOT TESTED","NOT TESTED","NOT TESTED","NOT TESTED","NOT TESTED","NOT TESTED","NOT TESTED","NOT TESTED","NOT TESTED","NOT TESTED","NOT TESTED","NOT TESTED","NOT TESTED","NOT TESTED","NOT TESTED","NOT TESTED","NOT TESTED","NOT TESTED","NOT TESTED","NOT TESTED","NOT TESTED","NOT TESTED","NOT TESTED","NOT TESTED","NOT TESTED","NOT TESTED","NOT TESTED","NOT TESTED","NOT TESTED","NOT TESTED","NOT TESTED","NOT TESTED","NOT TESTED","NOT TESTED","NOT TESTED","NOT TESTED","NOT TESTED","NOT TESTED","NOT TESTED","NOT TESTED","NOT TESTED","NOT TESTED","NOT TESTED","NOT TESTED","NOT TESTED","NOT TESTED","NOT TESTED","NOT TESTED","NOT TESTED","NOT TESTED","NOT TESTED","NOT TESTED","NOT TESTED","NOT TESTED","NOT TESTED","NOT TESTED","NOT TESTED","NOT TESTED","NOT TESTED","NOT TESTED","NOT TESTED","NOT TESTED","NOT TESTED","NOT TESTED","NOT TESTED","NOT TESTED","NOT TESTED","NOT TESTED","NOT TESTED","NOT TESTED","NOT TESTED","NOT TESTED","NOT TESTED","NOT TESTED","NOT TESTED","NOT TESTED","NOT TESTED","NOT TESTED","NOT TESTED","NOT TESTED","NOT TESTED","NOT TESTED","NOT TESTED","NOT TESTED","NOT TESTED","NOT TESTED","NOT TESTED","NOT TESTED","NOT TESTED","NOT TESTED","NOT TESTED","NOT TESTED","NOT TESTED","NOT TESTED","NOT TESTED","NOT TESTED","NOT TESTED","NOT TESTED","NOT TESTED","NOT TESTED","NOT TESTED","NOT TESTED","NOT TESTED","NOT TESTED","NOT TESTED","NOT TESTED","NOT TESTED","NOT TESTED","NOT TESTED","NOT TESTED","NOT TESTED","NOT TESTED","NOT TESTED","NOT TESTED","NOT TESTED","NOT TESTED","NOT TESTED","NOT TESTED","NOT TESTED","NOT TESTED","NOT TESTED","NOT TESTED","NOT TESTED","NOT TESTED","NOT TESTED","NOT TESTED","NOT TESTED","NOT TESTED","NOT TESTED","NOT TESTED","NOT TESTED","NOT TESTED","NOT TESTED","NOT TESTED","NOT TESTED"]
[]
["2.4.10","AAA","Section Headings","Section headings are used to organize the content.","NOT TESTED","NOT TESTED","NOT TESTED","NOT TESTED","NOT TESTED","NOT TESTED","NOT TESTED","NOT TESTED","NOT TESTED","NOT TESTED","NOT TESTED","NOT TESTED","NOT TESTED","NOT TESTED","NOT TESTED","NOT TESTED","NOT TESTED","NOT TESTED","NOT TESTED","NOT TESTED","NOT TESTED","NOT TESTED","NOT TESTED","NOT TESTED","NOT TESTED","NOT TESTED","NOT TESTED","NOT TESTED","NOT TESTED","NOT TESTED","NOT TESTED","NOT TESTED","NOT TESTED","NOT TESTED","NOT TESTED","NOT TESTED","NOT TESTED","NOT TESTED","NOT TESTED","NOT TESTED","NOT TESTED","NOT TESTED","NOT TESTED","NOT TESTED","NOT TESTED","NOT TESTED","NOT TESTED","NOT TESTED","NOT TESTED","NOT TESTED","NOT TESTED","NOT TESTED","NOT TESTED","NOT TESTED","NOT TESTED","NOT TESTED","NOT TESTED","NOT TESTED","NOT TESTED","NOT TESTED","NOT TESTED","NOT TESTED","NOT TESTED","NOT TESTED","NOT TESTED","NOT TESTED","NOT TESTED","NOT TESTED","NOT TESTED","NOT TESTED","NOT TESTED","NOT TESTED","NOT TESTED","NOT TESTED","NOT TESTED","NOT TESTED","NOT TESTED","NOT TESTED","NOT TESTED","NOT TESTED","NOT TESTED","NOT TESTED","NOT TESTED","NOT TESTED","NOT TESTED","NOT TESTED","NOT TESTED","NOT TESTED","NOT TESTED","NOT TESTED","NOT TESTED","NOT TESTED","NOT TESTED","NOT TESTED","NOT TESTED","NOT TESTED","NOT TESTED","NOT TESTED","NOT TESTED","NOT TESTED","NOT TESTED","NOT TESTED","NOT TESTED","NOT TESTED","NOT TESTED","NOT TESTED","NOT TESTED","NOT TESTED","NOT TESTED","NOT TESTED","NOT TESTED","NOT TESTED","NOT TESTED","NOT TESTED","NOT TESTED","NOT TESTED","NOT TESTED","NOT TESTED","NOT TESTED","NOT TESTED","NOT TESTED","NOT TESTED","NOT TESTED","NOT TESTED","NOT TESTED","NOT TESTED","NOT TESTED","NOT TESTED","NOT TESTED","NOT TESTED","NOT TESTED","NOT TESTED","NOT TESTED","NOT TESTED","NOT TESTED","NOT TESTED","NOT TESTED","NOT TESTED","NOT TESTED","NOT TESTED","NOT TESTED","NOT TESTED","NOT TESTED","NOT TESTED","NOT TESTED","NOT TESTED","NOT TESTED","NOT TESTED","NOT TESTED","NOT TESTED"]
[]
["2.5.5","AAA","Target Size","The size of the target for pointer inputs is at least 44 by 44 CSS pixels except when:","NOT TESTED","NOT TESTED","NOT TESTED","NOT TESTED","NOT TESTED","NOT TESTED","NOT TESTED","NOT TESTED","NOT TESTED","NOT TESTED","NOT TESTED","NOT TESTED","NOT TESTED","NOT TESTED","NOT TESTED","NOT TESTED","NOT TESTED","NOT TESTED","NOT TESTED","NOT TESTED","NOT TESTED","NOT TESTED","NOT TESTED","NOT TESTED","NOT TESTED","NOT TESTED","NOT TESTED","NOT TESTED","NOT TESTED","NOT TESTED","NOT TESTED","NOT TESTED","NOT TESTED","NOT TESTED","NOT TESTED","NOT TESTED","NOT TESTED","NOT TESTED","NOT TESTED","NOT TESTED","NOT TESTED","NOT TESTED","NOT TESTED","NOT TESTED","NOT TESTED","NOT TESTED","NOT TESTED","NOT TESTED","NOT TESTED","NOT TESTED","NOT TESTED","NOT TESTED","NOT TESTED","NOT TESTED","NOT TESTED","NOT TESTED","NOT TESTED","NOT TESTED","NOT TESTED","NOT TESTED","NOT TESTED","NOT TESTED","NOT TESTED","NOT TESTED","NOT TESTED","NOT TESTED","NOT TESTED","NOT TESTED","NOT TESTED","NOT TESTED","NOT TESTED","NOT TESTED","NOT TESTED","NOT TESTED","NOT TESTED","NOT TESTED","NOT TESTED","NOT TESTED","NOT TESTED","NOT TESTED","NOT TESTED","NOT TESTED","NOT TESTED","NOT TESTED","NOT TESTED","NOT TESTED","NOT TESTED","NOT TESTED","NOT TESTED","NOT TESTED","NOT TESTED","NOT TESTED","NOT TESTED","NOT TESTED","NOT TESTED","NOT TESTED","NOT TESTED","NOT TESTED","NOT TESTED","NOT TESTED","NOT TESTED","NOT TESTED","NOT TESTED","NOT TESTED","NOT TESTED","NOT TESTED","NOT TESTED","NOT TESTED","NOT TESTED","NOT TESTED","NOT TESTED","NOT TESTED","NOT TESTED","NOT TESTED","NOT TESTED","NOT TESTED","NOT TESTED","NOT TESTED","NOT TESTED","NOT TESTED","NOT TESTED","NOT TESTED","NOT TESTED","NOT TESTED","NOT TESTED","NOT TESTED","NOT TESTED","NOT TESTED","NOT TESTED","NOT TESTED","NOT TESTED","NOT TESTED","NOT TESTED","NOT TESTED","NOT TESTED","NOT TESTED","NOT TESTED","NOT TESTED","NOT TESTED","NOT TESTED","NOT TESTED","NOT TESTED","NOT TESTED","NOT TESTED","NOT TESTED","NOT TESTED","NOT TESTED","NOT TESTED","NOT TESTED","NOT TESTED"]
[null,null,null,"\nEquivalent: The target is available through an equivalent link or control on the same page that is at least 44 by 44 CSS pixels;\nInline: The target is in a sentence or block of text;\nUser Agent Control: The size of the target is determined by the user agent and is not modified by the author;\nEssential: A particular presentation of the target is essential to the information being conveyed.\n"]
["2.5.6","AAA","Concurrent Input Mechanisms","Web content does not restrict use of input modalities available on a platform except where the restriction is essential, required to ensure the security of the content, or required to respect user settings.","NOT TESTED","NOT TESTED","NOT TESTED","NOT TESTED","NOT TESTED","NOT TESTED","NOT TESTED","NOT TESTED","NOT TESTED","NOT TESTED","NOT TESTED","NOT TESTED","NOT TESTED","NOT TESTED","NOT TESTED","NOT TESTED","NOT TESTED","NOT TESTED","NOT TESTED","NOT TESTED","NOT TESTED","NOT TESTED","NOT TESTED","NOT TESTED","NOT TESTED","NOT TESTED","NOT TESTED","NOT TESTED","NOT TESTED","NOT TESTED","NOT TESTED","NOT TESTED","NOT TESTED","NOT TESTED","NOT TESTED","NOT TESTED","NOT TESTED","NOT TESTED","NOT TESTED","NOT TESTED","NOT TESTED","NOT TESTED","NOT TESTED","NOT TESTED","NOT TESTED","NOT TESTED","NOT TESTED","NOT TESTED","NOT TESTED","NOT TESTED","NOT TESTED","NOT TESTED","NOT TESTED","NOT TESTED","NOT TESTED","NOT TESTED","NOT TESTED","NOT TESTED","NOT TESTED","NOT TESTED","NOT TESTED","NOT TESTED","NOT TESTED","NOT TESTED","NOT TESTED","NOT TESTED","NOT TESTED","NOT TESTED","NOT TESTED","NOT TESTED","NOT TESTED","NOT TESTED","NOT TESTED","NOT TESTED","NOT TESTED","NOT TESTED","NOT TESTED","NOT TESTED","NOT TESTED","NOT TESTED","NOT TESTED","NOT TESTED","NOT TESTED","NOT TESTED","NOT TESTED","NOT TESTED","NOT TESTED","NOT TESTED","NOT TESTED","NOT TESTED","NOT TESTED","NOT TESTED","NOT TESTED","NOT TESTED","NOT TESTED","NOT TESTED","NOT TESTED","NOT TESTED","NOT TESTED","NOT TESTED","NOT TESTED","NOT TESTED","NOT TESTED","NOT TESTED","NOT TESTED","NOT TESTED","NOT TESTED","NOT TESTED","NOT TESTED","NOT TESTED","NOT TESTED","NOT TESTED","NOT TESTED","NOT TESTED","NOT TESTED","NOT TESTED","NOT TESTED","NOT TESTED","NOT TESTED","NOT TESTED","NOT TESTED","NOT TESTED","NOT TESTED","NOT TESTED","NOT TESTED","NOT TESTED","NOT TESTED","NOT TESTED","NOT TESTED","NOT TESTED","NOT TESTED","NOT TESTED","NOT TESTED","NOT TESTED","NOT TESTED","NOT TESTED","NOT TESTED","NOT TESTED","NOT TESTED","NOT TESTED","NOT TESTED","NOT TESTED","NOT TESTED","NOT TESTED","NOT TESTED","NOT TESTED","NOT TESTED","NOT TESTED","NOT TESTED","NOT TESTED"]
[]
["3.1.3","AAA","Unusual Words","A mechanism is available for identifying specific definitions of words or phrases used in an unusual or restricted way, including idioms and jargon.","NOT TESTED","NOT TESTED","NOT TESTED","NOT TESTED","NOT TESTED","NOT TESTED","NOT TESTED","NOT TESTED","NOT TESTED","NOT TESTED","NOT TESTED","NOT TESTED","NOT TESTED","NOT TESTED","NOT TESTED","NOT TESTED","NOT TESTED","NOT TESTED","NOT TESTED","NOT TESTED","NOT TESTED","NOT TESTED","NOT TESTED","NOT TESTED","NOT TESTED","NOT TESTED","NOT TESTED","NOT TESTED","NOT TESTED","NOT TESTED","NOT TESTED","NOT TESTED","NOT TESTED","NOT TESTED","NOT TESTED","NOT TESTED","NOT TESTED","NOT TESTED","NOT TESTED","NOT TESTED","NOT TESTED","NOT TESTED","NOT TESTED","NOT TESTED","NOT TESTED","NOT TESTED","NOT TESTED","NOT TESTED","NOT TESTED","NOT TESTED","NOT TESTED","NOT TESTED","NOT TESTED","NOT TESTED","NOT TESTED","NOT TESTED","NOT TESTED","NOT TESTED","NOT TESTED","NOT TESTED","NOT TESTED","NOT TESTED","NOT TESTED","NOT TESTED","NOT TESTED","NOT TESTED","NOT TESTED","NOT TESTED","NOT TESTED","NOT TESTED","NOT TESTED","NOT TESTED","NOT TESTED","NOT TESTED","NOT TESTED","NOT TESTED","NOT TESTED","NOT TESTED","NOT TESTED","NOT TESTED","NOT TESTED","NOT TESTED","NOT TESTED","NOT TESTED","NOT TESTED","NOT TESTED","NOT TESTED","NOT TESTED","NOT TESTED","NOT TESTED","NOT TESTED","NOT TESTED","NOT TESTED","NOT TESTED","NOT TESTED","NOT TESTED","NOT TESTED","NOT TESTED","NOT TESTED","NOT TESTED","NOT TESTED","NOT TESTED","NOT TESTED","NOT TESTED","NOT TESTED","NOT TESTED","NOT TESTED","NOT TESTED","NOT TESTED","NOT TESTED","NOT TESTED","NOT TESTED","NOT TESTED","NOT TESTED","NOT TESTED","NOT TESTED","NOT TESTED","NOT TESTED","NOT TESTED","NOT TESTED","NOT TESTED","NOT TESTED","NOT TESTED","NOT TESTED","NOT TESTED","NOT TESTED","NOT TESTED","NOT TESTED","NOT TESTED","NOT TESTED","NOT TESTED","NOT TESTED","NOT TESTED","NOT TESTED","NOT TESTED","NOT TESTED","NOT TESTED","NOT TESTED","NOT TESTED","NOT TESTED","NOT TESTED","NOT TESTED","NOT TESTED","NOT TESTED","NOT TESTED","NOT TESTED","NOT TESTED","NOT TESTED","NOT TESTED","NOT TESTED"]
[]
["3.1.4","AAA","Abbreviations","A mechanism for identifying the expanded form or meaning of abbreviations is available.","NOT TESTED","NOT TESTED","NOT TESTED","NOT TESTED","NOT TESTED","NOT TESTED","NOT TESTED","NOT TESTED","NOT TESTED","NOT TESTED","NOT TESTED","NOT TESTED","NOT TESTED","NOT TESTED","NOT TESTED","NOT TESTED","NOT TESTED","NOT TESTED","NOT TESTED","NOT TESTED","NOT TESTED","NOT TESTED","NOT TESTED","NOT TESTED","NOT TESTED","NOT TESTED","NOT TESTED","NOT TESTED","NOT TESTED","NOT TESTED","NOT TESTED","NOT TESTED","NOT TESTED","NOT TESTED","NOT TESTED","NOT TESTED","NOT TESTED","NOT TESTED","NOT TESTED","NOT TESTED","NOT TESTED","NOT TESTED","NOT TESTED","NOT TESTED","NOT TESTED","NOT TESTED","NOT TESTED","NOT TESTED","NOT TESTED","NOT TESTED","NOT TESTED","NOT TESTED","NOT TESTED","NOT TESTED","NOT TESTED","NOT TESTED","NOT TESTED","NOT TESTED","NOT TESTED","NOT TESTED","NOT TESTED","NOT TESTED","NOT TESTED","NOT TESTED","NOT TESTED","NOT TESTED","NOT TESTED","NOT TESTED","NOT TESTED","NOT TESTED","NOT TESTED","NOT TESTED","NOT TESTED","NOT TESTED","NOT TESTED","NOT TESTED","NOT TESTED","NOT TESTED","NOT TESTED","NOT TESTED","NOT TESTED","NOT TESTED","NOT TESTED","NOT TESTED","NOT TESTED","NOT TESTED","NOT TESTED","NOT TESTED","NOT TESTED","NOT TESTED","NOT TESTED","NOT TESTED","NOT TESTED","NOT TESTED","NOT TESTED","NOT TESTED","NOT TESTED","NOT TESTED","NOT TESTED","NOT TESTED","NOT TESTED","NOT TESTED","NOT TESTED","NOT TESTED","NOT TESTED","NOT TESTED","NOT TESTED","NOT TESTED","NOT TESTED","NOT TESTED","NOT TESTED","NOT TESTED","NOT TESTED","NOT TESTED","NOT TESTED","NOT TESTED","NOT TESTED","NOT TESTED","NOT TESTED","NOT TESTED","NOT TESTED","NOT TESTED","NOT TESTED","NOT TESTED","NOT TESTED","NOT TESTED","NOT TESTED","NOT TESTED","NOT TESTED","NOT TESTED","NOT TESTED","NOT TESTED","NOT TESTED","NOT TESTED","NOT TESTED","NOT TESTED","NOT TESTED","NOT TESTED","NOT TESTED","NOT TESTED","NOT TESTED","NOT TESTED","NOT TESTED","NOT TESTED","NOT TESTED","NOT TESTED","NOT TESTED","NOT TESTED","NOT TESTED","NOT TESTED"]
[]
["3.1.5","AAA","Reading Level","When text requires reading ability more advanced than the lower secondary education level after removal of proper names and titles, supplemental content, or a version that does not require reading ability more advanced than the lower secondary education level, is available.","NOT TESTED","NOT TESTED","NOT TESTED","NOT TESTED","NOT TESTED","NOT TESTED","NOT TESTED","NOT TESTED","NOT TESTED","NOT TESTED","NOT TESTED","NOT TESTED","NOT TESTED","NOT TESTED","NOT TESTED","NOT TESTED","NOT TESTED","NOT TESTED","NOT TESTED","NOT TESTED","NOT TESTED","NOT TESTED","NOT TESTED","NOT TESTED","NOT TESTED","NOT TESTED","NOT TESTED","NOT TESTED","NOT TESTED","NOT TESTED","NOT TESTED","NOT TESTED","NOT TESTED","NOT TESTED","NOT TESTED","NOT TESTED","NOT TESTED","NOT TESTED","NOT TESTED","NOT TESTED","NOT TESTED","NOT TESTED","NOT TESTED","NOT TESTED","NOT TESTED","NOT TESTED","NOT TESTED","NOT TESTED","NOT TESTED","NOT TESTED","NOT TESTED","NOT TESTED","NOT TESTED","NOT TESTED","NOT TESTED","NOT TESTED","NOT TESTED","NOT TESTED","NOT TESTED","NOT TESTED","NOT TESTED","NOT TESTED","NOT TESTED","NOT TESTED","NOT TESTED","NOT TESTED","NOT TESTED","NOT TESTED","NOT TESTED","NOT TESTED","NOT TESTED","NOT TESTED","NOT TESTED","NOT TESTED","NOT TESTED","NOT TESTED","NOT TESTED","NOT TESTED","NOT TESTED","NOT TESTED","NOT TESTED","NOT TESTED","NOT TESTED","NOT TESTED","NOT TESTED","NOT TESTED","NOT TESTED","NOT TESTED","NOT TESTED","NOT TESTED","NOT TESTED","NOT TESTED","NOT TESTED","NOT TESTED","NOT TESTED","NOT TESTED","NOT TESTED","NOT TESTED","NOT TESTED","NOT TESTED","NOT TESTED","NOT TESTED","NOT TESTED","NOT TESTED","NOT TESTED","NOT TESTED","NOT TESTED","NOT TESTED","NOT TESTED","NOT TESTED","NOT TESTED","NOT TESTED","NOT TESTED","NOT TESTED","NOT TESTED","NOT TESTED","NOT TESTED","NOT TESTED","NOT TESTED","NOT TESTED","NOT TESTED","NOT TESTED","NOT TESTED","NOT TESTED","NOT TESTED","NOT TESTED","NOT TESTED","NOT TESTED","NOT TESTED","NOT TESTED","NOT TESTED","NOT TESTED","NOT TESTED","NOT TESTED","NOT TESTED","NOT TESTED","NOT TESTED","NOT TESTED","NOT TESTED","NOT TESTED","NOT TESTED","NOT TESTED","NOT TESTED","NOT TESTED","NOT TESTED","NOT TESTED","NOT TESTED","NOT TESTED","NOT TESTED","NOT TESTED"]
[]
["3.1.6","AAA","Pronunciation","A mechanism is available for identifying specific pronunciation of words where meaning of the words, in context, is ambiguous without knowing the pronunciation.","NOT TESTED","NOT TESTED","NOT TESTED","NOT TESTED","NOT TESTED","NOT TESTED","NOT TESTED","NOT TESTED","NOT TESTED","NOT TESTED","NOT TESTED","NOT TESTED","NOT TESTED","NOT TESTED","NOT TESTED","NOT TESTED","NOT TESTED","NOT TESTED","NOT TESTED","NOT TESTED","NOT TESTED","NOT TESTED","NOT TESTED","NOT TESTED","NOT TESTED","NOT TESTED","NOT TESTED","NOT TESTED","NOT TESTED","NOT TESTED","NOT TESTED","NOT TESTED","NOT TESTED","NOT TESTED","NOT TESTED","NOT TESTED","NOT TESTED","NOT TESTED","NOT TESTED","NOT TESTED","NOT TESTED","NOT TESTED","NOT TESTED","NOT TESTED","NOT TESTED","NOT TESTED","NOT TESTED","NOT TESTED","NOT TESTED","NOT TESTED","NOT TESTED","NOT TESTED","NOT TESTED","NOT TESTED","NOT TESTED","NOT TESTED","NOT TESTED","NOT TESTED","NOT TESTED","NOT TESTED","NOT TESTED","NOT TESTED","NOT TESTED","NOT TESTED","NOT TESTED","NOT TESTED","NOT TESTED","NOT TESTED","NOT TESTED","NOT TESTED","NOT TESTED","NOT TESTED","NOT TESTED","NOT TESTED","NOT TESTED","NOT TESTED","NOT TESTED","NOT TESTED","NOT TESTED","NOT TESTED","NOT TESTED","NOT TESTED","NOT TESTED","NOT TESTED","NOT TESTED","NOT TESTED","NOT TESTED","NOT TESTED","NOT TESTED","NOT TESTED","NOT TESTED","NOT TESTED","NOT TESTED","NOT TESTED","NOT TESTED","NOT TESTED","NOT TESTED","NOT TESTED","NOT TESTED","NOT TESTED","NOT TESTED","NOT TESTED","NOT TESTED","NOT TESTED","NOT TESTED","NOT TESTED","NOT TESTED","NOT TESTED","NOT TESTED","NOT TESTED","NOT TESTED","NOT TESTED","NOT TESTED","NOT TESTED","NOT TESTED","NOT TESTED","NOT TESTED","NOT TESTED","NOT TESTED","NOT TESTED","NOT TESTED","NOT TESTED","NOT TESTED","NOT TESTED","NOT TESTED","NOT TESTED","NOT TESTED","NOT TESTED","NOT TESTED","NOT TESTED","NOT TESTED","NOT TESTED","NOT TESTED","NOT TESTED","NOT TESTED","NOT TESTED","NOT TESTED","NOT TESTED","NOT TESTED","NOT TESTED","NOT TESTED","NOT TESTED","NOT TESTED","NOT TESTED","NOT TESTED","NOT TESTED","NOT TESTED","NOT TESTED","NOT TESTED","NOT TESTED"]
[]
["3.2.5","AAA","Change on Request","Changes of context are initiated only by user request or a mechanism is available to turn off such changes.","NOT TESTED","NOT TESTED","NOT TESTED","NOT TESTED","NOT TESTED","NOT TESTED","NOT TESTED","NOT TESTED","NOT TESTED","NOT TESTED","NOT TESTED","NOT TESTED","NOT TESTED","NOT TESTED","NOT TESTED","NOT TESTED","NOT TESTED","NOT TESTED","NOT TESTED","NOT TESTED","NOT TESTED","NOT TESTED","NOT TESTED","NOT TESTED","NOT TESTED","NOT TESTED","NOT TESTED","NOT TESTED","NOT TESTED","NOT TESTED","NOT TESTED","NOT TESTED","NOT TESTED","NOT TESTED","NOT TESTED","NOT TESTED","NOT TESTED","NOT TESTED","NOT TESTED","NOT TESTED","NOT TESTED","NOT TESTED","NOT TESTED","NOT TESTED","NOT TESTED","NOT TESTED","NOT TESTED","NOT TESTED","NOT TESTED","NOT TESTED","NOT TESTED","NOT TESTED","NOT TESTED","NOT TESTED","NOT TESTED","NOT TESTED","NOT TESTED","NOT TESTED","NOT TESTED","NOT TESTED","NOT TESTED","NOT TESTED","NOT TESTED","NOT TESTED","NOT TESTED","NOT TESTED","NOT TESTED","NOT TESTED","NOT TESTED","NOT TESTED","NOT TESTED","NOT TESTED","NOT TESTED","NOT TESTED","NOT TESTED","NOT TESTED","NOT TESTED","NOT TESTED","NOT TESTED","NOT TESTED","NOT TESTED","NOT TESTED","NOT TESTED","NOT TESTED","NOT TESTED","NOT TESTED","NOT TESTED","NOT TESTED","NOT TESTED","NOT TESTED","NOT TESTED","NOT TESTED","NOT TESTED","NOT TESTED","NOT TESTED","NOT TESTED","NOT TESTED","NOT TESTED","NOT TESTED","NOT TESTED","NOT TESTED","NOT TESTED","NOT TESTED","NOT TESTED","NOT TESTED","NOT TESTED","NOT TESTED","NOT TESTED","NOT TESTED","NOT TESTED","NOT TESTED","NOT TESTED","NOT TESTED","NOT TESTED","NOT TESTED","NOT TESTED","NOT TESTED","NOT TESTED","NOT TESTED","NOT TESTED","NOT TESTED","NOT TESTED","NOT TESTED","NOT TESTED","NOT TESTED","NOT TESTED","NOT TESTED","NOT TESTED","NOT TESTED","NOT TESTED","NOT TESTED","NOT TESTED","NOT TESTED","NOT TESTED","NOT TESTED","NOT TESTED","NOT TESTED","NOT TESTED","NOT TESTED","NOT TESTED","NOT TESTED","NOT TESTED","NOT TESTED","NOT TESTED","NOT TESTED","NOT TESTED","NOT TESTED","NOT TESTED","NOT TESTED","NOT TESTED"]
[]
["3.3.5","AAA","Help","Context-sensitive help is available.","NOT TESTED","NOT TESTED","NOT TESTED","NOT TESTED","NOT TESTED","NOT TESTED","NOT TESTED","NOT TESTED","NOT TESTED","NOT TESTED","NOT TESTED","NOT TESTED","NOT TESTED","NOT TESTED","NOT TESTED","NOT TESTED","NOT TESTED","NOT TESTED","NOT TESTED","NOT TESTED","NOT TESTED","NOT TESTED","NOT TESTED","NOT TESTED","NOT TESTED","NOT TESTED","NOT TESTED","NOT TESTED","NOT TESTED","NOT TESTED","NOT TESTED","NOT TESTED","NOT TESTED","NOT TESTED","NOT TESTED","NOT TESTED","NOT TESTED","NOT TESTED","NOT TESTED","NOT TESTED","NOT TESTED","NOT TESTED","NOT TESTED","NOT TESTED","NOT TESTED","NOT TESTED","NOT TESTED","NOT TESTED","NOT TESTED","NOT TESTED","NOT TESTED","NOT TESTED","NOT TESTED","NOT TESTED","NOT TESTED","NOT TESTED","NOT TESTED","NOT TESTED","NOT TESTED","NOT TESTED","NOT TESTED","NOT TESTED","NOT TESTED","NOT TESTED","NOT TESTED","NOT TESTED","NOT TESTED","NOT TESTED","NOT TESTED","NOT TESTED","NOT TESTED","NOT TESTED","NOT TESTED","NOT TESTED","NOT TESTED","NOT TESTED","NOT TESTED","NOT TESTED","NOT TESTED","NOT TESTED","NOT TESTED","NOT TESTED","NOT TESTED","NOT TESTED","NOT TESTED","NOT TESTED","NOT TESTED","NOT TESTED","NOT TESTED","NOT TESTED","NOT TESTED","NOT TESTED","NOT TESTED","NOT TESTED","NOT TESTED","NOT TESTED","NOT TESTED","NOT TESTED","NOT TESTED","NOT TESTED","NOT TESTED","NOT TESTED","NOT TESTED","NOT TESTED","NOT TESTED","NOT TESTED","NOT TESTED","NOT TESTED","NOT TESTED","NOT TESTED","NOT TESTED","NOT TESTED","NOT TESTED","NOT TESTED","NOT TESTED","NOT TESTED","NOT TESTED","NOT TESTED","NOT TESTED","NOT TESTED","NOT TESTED","NOT TESTED","NOT TESTED","NOT TESTED","NOT TESTED","NOT TESTED","NOT TESTED","NOT TESTED","NOT TESTED","NOT TESTED","NOT TESTED","NOT TESTED","NOT TESTED","NOT TESTED","NOT TESTED","NOT TESTED","NOT TESTED","NOT TESTED","NOT TESTED","NOT TESTED","NOT TESTED","NOT TESTED","NOT TESTED","NOT TESTED","NOT TESTED","NOT TESTED","NOT TESTED","NOT TESTED","NOT TESTED","NOT TESTED"]
[]
["3.3.6","AAA","Error Prevention (All)","For Web pages that require the user to submit information, at least one of the following is true:","NOT TESTED","NOT TESTED","NOT TESTED","NOT TESTED","NOT TESTED","NOT TESTED","NOT TESTED","NOT TESTED","NOT TESTED","NOT TESTED","NOT TESTED","NOT TESTED","NOT TESTED","NOT TESTED","NOT TESTED","NOT TESTED","NOT TESTED","NOT TESTED","NOT TESTED","NOT TESTED","NOT TESTED","NOT TESTED","NOT TESTED","NOT TESTED","NOT TESTED","NOT TESTED","NOT TESTED","NOT TESTED","NOT TESTED","NOT TESTED","NOT TESTED","NOT TESTED","NOT TESTED","NOT TESTED","NOT TESTED","NOT TESTED","NOT TESTED","NOT TESTED","NOT TESTED","NOT TESTED","NOT TESTED","NOT TESTED","NOT TESTED","NOT TESTED","NOT TESTED","NOT TESTED","NOT TESTED","NOT TESTED","NOT TESTED","NOT TESTED","NOT TESTED","NOT TESTED","NOT TESTED","NOT TESTED","NOT TESTED","NOT TESTED","NOT TESTED","NOT TESTED","NOT TESTED","NOT TESTED","NOT TESTED","NOT TESTED","NOT TESTED","NOT TESTED","NOT TESTED","NOT TESTED","NOT TESTED","NOT TESTED","NOT TESTED","NOT TESTED","NOT TESTED","NOT TESTED","NOT TESTED","NOT TESTED","NOT TESTED","NOT TESTED","NOT TESTED","NOT TESTED","NOT TESTED","NOT TESTED","NOT TESTED","NOT TESTED","NOT TESTED","NOT TESTED","NOT TESTED","NOT TESTED","NOT TESTED","NOT TESTED","NOT TESTED","NOT TESTED","NOT TESTED","NOT TESTED","NOT TESTED","NOT TESTED","NOT TESTED","NOT TESTED","NOT TESTED","NOT TESTED","NOT TESTED","NOT TESTED","NOT TESTED","NOT TESTED","NOT TESTED","NOT TESTED","NOT TESTED","NOT TESTED","NOT TESTED","NOT TESTED","NOT TESTED","NOT TESTED","NOT TESTED","NOT TESTED","NOT TESTED","NOT TESTED","NOT TESTED","NOT TESTED","NOT TESTED","NOT TESTED","NOT TESTED","NOT TESTED","NOT TESTED","NOT TESTED","NOT TESTED","NOT TESTED","NOT TESTED","NOT TESTED","NOT TESTED","NOT TESTED","NOT TESTED","NOT TESTED","NOT TESTED","NOT TESTED","NOT TESTED","NOT TESTED","NOT TESTED","NOT TESTED","NOT TESTED","NOT TESTED","NOT TESTED","NOT TESTED","NOT TESTED","NOT TESTED","NOT TESTED","NOT TESTED","NOT TESTED","NOT TESTED","NOT TESTED","NOT TESTED","NOT TESTED","NOT TESTED"]
[null,null,null,"\nReversible: Submissions are reversible.\nChecked: Data entered by the user is checked for input errors and the user is provided an opportunity to correct them.\nConfirmed: A mechanism is available for reviewing, confirming, and correcting information before finalizing the submission.\n"]
["End of content."]

{"sheet":"Colour Contrast Analysis","index":6,"n_rows":76,"n_cols":176,"rows_kept":76,"cut":false,"hidden":false,"merged":[[0,0,1,21]]}
["\nColour Contrast Analysis for combinations of\ntext and background colours (level AA)",null,null,null,null,null,null,null,null,null,null,null,null,null,null,null,null,null,null,null,null,null,null,null,null,{"$f":"IF(INDIRECT(\"'Statistics'!\" & ADDRESS(COLUMN()-11,2))=\"\",\"\",INDIRECT(\"'Statistics'!\" & ADDRESS(COLUMN()-11,2)))","v":"Home"},"Submission form page 1","Submission form page 2","Submission form page 3","Gallery page","","Page 7","Page 8","Page 9","Page 10","Page 11","Page 12","Page 13","Page 14","Page 15","Page 16","Page 17","Page 18","Page 19","Page 20","Page 21","Page 22","Page 23","Page 24","Page 25","Page 26","Page 27","Page 28","Page 29","Page 30","Page 31","Page 32",{"$f":"IF(INDIRECT(\"'Statistics'!\" & ADDRESS(COLUMN()-11,2))=\"\",\"\",INDIRECT(\"'Statistics'!\" & ADDRESS(COLUMN()-11,2)))","v":"Page 33"},"Page 34","Page 35","Page 36","Page 37","Page 38","Page 39","Page 40","Page 41","Page 42","Page 43","Page 44","Page 45","Page 46","Page 47","Page 48","Page 49","Page 50","Page 51","Page 52","Page 53","Page 54","Page 55","Page 56","Page 57","Page 58","Page 59","Page 60","Page 61","Page 62","Page 63","Page 64",{"$f":"IF(INDIRECT(\"'Statistics'!\" & ADDRESS(COLUMN()-11,2))=\"\",\"\",INDIRECT(\"'Statistics'!\" & ADDRESS(COLUMN()-11,2)))","v":"Page 65"},"Page 66","Page 67","Page 68","Page 69","Page 70","Page 71","Page 72","Page 73","Page 74","Page 75","Page 76","Page 77","Page 78","Page 79","Page 80","Page 81","Page 82","Page 83","Page 84","Page 85","Page 86","Page 87","Page 88","Page 89","Page 90","Page 91","Page 92","Page 93","Page 94","Page 95","Page 96",{"$f":"IF(INDIRECT(\"'Statistics'!\" & ADDRESS(COLUMN()-11,2))=\"\",\"\",INDIRECT(\"'Statistics'!\" & ADDRESS(COLUMN()-11,2)))","v":"Page 97"},"Page 98","Page 99","Page 100","Page 101","Page 102","Page 103","Page 104","Page 105","Page 106","Page 107","Page 108","Page 109","Page 110","Page 111","Page 112","Page 113","Page 114","Page 115","Page 116","Page 117","Page 118","Page 119","Page 120","Page 121","Page 122","Page 123","Page 124","Page 125","Page 126","Page 127","Page 128",{"$f":"IF(INDIRECT(\"'Statistics'!\" & ADDRESS(COLUMN()-11,2))=\"\",\"\",INDIRECT(\"'Statistics'!\" & ADDRESS(COLUMN()-11,2)))","v":"Page 129"},"Page 130","Page 131","Page 132","Page 133","Page 134","Page 135","Page 136","Page 137","Page 138","Page 139","Page 140","Page 141","Page 142","Page 143","Page 144","Page 145","Page 146","Page 147","Page 148","Page 149","Page 150","End of content."]
[null,null,null,null,null,null,null,null,null,null,null,null,null,null,null,null,null,null,null,null,null,null,null,null,null,{"$f":"IF(INDIRECT(\"'Statistics'!\" & ADDRESS(COLUMN()-11,3))=\"\",\"\",INDIRECT(\"'Statistics'!\" & ADDRESS(COLUMN()-11,3)))","v":"https://wwwtest.london.gov.uk/programmes-strategies/arts-and-culture/current-culture-projects/fourth-plinth-trafalgar-square"},"https://wwwtest.london.gov.uk/programmes-strategies/arts-and-culture/current-culture-projects/fourth-plinth-trafalgar-square/fourth-plinth-schools-awards-2023-submissions-form","https://wwwtest.london.gov.uk/programmes-strategies/arts-and-culture/current-culture-projects/fourth-plinth-trafalgar-square/fourth-plinth-schools-awards-2023-submissions-form","https://wwwtest.london.gov.uk/programmes-strategies/arts-and-culture/current-culture-projects/fourth-plinth-trafalgar-square/fourth-plinth-schools-awards-2023-submissions-form","https://wwwtest.london.gov.uk/programmes-strategies/arts-and-culture/current-culture-projects/fourth-plinth-trafalgar-square/fourth-plinth-schools-awards-2023-gallery","","URL 7","URL 8","URL 9","URL 10","URL 11","URL 12","URL 13","URL 14","URL 15","URL 16","URL 17","URL 18","URL 19","URL 20","URL 21","URL 22","URL 23","URL 24","URL 25","URL 26","URL 27","URL 28","URL 29","URL 30","URL 31","URL 32",{"$f":"IF(INDIRECT(\"'Statistics'!\" & ADDRESS(COLUMN()-11,3))=\"\",\"\",INDIRECT(\"'Statistics'!\" & ADDRESS(COLUMN()-11,3)))","v":"URL 33"},"URL 34","URL 35","URL 36","URL 37","URL 38","URL 39","URL 40","URL 41","URL 42","URL 43","URL 44","URL 45","URL 46","URL 47","URL 48","URL 49","URL 50","URL 51","URL 52","URL 53","URL 54","URL 55","URL 56","URL 57","URL 58","URL 59","URL 60","URL 61","URL 62","URL 63","URL 64",{"$f":"IF(INDIRECT(\"'Statistics'!\" & ADDRESS(COLUMN()-11,3))=\"\",\"\",INDIRECT(\"'Statistics'!\" & ADDRESS(COLUMN()-11,3)))","v":"URL 65"},"URL 66","URL 67","URL 68","URL 69","URL 70","URL 71","URL 72","URL 73","URL 74","URL 75","URL 76","URL 77","URL 78","URL 79","URL 80","URL 81","URL 82","URL 83","URL 84","URL 85","URL 86","URL 87","URL 88","URL 89","URL 90","URL 91","URL 92","URL 93","URL 94","URL 95","URL 96",{"$f":"IF(INDIRECT(\"'Statistics'!\" & ADDRESS(COLUMN()-11,3))=\"\",\"\",INDIRECT(\"'Statistics'!\" & ADDRESS(COLUMN()-11,3)))","v":"URL 97"},"URL 98","URL 99","URL 100","URL 101","URL 102","URL 103","URL 104","URL 105","URL 106","URL 107","URL 108","URL 109","URL 110","URL 111","URL 112","URL 113","URL 114","URL 115","URL 116","URL 117","URL 118","URL 119","URL 120","URL 121","URL 122","URL 123","URL 124","URL 125","URL 126","URL 127","URL 128",{"$f":"IF(INDIRECT(\"'Statistics'!\" & ADDRESS(COLUMN()-11,3))=\"\",\"\",INDIRECT(\"'Statistics'!\" & ADDRESS(COLUMN()-11,3)))","v":"URL 129"},"URL 130","URL 131","URL 132","URL 133","URL 134","URL 135","URL 136","URL 137","URL 138","URL 139","URL 140","URL 141","URL 142","URL 143","URL 144","URL 145","URL 146","URL 147","URL 148","URL 149","URL 150"]
[null,null,null,null,null,null,null,null,null,null,null,null,null,null,null,null,null,null,null,null,null,null,null,null,null,"Page #1","Page #2","Page #3","Page #4","Page #5","Page #6","Page #7","Page #8","Page #9","Page #10","Page #11","Page #12","Page #13","Page #14","Page #15","Page #16","Page #17","Page #18","Page #19","Page #20","Page #21","Page #22","Page #23","Page #24","Page #25","Page #26","Page #27","Page #28","Page #29","Page #30","Page #31","Page #32","Page #33","Page #34","Page #35","Page #36","Page #37","Page #38","Page #39","Page #40","Page #41","Page #42","Page #43","Page #44","Page #45","Page #46","Page #47","Page #48","Page #49","Page #50","Page #51","Page #52","Page #53","Page #54","Page #55","Page #56","Page #57","Page #58","Page #59","Page #60","Page #61","Page #62","Page #63","Page #64","Page #65","Page #66","Page #67","Page #68","Page #69","Page #70","Page #71","Page #72","Page #73","Page #74","Page #75","Page #76","Page #77","Page #78","Page #79","Page #80","Page #81","Page #82","Page #83","Page #84","Page #85","Page #86","Page #87","Page #88","Page #89","Page #90","Page #91","Page #92","Page #93","Page #94","Page #95","Page #96","Page #97","Page #98","Page #99","Page #100","Page #101","Page #102","Page #103","Page #104","Page #105","Page #106","Page #107","Page #108","Page #109","Page #110","Page #111","Page #112","Page #113","Page #114","Page #115","Page #116","Page #117","Page #118","Page #119","Page #120","Page #121","Page #122","Page #123","Page #124","Page #125","Page #126","Page #127","Page #128","Page #129","Page #130","Page #131","Page #132","Page #133","Page #134","Page #135","Page #136","Page #137","Page #138","Page #139","Page #140","Page #141","Page #142","Page #143","Page #144","Page #145","Page #146","Page #147","Page #148","Page #149","Page #150"]
["Page Area","Image","Text \nColour","Back.\nColour","Large (18pt or 14pt bold)","Valid","R RGB","Fail Only","G RGB","G","B RGB","B","Luminance","Valid","R RGB","R","G RGB","G","B RGB","B","Luminance","Contrast Ratio","Exempt","All Results","Image / Text / Video",{"$f":"COUNTIF(Z6:Z1002,\"Fail\") & \" Fault\" & IF(COUNTIF(Z6:Z1002,\"Fail\")=1,\"\",\"s\")","v":"0 Faults"},"1 Fault","2 Faults","1 Fault","0 Faults","0 Faults","0 Faults","0 Faults","0 Faults","0 Faults","0 Faults","0 Faults","0 Faults","0 Faults","0 Faults","0 Faults","0 Faults","0 Faults","0 Faults","0 Faults","0 Faults","0 Faults","0 Faults","0 Faults","0 Faults","0 Faults","0 Faults","0 Faults","0 Faults","0 Faults","0 Faults","0 Faults",{"$f":"COUNTIF(BF6:BF1002,\"Fail\") & \" Fault\" & IF(COUNTIF(BF6:BF1002,\"Fail\")=1,\"\",\"s\")","v":"0 Faults"},"0 Faults","0 Faults","0 Faults","0 Faults","0 Faults","0 Faults","0 Faults","0 Faults","0 Faults","0 Faults","0 Faults","0 Faults","0 Faults","0 Faults","0 Faults","0 Faults","0 Faults","0 Faults","0 Faults","0 Faults","0 Faults","0 Faults","0 Faults","0 Faults","0 Faults","0 Faults","0 Faults","0 Faults","0 Faults","0 Faults","0 Faults",{"$f":"COUNTIF(CL6:CL1002,\"Fail\") & \" Fault\" & IF(COUNTIF(CL6:CL1002,\"Fail\")=1,\"\",\"s\")","v":"0 Faults"},"0 Faults","0 Faults","0 Faults","0 Faults","0 Faults","0 Faults","0 Faults","0 Faults","0 Faults","0 Faults","0 Faults","0 Faults","0 Faults","0 Faults","0 Faults","0 Faults","0 Faults","0 Faults","0 Faults","0 Faults","0 Faults","0 Faults","0 Faults","0 Faults","0 Faults","0 Faults","0 Faults","0 Faults","0 Faults","0 Faults","0 Faults",{"$f":"COUNTIF(DR6:DR1002,\"Fail\") & \" Fault\" & IF(COUNTIF(DR6:DR1002,\"Fail\")=1,\"\",\"s\")","v":"0 Faults"},"0 Faults","0 Faults","0 Faults","0 Faults","0 Faults","0 Faults","0 Faults","0 Faults","0 Faults","0 Faults","0 Faults","0 Faults","0 Faults","0 Faults","0 Faults","0 Faults","0 Faults","0 Faults","0 Faults","0 Faults","0 Faults","0 Faults","0 Faults","0 Faults","0 Faults","0 Faults","0 Faults","0 Faults","0 Faults","0 Faults","0 Faults",{"$f":"COUNTIF(EX6:EX1002,\"Fail\") & \" Fault\" & IF(COUNTIF(EX6:EX1002,\"Fail\")=1,\"\",\"s\")","v":"0 Faults"},"0 Faults","0 Faults","0 Faults","0 Faults","0 Faults","0 Faults","0 Faults","0 Faults","0 Faults","0 Faults","0 Faults","0 Faults","0 Faults","0 Faults","0 Faults","0 Faults","0 Faults","0 Faults","0 Faults","0 Faults","0 Faults"]
["Heading (worst case)",null,"#FFFFFF","#76736C","Large",{"$f":"IF(LEN(D5)=0,\"\",AND(LEFT(D5,1)=\"#\",LEN(D5)=7))","v":true},{"$f":"HEX2DEC(RIGHT(LEFT(D5,3),2))","v":118},{"$f":"IF(G5/255<= 0.03928,G5/(255*12.92),(((G5/255)+0.055)/1.055)^2.4)","v":0.18116424424986022},{"$f":"HEX2DEC(RIGHT(LEFT(D5,5),2))","v":115},{"$f":"IF(I5/255<= 0.03928,I5/(255*12.92),(((I5/255)+0.055)/1.055)^2.4)","v":0.17144110073282262},{"$f":"HEX2DEC(RIGHT(D5,2))","v":108},{"$f":"IF(K5/255<= 0.03928,K5/(255*12.92),(((K5/255)+0.055)/1.055)^2.4)","v":0.14995978981060856},{"$f":"(0.2126*H5)+(0.7152*J5)+(0.0722*L5)","v":0.17195729039596097},{"$f":"IF(LEN(C5)=0,\"\",AND(LEFT(C5,1)=\"#\",LEN(C5)=7))","v":true},{"$f":"HEX2DEC(RIGHT(LEFT(C5,3),2))","v":255},{"$f":"IF(O5/255<= 0.03928,O5/(255*12.92),(((O5/255)+0.055)/1.055)^2.4)","v":1},{"$f":"HEX2DEC(RIGHT(LEFT(C5,5),2))","v":255},{"$f":"IF(Q5/255<= 0.03928,Q5/(255*12.92),(((Q5/255)+0.055)/1.055)^2.4)","v":1},{"$f":"HEX2DEC(RIGHT(C5,2))","v":255},{"$f":"IF(S5/255<= 0.03928,S5/(255*12.92),(((S5/255)+0.055)/1.055)^2.4)","v":1},{"$f":"(0.2126*P5)+(0.7152*R5)+(0.0722*T5)","v":1},{"$f":"IF(OR(F5=\"\",N5=\"\")=TRUE,\"\",IF(OR(F5=FALSE,N5=FALSE)=TRUE,\"ERROR\",ROUND(IF(M5>U5,(M5+0.05)/(U5+0.05),(U5+0.05)/(M5+0.05)),2)))","v":4.7300000000000004},"No",{"$f":"IF(OR(W5=\"\",W5=\"No\")=TRUE,IF(V5=\"\",\"\",IF(V5>=Comboboxes!A$5,\"Pass\",IF(AND(V5>=Comboboxes!A$6,E5=\"Large\"),\"Pass (large text)\",\"Fail\"))),\"Exempt\")","v":"Pass"},"Text","Pass","N/A","N/A","N/A","N/A"]
["Body text",null,"#333333","#FFFFFF","Small",{"$f":"IF(LEN(D6)=0,\"\",AND(LEFT(D6,1)=\"#\",LEN(D6)=7))","v":true},{"$f":"HEX2DEC(RIGHT(LEFT(D6,3),2))","v":255},{"$f":"IF(G6/255<= 0.03928,G6/(255*12.92),(((G6/255)+0.055)/1.055)^2.4)","v":1},{"$f":"HEX2DEC(RIGHT(LEFT(D6,5),2))","v":255},{"$f":"IF(I6/255<= 0.03928,I6/(255*12.92),(((I6/255)+0.055)/1.055)^2.4)","v":1},{"$f":"HEX2DEC(RIGHT(D6,2))","v":255},{"$f":"IF(K6/255<= 0.03928,K6/(255*12.92),(((K6/255)+0.055)/1.055)^2.4)","v":1},{"$f":"(0.2126*H6)+(0.7152*J6)+(0.0722*L6)","v":1},{"$f":"IF(LEN(C6)=0,\"\",AND(LEFT(C6,1)=\"#\",LEN(C6)=7))","v":true},{"$f":"HEX2DEC(RIGHT(LEFT(C6,3),2))","v":51},{"$f":"IF(O6/255<= 0.03928,O6/(255*12.92),(((O6/255)+0.055)/1.055)^2.4)","v":3.3104766570885055E-2},{"$f":"HEX2DEC(RIGHT(LEFT(C6,5),2))","v":51},{"$f":"IF(Q6/255<= 0.03928,Q6/(255*12.92),(((Q6/255)+0.055)/1.055)^2.4)","v":3.3104766570885055E-2},{"$f":"HEX2DEC(RIGHT(C6,2))","v":51},{"$f":"IF(S6/255<= 0.03928,S6/(255*12.92),(((S6/255)+0.055)/1.055)^2.4)","v":3.3104766570885055E-2},{"$f":"(0.2126*P6)+(0.7152*R6)+(0.0722*T6)","v":3.3104766570885055E-2},{"$f":"IF(OR(F6=\"\",N6=\"\")=TRUE,\"\",IF(OR(F6=FALSE,N6=FALSE)=TRUE,\"ERROR\",ROUND(IF(M6>U6,(M6+0.05)/(U6+0.05),(U6+0.05)/(M6+0.05)),2)))","v":12.63},"No",{"$f":"IF(OR(W6=\"\",W6=\"No\")=TRUE,IF(V6=\"\",\"\",IF(V6>=Comboboxes!A$5,\"Pass\",IF(AND(V6>=Comboboxes!A$6,E6=\"Large\"),\"Pass (large text)\",\"Fail\"))),\"Exempt\")","v":"Pass"},"Text","Pass","Pass","Pass","Pass","Pass"]
["Heading",null,"#333333","#EFEFEF","Large",{"$f":"IF(LEN(D7)=0,\"\",AND(LEFT(D7,1)=\"#\",LEN(D7)=7))","v":true},{"$f":"HEX2DEC(RIGHT(LEFT(D7,3),2))","v":239},{"$f":"IF(G7/255<= 0.03928,G7/(255*12.92),(((G7/255)+0.055)/1.055)^2.4)","v":0.86315721345410235},{"$f":"HEX2DEC(RIGHT(LEFT(D7,5),2))","v":239},{"$f":"IF(I7/255<= 0.03928,I7/(255*12.92),(((I7/255)+0.055)/1.055)^2.4)","v":0.86315721345410235},{"$f":"HEX2DEC(RIGHT(D7,2))","v":239},{"$f":"IF(K7/255<= 0.03928,K7/(255*12.92),(((K7/255)+0.055)/1.055)^2.4)","v":0.86315721345410235},{"$f":"(0.2126*H7)+(0.7152*J7)+(0.0722*L7)","v":0.86315721345410223},{"$f":"IF(LEN(C7)=0,\"\",AND(LEFT(C7,1)=\"#\",LEN(C7)=7))","v":true},{"$f":"HEX2DEC(RIGHT(LEFT(C7,3),2))","v":51},{"$f":"IF(O7/255<= 0.03928,O7/(255*12.92),(((O7/255)+0.055)/1.055)^2.4)","v":3.3104766570885055E-2},{"$f":"HEX2DEC(RIGHT(LEFT(C7,5),2))","v":51},{"$f":"IF(Q7/255<= 0.03928,Q7/(255*12.92),(((Q7/255)+0.055)/1.055)^2.4)","v":3.3104766570885055E-2},{"$f":"HEX2DEC(RIGHT(C7,2))","v":51},{"$f":"IF(S7/255<= 0.03928,S7/(255*12.92),(((S7/255)+0.055)/1.055)^2.4)","v":3.3104766570885055E-2},{"$f":"(0.2126*P7)+(0.7152*R7)+(0.0722*T7)","v":3.3104766570885055E-2},{"$f":"IF(OR(F7=\"\",N7=\"\")=TRUE,\"\",IF(OR(F7=FALSE,N7=FALSE)=TRUE,\"ERROR\",ROUND(IF(M7>U7,(M7+0.05)/(U7+0.05),(U7+0.05)/(M7+0.05)),2)))","v":10.99},"No",{"$f":"IF(OR(W7=\"\",W7=\"No\")=TRUE,IF(V7=\"\",\"\",IF(V7>=Comboboxes!A$5,\"Pass\",IF(AND(V7>=Comboboxes!A$6,E7=\"Large\"),\"Pass (large text)\",\"Fail\"))),\"Exempt\")","v":"Pass"},"Text","Pass","N/A","N/A","N/A","Pass"]
["Button",null,"#333333","#EFEFEF","Small",{"$f":"IF(LEN(D8)=0,\"\",AND(LEFT(D8,1)=\"#\",LEN(D8)=7))","v":true},{"$f":"HEX2DEC(RIGHT(LEFT(D8,3),2))","v":239},{"$f":"IF(G8/255<= 0.03928,G8/(255*12.92),(((G8/255)+0.055)/1.055)^2.4)","v":0.86315721345410235},{"$f":"HEX2DEC(RIGHT(LEFT(D8,5),2))","v":239},{"$f":"IF(I8/255<= 0.03928,I8/(255*12.92),(((I8/255)+0.055)/1.055)^2.4)","v":0.86315721345410235},{"$f":"HEX2DEC(RIGHT(D8,2))","v":239},{"$f":"IF(K8/255<= 0.03928,K8/(255*12.92),(((K8/255)+0.055)/1.055)^2.4)","v":0.86315721345410235},{"$f":"(0.2126*H8)+(0.7152*J8)+(0.0722*L8)","v":0.86315721345410223},{"$f":"IF(LEN(C8)=0,\"\",AND(LEFT(C8,1)=\"#\",LEN(C8)=7))","v":true},{"$f":"HEX2DEC(RIGHT(LEFT(C8,3),2))","v":51},{"$f":"IF(O8/255<= 0.03928,O8/(255*12.92),(((O8/255)+0.055)/1.055)^2.4)","v":3.3104766570885055E-2},{"$f":"HEX2DEC(RIGHT(LEFT(C8,5),2))","v":51},{"$f":"IF(Q8/255<= 0.03928,Q8/(255*12.92),(((Q8/255)+0.055)/1.055)^2.4)","v":3.3104766570885055E-2},{"$f":"HEX2DEC(RIGHT(C8,2))","v":51},{"$f":"IF(S8/255<= 0.03928,S8/(255*12.92),(((S8/255)+0.055)/1.055)^2.4)","v":3.3104766570885055E-2},{"$f":"(0.2126*P8)+(0.7152*R8)+(0.0722*T8)","v":3.3104766570885055E-2},{"$f":"IF(OR(F8=\"\",N8=\"\")=TRUE,\"\",IF(OR(F8=FALSE,N8=FALSE)=TRUE,\"ERROR\",ROUND(IF(M8>U8,(M8+0.05)/(U8+0.05),(U8+0.05)/(M8+0.05)),2)))","v":10.99},"No",{"$f":"IF(OR(W8=\"\",W8=\"No\")=TRUE,IF(V8=\"\",\"\",IF(V8>=Comboboxes!A$5,\"Pass\",IF(AND(V8>=Comboboxes!A$6,E8=\"Large\"),\"Pass (large text)\",\"Fail\"))),\"Exempt\")","v":"Pass"},"Text","Pass","N/A","N/A","N/A","N/A"]
["Button (hover and focus)",null,"#FFFFFF","#E7135D","Small",{"$f":"IF(LEN(D9)=0,\"\",AND(LEFT(D9,1)=\"#\",LEN(D9)=7))","v":true},{"$f":"HEX2DEC(RIGHT(LEFT(D9,3),2))","v":231},{"$f":"IF(G9/255<= 0.03928,G9/(255*12.92),(((G9/255)+0.055)/1.055)^2.4)","v":0.79910273801440901},{"$f":"HEX2DEC(RIGHT(LEFT(D9,5),2))","v":19},{"$f":"IF(I9/255<= 0.03928,I9/(255*12.92),(((I9/255)+0.055)/1.055)^2.4)","v":6.5120907925944761E-3},{"$f":"HEX2DEC(RIGHT(D9,2))","v":93},{"$f":"IF(K9/255<= 0.03928,K9/(255*12.92),(((K9/255)+0.055)/1.055)^2.4)","v":0.10946171077829935},{"$f":"(0.2126*H9)+(0.7152*J9)+(0.0722*L9)","v":0.18244982495492015},{"$f":"IF(LEN(C9)=0,\"\",AND(LEFT(C9,1)=\"#\",LEN(C9)=7))","v":true},{"$f":"HEX2DEC(RIGHT(LEFT(C9,3),2))","v":255},{"$f":"IF(O9/255<= 0.03928,O9/(255*12.92),(((O9/255)+0.055)/1.055)^2.4)","v":1},{"$f":"HEX2DEC(RIGHT(LEFT(C9,5),2))","v":255},{"$f":"IF(Q9/255<= 0.03928,Q9/(255*12.92),(((Q9/255)+0.055)/1.055)^2.4)","v":1},{"$f":"HEX2DEC(RIGHT(C9,2))","v":255},{"$f":"IF(S9/255<= 0.03928,S9/(255*12.92),(((S9/255)+0.055)/1.055)^2.4)","v":1},{"$f":"(0.2126*P9)+(0.7152*R9)+(0.0722*T9)","v":1},{"$f":"IF(OR(F9=\"\",N9=\"\")=TRUE,\"\",IF(OR(F9=FALSE,N9=FALSE)=TRUE,\"ERROR\",ROUND(IF(M9>U9,(M9+0.05)/(U9+0.05),(U9+0.05)/(M9+0.05)),2)))","v":4.5199999999999996},"No",{"$f":"IF(OR(W9=\"\",W9=\"No\")=TRUE,IF(V9=\"\",\"\",IF(V9>=Comboboxes!A$5,\"Pass\",IF(AND(V9>=Comboboxes!A$6,E9=\"Large\"),\"Pass (large text)\",\"Fail\"))),\"Exempt\")","v":"Pass"},"Text","Pass","Pass","Pass","N/A","Pass"]
["Links (hover and focus)",null,"#E7135D","#FFFFFF","Large",true,255,{"$f":"IF(G10/255<= 0.03928,G10/(255*12.92),(((G10/255)+0.055)/1.055)^2.4)","v":1},255,{"$f":"IF(I10/255<= 0.03928,I10/(255*12.92),(((I10/255)+0.055)/1.055)^2.4)","v":1},255,{"$f":"IF(K10/255<= 0.03928,K10/(255*12.92),(((K10/255)+0.055)/1.055)^2.4)","v":1},{"$f":"(0.2126*H10)+(0.7152*J10)+(0.0722*L10)","v":1},true,231,{"$f":"IF(O10/255<= 0.03928,O10/(255*12.92),(((O10/255)+0.055)/1.055)^2.4)","v":0.79910273801440901},19,{"$f":"IF(Q10/255<= 0.03928,Q10/(255*12.92),(((Q10/255)+0.055)/1.055)^2.4)","v":6.5120907925944761E-3},93,{"$f":"IF(S10/255<= 0.03928,S10/(255*12.92),(((S10/255)+0.055)/1.055)^2.4)","v":0.10946171077829935},{"$f":"(0.2126*P10)+(0.7152*R10)+(0.0722*T10)","v":0.18244982495492015},{"$f":"IF(OR(F10=\"\",N10=\"\")=TRUE,\"\",IF(OR(F10=FALSE,N10=FALSE)=TRUE,\"ERROR\",ROUND(IF(M10>U10,(M10+0.05)/(U10+0.05),(U10+0.05)/(M10+0.05)),2)))","v":4.5199999999999996},"No",{"$f":"IF(OR(W10=\"\",W10=\"No\")=TRUE,IF(V10=\"\",\"\",IF(V10>=Comboboxes!A$5,\"Pass\",IF(AND(V10>=Comboboxes!A$6,E10=\"Large\"),\"Pass (large text)\",\"Fail\"))),\"Exempt\")","v":"Pass"},"Text","N/A","Pass","N/A","Pass","Pass"]
["User entered text",null,"#333333","#FFFFFF","Small",true,255,{"$f":"IF(G11/255<= 0.03928,G11/(255*12.92),(((G11/255)+0.055)/1.055)^2.4)","v":1},255,{"$f":"IF(I11/255<= 0.03928,I11/(255*12.92),(((I11/255)+0.055)/1.055)^2.4)","v":1},255,{"$f":"IF(K11/255<= 0.03928,K11/(255*12.92),(((K11/255)+0.055)/1.055)^2.4)","v":1},{"$f":"(0.2126*H11)+(0.7152*J11)+(0.0722*L11)","v":1},true,51,{"$f":"IF(O11/255<= 0.03928,O11/(255*12.92),(((O11/255)+0.055)/1.055)^2.4)","v":3.3104766570885055E-2},51,{"$f":"IF(Q11/255<= 0.03928,Q11/(255*12.92),(((Q11/255)+0.055)/1.055)^2.4)","v":3.3104766570885055E-2},51,{"$f":"IF(S11/255<= 0.03928,S11/(255*12.92),(((S11/255)+0.055)/1.055)^2.4)","v":3.3104766570885055E-2},{"$f":"(0.2126*P11)+(0.7152*R11)+(0.0722*T11)","v":3.3104766570885055E-2},12.63,"No",{"$f":"IF(OR(W11=\"\",W11=\"No\")=TRUE,IF(V11=\"\",\"\",IF(V11>=Comboboxes!A$5,\"Pass\",IF(AND(V11>=Comboboxes!A$6,E11=\"Large\"),\"Pass (large text)\",\"Fail\"))),\"Exempt\")","v":"Pass"},"Text","N/A","Pass","Pass","N/A","Pass"]
["Combobox (hover)",null,"#FFFFFF","#E7135D","Small",true,231,0.79910273801440901,19,6.5120907925944761E-3,93,0.10946171077829935,0.18244982495492015,true,255,1,255,1,255,1,1,4.5199999999999996,"No",{"$f":"IF(OR(W12=\"\",W12=\"No\")=TRUE,IF(V12=\"\",\"\",IF(V12>=Comboboxes!A$5,\"Pass\",IF(AND(V12>=Comboboxes!A$6,E12=\"Large\"),\"Pass (large text)\",\"Fail\"))),\"Exempt\")","v":"Pass"},"Text","N/A","Pass","Pass","N/A","Pass"]
["Button",null,"#333333","#FFFFFF","Small",true,255,1,255,1,255,1,1,true,51,3.3104766570885055E-2,51,3.3104766570885055E-2,51,3.3104766570885055E-2,3.3104766570885055E-2,12.63,"No",{"$f":"IF(OR(W13=\"\",W13=\"No\")=TRUE,IF(V13=\"\",\"\",IF(V13>=Comboboxes!A$5,\"Pass\",IF(AND(V13>=Comboboxes!A$6,E13=\"Large\"),\"Pass (large text)\",\"Fail\"))),\"Exempt\")","v":"Pass"},"Text","N/A","Pass","Pass","N/A","Pass"]
["Error message",null,"#EB001B","#FFFFFF","Small",true,255,1,255,1,255,1,1,true,235,0.83076987677465464,0,0,27,1.0960094006488242E-2,0.17741299458956003,{"$f":"IF(OR(F14=\"\",N14=\"\")=TRUE,\"\",IF(OR(F14=FALSE,N14=FALSE)=TRUE,\"ERROR\",ROUND(IF(M14>U14,(M14+0.05)/(U14+0.05),(U14+0.05)/(M14+0.05)),2)))","v":4.62},"No",{"$f":"IF(OR(W14=\"\",W14=\"No\")=TRUE,IF(V14=\"\",\"\",IF(V14>=Comboboxes!A$5,\"Pass\",IF(AND(V14>=Comboboxes!A$6,E14=\"Large\"),\"Pass (large text)\",\"Fail\"))),\"Exempt\")","v":"Pass"},"Text","N/A","Pass","Pass","N/A","N/A"]
["Progress indicator",null,"#FFFFFF","#E7135D","Small",true,231,{"$f":"IF(G15/255<= 0.03928,G15/(255*12.92),(((G15/255)+0.055)/1.055)^2.4)","v":0.79910273801440901},19,{"$f":"IF(I15/255<= 0.03928,I15/(255*12.92),(((I15/255)+0.055)/1.055)^2.4)","v":6.5120907925944761E-3},93,{"$f":"IF(K15/255<= 0.03928,K15/(255*12.92),(((K15/255)+0.055)/1.055)^2.4)","v":0.10946171077829935},{"$f":"(0.2126*H15)+(0.7152*J15)+(0.0722*L15)","v":0.18244982495492015},true,255,{"$f":"IF(O15/255<= 0.03928,O15/(255*12.92),(((O15/255)+0.055)/1.055)^2.4)","v":1},255,{"$f":"IF(Q15/255<= 0.03928,Q15/(255*12.92),(((Q15/255)+0.055)/1.055)^2.4)","v":1},255,{"$f":"IF(S15/255<= 0.03928,S15/(255*12.92),(((S15/255)+0.055)/1.055)^2.4)","v":1},{"$f":"(0.2126*P15)+(0.7152*R15)+(0.0722*T15)","v":1},{"$f":"IF(OR(F15=\"\",N15=\"\")=TRUE,\"\",IF(OR(F15=FALSE,N15=FALSE)=TRUE,\"ERROR\",ROUND(IF(M15>U15,(M15+0.05)/(U15+0.05),(U15+0.05)/(M15+0.05)),2)))","v":4.5199999999999996},"No",{"$f":"IF(OR(W15=\"\",W15=\"No\")=TRUE,IF(V15=\"\",\"\",IF(V15>=Comboboxes!A$5,\"Pass\",IF(AND(V15>=Comboboxes!A$6,E15=\"Large\"),\"Pass (large text)\",\"Fail\"))),\"Exempt\")","v":"Pass"},"Text","N/A","Pass","Pass","Pass","N/A"]
["Progress indicator",null,"#FFFFFF","#777777","Small",true,119,0.18447499450044097,119,0.18447499450044097,119,0.18447499450044097,0.18447499450044097,true,255,1,255,1,255,1,1,4.4800000000000004,"No",{"$f":"IF(OR(W16=\"\",W16=\"No\")=TRUE,IF(V16=\"\",\"\",IF(V16>=Comboboxes!A$5,\"Pass\",IF(AND(V16>=Comboboxes!A$6,E16=\"Large\"),\"Pass (large text)\",\"Fail\"))),\"Exempt\")","v":"Fail"},"Text","N/A","Fail","Fail","Fail","N/A"]
["Button",null,"#E7135D","#FFFFFF","Small",true,255,1,255,1,255,1,1,true,231,0.79910273801440901,19,6.5120907925944761E-3,93,0.10946171077829935,0.18244982495492015,4.5199999999999996,"No",{"$f":"IF(OR(W17=\"\",W17=\"No\")=TRUE,IF(V17=\"\",\"\",IF(V17>=Comboboxes!A$5,\"Pass\",IF(AND(V17>=Comboboxes!A$6,E17=\"Large\"),\"Pass (large text)\",\"Fail\"))),\"Exempt\")","v":"Pass"},"Text","N/A","N/A","Pass","N/A","N/A"]
["CAPTCHA expiry",null,"#FF0000","#F9F9F9","Small",true,249,0.94730653673319987,249,0.94730653673319987,249,0.94730653673319987,0.94730653673319976,true,255,1,0,0,0,0,0.21260000000000001,3.8,"No",{"$f":"IF(OR(W18=\"\",W18=\"No\")=TRUE,IF(V18=\"\",\"\",IF(V18>=Comboboxes!A$5,\"Pass\",IF(AND(V18>=Comboboxes!A$6,E18=\"Large\"),\"Pass (large text)\",\"Fail\"))),\"Exempt\")","v":"Fail"},"Text","N/A","N/A","Fail","N/A","N/A"]
["CAPTCHA links",null,"#555555","#F9F9F9","Small",true,249,0.94730653673319987,249,0.94730653673319987,249,0.94730653673319987,0.94730653673319976,true,85,9.084171118340767E-2,85,9.084171118340767E-2,85,9.084171118340767E-2,9.084171118340767E-2,7.08,"No",{"$f":"IF(OR(W19=\"\",W19=\"No\")=TRUE,IF(V19=\"\",\"\",IF(V19>=Comboboxes!A$5,\"Pass\",IF(AND(V19>=Comboboxes!A$6,E19=\"Large\"),\"Pass (large text)\",\"Fail\"))),\"Exempt\")","v":"Pass"},"Text","N/A","N/A","Pass","N/A","N/A"]
["Hide / reveal button",null,"#333333","#EFEFEF","Small",true,239,0.86315721345410235,239,0.86315721345410235,239,0.86315721345410235,0.86315721345410223,true,51,3.3104766570885055E-2,51,3.3104766570885055E-2,51,3.3104766570885055E-2,3.3104766570885055E-2,10.99,"No",{"$f":"IF(OR(W20=\"\",W20=\"No\")=TRUE,IF(V20=\"\",\"\",IF(V20>=Comboboxes!A$5,\"Pass\",IF(AND(V20>=Comboboxes!A$6,E20=\"Large\"),\"Pass (large text)\",\"Fail\"))),\"Exempt\")","v":"Pass"},"Text","N/A","N/A","N/A","N/A","Pass"]
["Number of search results",null,"#9E0059","#FFFFFF","Small",true,255,1,255,1,255,1,1,true,158,0.34191442490866097,0,0,89,9.9898728247113905E-2,7.9903694915022944E-2,8.08,"No",{"$f":"IF(OR(W21=\"\",W21=\"No\")=TRUE,IF(V21=\"\",\"\",IF(V21>=Comboboxes!A$5,\"Pass\",IF(AND(V21>=Comboboxes!A$6,E21=\"Large\"),\"Pass (large text)\",\"Fail\"))),\"Exempt\")","v":"Pass"},"Text","N/A","N/A","N/A","N/A","Pass"]
["Pagination link (current page)",null,"#9E0059","#FFFFFF","Small",true,255,1,255,1,255,1,1,true,158,0.34191442490866097,0,0,89,9.9898728247113905E-2,7.9903694915022944E-2,8.08,"No",{"$f":"IF(OR(W22=\"\",W22=\"No\")=TRUE,IF(V22=\"\",\"\",IF(V22>=Comboboxes!A$5,\"Pass\",IF(AND(V22>=Comboboxes!A$6,E22=\"Large\"),\"Pass (large text)\",\"Fail\"))),\"Exempt\")","v":"Pass"},"Text","N/A","N/A","N/A","N/A","Pass"]
["Pagination link (other pages)",null,"#333333","#FFFFFF","Small",true,255,1,255,1,255,1,1,true,51,3.3104766570885055E-2,51,3.3104766570885055E-2,51,3.3104766570885055E-2,3.3104766570885055E-2,12.63,"No",{"$f":"IF(OR(W23=\"\",W23=\"No\")=TRUE,IF(V23=\"\",\"\",IF(V23>=Comboboxes!A$5,\"Pass\",IF(AND(V23>=Comboboxes!A$6,E23=\"Large\"),\"Pass (large text)\",\"Fail\"))),\"Exempt\")","v":"Pass"},"Text","N/A","N/A","N/A","N/A","Pass"]
[null,null,null,null,null,"",0,0,0,0,0,0,0,"",0,0,0,0,0,0,0,"",null,{"$f":"IF(OR(W24=\"\",W24=\"No\")=TRUE,IF(V24=\"\",\"\",IF(V24>=Comboboxes!A$5,\"Pass\",IF(AND(V24>=Comboboxes!A$6,E24=\"Large\"),\"Pass (large text)\",\"Fail\"))),\"Exempt\")","v":""},"Text"]
[null,null,null,null,null,"",0,0,0,0,0,0,0,"",0,0,0,0,0,0,0,"",null,{"$f":"IF(OR(W25=\"\",W25=\"No\")=TRUE,IF(V25=\"\",\"\",IF(V25>=Comboboxes!A$5,\"Pass\",IF(AND(V25>=Comboboxes!A$6,E25=\"Large\"),\"Pass (large text)\",\"Fail\"))),\"Exempt\")","v":""},"Text"]
[null,null,null,null,null,"",0,0,0,0,0,0,0,"",0,0,0,0,0,0,0,"",null,{"$f":"IF(OR(W26=\"\",W26=\"No\")=TRUE,IF(V26=\"\",\"\",IF(V26>=Comboboxes!A$5,\"Pass\",IF(AND(V26>=Comboboxes!A$6,E26=\"Large\"),\"Pass (large text)\",\"Fail\"))),\"Exempt\")","v":""},"Text"]
[null,null,null,null,null,"",0,0,0,0,0,0,0,"",0,0,0,0,0,0,0,"",null,{"$f":"IF(OR(W27=\"\",W27=\"No\")=TRUE,IF(V27=\"\",\"\",IF(V27>=Comboboxes!A$5,\"Pass\",IF(AND(V27>=Comboboxes!A$6,E27=\"Large\"),\"Pass (large text)\",\"Fail\"))),\"Exempt\")","v":""},"Text"]
[null,null,null,null,null,"",0,0,0,0,0,0,0,"",0,0,0,0,0,0,0,"",null,{"$f":"IF(OR(W28=\"\",W28=\"No\")=TRUE,IF(V28=\"\",\"\",IF(V28>=Comboboxes!A$5,\"Pass\",IF(AND(V28>=Comboboxes!A$6,E28=\"Large\"),\"Pass (large text)\",\"Fail\"))),\"Exempt\")","v":""},"Text"]
[null,null,null,null,null,"",0,0,0,0,0,0,0,"",0,0,0,0,0,0,0,"",null,{"$f":"IF(OR(W29=\"\",W29=\"No\")=TRUE,IF(V29=\"\",\"\",IF(V29>=Comboboxes!A$5,\"Pass\",IF(AND(V29>=Comboboxes!A$6,E29=\"Large\"),\"Pass (large text)\",\"Fail\"))),\"Exempt\")","v":""},"Text"]
[null,null,null,null,null,"",0,0,0,0,0,0,0,"",0,0,0,0,0,0,0,"",null,{"$f":"IF(OR(W30=\"\",W30=\"No\")=TRUE,IF(V30=\"\",\"\",IF(V30>=Comboboxes!A$5,\"Pass\",IF(AND(V30>=Comboboxes!A$6,E30=\"Large\"),\"Pass (large text)\",\"Fail\"))),\"Exempt\")","v":""},"Text"]
[null,null,null,null,null,"",0,0,0,0,0,0,{"$f":"(0.2126*H31)+(0.7152*J31)+(0.0722*L31)","v":0},"",0,0,0,0,0,0,{"$f":"(0.2126*P31)+(0.7152*R31)+(0.0722*T31)","v":0},"",null,{"$f":"IF(OR(W31=\"\",W31=\"No\")=TRUE,IF(V31=\"\",\"\",IF(V31>=Comboboxes!A$5,\"Pass\",IF(AND(V31>=Comboboxes!A$6,E31=\"Large\"),\"Pass (large text)\",\"Fail\"))),\"Exempt\")","v":""},"Text"]
[null,null,null,null,null,"",0,0,0,0,0,0,0,"",0,0,0,0,0,0,0,"",null,{"$f":"IF(OR(W32=\"\",W32=\"No\")=TRUE,IF(V32=\"\",\"\",IF(V32>=Comboboxes!A$5,\"Pass\",IF(AND(V32>=Comboboxes!A$6,E32=\"Large\"),\"Pass (large text)\",\"Fail\"))),\"Exempt\")","v":""},"Text"]
[null,null,null,null,null,"",0,0,0,0,0,0,0,"",0,0,0,0,0,0,0,"",null,{"$f":"IF(OR(W33=\"\",W33=\"No\")=TRUE,IF(V33=\"\",\"\",IF(V33>=Comboboxes!A$5,\"Pass\",IF(AND(V33>=Comboboxes!A$6,E33=\"Large\"),\"Pass (large text)\",\"Fail\"))),\"Exempt\")","v":""},"Text"]
[null,null,null,null,null,"",0,0,0,0,0,0,0,"",0,0,0,0,0,0,0,"",null,{"$f":"IF(OR(W34=\"\",W34=\"No\")=TRUE,IF(V34=\"\",\"\",IF(V34>=Comboboxes!A$5,\"Pass\",IF(AND(V34>=Comboboxes!A$6,E34=\"Large\"),\"Pass (large text)\",\"Fail\"))),\"Exempt\")","v":""},"Text"]
[null,null,null,null,null,"",0,0,0,0,0,0,0,"",0,0,0,0,0,0,0,"",null,{"$f":"IF(OR(W35=\"\",W35=\"No\")=TRUE,IF(V35=\"\",\"\",IF(V35>=Comboboxes!A$5,\"Pass\",IF(AND(V35>=Comboboxes!A$6,E35=\"Large\"),\"Pass (large text)\",\"Fail\"))),\"Exempt\")","v":""},"Text"]
[null,null,null,null,null,"",0,0,0,0,0,0,0,"",0,0,0,0,0,0,0,"",null,{"$f":"IF(OR(W36=\"\",W36=\"No\")=TRUE,IF(V36=\"\",\"\",IF(V36>=Comboboxes!A$5,\"Pass\",IF(AND(V36>=Comboboxes!A$6,E36=\"Large\"),\"Pass (large text)\",\"Fail\"))),\"Exempt\")","v":""},"Text"]
[null,null,null,null,null,"",0,0,0,0,0,0,0,"",0,0,0,0,0,0,0,"",null,{"$f":"IF(OR(W37=\"\",W37=\"No\")=TRUE,IF(V37=\"\",\"\",IF(V37>=Comboboxes!A$5,\"Pass\",IF(AND(V37>=Comboboxes!A$6,E37=\"Large\"),\"Pass (large text)\",\"Fail\"))),\"Exempt\")","v":""},"Text"]
[null,null,null,null,null,{"$f":"IF(LEN(D38)=0,\"\",AND(LEFT(D38,1)=\"#\",LEN(D38)=7))","v":""},{"$f":"HEX2DEC(RIGHT(LEFT(D38,3),2))","v":0},0,{"$f":"HEX2DEC(RIGHT(LEFT(D38,5),2))","v":0},0,{"$f":"HEX2DEC(RIGHT(D38,2))","v":0},0,0,{"$f":"IF(LEN(C38)=0,\"\",AND(LEFT(C38,1)=\"#\",LEN(C38)=7))","v":""},{"$f":"HEX2DEC(RIGHT(LEFT(C38,3),2))","v":0},0,{"$f":"HEX2DEC(RIGHT(LEFT(C38,5),2))","v":0},0,{"$f":"HEX2DEC(RIGHT(C38,2))","v":0},0,0,"",null,{"$f":"IF(OR(W38=\"\",W38=\"No\")=TRUE,IF(V38=\"\",\"\",IF(V38>=Comboboxes!A$5,\"Pass\",IF(AND(V38>=Comboboxes!A$6,E38=\"Large\"),\"Pass (large text)\",\"Fail\"))),\"Exempt\")","v":""},"Text"]
[null,null,null,null,null,"",0,0,0,0,0,0,0,"",0,0,0,0,0,0,0,"",null,{"$f":"IF(OR(W39=\"\",W39=\"No\")=TRUE,IF(V39=\"\",\"\",IF(V39>=Comboboxes!A$5,\"Pass\",IF(AND(V39>=Comboboxes!A$6,E39=\"Large\"),\"Pass (large text)\",\"Fail\"))),\"Exempt\")","v":""},"Text"]
[null,null,null,null,null,"",0,0,0,0,0,0,0,"",0,0,0,0,0,0,0,"",null,{"$f":"IF(OR(W40=\"\",W40=\"No\")=TRUE,IF(V40=\"\",\"\",IF(V40>=Comboboxes!A$5,\"Pass\",IF(AND(V40>=Comboboxes!A$6,E40=\"Large\"),\"Pass (large text)\",\"Fail\"))),\"Exempt\")","v":""},"Text"]
[null,null,null,null,null,"",0,0,0,0,0,0,0,"",0,0,0,0,0,0,0,"",null,{"$f":"IF(OR(W41=\"\",W41=\"No\")=TRUE,IF(V41=\"\",\"\",IF(V41>=Comboboxes!A$5,\"Pass\",IF(AND(V41>=Comboboxes!A$6,E41=\"Large\"),\"Pass (large text)\",\"Fail\"))),\"Exempt\")","v":""},"Text"]
[null,null,null,null,null,"",0,0,0,0,0,0,0,"",0,0,0,0,0,0,0,"",null,{"$f":"IF(OR(W42=\"\",W42=\"No\")=TRUE,IF(V42=\"\",\"\",IF(V42>=Comboboxes!A$5,\"Pass\",IF(AND(V42>=Comboboxes!A$6,E42=\"Large\"),\"Pass (large text)\",\"Fail\"))),\"Exempt\")","v":""},"Text"]
[null,null,null,null,null,"",0,0,0,0,0,0,{"$f":"(0.2126*H43)+(0.7152*J43)+(0.0722*L43)","v":0},"",0,0,0,0,0,0,{"$f":"(0.2126*P43)+(0.7152*R43)+(0.0722*T43)","v":0},{"$f":"IF(OR(F43=\"\",N43=\"\")=TRUE,\"\",IF(OR(F43=FALSE,N43=FALSE)=TRUE,\"ERROR\",ROUND(IF(M43>U43,(M43+0.05)/(U43+0.05),(U43+0.05)/(M43+0.05)),2)))","v":""},null,{"$f":"IF(OR(W43=\"\",W43=\"No\")=TRUE,IF(V43=\"\",\"\",IF(V43>=Comboboxes!A$5,\"Pass\",IF(AND(V43>=Comboboxes!A$6,E43=\"Large\"),\"Pass (large text)\",\"Fail\"))),\"Exempt\")","v":""}]
[null,null,null,null,null,"",0,0,0,0,0,0,0,"",0,0,0,0,0,0,0,"",null,{"$f":"IF(OR(W44=\"\",W44=\"No\")=TRUE,IF(V44=\"\",\"\",IF(V44>=Comboboxes!A$5,\"Pass\",IF(AND(V44>=Comboboxes!A$6,E44=\"Large\"),\"Pass (large text)\",\"Fail\"))),\"Exempt\")","v":""}]
[null,null,null,null,null,"",0,0,0,0,0,0,0,"",0,0,0,0,0,0,0,"",null,{"$f":"IF(OR(W45=\"\",W45=\"No\")=TRUE,IF(V45=\"\",\"\",IF(V45>=Comboboxes!A$5,\"Pass\",IF(AND(V45>=Comboboxes!A$6,E45=\"Large\"),\"Pass (large text)\",\"Fail\"))),\"Exempt\")","v":""}]
[null,null,null,null,null,"",0,0,0,0,0,0,0,"",0,0,0,0,0,0,0,"",null,{"$f":"IF(OR(W46=\"\",W46=\"No\")=TRUE,IF(V46=\"\",\"\",IF(V46>=Comboboxes!A$5,\"Pass\",IF(AND(V46>=Comboboxes!A$6,E46=\"Large\"),\"Pass (large text)\",\"Fail\"))),\"Exempt\")","v":""}]
[null,null,null,null,null,"",0,0,0,0,0,0,0,"",0,0,0,0,0,0,0,"",null,{"$f":"IF(OR(W47=\"\",W47=\"No\")=TRUE,IF(V47=\"\",\"\",IF(V47>=Comboboxes!A$5,\"Pass\",IF(AND(V47>=Comboboxes!A$6,E47=\"Large\"),\"Pass (large text)\",\"Fail\"))),\"Exempt\")","v":""}]
[null,null,null,null,null,"",0,0,0,0,0,0,0,"",0,0,0,0,0,0,0,"",null,{"$f":"IF(OR(W48=\"\",W48=\"No\")=TRUE,IF(V48=\"\",\"\",IF(V48>=Comboboxes!A$5,\"Pass\",IF(AND(V48>=Comboboxes!A$6,E48=\"Large\"),\"Pass (large text)\",\"Fail\"))),\"Exempt\")","v":""}]
[null,null,null,null,null,"",0,0,0,0,0,0,0,"",0,0,0,0,0,0,0,"",null,{"$f":"IF(OR(W49=\"\",W49=\"No\")=TRUE,IF(V49=\"\",\"\",IF(V49>=Comboboxes!A$5,\"Pass\",IF(AND(V49>=Comboboxes!A$6,E49=\"Large\"),\"Pass (large text)\",\"Fail\"))),\"Exempt\")","v":""}]
[null,null,null,null,null,"",0,0,0,0,0,0,0,"",0,0,0,0,0,0,0,"",null,{"$f":"IF(OR(W50=\"\",W50=\"No\")=TRUE,IF(V50=\"\",\"\",IF(V50>=Comboboxes!A$5,\"Pass\",IF(AND(V50>=Comboboxes!A$6,E50=\"Large\"),\"Pass (large text)\",\"Fail\"))),\"Exempt\")","v":""}]
[null,null,null,null,null,"",0,0,0,0,0,0,0,"",0,0,0,0,0,0,0,"",null,{"$f":"IF(OR(W51=\"\",W51=\"No\")=TRUE,IF(V51=\"\",\"\",IF(V51>=Comboboxes!A$5,\"Pass\",IF(AND(V51>=Comboboxes!A$6,E51=\"Large\"),\"Pass (large text)\",\"Fail\"))),\"Exempt\")","v":""}]
[null,null,null,null,null,"",0,0,0,0,0,0,0,"",0,0,0,0,0,0,0,"",null,{"$f":"IF(OR(W52=\"\",W52=\"No\")=TRUE,IF(V52=\"\",\"\",IF(V52>=Comboboxes!A$5,\"Pass\",IF(AND(V52>=Comboboxes!A$6,E52=\"Large\"),\"Pass (large text)\",\"Fail\"))),\"Exempt\")","v":""}]
[null,null,null,null,null,"",0,0,0,0,0,0,0,"",0,0,0,0,0,0,0,"",null,{"$f":"IF(OR(W53=\"\",W53=\"No\")=TRUE,IF(V53=\"\",\"\",IF(V53>=Comboboxes!A$5,\"Pass\",IF(AND(V53>=Comboboxes!A$6,E53=\"Large\"),\"Pass (large text)\",\"Fail\"))),\"Exempt\")","v":""}]
[null,null,null,null,null,"",0,0,0,0,0,0,0,"",0,0,0,0,0,0,0,"",null,{"$f":"IF(OR(W54=\"\",W54=\"No\")=TRUE,IF(V54=\"\",\"\",IF(V54>=Comboboxes!A$5,\"Pass\",IF(AND(V54>=Comboboxes!A$6,E54=\"Large\"),\"Pass (large text)\",\"Fail\"))),\"Exempt\")","v":""}]
[null,null,null,null,null,"",0,0,0,0,0,0,0,"",0,0,0,0,0,0,0,"",null,{"$f":"IF(OR(W55=\"\",W55=\"No\")=TRUE,IF(V55=\"\",\"\",IF(V55>=Comboboxes!A$5,\"Pass\",IF(AND(V55>=Comboboxes!A$6,E55=\"Large\"),\"Pass (large text)\",\"Fail\"))),\"Exempt\")","v":""}]
[null,null,null,null,null,"",0,0,0,0,0,0,0,"",0,0,0,0,0,0,0,"",null,{"$f":"IF(OR(W56=\"\",W56=\"No\")=TRUE,IF(V56=\"\",\"\",IF(V56>=Comboboxes!A$5,\"Pass\",IF(AND(V56>=Comboboxes!A$6,E56=\"Large\"),\"Pass (large text)\",\"Fail\"))),\"Exempt\")","v":""}]
[null,null,null,null,null,"",0,0,0,0,0,0,0,"",0,0,0,0,0,0,0,"",null,{"$f":"IF(OR(W57=\"\",W57=\"No\")=TRUE,IF(V57=\"\",\"\",IF(V57>=Comboboxes!A$5,\"Pass\",IF(AND(V57>=Comboboxes!A$6,E57=\"Large\"),\"Pass (large text)\",\"Fail\"))),\"Exempt\")","v":""}]
[null,null,null,null,null,"",0,0,0,0,0,0,0,"",0,0,0,0,0,0,0,"",null,{"$f":"IF(OR(W58=\"\",W58=\"No\")=TRUE,IF(V58=\"\",\"\",IF(V58>=Comboboxes!A$5,\"Pass\",IF(AND(V58>=Comboboxes!A$6,E58=\"Large\"),\"Pass (large text)\",\"Fail\"))),\"Exempt\")","v":""}]
[null,null,null,null,null,"",0,0,0,0,0,0,0,"",0,0,0,0,0,0,0,"",null,{"$f":"IF(OR(W59=\"\",W59=\"No\")=TRUE,IF(V59=\"\",\"\",IF(V59>=Comboboxes!A$5,\"Pass\",IF(AND(V59>=Comboboxes!A$6,E59=\"Large\"),\"Pass (large text)\",\"Fail\"))),\"Exempt\")","v":""}]
[null,null,null,null,null,"",0,0,0,0,0,0,0,"",0,0,0,0,0,0,0,"",null,{"$f":"IF(OR(W60=\"\",W60=\"No\")=TRUE,IF(V60=\"\",\"\",IF(V60>=Comboboxes!A$5,\"Pass\",IF(AND(V60>=Comboboxes!A$6,E60=\"Large\"),\"Pass (large text)\",\"Fail\"))),\"Exempt\")","v":""}]
[null,null,null,null,null,"",0,0,0,0,0,0,0,"",0,0,0,0,0,0,0,"",null,{"$f":"IF(OR(W61=\"\",W61=\"No\")=TRUE,IF(V61=\"\",\"\",IF(V61>=Comboboxes!A$5,\"Pass\",IF(AND(V61>=Comboboxes!A$6,E61=\"Large\"),\"Pass (large text)\",\"Fail\"))),\"Exempt\")","v":""}]
[null,null,null,null,null,"",0,0,0,0,0,0,0,"",0,0,0,0,0,0,0,"",null,{"$f":"IF(OR(W62=\"\",W62=\"No\")=TRUE,IF(V62=\"\",\"\",IF(V62>=Comboboxes!A$5,\"Pass\",IF(AND(V62>=Comboboxes!A$6,E62=\"Large\"),\"Pass (large text)\",\"Fail\"))),\"Exempt\")","v":""}]
[null,null,null,null,null,"",0,0,0,0,0,0,0,"",0,0,0,0,0,0,0,"",null,{"$f":"IF(OR(W63=\"\",W63=\"No\")=TRUE,IF(V63=\"\",\"\",IF(V63>=Comboboxes!A$5,\"Pass\",IF(AND(V63>=Comboboxes!A$6,E63=\"Large\"),\"Pass (large text)\",\"Fail\"))),\"Exempt\")","v":""}]
[null,null,null,null,null,"",0,0,0,0,0,0,0,"",0,0,0,0,0,0,0,"",null,{"$f":"IF(OR(W64=\"\",W64=\"No\")=TRUE,IF(V64=\"\",\"\",IF(V64>=Comboboxes!A$5,\"Pass\",IF(AND(V64>=Comboboxes!A$6,E64=\"Large\"),\"Pass (large text)\",\"Fail\"))),\"Exempt\")","v":""}]
[null,null,null,null,null,"",0,0,0,0,0,0,0,"",0,0,0,0,0,0,0,"",null,{"$f":"IF(OR(W65=\"\",W65=\"No\")=TRUE,IF(V65=\"\",\"\",IF(V65>=Comboboxes!A$5,\"Pass\",IF(AND(V65>=Comboboxes!A$6,E65=\"Large\"),\"Pass (large text)\",\"Fail\"))),\"Exempt\")","v":""}]
[null,null,null,null,null,"",0,0,0,0,0,0,0,"",0,0,0,0,0,0,0,"",null,{"$f":"IF(OR(W66=\"\",W66=\"No\")=TRUE,IF(V66=\"\",\"\",IF(V66>=Comboboxes!A$5,\"Pass\",IF(AND(V66>=Comboboxes!A$6,E66=\"Large\"),\"Pass (large text)\",\"Fail\"))),\"Exempt\")","v":""}]
[null,null,null,null,null,"",0,0,0,0,0,0,0,"",0,0,0,0,0,0,0,"",null,{"$f":"IF(OR(W67=\"\",W67=\"No\")=TRUE,IF(V67=\"\",\"\",IF(V67>=Comboboxes!A$5,\"Pass\",IF(AND(V67>=Comboboxes!A$6,E67=\"Large\"),\"Pass (large text)\",\"Fail\"))),\"Exempt\")","v":""}]
[null,null,null,null,null,"",0,0,0,0,0,0,0,"",0,0,0,0,0,0,0,"",null,{"$f":"IF(OR(W68=\"\",W68=\"No\")=TRUE,IF(V68=\"\",\"\",IF(V68>=Comboboxes!A$5,\"Pass\",IF(AND(V68>=Comboboxes!A$6,E68=\"Large\"),\"Pass (large text)\",\"Fail\"))),\"Exempt\")","v":""}]
[null,null,null,null,null,"",0,0,0,0,0,0,0,"",0,0,0,0,0,0,0,"",null,{"$f":"IF(OR(W69=\"\",W69=\"No\")=TRUE,IF(V69=\"\",\"\",IF(V69>=Comboboxes!A$5,\"Pass\",IF(AND(V69>=Comboboxes!A$6,E69=\"Large\"),\"Pass (large text)\",\"Fail\"))),\"Exempt\")","v":""}]
[null,null,null,null,null,"",0,0,0,0,0,0,{"$f":"(0.2126*H70)+(0.7152*J70)+(0.0722*L70)","v":0},"",0,0,0,0,0,0,{"$f":"(0.2126*P70)+(0.7152*R70)+(0.0722*T70)","v":0},{"$f":"IF(OR(F70=\"\",N70=\"\")=TRUE,\"\",IF(OR(F70=FALSE,N70=FALSE)=TRUE,\"ERROR\",ROUND(IF(M70>U70,(M70+0.05)/(U70+0.05),(U70+0.05)/(M70+0.05)),2)))","v":""},null,{"$f":"IF(OR(W70=\"\",W70=\"No\")=TRUE,IF(V70=\"\",\"\",IF(V70>=Comboboxes!A$5,\"Pass\",IF(AND(V70>=Comboboxes!A$6,E70=\"Large\"),\"Pass (large text)\",\"Fail\"))),\"Exempt\")","v":""}]
[null,null,null,null,null,"",0,0,0,0,0,0,{"$f":"(0.2126*H71)+(0.7152*J71)+(0.0722*L71)","v":0},"",0,0,0,0,0,0,{"$f":"(0.2126*P71)+(0.7152*R71)+(0.0722*T71)","v":0},{"$f":"IF(OR(F71=\"\",N71=\"\")=TRUE,\"\",IF(OR(F71=FALSE,N71=FALSE)=TRUE,\"ERROR\",ROUND(IF(M71>U71,(M71+0.05)/(U71+0.05),(U71+0.05)/(M71+0.05)),2)))","v":""},null,{"$f":"IF(OR(W71=\"\",W71=\"No\")=TRUE,IF(V71=\"\",\"\",IF(V71>=Comboboxes!A$5,\"Pass\",IF(AND(V71>=Comboboxes!A$6,E71=\"Large\"),\"Pass (large text)\",\"Fail\"))),\"Exempt\")","v":""}]
[]
["Colour combinations shown in pink do not meet the contrast ratio (4.5:1 Minimum) recommended by W3C WCAG 2.0"]
[]
["Note that a contrast ratio of 3:1 is acceptable for large text e.g. 14 point bold or 18 point normal weight."]
["End of content."]

{"sheet":"Non-text Contrast","index":7,"n_rows":77,"n_cols":177,"rows_kept":77,"cut":false,"hidden":false,"merged":[[0,0,1,6]]}
["\nColour Contrast Analysis for combinations\nof adjacent colours",null,null,null,null,null,null,null,null,null,null,null,null,null,null,null,null,null,null,null,null,null,null,null,null,null,{"$f":"IF(INDIRECT(\"'Statistics'!\" & ADDRESS(COLUMN()-12,2))=\"\",\"\",INDIRECT(\"'Statistics'!\" & ADDRESS(COLUMN()-12,2)))","v":"Home"},"Submission form page 1","Submission form page 2","Submission form page 3","Gallery page","","Page 7","Page 8","Page 9","Page 10","Page 11","Page 12","Page 13","Page 14","Page 15","Page 16","Page 17","Page 18","Page 19","Page 20","Page 21","Page 22","Page 23","Page 24","Page 25","Page 26","Page 27","Page 28","Page 29","Page 30","Page 31","Page 32",{"$f":"IF(INDIRECT(\"'Statistics'!\" & ADDRESS(COLUMN()-12,2))=\"\",\"\",INDIRECT(\"'Statistics'!\" & ADDRESS(COLUMN()-12,2)))","v":"Page 33"},"Page 34","Page 35","Page 36","Page 37","Page 38","Page 39","Page 40","Page 41","Page 42","Page 43","Page 44","Page 45","Page 46","Page 47","Page 48","Page 49","Page 50","Page 51","Page 52","Page 53","Page 54","Page 55","Page 56","Page 57","Page 58","Page 59","Page 60","Page 61","Page 62","Page 63","Page 64",{"$f":"IF(INDIRECT(\"'Statistics'!\" & ADDRESS(COLUMN()-12,2))=\"\",\"\",INDIRECT(\"'Statistics'!\" & ADDRESS(COLUMN()-12,2)))","v":"Page 65"},"Page 66","Page 67","Page 68","Page 69","Page 70","Page 71","Page 72","Page 73","Page 74","Page 75","Page 76","Page 77","Page 78","Page 79","Page 80","Page 81","Page 82","Page 83","Page 84","Page 85","Page 86","Page 87","Page 88","Page 89","Page 90","Page 91","Page 92","Page 93","Page 94","Page 95","Page 96",{"$f":"IF(INDIRECT(\"'Statistics'!\" & ADDRESS(COLUMN()-12,2))=\"\",\"\",INDIRECT(\"'Statistics'!\" & ADDRESS(COLUMN()-12,2)))","v":"Page 97"},"Page 98","Page 99","Page 100","Page 101","Page 102","Page 103","Page 104","Page 105","Page 106","Page 107","Page 108","Page 109","Page 110","Page 111","Page 112","Page 113","Page 114","Page 115","Page 116","Page 117","Page 118","Page 119","Page 120","Page 121","Page 122","Page 123","Page 124","Page 125","Page 126","Page 127","Page 128",{"$f":"IF(INDIRECT(\"'Statistics'!\" & ADDRESS(COLUMN()-12,2))=\"\",\"\",INDIRECT(\"'Statistics'!\" & ADDRESS(COLUMN()-12,2)))","v":"Page 129"},"Page 130","Page 131","Page 132","Page 133","Page 134","Page 135","Page 136","Page 137","Page 138","Page 139","Page 140","Page 141","Page 142","Page 143","Page 144","Page 145","Page 146","Page 147","Page 148","Page 149","Page 150","End of content."]
[null,null,null,null,null,null,null,null,null,null,null,null,null,null,null,null,null,null,null,null,null,null,null,null,null,null,{"$f":"IF(INDIRECT(\"'Statistics'!\" & ADDRESS(COLUMN()-12,3))=\"\",\"\",INDIRECT(\"'Statistics'!\" & ADDRESS(COLUMN()-12,3)))","v":"https://wwwtest.london.gov.uk/programmes-strategies/arts-and-culture/current-culture-projects/fourth-plinth-trafalgar-square"},"https://wwwtest.london.gov.uk/programmes-strategies/arts-and-culture/current-culture-projects/fourth-plinth-trafalgar-square/fourth-plinth-schools-awards-2023-submissions-form","https://wwwtest.london.gov.uk/programmes-strategies/arts-and-culture/current-culture-projects/fourth-plinth-trafalgar-square/fourth-plinth-schools-awards-2023-submissions-form","https://wwwtest.london.gov.uk/programmes-strategies/arts-and-culture/current-culture-projects/fourth-plinth-trafalgar-square/fourth-plinth-schools-awards-2023-submissions-form","https://wwwtest.london.gov.uk/programmes-strategies/arts-and-culture/current-culture-projects/fourth-plinth-trafalgar-square/fourth-plinth-schools-awards-2023-gallery","","URL 7","URL 8","URL 9","URL 10","URL 11","URL 12","URL 13","URL 14","URL 15","URL 16","URL 17","URL 18","URL 19","URL 20","URL 21","URL 22","URL 23","URL 24","URL 25","URL 26","URL 27","URL 28","URL 29","URL 30","URL 31","URL 32",{"$f":"IF(INDIRECT(\"'Statistics'!\" & ADDRESS(COLUMN()-12,3))=\"\",\"\",INDIRECT(\"'Statistics'!\" & ADDRESS(COLUMN()-12,3)))","v":"URL 33"},"URL 34","URL 35","URL 36","URL 37","URL 38","URL 39","URL 40","URL 41","URL 42","URL 43","URL 44","URL 45","URL 46","URL 47","URL 48","URL 49","URL 50","URL 51","URL 52","URL 53","URL 54","URL 55","URL 56","URL 57","URL 58","URL 59","URL 60","URL 61","URL 62","URL 63","URL 64",{"$f":"IF(INDIRECT(\"'Statistics'!\" & ADDRESS(COLUMN()-12,3))=\"\",\"\",INDIRECT(\"'Statistics'!\" & ADDRESS(COLUMN()-12,3)))","v":"URL 65"},"URL 66","URL 67","URL 68","URL 69","URL 70","URL 71","URL 72","URL 73","URL 74","URL 75","URL 76","URL 77","URL 78","URL 79","URL 80","URL 81","URL 82","URL 83","URL 84","URL 85","URL 86","URL 87","URL 88","URL 89","URL 90","URL 91","URL 92","URL 93","URL 94","URL 95","URL 96",{"$f":"IF(INDIRECT(\"'Statistics'!\" & ADDRESS(COLUMN()-12,3))=\"\",\"\",INDIRECT(\"'Statistics'!\" & ADDRESS(COLUMN()-12,3)))","v":"URL 97"},"URL 98","URL 99","URL 100","URL 101","URL 102","URL 103","URL 104","URL 105","URL 106","URL 107","URL 108","URL 109","URL 110","URL 111","URL 112","URL 113","URL 114","URL 115","URL 116","URL 117","URL 118","URL 119","URL 120","URL 121","URL 122","URL 123","URL 124","URL 125","URL 126","URL 127","URL 128",{"$f":"IF(INDIRECT(\"'Statistics'!\" & ADDRESS(COLUMN()-12,3))=\"\",\"\",INDIRECT(\"'Statistics'!\" & ADDRESS(COLUMN()-12,3)))","v":"URL 129"},"URL 130","URL 131","URL 132","URL 133","URL 134","URL 135","URL 136","URL 137","URL 138","URL 139","URL 140","URL 141","URL 142","URL 143","URL 144","URL 145","URL 146","URL 147","URL 148","URL 149","URL 150"]
[null,null,null,null,null,null,null,null,null,null,null,null,null,null,null,null,null,null,null,null,null,null,null,null,null,null,"Page #1","Page #2","Page #3","Page #4","Page #5","Page #6","Page #7","Page #8","Page #9","Page #10","Page #11","Page #12","Page #13","Page #14","Page #15","Page #16","Page #17","Page #18","Page #19","Page #20","Page #21","Page #22","Page #23","Page #24","Page #25","Page #26","Page #27","Page #28","Page #29","Page #30","Page #31","Page #32","Page #33","Page #34","Page #35","Page #36","Page #37","Page #38","Page #39","Page #40","Page #41","Page #42","Page #43","Page #44","Page #45","Page #46","Page #47","Page #48","Page #49","Page #50","Page #51","Page #52","Page #53","Page #54","Page #55","Page #56","Page #57","Page #58","Page #59","Page #60","Page #61","Page #62","Page #63","Page #64","Page #65","Page #66","Page #67","Page #68","Page #69","Page #70","Page #71","Page #72","Page #73","Page #74","Page #75","Page #76","Page #77","Page #78","Page #79","Page #80","Page #81","Page #82","Page #83","Page #84","Page #85","Page #86","Page #87","Page #88","Page #89","Page #90","Page #91","Page #92","Page #93","Page #94","Page #95","Page #96","Page #97","Page #98","Page #99","Page #100","Page #101","Page #102","Page #103","Page #104","Page #105","Page #106","Page #107","Page #108","Page #109","Page #110","Page #111","Page #112","Page #113","Page #114","Page #115","Page #116","Page #117","Page #118","Page #119","Page #120","Page #121","Page #122","Page #123","Page #124","Page #125","Page #126","Page #127","Page #128","Page #129","Page #130","Page #131","Page #132","Page #133","Page #134","Page #135","Page #136","Page #137","Page #138","Page #139","Page #140","Page #141","Page #142","Page #143","Page #144","Page #145","Page #146","Page #147","Page #148","Page #149","Page #150"]
["Page Area","What we are comparing","Image","Recommendation (image)","Recommendation (description)","Colour","Adjacent Colour","Adjacent Colour","Adjacent Colour","Adjacent Colour","Adjacent Colour","Adjacent Colour","Adjacent Colour","Adjacent Colour","Adjacent Colour","Adjacent Colour","Adjacent Colour","Adjacent Colour","Adjacent Colour","Adjacent Colour","Adjacent Colour","Adjacent Colour","Adjacent Colour","Contrast Ratio","Exempt","All Results",{"$f":"COUNTIF(AA5:AA1003,\"Fail\") & \" Fault\" & IF(COUNTIF(AA5:AA1003,\"Fail\")=1,\"\",\"s\")","v":"0 Faults"},{"$f":"COUNTIF(AB5:AB1003,\"Fail\") & \" Fault\" & IF(COUNTIF(AB5:AB1003,\"Fail\")=1,\"\",\"s\")","v":"0 Faults"},{"$f":"COUNTIF(AC5:AC1003,\"Fail\") & \" Fault\" & IF(COUNTIF(AC5:AC1003,\"Fail\")=1,\"\",\"s\")","v":"1 Fault"},{"$f":"COUNTIF(AD5:AD1003,\"Fail\") & \" Fault\" & IF(COUNTIF(AD5:AD1003,\"Fail\")=1,\"\",\"s\")","v":"0 Faults"},"0 Faults","0 Faults","0 Faults","0 Faults","0 Faults","0 Faults","0 Faults","0 Faults","0 Faults","0 Faults","0 Faults","0 Faults","0 Faults","0 Faults","0 Faults","0 Faults","0 Faults","0 Faults","0 Faults","0 Faults","0 Faults","0 Faults","0 Faults","0 Faults","0 Faults","0 Faults","0 Faults","0 Faults","0 Faults","0 Faults","0 Faults","0 Faults","0 Faults","0 Faults","0 Faults","0 Faults","0 Faults","0 Faults","0 Faults","0 Faults","0 Faults","0 Faults","0 Faults","0 Faults","0 Faults","0 Faults",{"$f":"COUNTIF(BY5:BY1003,\"Fail\") & \" Fault\" & IF(COUNTIF(BY5:BY1003,\"Fail\")=1,\"\",\"s\")","v":"0 Faults"},"0 Faults","0 Faults","0 Faults","0 Faults","0 Faults","0 Faults","0 Faults","0 Faults","0 Faults","0 Faults","0 Faults","0 Faults","0 Faults","0 Faults","0 Faults","0 Faults","0 Faults","0 Faults","0 Faults","0 Faults","0 Faults","0 Faults","0 Faults","0 Faults","0 Faults","0 Faults","0 Faults","0 Faults","0 Faults","0 Faults","0 Faults","0 Faults","0 Faults","0 Faults","0 Faults","0 Faults","0 Faults","0 Faults","0 Faults","0 Faults","0 Faults","0 Faults","0 Faults","0 Faults","0 Faults","0 Faults","0 Faults","0 Faults","0 Faults","0 Faults","0 Faults","0 Faults","0 Faults","0 Faults","0 Faults","0 Faults","0 Faults","0 Faults","0 Faults","0 Faults","0 Faults","0 Faults","0 Faults",{"$f":"COUNTIF(EK5:EK1003,\"Fail\") & \" Fault\" & IF(COUNTIF(EK5:EK1003,\"Fail\")=1,\"\",\"s\")","v":"0 Faults"},"0 Faults","0 Faults","0 Faults","0 Faults","0 Faults","0 Faults","0 Faults","0 Faults","0 Faults","0 Faults","0 Faults","0 Faults","0 Faults","0 Faults","0 Faults","0 Faults","0 Faults","0 Faults","0 Faults","0 Faults","0 Faults","0 Faults","0 Faults","0 Faults","0 Faults","0 Faults","0 Faults","0 Faults","0 Faults","0 Faults","0 Faults","0 Faults","0 Faults","0 Faults","0 Faults"]
["Focus indicator (all elements)","Purple outline against white background",null,"N/A","N/A","#E7135D","#FFFFFF",{"$f":"IF(LEN(F5)=0,\"\",AND(LEFT(F5,1)=\"#\",LEN(F5)=7))","v":true},{"$f":"HEX2DEC(RIGHT(LEFT(F5,3),2))","v":231},{"$f":"IF(I5/255<= 0.03928,I5/(255*12.92),(((I5/255)+0.055)/1.055)^2.4)","v":0.79910273801440901},{"$f":"HEX2DEC(RIGHT(LEFT(F5,5),2))","v":19},{"$f":"IF(K5/255<= 0.03928,K5/(255*12.92),(((K5/255)+0.055)/1.055)^2.4)","v":6.5120907925944761E-3},{"$f":"HEX2DEC(RIGHT(F5,2))","v":93},{"$f":"IF(M5/255<= 0.03928,M5/(255*12.92),(((M5/255)+0.055)/1.055)^2.4)","v":0.10946171077829935},{"$f":"(0.2126*J5)+(0.7152*L5)+(0.0722*N5)","v":0.18244982495492015},{"$f":"IF(LEN(G5)=0,\"\",AND(LEFT(G5,1)=\"#\",LEN(G5)=7))","v":true},{"$f":"HEX2DEC(RIGHT(LEFT(G5,3),2))","v":255},{"$f":"IF(Q5/255<= 0.03928,Q5/(255*12.92),(((Q5/255)+0.055)/1.055)^2.4)","v":1},{"$f":"HEX2DEC(RIGHT(LEFT(G5,5),2))","v":255},{"$f":"IF(S5/255<= 0.03928,S5/(255*12.92),(((S5/255)+0.055)/1.055)^2.4)","v":1},{"$f":"HEX2DEC(RIGHT(G5,2))","v":255},{"$f":"IF(U5/255<= 0.03928,U5/(255*12.92),(((U5/255)+0.055)/1.055)^2.4)","v":1},{"$f":"(0.2126*R5)+(0.7152*T5)+(0.0722*V5)","v":1},{"$f":"IF(OR(H5=\"\",P5=\"\")=TRUE,\"\",IF(OR(H5=FALSE,P5=FALSE)=TRUE,\"ERROR\",ROUND(IF(O5>W5,(O5+0.05)/(W5+0.05),(W5+0.05)/(O5+0.05)),2)))","v":4.5199999999999996},"No",{"$f":"IF(OR(Y5=\"\",Y5=\"No\")=TRUE,IF(X5=\"\",\"\",IF(X5>=3,\"Pass\",\"Fail\")),\"Exempt\")","v":"Pass"},"Pass","Pass","Pass","Pass","Pass"]
["Textbox and combobox borders","Black border against white background",null,"N/A","N/A","#000000","#FFFFFF",true,0,{"$f":"IF(I6/255<= 0.03928,I6/(255*12.92),(((I6/255)+0.055)/1.055)^2.4)","v":0},0,{"$f":"IF(K6/255<= 0.03928,K6/(255*12.92),(((K6/255)+0.055)/1.055)^2.4)","v":0},0,{"$f":"IF(M6/255<= 0.03928,M6/(255*12.92),(((M6/255)+0.055)/1.055)^2.4)","v":0},{"$f":"(0.2126*J6)+(0.7152*L6)+(0.0722*N6)","v":0},true,255,{"$f":"IF(Q6/255<= 0.03928,Q6/(255*12.92),(((Q6/255)+0.055)/1.055)^2.4)","v":1},255,{"$f":"IF(S6/255<= 0.03928,S6/(255*12.92),(((S6/255)+0.055)/1.055)^2.4)","v":1},255,{"$f":"IF(U6/255<= 0.03928,U6/(255*12.92),(((U6/255)+0.055)/1.055)^2.4)","v":1},{"$f":"(0.2126*R6)+(0.7152*T6)+(0.0722*V6)","v":1},21,"No",{"$f":"IF(OR(Y6=\"\",Y6=\"No\")=TRUE,IF(X6=\"\",\"\",IF(X6>=3,\"Pass\",\"Fail\")),\"Exempt\")","v":"Pass"},"N/A","Pass","Pass","N/A","N/A"]
["Textbox and combobox borders (error state)","Red border against white background",null,"N/A","N/A","#EB001B","#FFFFFF",true,235,0.83076987677465464,0,0,27,1.0960094006488242E-2,0.17741299458956003,true,255,1,255,1,255,1,1,4.62,"No","Pass","N/A","Pass","Pass","N/A","N/A"]
["Radio button (unselected)","Black border against white background",null,"N/A","N/A","#000000","#FFFFFF",true,0,0,0,0,0,0,0,true,255,1,255,1,255,1,1,21,"No","Pass","N/A","Pass","N/A","N/A","N/A"]
["Radio button (selected)","Purple border against white background",null,"N/A","N/A","#E7135D","#FFFFFF",true,231,{"$f":"IF(I9/255<= 0.03928,I9/(255*12.92),(((I9/255)+0.055)/1.055)^2.4)","v":0.79910273801440901},19,{"$f":"IF(K9/255<= 0.03928,K9/(255*12.92),(((K9/255)+0.055)/1.055)^2.4)","v":6.5120907925944761E-3},93,{"$f":"IF(M9/255<= 0.03928,M9/(255*12.92),(((M9/255)+0.055)/1.055)^2.4)","v":0.10946171077829935},{"$f":"(0.2126*J9)+(0.7152*L9)+(0.0722*N9)","v":0.18244982495492015},true,255,{"$f":"IF(Q9/255<= 0.03928,Q9/(255*12.92),(((Q9/255)+0.055)/1.055)^2.4)","v":1},255,{"$f":"IF(S9/255<= 0.03928,S9/(255*12.92),(((S9/255)+0.055)/1.055)^2.4)","v":1},255,{"$f":"IF(U9/255<= 0.03928,U9/(255*12.92),(((U9/255)+0.055)/1.055)^2.4)","v":1},{"$f":"(0.2126*R9)+(0.7152*T9)+(0.0722*V9)","v":1},4.5199999999999996,"No","Pass","N/A","Pass","N/A","N/A","N/A"]
["Textbox and combobox error indicators","White icon against red circle",null,"N/A","N/A","#EB001B","#FFFFFF",true,235,0.83076987677465464,0,0,27,1.0960094006488242E-2,0.17741299458956003,true,255,1,255,1,255,1,1,4.62,"No","Pass","N/A","Pass","Pass","N/A","N/A"]
["Rotating progress indicator","Blue icon against white background",null,"N/A","N/A","#0873BD","#FFFFFF",true,8,{"$f":"IF(I11/255<= 0.03928,I11/(255*12.92),(((I11/255)+0.055)/1.055)^2.4)","v":2.4282158683907001E-3},115,{"$f":"IF(K11/255<= 0.03928,K11/(255*12.92),(((K11/255)+0.055)/1.055)^2.4)","v":0.17144110073282262},189,{"$f":"IF(M11/255<= 0.03928,M11/(255*12.92),(((M11/255)+0.055)/1.055)^2.4)","v":0.50888132085493376},{"$f":"(0.2126*J11)+(0.7152*L11)+(0.0722*N11)","v":0.15987214530346081},true,255,{"$f":"IF(Q11/255<= 0.03928,Q11/(255*12.92),(((Q11/255)+0.055)/1.055)^2.4)","v":1},255,{"$f":"IF(S11/255<= 0.03928,S11/(255*12.92),(((S11/255)+0.055)/1.055)^2.4)","v":1},255,{"$f":"IF(U11/255<= 0.03928,U11/(255*12.92),(((U11/255)+0.055)/1.055)^2.4)","v":1},{"$f":"(0.2126*R11)+(0.7152*T11)+(0.0722*V11)","v":1},5,"No","Pass","N/A","Pass","Pass","N/A","N/A"]
["Checkbox in CAPTCHA","Grey border against white background",null,null,"Change the border colour to #909090 or darker","#C1C1C1","#FFFFFF",true,193,0.53327640401050524,193,0.53327640401050524,193,0.53327640401050524,0.53327640401050524,true,255,1,255,1,255,1,1,1.8,"No","Fail","N/A","N/A","Fail","N/A","N/A"]
["Checkbox in CAPTCHA (focus)","Blue border against white background",null,"N/A","N/A","#4D90FE","#FFFFFF",true,77,{"$f":"IF(I13/255<= 0.03928,I13/(255*12.92),(((I13/255)+0.055)/1.055)^2.4)","v":7.4213568380149628E-2},144,{"$f":"IF(K13/255<= 0.03928,K13/(255*12.92),(((K13/255)+0.055)/1.055)^2.4)","v":0.27889426347681034},254,{"$f":"IF(M13/255<= 0.03928,M13/(255*12.92),(((M13/255)+0.055)/1.055)^2.4)","v":0.99110209711382979},{"$f":"(0.2126*J13)+(0.7152*L13)+(0.0722*N13)","v":0.28680055328785303},true,255,{"$f":"IF(Q13/255<= 0.03928,Q13/(255*12.92),(((Q13/255)+0.055)/1.055)^2.4)","v":1},255,{"$f":"IF(S13/255<= 0.03928,S13/(255*12.92),(((S13/255)+0.055)/1.055)^2.4)","v":1},255,{"$f":"IF(U13/255<= 0.03928,U13/(255*12.92),(((U13/255)+0.055)/1.055)^2.4)","v":1},{"$f":"(0.2126*R13)+(0.7152*T13)+(0.0722*V13)","v":1},3.12,"No","Pass","N/A","N/A","Pass","N/A","N/A"]
["Checkbox in CAPTCHA (expiry)","Red border against white background",null,"N/A","N/A","#FF0000","#FFFFFF",{"$f":"IF(LEN(F14)=0,\"\",AND(LEFT(F14,1)=\"#\",LEN(F14)=7))","v":true},{"$f":"HEX2DEC(RIGHT(LEFT(F14,3),2))","v":255},1,{"$f":"HEX2DEC(RIGHT(LEFT(F14,5),2))","v":0},0,{"$f":"HEX2DEC(RIGHT(F14,2))","v":0},0,0.21260000000000001,{"$f":"IF(LEN(G14)=0,\"\",AND(LEFT(G14,1)=\"#\",LEN(G14)=7))","v":true},{"$f":"HEX2DEC(RIGHT(LEFT(G14,3),2))","v":255},1,{"$f":"HEX2DEC(RIGHT(LEFT(G14,5),2))","v":255},1,{"$f":"HEX2DEC(RIGHT(G14,2))","v":255},1,1,{"$f":"IF(OR(H14=\"\",P14=\"\")=TRUE,\"\",IF(OR(H14=FALSE,P14=FALSE)=TRUE,\"ERROR\",ROUND(IF(O14>W14,(O14+0.05)/(W14+0.05),(W14+0.05)/(O14+0.05)),2)))","v":4},"No",{"$f":"IF(OR(Y14=\"\",Y14=\"No\")=TRUE,IF(X14=\"\",\"\",IF(X14>=3,\"Pass\",\"Fail\")),\"Exempt\")","v":"Pass"},"N/A","N/A","Pass","N/A","N/A"]
["Checkbox in CAPTCHA (checked)","Green icon against light grey background",null,"N/A","N/A","#009E55","#F9F9F9",true,0,0,158,0.34191442490866097,85,9.084171118340767E-2,0.25109596824211633,true,249,0.94730653673319987,249,0.94730653673319987,249,0.94730653673319987,0.94730653673319976,3.31,"No","Pass","N/A","N/A","Pass","N/A","N/A"]
["CAPTCHA links (focus) (Chrome)","Dual black / white outline",null,"N/A","N/A","#101010","#FFFFFF",true,16,5.1815167023383868E-3,16,5.1815167023383868E-3,16,5.1815167023383868E-3,5.1815167023383868E-3,true,255,1,255,1,255,1,1,19.03,"Browser default colours","Exempt","N/A","N/A","Exempt","N/A","N/A"]
["CAPTCHA links (focus) (Firefox)","Blue outine against light grey background",null,"N/A","N/A","#0060DF","#F9F9F9",true,0,0,96,0.11697066775851085,223,0.73791040877273095,0.13693455309427813,true,249,0.94730653673319987,249,0.94730653673319987,249,0.94730653673319987,0.94730653673319976,5.34,"No","Pass","N/A","N/A","Pass","N/A","N/A"]
["Pagination link","White icon against dark pink circle",null,"N/A","N/A","#FFFFFF","#E7135D",{"$f":"IF(LEN(F18)=0,\"\",AND(LEFT(F18,1)=\"#\",LEN(F18)=7))","v":true},{"$f":"HEX2DEC(RIGHT(LEFT(F18,3),2))","v":255},{"$f":"IF(I18/255<= 0.03928,I18/(255*12.92),(((I18/255)+0.055)/1.055)^2.4)","v":1},{"$f":"HEX2DEC(RIGHT(LEFT(F18,5),2))","v":255},{"$f":"IF(K18/255<= 0.03928,K18/(255*12.92),(((K18/255)+0.055)/1.055)^2.4)","v":1},{"$f":"HEX2DEC(RIGHT(F18,2))","v":255},{"$f":"IF(M18/255<= 0.03928,M18/(255*12.92),(((M18/255)+0.055)/1.055)^2.4)","v":1},{"$f":"(0.2126*J18)+(0.7152*L18)+(0.0722*N18)","v":1},{"$f":"IF(LEN(G18)=0,\"\",AND(LEFT(G18,1)=\"#\",LEN(G18)=7))","v":true},{"$f":"HEX2DEC(RIGHT(LEFT(G18,3),2))","v":231},{"$f":"IF(Q18/255<= 0.03928,Q18/(255*12.92),(((Q18/255)+0.055)/1.055)^2.4)","v":0.79910273801440901},{"$f":"HEX2DEC(RIGHT(LEFT(G18,5),2))","v":19},{"$f":"IF(S18/255<= 0.03928,S18/(255*12.92),(((S18/255)+0.055)/1.055)^2.4)","v":6.5120907925944761E-3},{"$f":"HEX2DEC(RIGHT(G18,2))","v":93},{"$f":"IF(U18/255<= 0.03928,U18/(255*12.92),(((U18/255)+0.055)/1.055)^2.4)","v":0.10946171077829935},{"$f":"(0.2126*R18)+(0.7152*T18)+(0.0722*V18)","v":0.18244982495492015},{"$f":"IF(OR(H18=\"\",P18=\"\")=TRUE,\"\",IF(OR(H18=FALSE,P18=FALSE)=TRUE,\"ERROR\",ROUND(IF(O18>W18,(O18+0.05)/(W18+0.05),(W18+0.05)/(O18+0.05)),2)))","v":4.5199999999999996},"No",{"$f":"IF(OR(Y18=\"\",Y18=\"No\")=TRUE,IF(X18=\"\",\"\",IF(X18>=3,\"Pass\",\"Fail\")),\"Exempt\")","v":"Pass"},"N/A","N/A","N/A","N/A","Pass"]
["Pagination link (hover)","White icon against purple circle",null,"N/A","N/A","#FFFFFF","#9E0059",true,255,1,255,1,255,1,1,true,158,0.34191442490866097,0,0,89,9.9898728247113905E-2,7.9903694915022944E-2,8.08,"No","Pass","N/A","N/A","N/A","N/A","Pass"]
["Previous and Next buttons in overlay (normal and focus)","Purple icon against white background",null,"N/A","N/A","#9E0059","#FFFFFF",true,158,0.34191442490866097,0,0,89,9.9898728247113905E-2,7.9903694915022944E-2,true,255,1,255,1,255,1,1,8.08,"No","Pass","N/A","N/A","N/A","N/A","Pass"]
["Previous and Next buttons in overlay (hover)","White icon against purple background",null,"N/A","N/A","#FFFFFF","#9E0059",true,255,1,255,1,255,1,1,true,158,0.34191442490866097,0,0,89,9.9898728247113905E-2,7.9903694915022944E-2,8.08,"No","Pass","N/A","N/A","N/A","N/A","Pass"]
[null,null,null,null,null,null,null,"",0,0,0,0,0,0,0,"",0,0,0,0,0,0,0,"",null,""]
[null,null,null,null,null,null,null,"",0,0,0,0,0,0,0,"",0,0,0,0,0,0,0,"",null,""]
[null,null,null,null,null,null,null,"",0,0,0,0,0,0,0,"",0,0,0,0,0,0,0,"",null,""]
[null,null,null,null,null,null,null,"",0,0,0,0,0,0,0,"",0,0,0,0,0,0,0,"",null,""]
[null,null,null,null,null,null,null,"",0,0,0,0,0,0,0,"",0,0,0,0,0,0,0,"",null,""]
[null,null,null,null,null,null,null,"",0,0,0,0,0,0,0,"",0,0,0,0,0,0,0,"",null,""]
[null,null,null,null,null,null,null,"",0,0,0,0,0,0,0,"",0,0,0,0,0,0,0,"",null,""]
[null,null,null,null,null,null,null,"",0,0,0,0,0,0,0,"",0,0,0,0,0,0,0,"",null,""]
[null,null,null,null,null,null,null,"",0,0,0,0,0,0,0,"",0,0,0,0,0,0,0,"",null,""]
[null,null,null,null,null,null,null,"",0,0,0,0,0,0,0,"",0,0,0,0,0,0,0,"",null,""]
[null,null,null,null,null,null,null,"",0,0,0,0,0,0,0,"",0,0,0,0,0,0,0,"",null,""]
[null,null,null,null,null,null,null,"",0,0,0,0,0,0,0,"",0,0,0,0,0,0,0,"",null,""]
[null,null,null,null,null,null,null,"",0,0,0,0,0,0,0,"",0,0,0,0,0,0,0,"",null,""]
[null,null,null,null,null,null,null,"",0,0,0,0,0,0,0,"",0,0,0,0,0,0,0,"",null,""]
[null,null,null,null,null,null,null,"",0,0,0,0,0,0,0,"",0,0,0,0,0,0,0,"",null,""]
[null,null,null,null,null,null,null,"",0,0,0,0,0,0,0,"",0,0,0,0,0,0,0,"",null,""]
[null,null,null,null,null,null,null,"",0,0,0,0,0,0,0,"",0,0,0,0,0,0,0,"",null,""]
[null,null,null,null,null,null,null,{"$f":"IF(LEN(F39)=0,\"\",AND(LEFT(F39,1)=\"#\",LEN(F39)=7))","v":""},{"$f":"HEX2DEC(RIGHT(LEFT(F39,3),2))","v":0},0,{"$f":"HEX2DEC(RIGHT(LEFT(F39,5),2))","v":0},0,{"$f":"HEX2DEC(RIGHT(F39,2))","v":0},0,0,{"$f":"IF(LEN(G39)=0,\"\",AND(LEFT(G39,1)=\"#\",LEN(G39)=7))","v":""},{"$f":"HEX2DEC(RIGHT(LEFT(G39,3),2))","v":0},0,{"$f":"HEX2DEC(RIGHT(LEFT(G39,5),2))","v":0},0,{"$f":"HEX2DEC(RIGHT(G39,2))","v":0},0,0,{"$f":"IF(OR(H39=\"\",P39=\"\")=TRUE,\"\",IF(OR(H39=FALSE,P39=FALSE)=TRUE,\"ERROR\",ROUND(IF(O39>W39,(O39+0.05)/(W39+0.05),(W39+0.05)/(O39+0.05)),2)))","v":""},null,""]
[null,null,null,null,null,null,null,"",0,0,0,0,0,0,0,"",0,0,0,0,0,0,0,"",null,""]
[null,null,null,null,null,null,null,"",0,0,0,0,0,0,0,"",0,0,0,0,0,0,0,"",null,""]
[null,null,null,null,null,null,null,"",0,0,0,0,0,0,0,"",0,0,0,0,0,0,0,"",null,""]
[null,null,null,null,null,null,null,"",0,0,0,0,0,0,0,"",0,0,0,0,0,0,0,"",null,""]
[null,null,null,null,null,null,null,"",0,0,0,0,0,0,0,"",0,0,0,0,0,0,0,"",null,""]
[null,null,null,null,null,null,null,"",0,0,0,0,0,0,0,"",0,0,0,0,0,0,0,"",null,""]
[null,null,null,null,null,null,null,"",0,0,0,0,0,0,0,"",0,0,0,0,0,0,0,"",null,""]
[null,null,null,null,null,null,null,"",0,0,0,0,0,0,0,"",0,0,0,0,0,0,0,"",null,""]
[null,null,null,null,null,null,null,"",0,0,0,0,0,0,0,"",0,0,0,0,0,0,0,"",null,""]
[null,null,null,null,null,null,null,"",0,0,0,0,0,0,0,"",0,0,0,0,0,0,0,"",null,""]
[null,null,null,null,null,null,null,"",0,0,0,0,0,0,0,"",0,0,0,0,0,0,0,"",null,""]
[null,null,null,null,null,null,null,"",0,0,0,0,0,0,0,"",0,0,0,0,0,0,0,"",null,""]
[null,null,null,null,null,null,null,"",0,0,0,0,0,0,0,"",0,0,0,0,0,0,0,"",null,""]
[null,null,null,null,null,null,null,"",0,0,0,0,0,0,0,"",0,0,0,0,0,0,0,"",null,""]
[null,null,null,null,null,null,null,"",0,0,0,0,0,0,0,"",0,0,0,0,0,0,0,"",null,""]
[null,null,null,null,null,null,null,"",0,0,0,0,0,0,0,"",0,0,0,0,0,0,0,"",null,""]
[null,null,null,null,null,null,null,"",0,0,0,0,0,0,0,"",0,0,0,0,0,0,0,"",null,""]
[null,null,null,null,null,null,null,"",0,0,0,0,0,0,0,"",0,0,0,0,0,0,0,"",null,""]
[null,null,null,null,null,null,null,"",0,0,0,0,0,0,0,"",0,0,0,0,0,0,0,"",null,""]
[null,null,null,null,null,null,null,"",0,0,0,0,0,0,0,"",0,0,0,0,0,0,0,"",null,""]
[null,null,null,null,null,null,null,"",0,0,0,0,0,0,0,"",0,0,0,0,0,0,0,"",null,""]
[null,null,null,null,null,null,null,"",0,0,0,0,0,0,0,"",0,0,0,0,0,0,0,"",null,""]
[null,null,null,null,null,null,null,"",0,0,0,0,0,0,0,"",0,0,0,0,0,0,0,"",null,""]
[null,null,null,null,null,null,null,"",0,0,0,0,0,0,0,"",0,0,0,0,0,0,0,"",null,""]
[null,null,null,null,null,null,null,"",0,0,0,0,0,0,0,"",0,0,0,0,0,0,0,"",null,""]
[null,null,null,null,null,null,null,"",0,0,0,0,0,0,0,"",0,0,0,0,0,0,0,"",null,""]
[null,null,null,null,null,null,null,"",0,0,0,0,0,0,0,"",0,0,0,0,0,0,0,"",null,""]
[null,null,null,null,null,null,null,"",0,0,0,0,0,0,0,"",0,0,0,0,0,0,0,"",null,""]
[null,null,null,null,null,null,null,"",0,0,0,0,0,0,0,"",0,0,0,0,0,0,0,"",null,""]
[null,null,null,null,null,null,null,"",0,0,0,0,0,0,0,"",0,0,0,0,0,0,0,"",null,""]
[null,null,null,null,null,null,null,"",0,0,0,0,0,0,0,"",0,0,0,0,0,0,0,"",null,""]
[null,null,null,null,null,null,null,"",0,0,0,0,0,0,0,"",0,0,0,0,0,0,0,{"$f":"IF(OR(H71=\"\",P71=\"\")=TRUE,\"\",IF(OR(H71=FALSE,P71=FALSE)=TRUE,\"ERROR\",ROUND(IF(O71>W71,(O71+0.05)/(W71+0.05),(W71+0.05)/(O71+0.05)),2)))","v":""},null,""]
[null,null,null,null,null,null,null,"",0,0,0,0,0,0,0,"",0,0,0,0,0,0,0,"",null,{"$f":"IF(OR(Y72=\"\",Y72=\"No\")=TRUE,IF(X72=\"\",\"\",IF(X72>=3,\"Pass\",\"Fail\")),\"Exempt\")","v":""}]
[null,null,null,null,null,null,null,"",0,0,0,0,0,0,{"$f":"(0.2126*J73)+(0.7152*L73)+(0.0722*N73)","v":0},"",0,0,0,0,0,0,{"$f":"(0.2126*R73)+(0.7152*T73)+(0.0722*V73)","v":0},"",null,""]
[null,null,null,null,null,null,null,"",0,0,0,0,0,0,{"$f":"(0.2126*J74)+(0.7152*L74)+(0.0722*N74)","v":0},"",0,0,0,0,0,0,{"$f":"(0.2126*R74)+(0.7152*T74)+(0.0722*V74)","v":0},"",null,""]
[]
["Colour combinations shown in pink do not meet the contrast ratio (3:1 Minimum) recommended by W3C WCAG 2.1"]
["End of content."]

{"sheet":"Changelog","index":8,"n_rows":31,"n_cols":2,"rows_kept":31,"cut":false,"hidden":true,"merged":[]}
["Version","Changes"]
[3.2,"1. Set the results for all AAA success criteria to Not Tested. Added instruction to delete them all when testing for compliance with AAA.\n\n2. Added a combobox to the header of the Colour Contrast Analysis worksheet to switch between the different thresholds that apply at AA and AAA. The combobox setting automatically sets the appropriate thresholds in the formulae in the Results column.\n\n3. Hid the Cover worksheet. We should update it at some point but it is very low priority.\n\n4. Changed the Hyperlink style so the URL on the Statistics sheet is 11pt bold, the same as the other cells."]
[3.3,"1. Added examples in the Non-text Contrast worksheet.\n\n2. Added the \"What we are comparing\" and \"Recommendation (description) columns to the Non-text Contrast worksheet and reduced the width of most columns.\n\n3. Fixed the VBA so the Fail Only link works on the Non-text Contrast worksheet."]
[3.4,"Screenshots worksheet\n1. Added this worksheet. It's primarily for adding screenshots of components or mobile app screens, both as a record of what was tested and also to avoid any ambiguity because components and mobile app screens often do not have a unique or reliable means of identification.\n\nStatistics worksheet\n2. Added the \"Page or Component\" column. This will eventually be used to calculate the number of errors per page. The current means of calculation gives incorrect results if we have columns of results for the header and footer or any other common component.\n3. Added the Scope selector so the tester can specify whether they are testing to level A, AA or AAA. This does not do much now, but it will perform important functions in future versions of the report.\n\nSuccess Criteria worksheet\n4. Added \"Press Ctrl+Colon to enter today's date\" in row 2 to remind testers to record the date each page was tested.\n5. Added formulae in row 6 to calculate the number of non-compliances per page.\n6. Added formulae to automatically populate the results for the colour contrast and non-text contrast success criteria.\n7. Increased the width of the results columns to 250px on the Success Criteria worksheet so row 6 does not wrap.\n8. Added \"View screenshot\" links in row 5. These point to the corresponding heading on the Screenshots worksheet.\n\nColour Contrast Analysis worksheet\n9. Added formulae in row 3 to calculate the number of non-compliances per page.\n10. Changed the options in the dropdown for the results to just Pass, Pass (large text), Fail and N/A.\n\nNon-text Contrast worksheet\n11. Added formulae in row 3 to calculate the number of non-compliances per page.\n12. Removed the Initial State column from the Non-text Contrast worksheet and renamed the Focus State heading to Image. This is because we have been misinterpreting SC 1.4.11 - it only requires comparison of colours that are displayed at the same time.\n13. Changed the options in the dropdown for the results to just Pass, Fail and N/A.\n14. Corrected the heading to refer to \"adjacent colours\" instead of \"background and foreground colours\"."]
[3.5,"Statistics worksheet\n1. Changed cell I10 from \"Flash Version\" to \"Secondary Browser 3\". This is because Flash is pretty much deprecated and we ought to start testing with Microsoft Edge as well as Chrome, Firefox and Internet Explorer 11.\n2. Merged cell D12 with the cells to its left to improve the appearance.\n\nSuccess Criteria worksheet\n3. Reversed the order of the \"Foreground colour\" and \"Background colour\" columns so they are consistent with the order in all the major colour contrast analysers."]
[3.6,"Statistics worksheet\n1. Added 100 more rows to accommodate 150 pages.\n2. Changed the formulae in E14 to T163 to the same formulae we used in the last BEIS Registry report. This allows additional rows and colums to be added much more easily.\n3. Fixed the formulae for the totals.\n4. Added the Document option to the Page or Component listbox.\n5. Added \"Primary PDF Reader\" to the Test Environment column.\n\nSuccess Criteria worksheet\n6. Added 100 more columns to accommodate 150 pages.\n7. Changed the formulae in E3 to EX4 to the same formulae we used in the last BEIS Registry report.\n8. Added the page numbers in row 5.\n9. Deleted the \"View screenshot\" links from the columns for pages 51 to 150 to avoid having to add 100 more headings on the Screenshots worksheet. Ideally, all components and pages that require screenshots will be in the first 50 pages. Testers can add more \"View screenshot\" links if required for a specific project.\n\nColour Contrast Analysis worksheet\n10. Added 100 more columns to accommodate 150 pages.\n11. Changed the formulae in Y1 to FR2 to the same formulae we used in the last BEIS Registry report.\n12. Added the page numbers in row 3.\n\nNon-text Contrast worksheet\n13. Added 100 more columns to accommodate 150 pages.\n14. Changed the formulae in Z1 to FS2 to the same formulae we used in the last BEIS Registry report.\n15. Added the page numbers in row 3.\n\nScreenshots worksheet\n16. Increased the width of column A to 900 pixels.\n17. Added a blank row between each heading and set the height to 60 pixels."]
[3.7,"Statistics worksheet\n1. Added fields to record the report reviewer's name and date in addition to the tester's name and date.\n\nSuccess Criteria worksheet\n2. Fixed the formulae in E3 to EX4. They were wrong by 1 because a row was added to the Statistics worksheet in version 3.6.\n\nColour Contrast Analysis worksheet\n3. Fixed the formulae in Y1 to FR2. They were wrong by 1 because a row was added to the Statistics worksheet in version 3.6.\n4. Set all results colums to 69 pixels wide. Some had been erroneously set to 64 pixels.\n\nNon-text Contrast worksheet\n5. Fixed the formulae in Z1 to FS2. They were wrong by 1 because a row was added to the Statistics worksheet in version 3.6."]
["3.10","Screenshots worksheet\n1. Added formulae to automatically populate all 150 headings by pulling through the page numbers and names from the Statistics worksheet. Updated the instructions accordingly."]
["3.10\ncont.","Statistics worksheet\n2.Changed all instances of \"COMPLIANT\" to \"CONFORMANT\".\n3. Changed the options for the Page or Component comboboxes to HTML Page, HTML Component, Document, Mobile App Screen and Mobile App Overlay. Changed them to use the list on the Comboboxes worksheet instead of a hard coded list.\n4. Changed the options for the Scope to use the list on the Comboboxes worksheet instead of a hard coded list."]
["3.10\ncont.","Success Criteria worksheet\n5. Updated all the URLs in column A to point to the relevant WCAG 2.1 Understanding page.\n6. Split the definitions of SC 2.1.4, 2.5.2, 2.5.4, 1.3.5, 1.4.5, 1.4.10, 1.4.11, 1.4.12, 1.4.13, 1.4.6, 1.4.7, 1.4.8. 2.5.5 and 3.3.6 into two cells, so the Pass / Fail status cells are not stupidly tall.\n7. Changed all instances of \"COMPLIANT\" to \"CONFORMANT\" to match the changes on the Statistics worksheet.\n8. Changed the data validation of the results status from a list to an array in the Comboboxes worksheet.\n9. Deleted about a million Conditional Formatting rules and reinstated the 7 we actually need.\n10. Changed the Freeze Panes setting so the Page # is now visible all the time."]
["3.10\ncont.","Conformance Statement worksheet\n11. Added this worksheet. Where possible, the data is automatically pulled through from the Statistics worksheet to minimise the amount of effort required. This sheet contains the only new VBA, which is being used to protect cells you are not supposed to edit."]
["3.10\ncont.","Colour Contrast Analysis worksheet\n12. Changed the Image / Text / Flash column heading to Image / Text / Video and changed the combobox options in that column.\n13. Deleted a few Conditional Formatting rules and reinstated the 3 we actually need."]
["3.10\ncont.","Non-text Contrast worksheet\n14. Added an Exempt column. Set the combobox options in that column to Pass, Fail, N/A and Exempt. Added “Exempt” to the options in the Results column.\n15. Fixed the formulae in row 1 that broke when I added the column.\n16. Deleted a few hundred Conditional Formatting rules and reinstated the 3 we actually need. Set Exempt to tan.\n17. Added some examples to show how to report exempt colour combinations."]
["3.11","Introduction worksheet\n1. Added this worksheet, mainly for the benefit of screen reader users."]
["3.11\ncont.","Screenshots worksheet\n2. Deleted the first two empty rows.\n3. Added two rows for each screenshot, making a total of three. This will allow the page to scroll more smoothly when it contains large images.\n4. Added a border around the three cells for each screenshot.\n5. Set the background colour of the whole worksheet to white, so the grid cells are not visible.\n6. Increased the height of the cells containing headings to 45px and bottom-aligned the text."]
["3.11\ncont.","Statistics worksheet\n7. Updated the formulae in columns I to T to take account of the two extra rows added to the Success Criteria worksheet."]
["3.11\ncont.","Conformance Statement worksheet\n8.Hid this worksheet because we almost never use it. It can be unhidden if we need it for a project."]
["3.11\ncont.","Success Criteria worksheet\n9. Moved the Page # to row 1.\n10. Moved the total number of non-conformances to row 5, so it is always visible.\n11. Added the following to SC 4.1.1: \"This is tested using the Nu Html Checker at https://validator.w3.org/nu/. The results are then filtered using the bookmarklet at https://github.com/stevefaulkner/wcagparsing/\".\n12. Added extra rows for Colour Contrast and Non-text Contrast so we can add comments in addition to the automatically generated text.\n"]
["3.11\ncont.","Colour Contrast Analysis worksheet\n13. Changed the title to \"Colour Contrast Analysis for combinations of text and background colours\".\n14. Changed the \"large or small\" text options from Yes and No to Large and Small.\n15. Reduced the width of the Foreground Colour and Background Colour columns to 70px and changed their headings to \"Text Colour\" and \"Back. Colour\" to make room for an extra \"Exempt\" column.\n16. Added an Exempt column with options of No, Disabled, Incidental and Redundant..\n17. Updated the formula in the Results column to take account of the Exempt status.\n18. Added Exempt to the options for the results in columns Z to FS.\n19. Added conditional formatting so cells containing \"Exempt\" have a tan background.\n20. Removed the level AA / AAA combobox because it is not supported by Macs. Added \"(level AA)\" to the page title."]
["3.11\ncont.","Non-text Contrast worksheet\n21. Added \"Redundant\" as an option in the Exempt column."]
["3.11\ncont.","Success Criteria, Colour Contrast Analysis and Non-text Contrast worksheets\n22. Fixed the cells containing the page names and URLs because they displayed errors in Macs. The fix was to open the file on a Mac, then for each row, select the range of cells, press Ctrl+U, then Apple+Enter. This removes the curly brace symbols from the start and end of each cell. These brackets are how Excel recognises an array formula, but it is not clear why they were not displayed in Windows."]
["3.11\ncont.","All worksheets\nAdded cells containing \"End of content\" in column A and row 1 to indicate that there is no more content below or to the right."]
["3.12","Conformance Statement worksheet\n1. Moved the content from column C to column A to improve accessibility. Set the cell indent to match the previous appearance. Amended the VBA so it prevents the cells in column A from being edited."]
["3.12\ncont.","Success Criteria worksheet\n2. Changed the description for SC 2.2.1 because the previous description was for 2.2.\n3. Deleted all the Conditional Formatting rules.\n4. Added VBA to ThisWorkbook to run when the document is opened. It deletes all existing conditional formatting rules on this worksheet and adds the correct ones. This fixes the fragmentation of the rules that happens for a variety of reasons. "]
["3.12\ncont.","Colour Contrast Analysis worksheet\n5. Deleted all the Conditional Formatting rules.\n6. Added VBA to ThisWorkbook to run when the document is opened. It deletes all existing conditional formatting rules on this worksheet and adds the correct ones."]
["3.12\ncont.","Non-text Contrast worksheet\n7. Deleted all the Conditional Formatting rules.\n8. Added VBA to ThisWorkbook to run when the document is opened. It deletes all existing conditional formatting rules on this worksheet and adds the correct ones."]
["3.13","Introduction\n1. Updated the description of the Screenshots worksheet to reflect the change described below."]
["3.13\ncont.","Screenshots\n2. Changed the layout so the screenshots are laid out horizontally instead of vertically. This allows us to insert full-page screenshots without causing excessive scrolling. The focus now moves to the first row when the \"View screenshot\" link is clicked in the Success Criteria worksheet, which means that the screenshot will always be in view now (it wasn't always before).\n3. Added a textbox containing instructions."]
["3.13\ncont.","Statistics\n4. Changed the vertical alignment of rows 2 to 11 to be Top instead of Bottom.\n5. Added a Tidy Document button in cells V1 and W1. This hides columns V to AA, then scrolls all sheets to the top left, sets zoom to 100% and puts focus in A1. Then it displays the Statistics worksheet.\n6. Deleted the colons in column A and capitalised all the row headings in rows 7 to 10."]
["3.13\ncont.","Success Criteria\n7. Added VBA to automatically hide the level AAA success criteria when the Scope is not set to AAA on the Statistics worksheet.\n8. Redesigned the \"View screenshot\" links to point to the new destinations in the Screenshots worksheet."]
["3.13\ncont.","Comboboxes\n9. Added \"Video File\" to the list of options that appear in the \"Page or Component\" column of the Statistics worksheet."]

{"sheet":"Comboboxes","index":9,"n_rows":16,"n_cols":11,"rows_kept":16,"cut":false,"hidden":true,"merged":[]}
["Level","Variable Name","Image","No","Pass","Please select","Yes","PASS","Please select","No","Pass"]
["(Level AA)","Option value 1","Text","Browser default colours","Fail","Fully conformant","No","PASS with comments","HTML Page","Disabled","Pass (large text)"]
["(Level AAA)","Option value 2","Video","Disabled state","N/A","Partially conformant",null,"NON CONFORMANT","HTML Component","Incidental","Fail"]
["(Level AA)","Selected value",null,"Redundant","Exempt","Non-conformant",null,"NOT TESTED","Document","Redundant","N/A"]
[{"$f":"IF(A4=A2,4.5,7)","v":4.5},"Colour contrast ratio (small text)",null,null,null,"Not assessed",null,"N/A","Mobile App Screen",null,"Exempt"]
[{"$f":"IF(A4=A2,3,4.5)","v":3},"Colour contrast ratio (large text)",null,null,null,null,null,"TO DO","Mobile App Overlay"]
[null,null,null,null,null,null,null,null,"Video File"]
[]
[]
[]
["Enter data","Enter data"]
["View AA results","View results"]
["View AAA results"]
["Enter data","View results"]
[{"$f":"IF(Statistics!S$5=\"Yes\",7,4.5)","v":4.5},"Colour contrast ratio (small text)"]
[{"$f":"IF(Statistics!S$5=\"Yes\",4.5,3)","v":3},"Colour contrast ratio (large text)"]

{"sheet":"Data Table","index":10,"n_rows":51,"n_cols":7,"rows_kept":51,"cut":false,"hidden":true,"merged":[]}
["Page","WCAG 2.0 Level A Criteria\nFailed / Total\n","WCAG 2.0 Level AA Criteria\nFailed / Total\n","Total WCAG 2.0 Criteria\nFailed / Total\n",null,null,"Instructions for copying this data table into the Management Summary Report"]
[{"$f":"Statistics!B15","v":"Home"},{"$f":"CONCATENATE(Statistics!F15,\" / 25\")","v":"1 / 25"},{"$f":"CONCATENATE(Statistics!J15,\" / 13\")","v":"0 / 13"},{"$f":"CONCATENATE(Statistics!R15,\" / 38\")","v":"1 / 38"},null,1,"Locate the Statistics data table in the Management Summary Report."]
[{"$f":"Statistics!B16","v":"Submission form page 1"},{"$f":"CONCATENATE(Statistics!F16,\" / 25\")","v":"2 / 25"},{"$f":"CONCATENATE(Statistics!J16,\" / 13\")","v":"4 / 13"},{"$f":"CONCATENATE(Statistics!R16,\" / 38\")","v":"6 / 38"},null,2,"Delete the contents of the data table."]
[{"$f":"Statistics!B17","v":"Submission form page 2"},{"$f":"CONCATENATE(Statistics!F17,\" / 25\")","v":"4 / 25"},{"$f":"CONCATENATE(Statistics!J17,\" / 13\")","v":"4 / 13"},{"$f":"CONCATENATE(Statistics!R17,\" / 38\")","v":"8 / 38"},null,3,"Add or delete rows and columns in the data table such that they match the number of rows and columns in the data in this worksheet, including the heading row."]
[{"$f":"Statistics!B18","v":"Submission form page 3"},{"$f":"CONCATENATE(Statistics!F18,\" / 25\")","v":"2 / 25"},{"$f":"CONCATENATE(Statistics!J18,\" / 13\")","v":"1 / 13"},{"$f":"CONCATENATE(Statistics!R18,\" / 38\")","v":"3 / 38"},null,4,"Select all the cells in the data table in this worksheet."]
[{"$f":"Statistics!B19","v":"Gallery page"},{"$f":"CONCATENATE(Statistics!F19,\" / 25\")","v":"5 / 25"},{"$f":"CONCATENATE(Statistics!J19,\" / 13\")","v":"0 / 13"},{"$f":"CONCATENATE(Statistics!R19,\" / 38\")","v":"5 / 38"},null,5,"Copy the cells (Ctrl+C is the easiest way to do this)."]
[{"$f":"Statistics!B20","v":0},{"$f":"CONCATENATE(Statistics!F20,\" / 25\")","v":"0 / 25"},{"$f":"CONCATENATE(Statistics!J20,\" / 13\")","v":"0 / 13"},{"$f":"CONCATENATE(Statistics!R20,\" / 38\")","v":"0 / 38"},null,6,"Select all the cells in the data table in the Management Summary Report."]
[{"$f":"Statistics!B21","v":"Page 7"},{"$f":"CONCATENATE(Statistics!F21,\" / 25\")","v":"0 / 25"},{"$f":"CONCATENATE(Statistics!J21,\" / 13\")","v":"0 / 13"},{"$f":"CONCATENATE(Statistics!R21,\" / 38\")","v":"0 / 38"},null,7,"Paste the cells into the Management Summary Report (Ctrl+V is the easiest way to do this)."]
[{"$f":"Statistics!B22","v":"Page 8"},{"$f":"CONCATENATE(Statistics!F22,\" / 25\")","v":"0 / 25"},{"$f":"CONCATENATE(Statistics!J22,\" / 13\")","v":"0 / 13"},{"$f":"CONCATENATE(Statistics!R22,\" / 38\")","v":"0 / 38"},null,8,"While the cells are still selected, set the Paragraph Spacing to 3pt Before and 3pt After."]
[{"$f":"Statistics!B23","v":"Page 9"},{"$f":"CONCATENATE(Statistics!F23,\" / 25\")","v":"0 / 25"},{"$f":"CONCATENATE(Statistics!J23,\" / 13\")","v":"0 / 13"},{"$f":"CONCATENATE(Statistics!R23,\" / 38\")","v":"0 / 38"},null,9,"Make the column headings bold."]
[{"$f":"Statistics!B24","v":"Page 10"},{"$f":"CONCATENATE(Statistics!F24,\" / 25\")","v":"0 / 25"},{"$f":"CONCATENATE(Statistics!J24,\" / 13\")","v":"0 / 13"},{"$f":"CONCATENATE(Statistics!R24,\" / 38\")","v":"0 / 38"},null,10,"Select all the data cells but not the row and column headings."]
[{"$f":"Statistics!B25","v":"Page 11"},{"$f":"CONCATENATE(Statistics!F25,\" / 25\")","v":"0 / 25"},{"$f":"CONCATENATE(Statistics!J25,\" / 13\")","v":"0 / 13"},{"$f":"CONCATENATE(Statistics!R25,\" / 38\")","v":"0 / 38"},null,11,"Right-click anywhere in the selected area. A dropdown menu will appear. Select Cell Alignment > Align Centre (the option in the middle)."]
[{"$f":"Statistics!B26","v":"Page 12"},{"$f":"CONCATENATE(Statistics!F26,\" / 25\")","v":"0 / 25"},{"$f":"CONCATENATE(Statistics!J26,\" / 13\")","v":"0 / 13"},{"$f":"CONCATENATE(Statistics!R26,\" / 38\")","v":"0 / 38"}]
[{"$f":"Statistics!B27","v":"Page 13"},{"$f":"CONCATENATE(Statistics!F27,\" / 25\")","v":"0 / 25"},{"$f":"CONCATENATE(Statistics!J27,\" / 13\")","v":"0 / 13"},{"$f":"CONCATENATE(Statistics!R27,\" / 38\")","v":"0 / 38"},null,null,"This sheet needs to be updated for WCAG 2.1 AAA"]
[{"$f":"Statistics!B28","v":"Page 14"},{"$f":"CONCATENATE(Statistics!F28,\" / 25\")","v":"0 / 25"},{"$f":"CONCATENATE(Statistics!J28,\" / 13\")","v":"0 / 13"},{"$f":"CONCATENATE(Statistics!R28,\" / 38\")","v":"0 / 38"}]
[{"$f":"Statistics!B29","v":"Page 15"},{"$f":"CONCATENATE(Statistics!F29,\" / 25\")","v":"0 / 25"},{"$f":"CONCATENATE(Statistics!J29,\" / 13\")","v":"0 / 13"},{"$f":"CONCATENATE(Statistics!R29,\" / 38\")","v":"0 / 38"}]
[{"$f":"Statistics!B30","v":"Page 16"},{"$f":"CONCATENATE(Statistics!F30,\" / 25\")","v":"0 / 25"},{"$f":"CONCATENATE(Statistics!J30,\" / 13\")","v":"0 / 13"},{"$f":"CONCATENATE(Statistics!R30,\" / 38\")","v":"0 / 38"}]
[{"$f":"Statistics!B31","v":"Page 17"},{"$f":"CONCATENATE(Statistics!F31,\" / 25\")","v":"0 / 25"},{"$f":"CONCATENATE(Statistics!J31,\" / 13\")","v":"0 / 13"},{"$f":"CONCATENATE(Statistics!R31,\" / 38\")","v":"0 / 38"}]
[{"$f":"Statistics!B32","v":"Page 18"},{"$f":"CONCATENATE(Statistics!F32,\" / 25\")","v":"0 / 25"},{"$f":"CONCATENATE(Statistics!J32,\" / 13\")","v":"0 / 13"},{"$f":"CONCATENATE(Statistics!R32,\" / 38\")","v":"0 / 38"}]
[{"$f":"Statistics!B33","v":"Page 19"},{"$f":"CONCATENATE(Statistics!F33,\" / 25\")","v":"0 / 25"},{"$f":"CONCATENATE(Statistics!J33,\" / 13\")","v":"0 / 13"},{"$f":"CONCATENATE(Statistics!R33,\" / 38\")","v":"0 / 38"}]
[{"$f":"Statistics!B34","v":"Page 20"},{"$f":"CONCATENATE(Statistics!F34,\" / 25\")","v":"0 / 25"},{"$f":"CONCATENATE(Statistics!J34,\" / 13\")","v":"0 / 13"},{"$f":"CONCATENATE(Statistics!R34,\" / 38\")","v":"0 / 38"}]
[{"$f":"Statistics!B35","v":"Page 21"},{"$f":"CONCATENATE(Statistics!F35,\" / 25\")","v":"0 / 25"},{"$f":"CONCATENATE(Statistics!J35,\" / 13\")","v":"0 / 13"},{"$f":"CONCATENATE(Statistics!R35,\" / 38\")","v":"0 / 38"}]
[{"$f":"Statistics!B36","v":"Page 22"},{"$f":"CONCATENATE(Statistics!F36,\" / 25\")","v":"0 / 25"},{"$f":"CONCATENATE(Statistics!J36,\" / 13\")","v":"0 / 13"},{"$f":"CONCATENATE(Statistics!R36,\" / 38\")","v":"0 / 38"}]
[{"$f":"Statistics!B37","v":"Page 23"},{"$f":"CONCATENATE(Statistics!F37,\" / 25\")","v":"0 / 25"},{"$f":"CONCATENATE(Statistics!J37,\" / 13\")","v":"0 / 13"},{"$f":"CONCATENATE(Statistics!R37,\" / 38\")","v":"0 / 38"}]
[{"$f":"Statistics!B38","v":"Page 24"},{"$f":"CONCATENATE(Statistics!F38,\" / 25\")","v":"0 / 25"},{"$f":"CONCATENATE(Statistics!J38,\" / 13\")","v":"0 / 13"},{"$f":"CONCATENATE(Statistics!R38,\" / 38\")","v":"0 / 38"}]
[{"$f":"Statistics!B39","v":"Page 25"},{"$f":"CONCATENATE(Statistics!F39,\" / 25\")","v":"0 / 25"},{"$f":"CONCATENATE(Statistics!J39,\" / 13\")","v":"0 / 13"},{"$f":"CONCATENATE(Statistics!R39,\" / 38\")","v":"0 / 38"}]
[{"$f":"Statistics!B40","v":"Page 26"},{"$f":"CONCATENATE(Statistics!F40,\" / 25\")","v":"0 / 25"},{"$f":"CONCATENATE(Statistics!J40,\" / 13\")","v":"0 / 13"},{"$f":"CONCATENATE(Statistics!R40,\" / 38\")","v":"0 / 38"}]
[{"$f":"Statistics!B41","v":"Page 27"},{"$f":"CONCATENATE(Statistics!F41,\" / 25\")","v":"0 / 25"},{"$f":"CONCATENATE(Statistics!J41,\" / 13\")","v":"0 / 13"},{"$f":"CONCATENATE(Statistics!R41,\" / 38\")","v":"0 / 38"}]
[{"$f":"Statistics!B42","v":"Page 28"},{"$f":"CONCATENATE(Statistics!F42,\" / 25\")","v":"0 / 25"},{"$f":"CONCATENATE(Statistics!J42,\" / 13\")","v":"0 / 13"},{"$f":"CONCATENATE(Statistics!R42,\" / 38\")","v":"0 / 38"}]
[{"$f":"Statistics!B43","v":"Page 29"},{"$f":"CONCATENATE(Statistics!F43,\" / 25\")","v":"0 / 25"},{"$f":"CONCATENATE(Statistics!J43,\" / 13\")","v":"0 / 13"},{"$f":"CONCATENATE(Statistics!R43,\" / 38\")","v":"0 / 38"}]
[{"$f":"Statistics!B44","v":"Page 30"},{"$f":"CONCATENATE(Statistics!F44,\" / 25\")","v":"0 / 25"},{"$f":"CONCATENATE(Statistics!J44,\" / 13\")","v":"0 / 13"},{"$f":"CONCATENATE(Statistics!R44,\" / 38\")","v":"0 / 38"}]
[{"$f":"Statistics!B45","v":"Page 31"},{"$f":"CONCATENATE(Statistics!F45,\" / 25\")","v":"0 / 25"},{"$f":"CONCATENATE(Statistics!J45,\" / 13\")","v":"0 / 13"},{"$f":"CONCATENATE(Statistics!R45,\" / 38\")","v":"0 / 38"}]
[{"$f":"Statistics!B46","v":"Page 32"},{"$f":"CONCATENATE(Statistics!F46,\" / 25\")","v":"0 / 25"},{"$f":"CONCATENATE(Statistics!J46,\" / 13\")","v":"0 / 13"},{"$f":"CONCATENATE(Statistics!R46,\" / 38\")","v":"0 / 38"}]
[{"$f":"Statistics!B47","v":"Page 33"},{"$f":"CONCATENATE(Statistics!F47,\" / 25\")","v":"0 / 25"},{"$f":"CONCATENATE(Statistics!J47,\" / 13\")","v":"0 / 13"},{"$f":"CONCATENATE(Statistics!R47,\" / 38\")","v":"0 / 38"}]
[{"$f":"Statistics!B48","v":"Page 34"},{"$f":"CONCATENATE(Statistics!F48,\" / 25\")","v":"0 / 25"},{"$f":"CONCATENATE(Statistics!J48,\" / 13\")","v":"0 / 13"},{"$f":"CONCATENATE(Statistics!R48,\" / 38\")","v":"0 / 38"}]
[{"$f":"Statistics!B49","v":"Page 35"},{"$f":"CONCATENATE(Statistics!F49,\" / 25\")","v":"0 / 25"},{"$f":"CONCATENATE(Statistics!J49,\" / 13\")","v":"0 / 13"},{"$f":"CONCATENATE(Statistics!R49,\" / 38\")","v":"0 / 38"}]
[{"$f":"Statistics!B50","v":"Page 36"},{"$f":"CONCATENATE(Statistics!F50,\" / 25\")","v":"0 / 25"},{"$f":"CONCATENATE(Statistics!J50,\" / 13\")","v":"0 / 13"},{"$f":"CONCATENATE(Statistics!R50,\" / 38\")","v":"0 / 38"}]
[{"$f":"Statistics!B51","v":"Page 37"},{"$f":"CONCATENATE(Statistics!F51,\" / 25\")","v":"0 / 25"},{"$f":"CONCATENATE(Statistics!J51,\" / 13\")","v":"0 / 13"},{"$f":"CONCATENATE(Statistics!R51,\" / 38\")","v":"0 / 38"}]
[{"$f":"Statistics!B52","v":"Page 38"},{"$f":"CONCATENATE(Statistics!F52,\" / 25\")","v":"0 / 25"},{"$f":"CONCATENATE(Statistics!J52,\" / 13\")","v":"0 / 13"},{"$f":"CONCATENATE(Statistics!R52,\" / 38\")","v":"0 / 38"}]
[{"$f":"Statistics!B53","v":"Page 39"},{"$f":"CONCATENATE(Statistics!F53,\" / 25\")","v":"0 / 25"},{"$f":"CONCATENATE(Statistics!J53,\" / 13\")","v":"0 / 13"},{"$f":"CONCATENATE(Statistics!R53,\" / 38\")","v":"0 / 38"}]
[{"$f":"Statistics!B54","v":"Page 40"},{"$f":"CONCATENATE(Statistics!F54,\" / 25\")","v":"0 / 25"},{"$f":"CONCATENATE(Statistics!J54,\" / 13\")","v":"0 / 13"},{"$f":"CONCATENATE(Statistics!R54,\" / 38\")","v":"0 / 38"}]
[{"$f":"Statistics!B55","v":"Page 41"},{"$f":"CONCATENATE(Statistics!F55,\" / 25\")","v":"0 / 25"},{"$f":"CONCATENATE(Statistics!J55,\" / 13\")","v":"0 / 13"},{"$f":"CONCATENATE(Statistics!R55,\" / 38\")","v":"0 / 38"}]
[{"$f":"Statistics!B56","v":"Page 42"},{"$f":"CONCATENATE(Statistics!F56,\" / 25\")","v":"0 / 25"},{"$f":"CONCATENATE(Statistics!J56,\" / 13\")","v":"0 / 13"},{"$f":"CONCATENATE(Statistics!R56,\" / 38\")","v":"0 / 38"}]
[{"$f":"Statistics!B57","v":"Page 43"},{"$f":"CONCATENATE(Statistics!F57,\" / 25\")","v":"0 / 25"},{"$f":"CONCATENATE(Statistics!J57,\" / 13\")","v":"0 / 13"},{"$f":"CONCATENATE(Statistics!R57,\" / 38\")","v":"0 / 38"}]
[{"$f":"Statistics!B58","v":"Page 44"},{"$f":"CONCATENATE(Statistics!F58,\" / 25\")","v":"0 / 25"},{"$f":"CONCATENATE(Statistics!J58,\" / 13\")","v":"0 / 13"},{"$f":"CONCATENATE(Statistics!R58,\" / 38\")","v":"0 / 38"}]
[{"$f":"Statistics!B59","v":"Page 45"},{"$f":"CONCATENATE(Statistics!F59,\" / 25\")","v":"0 / 25"},{"$f":"CONCATENATE(Statistics!J59,\" / 13\")","v":"0 / 13"},{"$f":"CONCATENATE(Statistics!R59,\" / 38\")","v":"0 / 38"}]
[{"$f":"Statistics!B60","v":"Page 46"},{"$f":"CONCATENATE(Statistics!F60,\" / 25\")","v":"0 / 25"},{"$f":"CONCATENATE(Statistics!J60,\" / 13\")","v":"0 / 13"},{"$f":"CONCATENATE(Statistics!R60,\" / 38\")","v":"0 / 38"}]
[{"$f":"Statistics!B61","v":"Page 47"},{"$f":"CONCATENATE(Statistics!F61,\" / 25\")","v":"0 / 25"},{"$f":"CONCATENATE(Statistics!J61,\" / 13\")","v":"0 / 13"},{"$f":"CONCATENATE(Statistics!R61,\" / 38\")","v":"0 / 38"}]
[{"$f":"Statistics!B62","v":"Page 48"},{"$f":"CONCATENATE(Statistics!F62,\" / 25\")","v":"0 / 25"},{"$f":"CONCATENATE(Statistics!J62,\" / 13\")","v":"0 / 13"},{"$f":"CONCATENATE(Statistics!R62,\" / 38\")","v":"0 / 38"}]
[{"$f":"Statistics!B63","v":"Page 49"},{"$f":"CONCATENATE(Statistics!F63,\" / 25\")","v":"0 / 25"},{"$f":"CONCATENATE(Statistics!J63,\" / 13\")","v":"0 / 13"},{"$f":"CONCATENATE(Statistics!R63,\" / 38\")","v":"0 / 38"}]
[{"$f":"Statistics!B64","v":"Page 50"},{"$f":"CONCATENATE(Statistics!F64,\" / 25\")","v":"0 / 25"},{"$f":"CONCATENATE(Statistics!J64,\" / 13\")","v":"0 / 13"},{"$f":"CONCATENATE(Statistics!R64,\" / 38\")","v":"0 / 38"}]