{"text_format":"1","workbook":"xlsx","n_sheets":12,"sheets":["Cover","Introduction","Screenshots","Statistics","Conformance Statement","Success Criteria","Colour Contrast Analysis","Non-text Contrast","Changelog","Default Comments","Comboboxes","Data Table"],"not_rendered":{"charts":0,"images":7,"macros":1,"external_links":2,"defined_names":57,"comments":0,"pivot_tables":0},"unopened":[],"bounds":{"document_bytes":16777216,"sheet_cells":100000,"rows_first":2000,"rows_last":500,"rows_between":2000,"halvings":0,"cell_chars":16384,"cell_head_chars":4096},"cells_cut":0,"cells_raw":0,"read":"whole","date_system":"1900"}

{"sheet":"Cover","index":0,"n_rows":0,"n_cols":0,"rows_kept":0,"cut":false,"hidden":true,"merged":[[0,0,0,3]]}

{"sheet":"Introduction","index":1,"n_rows":8,"n_cols":2,"rows_kept":8,"cut":false,"hidden":false,"merged":[]}
["This worksheet contains a single column of text. It explains the content of the other worksheets in this document and how they relate to each other.\n\nOn each worksheet, a cell in column A contains the phrase \"End of content\" to indicate that there are no more rows of content. A cell in row 1 contains the phrase \"End of content\" to indicate that there are no more columns of content.\n","End of content."]
["The Screenshots worksheet\nEach column contains screenshots of the components and pages that were tested. The columns are in the same order as the Success Criteria worksheet.\n"]
["The Statistics worksheet\nRows 2 to 11 contain the meta information for the project, such as the project name, report version number, the tester's name, report date, details of the test environment and the scope of testing (WCAG level A, AA or AAA). This information is in columns A to S.\nRows 13 and below contain details of what was tested and the number of WCAG non-conformances.\nColumns B, C and D contain a list of the names and URLs of the components, pages, documents and mobile app screens that were tested.\nColumns E to T contain the numbers of passes and non-conformances for each component, page, document and mobile app screen. Separate figures are shown for level A, AA, AAA and the total.\n"]
["The Conformance Statement worksheet\nIf the document contains a Conformance Statement worksheet, it will contain a single column of text. It includes the scope of the statement, the level of conformance, any accessibility limitations and a list of the technologies that are relied on for conformance.\n"]
["The Success Criteria worksheet\nThis contains the test results, which are highly granular, showing the results for each WCAG success criterion for each page.\nColumns A to D contain a list of all the WCAG success criteria that were tested. For each success criterion, column A contains a link to the corresponding page on the W3C website.\nColumns E to EX contain the test results for each component, page, document or mobile app screen.\nRows 1 and 2 contain the page number and the date it was first tested.\nRow 3 contains the page names.\nRow 4 contains the URLs.\nRow 5 contains the number of non-conformances at WCAG level A, AA and AAA.\nRow 6 contains a link to the corresponding screenshot on the Screenshots worksheet. Not every column will contain this link.\nRows 8 and below contain the test results. Each WCAG success criterion occupies two rows. The first row contains the status, such as Pass, Non-conformant or Not Applicable. The second row contains an explanation and recommendations. Two success criteria, for Colour Contrast and Non-text Contrast, have a third row to accommodate the tester's comments in addition to the automatically generated content on the two previous rows.\n"]
["The Colour Contrast Analysis worksheet\nThis contains a record of every combination of text colour and background colour that is used on each page. Each combination is on a separate row from row 5 downwards.\nThe results on this worksheet automatically populate the relevant cells in the Success Criteria worksheet.\nColumn A contains a description of what the text is used for, such as headings, body text, links etc.\nColumn B contains a small screenshot of an example of that combination of text colour and background colour.\nColumn C contains the text colour in Hex format.\nColumn D contains the background colour in Hex format.\nColumn E specifies whether the text is large or small, as defined by WCAG.\nColumns F to U are intentionally hidden because they contain calculations.\nColumn V contains the calculated colour contrast ratio.\nColumn W contains the exemption status.\nColumn X contains the Pass / Fail result.\nColumn Y specifies whether the text is in an image or a video or if it is actual text.\nColumns Z to FS show which combinations of text and background colours occur on which pages.\nIn columns Z to FS, row 1 contains the page name, row 2 contains the URL, row 3 contains the page number and row 4 contains the number of combinations that are non-conformant on that page.\n"]
["The Non-text Contrast worksheet\nThis contains a record of the adjacent colours of every non-text item on each page. Each combination is on a separate row from row 5 downwards.\nThe results on this worksheet automatically populate the relevant cells in the Success Criteria worksheet.\nColumn A contains a description of the item, such as an icon, form control or focus indicator.\nColumn B specifies which colours are being compared.\nColumn C contains a small screenshot of an example of the non-text item.\nColumn D contains a graphical representation of our recommendation if there is not sufficient colour contrast.\nColumn E contains our written recommendation if there is not sufficient colour contrast.\nColumns F and G contain the two adjacent colours in Hex format.\nColumns H to W are intentionally hidden because they contain calculations.\nColumn X contains the calculated colour contrast ratio.\nColumn Y contains the exemption status.\nColumn Z contains the Pass / Fail result.\nColumns Z to FS show which combinations of text and background colours occur on which pages.\nIn columns AA to FT, row 1 contains the page name, row 2 contains the URL, row 3 contains the page number and row 4 contains the number of combinations that are non-conformant on that page.\n"]
["End of content."]

{"sheet":"Screenshots","index":2,"n_rows":8,"n_cols":151,"rows_kept":8,"cut":false,"hidden":false,"merged":[]}
[{"$f":"\"Page # \" & COLUMN(A1) & \": \" & 'Success Criteria'!E1","v":"Page # 1: page 1"},{"$f":"\"Page # \" & COLUMN(B1) & \": \" & 'Success Criteria'!F1","v":"Page # 2: page 2"},{"$f":"\"Page # \" & COLUMN(C1) & \": \" & 'Success Criteria'!G1","v":"Page # 3: page 3"},{"$f":"\"Page # \" & COLUMN(D1) & \": \" & 'Success Criteria'!H1","v":"Page # 4: page 4"},{"$f":"\"Page # \" & COLUMN(E1) & \": \" & 'Success Criteria'!I1","v":"Page # 5: page 5"},{"$f":"\"Page # \" & COLUMN(F1) & \": \" & 'Success Criteria'!J1","v":"Page # 6: page 6"},{"$f":"\"Page # \" & COLUMN(G1) & \": \" & 'Success Criteria'!K1","v":"Page # 7: page 7"},{"$f":"\"Page # \" & COLUMN(H1) & \": \" & 'Success Criteria'!L1","v":"Page # 8: Header (Pre-login) (Admin)"},{"$f":"\"Page # \" & COLUMN(I1) & \": \" & 'Success Criteria'!M1","v":"Page # 9: Footer (Pre-login) (Admin)"},{"$f":"\"Page # \" & COLUMN(J1) & \": \" & 'Success Criteria'!N1","v":"Page # 10: Login (Admin)"},{"$f":"\"Page # \" & COLUMN(K1) & \": \" & 'Success Criteria'!O1","v":"Page # 11: Header (Post-login) (Admin)"},{"$f":"\"Page # \" & COLUMN(L1) & \": \" & 'Success Criteria'!P1","v":"Page # 12: Footer (Post-login) (Admin)"},{"$f":"\"Page # \" & COLUMN(M1) & \": \" & 'Success Criteria'!Q1","v":"Page # 13: Menu (Admin)"},{"$f":"\"Page # \" & COLUMN(N1) & \": \" & 'Success Criteria'!R1","v":"Page # 14: View record (Admin)"},{"$f":"\"Page # \" & COLUMN(O1) & \": \" & 'Success Criteria'!S1","v":"Page # 15: Edit record (Admin)"},{"$f":"\"Page # \" & COLUMN(P1) & \": \" & 'Success Criteria'!T1","v":"Page # 16: Step 1: Enforcement Action Type "},{"$f":"\"Page # \" & COLUMN(Q1) & \": \" & 'Success Criteria'!U1","v":"Page # 17: Step 1: Postal Address"},{"$f":"\"Page # \" & COLUMN(R1) & \": \" & 'Success Criteria'!V1","v":"Page # 18: Step 3: Enforcement Action - Details"},{"$f":"\"Page # \" & COLUMN(S1) & \": \" & 'Success Criteria'!W1","v":"Page # 19: My Records"},{"$f":"\"Page # \" & COLUMN(T1) & \": \" & 'Success Criteria'!X1","v":"Page # 20: Users"},{"$f":"\"Page # \" & COLUMN(U1) & \": \" & 'Success Criteria'!Y1","v":"Page # 21: Search"},{"$f":"\"Page # \" & COLUMN(V1) & \": \" & 'Success Criteria'!Z1","v":"Page # 22: decision-1692365159.pdf"},{"$f":"\"Page # \" & COLUMN(W1) & \": \" & 'Success Criteria'!AA1","v":"Page # 23: Edit user"},{"$f":"\"Page # \" & COLUMN(X1) & \": \" & 'Success Criteria'!AB1","v":"Page # 24: Letter Template: Letters Decision Amend"},{"$f":"\"Page # \" & COLUMN(Y1) & \": \" & 'Success Criteria'!AC1","v":"Page # 25: Suspend Enforcement Actions (Public) (Checkbox only)"},{"$f":"\"Page # \" & COLUMN(Z1) & \": \" & 'Success Criteria'!AD1","v":"Page # 26: Suspend Enforcement Actions (Public) - are you sure?"},{"$f":"\"Page # \" & COLUMN(AA1) & \": \" & 'Success Criteria'!AE1","v":"Page # 27: Decision Letter Entities (Table only)"},{"$f":"\"Page # \" & COLUMN(AB1) & \": \" & 'Success Criteria'!AF1","v":"Page # 28: Page 28"},{"$f":"\"Page # \" & COLUMN(AC1) & \": \" & 'Success Criteria'!AG1","v":"Page # 29: Page 29"},{"$f":"\"Page # \" & COLUMN(AD1) & \": \" & 'Success Criteria'!AH1","v":"Page # 30: Page 30"},{"$f":"\"Page # \" & COLUMN(AE1) & \": \" & 'Success Criteria'!AI1","v":"Page # 31: Page 31"},{"$f":"\"Page # \" & COLUMN(AF1) & \": \" & 'Success Criteria'!AJ1","v":"Page # 32: Page 32"},{"$f":"\"Page # \" & COLUMN(AG1) & \": \" & 'Success Criteria'!AK1","v":"Page # 33: Page 33"},{"$f":"\"Page # \" & COLUMN(AH1) & \": \" & 'Success Criteria'!AL1","v":"Page # 34: Page 34"},{"$f":"\"Page # \" & COLUMN(AI1) & \": \" & 'Success Criteria'!AM1","v":"Page # 35: Page 35"},{"$f":"\"Page # \" & COLUMN(AJ1) & \": \" & 'Success Criteria'!AN1","v":"Page # 36: Page 36"},{"$f":"\"Page # \" & COLUMN(AK1) & \": \" & 'Success Criteria'!AO1","v":"Page # 37: Page 37"},{"$f":"\"Page # \" & COLUMN(AL1) & \": \" & 'Success Criteria'!AP1","v":"Page # 38: Page 38"},{"$f":"\"Page # \" & COLUMN(AM1) & \": \" & 'Success Criteria'!AQ1","v":"Page # 39: Page 39"},{"$f":"\"Page # \" & COLUMN(AN1) & \": \" & 'Success Criteria'!AR1","v":"Page # 40: Page 40"},{"$f":"\"Page # \" & COLUMN(AO1) & \": \" & 'Success Criteria'!AS1","v":"Page # 41: Page 41"},{"$f":"\"Page # \" & COLUMN(AP1) & \": \" & 'Success Criteria'!AT1","v":"Page # 42: Page 42"},{"$f":"\"Page # \" & COLUMN(AQ1) & \": \" & 'Success Criteria'!AU1","v":"Page # 43: Page 43"},{"$f":"\"Page # \" & COLUMN(AR1) & \": \" & 'Success Criteria'!AV1","v":"Page # 44: Page 44"},{"$f":"\"Page # \" & COLUMN(AS1) & \": \" & 'Success Criteria'!AW1","v":"Page # 45: Page 45"},{"$f":"\"Page # \" & COLUMN(AT1) & \": \" & 'Success Criteria'!AX1","v":"Page # 46: Page 46"},{"$f":"\"Page # \" & COLUMN(AU1) & \": \" & 'Success Criteria'!AY1","v":"Page # 47: Page 47"},{"$f":"\"Page # \" & COLUMN(AV1) & \": \" & 'Success Criteria'!AZ1","v":"Page # 48: Page 48"},{"$f":"\"Page # \" & COLUMN(AW1) & \": \" & 'Success Criteria'!BA1","v":"Page # 49: Page 49"},{"$f":"\"Page # \" & COLUMN(AX1) & \": \" & 'Success Criteria'!BB1","v":"Page # 50: Page 50"},{"$f":"\"Page # \" & COLUMN(AY1) & \": \" & 'Success Criteria'!BC1","v":"Page # 51: Page 51"},{"$f":"\"Page # \" & COLUMN(AZ1) & \": \" & 'Success Criteria'!BD1","v":"Page # 52: Page 52"},{"$f":"\"Page # \" & COLUMN(BA1) & \": \" & 'Success Criteria'!BE1","v":"Page # 53: Page 53"},{"$f":"\"Page # \" & COLUMN(BB1) & \": \" & 'Success Criteria'!BF1","v":"Page # 54: Page 54"},{"$f":"\"Page # \" & COLUMN(BC1) & \": \" & 'Success Criteria'!BG1","v":"Page # 55: Page 55"},{"$f":"\"Page # \" & COLUMN(BD1) & \": \" & 'Success Criteria'!BH1","v":"Page # 56: Page 56"},{"$f":"\"Page # \" & COLUMN(BE1) & \": \" & 'Success Criteria'!BI1","v":"Page # 57: Page 57"},{"$f":"\"Page # \" & COLUMN(BF1) & \": \" & 'Success Criteria'!BJ1","v":"Page # 58: Page 58"},{"$f":"\"Page # \" & COLUMN(BG1) & \": \" & 'Success Criteria'!BK1","v":"Page # 59: Page 59"},{"$f":"\"Page # \" & COLUMN(BH1) & \": \" & 'Success Criteria'!BL1","v":"Page # 60: Page 60"},{"$f":"\"Page # \" & COLUMN(BI1) & \": \" & 'Success Criteria'!BM1","v":"Page # 61: Page 61"},{"$f":"\"Page # \" & COLUMN(BJ1) & \": \" & 'Success Criteria'!BN1","v":"Page # 62: Page 62"},{"$f":"\"Page # \" & COLUMN(BK1) & \": \" & 'Success Criteria'!BO1","v":"Page # 63: Page 63"},{"$f":"\"Page # \" & COLUMN(BL1) & \": \" & 'Success Criteria'!BP1","v":"Page # 64: Page 64"},{"$f":"\"Page # \" & COLUMN(BM1) & \": \" & 'Success Criteria'!BQ1","v":"Page # 65: Page 65"},{"$f":"\"Page # \" & COLUMN(BN1) & \": \" & 'Success Criteria'!BR1","v":"Page # 66: Page 66"},{"$f":"\"Page # \" & COLUMN(BO1) & \": \" & 'Success Criteria'!BS1","v":"Page # 67: Page 67"},{"$f":"\"Page # \" & COLUMN(BP1) & \": \" & 'Success Criteria'!BT1","v":"Page # 68: Page 68"},{"$f":"\"Page # \" & COLUMN(BQ1) & \": \" & 'Success Criteria'!BU1","v":"Page # 69: Page 69"},{"$f":"\"Page # \" & COLUMN(BR1) & \": \" & 'Success Criteria'!BV1","v":"Page # 70: Page 70"},{"$f":"\"Page # \" & COLUMN(BS1) & \": \" & 'Success Criteria'!BW1","v":"Page # 71: Page 71"},{"$f":"\"Page # \" & COLUMN(BT1) & \": \" & 'Success Criteria'!BX1","v":"Page # 72: Page 72"},{"$f":"\"Page # \" & COLUMN(BU1) & \": \" & 'Success Criteria'!BY1","v":"Page # 73: Page 73"},{"$f":"\"Page # \" & COLUMN(BV1) & \": \" & 'Success Criteria'!BZ1","v":"Page # 74: Page 74"},{"$f":"\"Page # \" & COLUMN(BW1) & \": \" & 'Success Criteria'!CA1","v":"Page # 75: Page 75"},{"$f":"\"Page # \" & COLUMN(BX1) & \": \" & 'Success Criteria'!CB1","v":"Page # 76: Page 76"},{"$f":"\"Page # \" & COLUMN(BY1) & \": \" & 'Success Criteria'!CC1","v":"Page # 77: Page 77"},{"$f":"\"Page # \" & COLUMN(BZ1) & \": \" & 'Success Criteria'!CD1","v":"Page # 78: Page 78"},{"$f":"\"Page # \" & COLUMN(CA1) & \": \" & 'Success Criteria'!CE1","v":"Page # 79: Page 79"},{"$f":"\"Page # \" & COLUMN(CB1) & \": \" & 'Success Criteria'!CF1","v":"Page # 80: Page 80"},{"$f":"\"Page # \" & COLUMN(CC1) & \": \" & 'Success Criteria'!CG1","v":"Page # 81: Page 81"},{"$f":"\"Page # \" & COLUMN(CD1) & \": \" & 'Success Criteria'!CH1","v":"Page # 82: Page 82"},{"$f":"\"Page # \" & COLUMN(CE1) & \": \" & 'Success Criteria'!CI1","v":"Page # 83: Page 83"},{"$f":"\"Page # \" & COLUMN(CF1) & \": \" & 'Success Criteria'!CJ1","v":"Page # 84: Page 84"},{"$f":"\"Page # \" & COLUMN(CG1) & \": \" & 'Success Criteria'!CK1","v":"Page # 85: Page 85"},{"$f":"\"Page # \" & COLUMN(CH1) & \": \" & 'Success Criteria'!CL1","v":"Page # 86: Page 86"},{"$f":"\"Page # \" & COLUMN(CI1) & \": \" & 'Success Criteria'!CM1","v":"Page # 87: Page 87"},{"$f":"\"Page # \" & COLUMN(CJ1) & \": \" & 'Success Criteria'!CN1","v":"Page # 88: Page 88"},{"$f":"\"Page # \" & COLUMN(CK1) & \": \" & 'Success Criteria'!CO1","v":"Page # 89: Page 89"},{"$f":"\"Page # \" & COLUMN(CL1) & \": \" & 'Success Criteria'!CP1","v":"Page # 90: Page 90"},{"$f":"\"Page # \" & COLUMN(CM1) & \": \" & 'Success Criteria'!CQ1","v":"Page # 91: Page 91"},{"$f":"\"Page # \" & COLUMN(CN1) & \": \" & 'Success Criteria'!CR1","v":"Page # 92: Page 92"},{"$f":"\"Page # \" & COLUMN(CO1) & \": \" & 'Success Criteria'!CS1","v":"Page # 93: Page 93"},{"$f":"\"Page # \" & COLUMN(CP1) & \": \" & 'Success Criteria'!CT1","v":"Page # 94: Page 94"},{"$f":"\"Page # \" & COLUMN(CQ1) & \": \" & 'Success Criteria'!CU1","v":"Page # 95: Page 95"},{"$f":"\"Page # \" & COLUMN(CR1) & \": \" & 'Success Criteria'!CV1","v":"Page # 96: Page 96"},{"$f":"\"Page # \" & COLUMN(CS1) & \": \" & 'Success Criteria'!CW1","v":"Page # 97: Page 97"},{"$f":"\"Page # \" & COLUMN(CT1) & \": \" & 'Success Criteria'!CX1","v":"Page # 98: Page 98"},{"$f":"\"Page # \" & COLUMN(CU1) & \": \" & 'Success Criteria'!CY1","v":"Page # 99: Page 99"},{"$f":"\"Page # \" & COLUMN(CV1) & \": \" & 'Success Criteria'!CZ1","v":"Page # 100: Page 100"},{"$f":"\"Page # \" & COLUMN(CW1) & \": \" & 'Success Criteria'!DA1","v":"Page # 101: Page 101"},{"$f":"\"Page # \" & COLUMN(CX1) & \": \" & 'Success Criteria'!DB1","v":"Page # 102: Page 102"},{"$f":"\"Page # \" & COLUMN(CY1) & \": \" & 'Success Criteria'!DC1","v":"Page # 103: Page 103"},{"$f":"\"Page # \" & COLUMN(CZ1) & \": \" & 'Success Criteria'!DD1","v":"Page # 104: Page 104"},{"$f":"\"Page # \" & COLUMN(DA1) & \": \" & 'Success Criteria'!DE1","v":"Page # 105: Page 105"},{"$f":"\"Page # \" & COLUMN(DB1) & \": \" & 'Success Criteria'!DF1","v":"Page # 106: Page 106"},{"$f":"\"Page # \" & COLUMN(DC1) & \": \" & 'Success Criteria'!DG1","v":"Page # 107: Page 107"},{"$f":"\"Page # \" & COLUMN(DD1) & \": \" & 'Success Criteria'!DH1","v":"Page # 108: Page 108"},{"$f":"\"Page # \" & COLUMN(DE1) & \": \" & 'Success Criteria'!DI1","v":"Page # 109: Page 109"},{"$f":"\"Page # \" & COLUMN(DF1) & \": \" & 'Success Criteria'!DJ1","v":"Page # 110: Page 110"},{"$f":"\"Page # \" & COLUMN(DG1) & \": \" & 'Success Criteria'!DK1","v":"Page # 111: Page 111"},{"$f":"\"Page # \" & COLUMN(DH1) & \": \" & 'Success Criteria'!DL1","v":"Page # 112: Page 112"},{"$f":"\"Page # \" & COLUMN(DI1) & \": \" & 'Success Criteria'!DM1","v":"Page # 113: Page 113"},{"$f":"\"Page # \" & COLUMN(DJ1) & \": \" & 'Success Criteria'!DN1","v":"Page # 114: Page 114"},{"$f":"\"Page # \" & COLUMN(DK1) & \": \" & 'Success Criteria'!DO1","v":"Page # 115: Page 115"},{"$f":"\"Page # \" & COLUMN(DL1) & \": \" & 'Success Criteria'!DP1","v":"Page # 116: Page 116"},{"$f":"\"Page # \" & COLUMN(DM1) & \": \" & 'Success Criteria'!DQ1","v":"Page # 117: Page 117"},{"$f":"\"Page # \" & COLUMN(DN1) & \": \" & 'Success Criteria'!DR1","v":"Page # 118: Page 118"},{"$f":"\"Page # \" & COLUMN(DO1) & \": \" & 'Success Criteria'!DS1","v":"Page # 119: Page 119"},{"$f":"\"Page # \" & COLUMN(DP1) & \": \" & 'Success Criteria'!DT1","v":"Page # 120: Page 120"},{"$f":"\"Page # \" & COLUMN(DQ1) & \": \" & 'Success Criteria'!DU1","v":"Page # 121: Page 121"},{"$f":"\"Page # \" & COLUMN(DR1) & \": \" & 'Success Criteria'!DV1","v":"Page # 122: Page 122"},{"$f":"\"Page # \" & COLUMN(DS1) & \": \" & 'Success Criteria'!DW1","v":"Page # 123: Page 123"},{"$f":"\"Page # \" & COLUMN(DT1) & \": \" & 'Success Criteria'!DX1","v":"Page # 124: Page 124"},{"$f":"\"Page # \" & COLUMN(DU1) & \": \" & 'Success Criteria'!DY1","v":"Page # 125: Page 125"},{"$f":"\"Page # \" & COLUMN(DV1) & \": \" & 'Success Criteria'!DZ1","v":"Page # 126: Page 126"},{"$f":"\"Page # \" & COLUMN(DW1) & \": \" & 'Success Criteria'!EA1","v":"Page # 127: Page 127"},{"$f":"\"Page # \" & COLUMN(DX1) & \": \" & 'Success Criteria'!EB1","v":"Page # 128: Page 128"},{"$f":"\"Page # \" & COLUMN(DY1) & \": \" & 'Success Criteria'!EC1","v":"Page # 129: Page 129"},{"$f":"\"Page # \" & COLUMN(DZ1) & \": \" & 'Success Criteria'!ED1","v":"Page # 130: Page 130"},{"$f":"\"Page # \" & COLUMN(EA1) & \": \" & 'Success Criteria'!EE1","v":"Page # 131: Page 131"},{"$f":"\"Page # \" & COLUMN(EB1) & \": \" & 'Success Criteria'!EF1","v":"Page # 132: Page 132"},{"$f":"\"Page # \" & COLUMN(EC1) & \": \" & 'Success Criteria'!EG1","v":"Page # 133: Page 133"},{"$f":"\"Page # \" & COLUMN(ED1) & \": \" & 'Success Criteria'!EH1","v":"Page # 134: Page 134"},{"$f":"\"Page # \" & COLUMN(EE1) & \": \" & 'Success Criteria'!EI1","v":"Page # 135: Page 135"},{"$f":"\"Page # \" & COLUMN(EF1) & \": \" & 'Success Criteria'!EJ1","v":"Page # 136: Page 136"},{"$f":"\"Page # \" & COLUMN(EG1) & \": \" & 'Success Criteria'!EK1","v":"Page # 137: Page 137"},{"$f":"\"Page # \" & COLUMN(EH1) & \": \" & 'Success Criteria'!EL1","v":"Page # 138: Page 138"},{"$f":"\"Page # \" & COLUMN(EI1) & \": \" & 'Success Criteria'!EM1","v":"Page # 139: Page 139"},{"$f":"\"Page # \" & COLUMN(EJ1) & \": \" & 'Success Criteria'!EN1","v":"Page # 140: Page 140"},{"$f":"\"Page # \" & COLUMN(EK1) & \": \" & 'Success Criteria'!EO1","v":"Page # 141: Page 141"},{"$f":"\"Page # \" & COLUMN(EL1) & \": \" & 'Success Criteria'!EP1","v":"Page # 142: Page 142"},{"$f":"\"Page # \" & COLUMN(EM1) & \": \" & 'Success Criteria'!EQ1","v":"Page # 143: Page 143"},{"$f":"\"Page # \" & COLUMN(EN1) & \": \" & 'Success Criteria'!ER1","v":"Page # 144: Page 144"},{"$f":"\"Page # \" & COLUMN(EO1) & \": \" & 'Success Criteria'!ES1","v":"Page # 145: Page 145"},{"$f":"\"Page # \" & COLUMN(EP1) & \": \" & 'Success Criteria'!ET1","v":"Page # 146: Page 146"},{"$f":"\"Page # \" & COLUMN(EQ1) & \": \" & 'Success Criteria'!EU1","v":"Page # 147: Page 147"},{"$f":"\"Page # \" & COLUMN(ER1) & \": \" & 'Success Criteria'!EV1","v":"Page # 148: Page 148"},{"$f":"\"Page # \" & COLUMN(ES1) & \": \" & 'Success Criteria'!EW1","v":"Page # 149: Page 149"},{"$f":"\"Page # \" & COLUMN(ET1) & \": \" & 'Success Criteria'!EX1","v":"Page # 150: Page 150"},"End of content"]
[null,null,null,null,null,null,null,"Pre-login state","Pre-login state"]
[]
[]
[]
[null,null,null,null,null,null,null,"Post-login state"]
[]
[null,null,null,null,null,null,null,null,"Post-login state"]

{"sheet":"Statistics","index":3,"n_rows":170,"n_cols":27,"rows_kept":170,"cut":false,"hidden":false,"merged":[[7,16,7,17],[8,16,8,17],[9,16,9,17],[2,16,2,17],[0,21,0,22],[1,21,10,26],[5,16,5,17],[4,16,4,17],[6,12,6,15],[0,0,0,15],[12,26,13,26],[12,25,13,25],[12,21,13,21],[6,8,6,11],[10,2,10,7],[10,8,10,11],[10,12,10,15],[6,2,6,7],[7,2,7,7],[4,2,4,7],[7,12,7,15],[5,12,5,15],[12,23,13,23],[12,22,13,22],[12,24,13,24],[165,16,165,19],[12,16,12,19],[12,12,12,15],[165,12,165,15],[8,12,8,15],[168,0,168,2],[167,0,167,2],[12,4,12,7],[12,8,12,11],[165,8,165,11],[165,4,165,7],[9,12,9,15],[12,0,12,3],[5,2,5,7],[8,2,8,7],[7,8,7,11],[9,2,9,7],[9,8,9,11],[8,8,8,11],[4,12,4,15],[2,8,2,11],[3,8,3,11],[4,8,4,11],[5,8,5,11],[1,2,1,7],[2,2,2,7],[3,2,3,7],[1,16,1,17],[3,16,3,17],[1,8,1,11],[2,12,2,15],[3,12,3,15]]}
["\nWCAG 2.1 website accessibility audit\nStatistics",null,null,null,null,null,null,null,null,null,null,null,null,null,null,null,null,null,null,null,"End of content","Tidy Document",null,null,"Template version 3.22"]
["Client",null,"Greater London Authority",null,null,null,null,null,"Test Environment",null,null,null,null,null,null,null,"Scope",null,null,null,null,"Hide these columns before delivery to the client\n\nMany cells are protected and cannot be edited. Unprotect the worksheet to delete columns or rows.\nDo not add columns or rows.\n\nSee Steve Green if amendments are necessary."]
["Website or Mobile App Name",null,"Rogue Landlord and Agent Checker (RLAC)",null,null,null,null,null,"Primary Operating System",null,null,null,"Windows 10",null,null,null,"WCAG",null,2.1]
["URL or Mobile App Version Number",null,null,null,null,null,null,null,"Primary Browser",null,null,null,"Chrome 116.0.5845.189",null,null,null,"Level A",null,"Yes"]
["Quotation Number",null,"006078",null,null,null,null,null,"Primary Screen Reader",null,null,null,"Jaws 2021",null,null,null,"Level AA",null,"Yes"]
["Report Version Number",null,"9",null,null,null,null,null,"Screen Size",null,null,null,"32 inch",null,null,null,"Level AAA",null,"No"]
["Testing Last Conducted By",null,"Wing Kuet",null,null,null,null,null,"Screen Resolution",null,null,null,"1920x1080px Widescreen"]
["Testing Last Conducted On",null,"2023-10-12",null,null,null,null,null,"Secondary Browser 1",null,null,null,"Firefox 117.0 (64-bit)"]
["Report Last Reviewed By",null,null,null,null,null,null,null,"Secondary Browser 2",null,null,null,"Safari 14.0.1 (16610.2.11.1.3)"]
["Report Last Reviewed On",null,null,null,null,null,null,null,"Secondary Browser 3",null,null,null,"Edge 116.0.1938.81"]
["Notes",null,null,null,null,null,null,null,"Primary PDF Reader",null,null,null,"N/A"]
[]
[null,null,null,null,"Level A",null,null,null,"Level AA",null,null,null,"Level AAA",null,null,null,"Total",null,null,null,null,"Level A Checkpoints Done ","Level A Checkpoints Complete ","Level AA Checkpoints Done ","Level AA Checkpoints Complete ","Level AAA Checkpoints Done ","Level AAA Checkpoints Complete "]
["ID","Page Name","Page URL","Page or Component","Pass","Fail","N/A","Not tested","Pass","Fail","N/A ","Not tested","Pass","Fail","N/A ","Not tested","Pass","Fail","N/A ","Not tested"]
[{"$f":"HYPERLINK(\"#'Success Criteria'!\"&ADDRESS(1,ROW()-10,4),ROW()-14)","v":1},"page 1",null,null,{"$f":"SUM(COUNTIF(INDIRECT(\"'Success Criteria'!\" & ADDRESS(10,A15+4)):INDIRECT(\"'Success Criteria'!\" & ADDRESS(72,A15+4)),\"PASS\"),COUNTIF(INDIRECT(\"'Success Criteria'!\" & ADDRESS(10,A15+4)):INDIRECT(\"'Success Criteria'!\" & ADDRESS(72,A15+4)),\"PASS with comments\"))","v":0},{"$f":"COUNTIF(INDIRECT(\"'Success Criteria'!\" & ADDRESS(10,A15+4)):INDIRECT(\"'Success Criteria'!\" & ADDRESS(72,A15+4)),\"NON conformant\")","v":0},{"$f":"COUNTIF(INDIRECT(\"'Success Criteria'!\" & ADDRESS(10,A15+4)):INDIRECT(\"'Success Criteria'!\" & ADDRESS(72,A15+4)),\"N/A\")","v":0},{"$f":"COUNTIF(INDIRECT(\"'Success Criteria'!\" & ADDRESS(10,A15+4)):INDIRECT(\"'Success Criteria'!\" & ADDRESS(72,A15+4)),\"not tested\")","v":30},{"$f":"SUM(COUNTIF(INDIRECT(\"'Success Criteria'!\" & ADDRESS(76,A15+4)):INDIRECT(\"'Success Criteria'!\" & ADDRESS(119,A15+4)),\"PASS\"),COUNTIF(INDIRECT(\"'Success Criteria'!\" & ADDRESS(76,A15+4)):INDIRECT(\"'Success Criteria'!\" & ADDRESS(119,A15+4)),\"PASS with comments\"))","v":0},{"$f":"COUNTIF(INDIRECT(\"'Success Criteria'!\" & ADDRESS(76,A15+4)):INDIRECT(\"'Success Criteria'!\" & ADDRESS(119,A15+4)),\"NON conformant\")","v":0},{"$f":"COUNTIF(INDIRECT(\"'Success Criteria'!\" & ADDRESS(76,A15+4)):INDIRECT(\"'Success Criteria'!\" & ADDRESS(119,A15+4)),\"N/A\")","v":0},{"$f":"COUNTIF(INDIRECT(\"'Success Criteria'!\" & ADDRESS(76,A15+4)):INDIRECT(\"'Success Criteria'!\" & ADDRESS(119,A15+4)),\"not tested\")","v":21},{"$f":"SUM(COUNTIF(INDIRECT(\"'Success Criteria'!\" & ADDRESS(124,A15+4)):INDIRECT(\"'Success Criteria'!\" & ADDRESS(178,A15+4)),\"PASS\"),COUNTIF(INDIRECT(\"'Success Criteria'!\" & ADDRESS(124,A15+4)):INDIRECT(\"'Success Criteria'!\" & ADDRESS(178,A15+4)),\"PASS with comments\"))","v":0},{"$f":"COUNTIF(INDIRECT(\"'Success Criteria'!\" & ADDRESS(124,A15+4)):INDIRECT(\"'Success Criteria'!\" & ADDRESS(178,A15+4)),\"NON conformant\")","v":0},{"$f":"COUNTIF(INDIRECT(\"'Success Criteria'!\" & ADDRESS(124,A15+4)):INDIRECT(\"'Success Criteria'!\" & ADDRESS(178,A15+4)),\"N/A\")","v":0},{"$f":"COUNTIF(INDIRECT(\"'Success Criteria'!\" & ADDRESS(124,A15+4)):INDIRECT(\"'Success Criteria'!\" & ADDRESS(178,A15+4)),\"not tested\")","v":28},{"$f":"SUM(E15+I15+M15)","v":0},{"$f":"SUM(F15+J15+N15)","v":0},{"$f":"SUM(G15+K15+O15)","v":0},{"$f":"SUM(H15+L15+P15)","v":79},null,{"$f":"SUM(E15:H15)","v":30},{"$f":"IF(V15=30,1,\"\")","v":1},{"$f":"SUM($I15:$L15)","v":21},{"$f":"IF(X15=20,1,\"\")","v":""},{"$f":"SUM($M15:$P15)","v":28},{"$f":"IF(Z15=28,1,\"\")","v":1}]
[{"$f":"HYPERLINK(\"#'Success Criteria'!\"&ADDRESS(1,ROW()-10,4),ROW()-14)","v":2},"page 2",null,null,{"$f":"SUM(COUNTIF(INDIRECT(\"'Success Criteria'!\" & ADDRESS(10,A16+4)):INDIRECT(\"'Success Criteria'!\" & ADDRESS(72,A16+4)),\"PASS\"),COUNTIF(INDIRECT(\"'Success Criteria'!\" & ADDRESS(10,A16+4)):INDIRECT(\"'Success Criteria'!\" & ADDRESS(72,A16+4)),\"PASS with comments\"))","v":0},{"$f":"COUNTIF(INDIRECT(\"'Success Criteria'!\" & ADDRESS(10,A16+4)):INDIRECT(\"'Success Criteria'!\" & ADDRESS(72,A16+4)),\"NON conformant\")","v":0},{"$f":"COUNTIF(INDIRECT(\"'Success Criteria'!\" & ADDRESS(10,A16+4)):INDIRECT(\"'Success Criteria'!\" & ADDRESS(72,A16+4)),\"N/A\")","v":0},{"$f":"COUNTIF(INDIRECT(\"'Success Criteria'!\" & ADDRESS(10,A16+4)):INDIRECT(\"'Success Criteria'!\" & ADDRESS(72,A16+4)),\"not tested\")","v":30},{"$f":"SUM(COUNTIF(INDIRECT(\"'Success Criteria'!\" & ADDRESS(76,A16+4)):INDIRECT(\"'Success Criteria'!\" & ADDRESS(119,A16+4)),\"PASS\"),COUNTIF(INDIRECT(\"'Success Criteria'!\" & ADDRESS(76,A16+4)):INDIRECT(\"'Success Criteria'!\" & ADDRESS(119,A16+4)),\"PASS with comments\"))","v":0},{"$f":"COUNTIF(INDIRECT(\"'Success Criteria'!\" & ADDRESS(76,A16+4)):INDIRECT(\"'Success Criteria'!\" & ADDRESS(119,A16+4)),\"NON conformant\")","v":0},{"$f":"COUNTIF(INDIRECT(\"'Success Criteria'!\" & ADDRESS(76,A16+4)):INDIRECT(\"'Success Criteria'!\" & ADDRESS(119,A16+4)),\"N/A\")","v":0},{"$f":"COUNTIF(INDIRECT(\"'Success Criteria'!\" & ADDRESS(76,A16+4)):INDIRECT(\"'Success Criteria'!\" & ADDRESS(119,A16+4)),\"not tested\")","v":21},{"$f":"SUM(COUNTIF(INDIRECT(\"'Success Criteria'!\" & ADDRESS(124,A16+4)):INDIRECT(\"'Success Criteria'!\" & ADDRESS(178,A16+4)),\"PASS\"),COUNTIF(INDIRECT(\"'Success Criteria'!\" & ADDRESS(124,A16+4)):INDIRECT(\"'Success Criteria'!\" & ADDRESS(178,A16+4)),\"PASS with comments\"))","v":0},{"$f":"COUNTIF(INDIRECT(\"'Success Criteria'!\" & ADDRESS(124,A16+4)):INDIRECT(\"'Success Criteria'!\" & ADDRESS(178,A16+4)),\"NON conformant\")","v":0},{"$f":"COUNTIF(INDIRECT(\"'Success Criteria'!\" & ADDRESS(124,A16+4)):INDIRECT(\"'Success Criteria'!\" & ADDRESS(178,A16+4)),\"N/A\")","v":0},{"$f":"COUNTIF(INDIRECT(\"'Success Criteria'!\" & ADDRESS(124,A16+4)):INDIRECT(\"'Success Criteria'!\" & ADDRESS(178,A16+4)),\"not tested\")","v":28},{"$f":"SUM(E16+I16+M16)","v":0},{"$f":"SUM(F16+J16+N16)","v":0},0,79,null,30,1,{"$f":"SUM($I16:$L16)","v":21},"",{"$f":"SUM($M16:$P16)","v":28},{"$f":"IF(Z16=28,1,\"\")","v":1}]
[3,"page 3",null,null,{"$f":"SUM(COUNTIF(INDIRECT(\"'Success Criteria'!\" & ADDRESS(10,A17+4)):INDIRECT(\"'Success Criteria'!\" & ADDRESS(72,A17+4)),\"PASS\"),COUNTIF(INDIRECT(\"'Success Criteria'!\" & ADDRESS(10,A17+4)):INDIRECT(\"'Success Criteria'!\" & ADDRESS(72,A17+4)),\"PASS with comments\"))","v":0},{"$f":"COUNTIF(INDIRECT(\"'Success Criteria'!\" & ADDRESS(10,A17+4)):INDIRECT(\"'Success Criteria'!\" & ADDRESS(72,A17+4)),\"NON conformant\")","v":0},{"$f":"COUNTIF(INDIRECT(\"'Success Criteria'!\" & ADDRESS(10,A17+4)):INDIRECT(\"'Success Criteria'!\" & ADDRESS(72,A17+4)),\"N/A\")","v":0},{"$f":"COUNTIF(INDIRECT(\"'Success Criteria'!\" & ADDRESS(10,A17+4)):INDIRECT(\"'Success Criteria'!\" & ADDRESS(72,A17+4)),\"not tested\")","v":30},{"$f":"SUM(COUNTIF(INDIRECT(\"'Success Criteria'!\" & ADDRESS(76,A17+4)):INDIRECT(\"'Success Criteria'!\" & ADDRESS(119,A17+4)),\"PASS\"),COUNTIF(INDIRECT(\"'Success Criteria'!\" & ADDRESS(76,A17+4)):INDIRECT(\"'Success Criteria'!\" & ADDRESS(119,A17+4)),\"PASS with comments\"))","v":0},{"$f":"COUNTIF(INDIRECT(\"'Success Criteria'!\" & ADDRESS(76,A17+4)):INDIRECT(\"'Success Criteria'!\" & ADDRESS(119,A17+4)),\"NON conformant\")","v":0},{"$f":"COUNTIF(INDIRECT(\"'Success Criteria'!\" & ADDRESS(76,A17+4)):INDIRECT(\"'Success Criteria'!\" & ADDRESS(119,A17+4)),\"N/A\")","v":0},{"$f":"COUNTIF(INDIRECT(\"'Success Criteria'!\" & ADDRESS(76,A17+4)):INDIRECT(\"'Success Criteria'!\" & ADDRESS(119,A17+4)),\"not tested\")","v":21},{"$f":"SUM(COUNTIF(INDIRECT(\"'Success Criteria'!\" & ADDRESS(124,A17+4)):INDIRECT(\"'Success Criteria'!\" & ADDRESS(178,A17+4)),\"PASS\"),COUNTIF(INDIRECT(\"'Success Criteria'!\" & ADDRESS(124,A17+4)):INDIRECT(\"'Success Criteria'!\" & ADDRESS(178,A17+4)),\"PASS with comments\"))","v":0},{"$f":"COUNTIF(INDIRECT(\"'Success Criteria'!\" & ADDRESS(124,A17+4)):INDIRECT(\"'Success Criteria'!\" & ADDRESS(178,A17+4)),\"NON conformant\")","v":0},{"$f":"COUNTIF(INDIRECT(\"'Success Criteria'!\" & ADDRESS(124,A17+4)):INDIRECT(\"'Success Criteria'!\" & ADDRESS(178,A17+4)),\"N/A\")","v":0},{"$f":"COUNTIF(INDIRECT(\"'Success Criteria'!\" & ADDRESS(124,A17+4)):INDIRECT(\"'Success Criteria'!\" & ADDRESS(178,A17+4)),\"not tested\")","v":28},0,0,0,79,null,30,1,21,"",28,1]
[4,"page 4",null,null,{"$f":"SUM(COUNTIF(INDIRECT(\"'Success Criteria'!\" & ADDRESS(10,A18+4)):INDIRECT(\"'Success Criteria'!\" & ADDRESS(72,A18+4)),\"PASS\"),COUNTIF(INDIRECT(\"'Success Criteria'!\" & ADDRESS(10,A18+4)):INDIRECT(\"'Success Criteria'!\" & ADDRESS(72,A18+4)),\"PASS with comments\"))","v":0},{"$f":"COUNTIF(INDIRECT(\"'Success Criteria'!\" & ADDRESS(10,A18+4)):INDIRECT(\"'Success Criteria'!\" & ADDRESS(72,A18+4)),\"NON conformant\")","v":0},{"$f":"COUNTIF(INDIRECT(\"'Success Criteria'!\" & ADDRESS(10,A18+4)):INDIRECT(\"'Success Criteria'!\" & ADDRESS(72,A18+4)),\"N/A\")","v":0},{"$f":"COUNTIF(INDIRECT(\"'Success Criteria'!\" & ADDRESS(10,A18+4)):INDIRECT(\"'Success Criteria'!\" & ADDRESS(72,A18+4)),\"not tested\")","v":30},{"$f":"SUM(COUNTIF(INDIRECT(\"'Success Criteria'!\" & ADDRESS(76,A18+4)):INDIRECT(\"'Success Criteria'!\" & ADDRESS(119,A18+4)),\"PASS\"),COUNTIF(INDIRECT(\"'Success Criteria'!\" & ADDRESS(76,A18+4)):INDIRECT(\"'Success Criteria'!\" & ADDRESS(119,A18+4)),\"PASS with comments\"))","v":0},{"$f":"COUNTIF(INDIRECT(\"'Success Criteria'!\" & ADDRESS(76,A18+4)):INDIRECT(\"'Success Criteria'!\" & ADDRESS(119,A18+4)),\"NON conformant\")","v":0},{"$f":"COUNTIF(INDIRECT(\"'Success Criteria'!\" & ADDRESS(76,A18+4)):INDIRECT(\"'Success Criteria'!\" & ADDRESS(119,A18+4)),\"N/A\")","v":0},{"$f":"COUNTIF(INDIRECT(\"'Success Criteria'!\" & ADDRESS(76,A18+4)):INDIRECT(\"'Success Criteria'!\" & ADDRESS(119,A18+4)),\"not tested\")","v":21},{"$f":"SUM(COUNTIF(INDIRECT(\"'Success Criteria'!\" & ADDRESS(124,A18+4)):INDIRECT(\"'Success Criteria'!\" & ADDRESS(178,A18+4)),\"PASS\"),COUNTIF(INDIRECT(\"'Success Criteria'!\" & ADDRESS(124,A18+4)):INDIRECT(\"'Success Criteria'!\" & ADDRESS(178,A18+4)),\"PASS with comments\"))","v":0},{"$f":"COUNTIF(INDIRECT(\"'Success Criteria'!\" & ADDRESS(124,A18+4)):INDIRECT(\"'Success Criteria'!\" & ADDRESS(178,A18+4)),\"NON conformant\")","v":0},{"$f":"COUNTIF(INDIRECT(\"'Success Criteria'!\" & ADDRESS(124,A18+4)):INDIRECT(\"'Success Criteria'!\" & ADDRESS(178,A18+4)),\"N/A\")","v":0},{"$f":"COUNTIF(INDIRECT(\"'Success Criteria'!\" & ADDRESS(124,A18+4)):INDIRECT(\"'Success Criteria'!\" & ADDRESS(178,A18+4)),\"not tested\")","v":28},0,0,0,79,null,30,1,21,"",28,1]
[5,"page 5",null,null,{"$f":"SUM(COUNTIF(INDIRECT(\"'Success Criteria'!\" & ADDRESS(10,A19+4)):INDIRECT(\"'Success Criteria'!\" & ADDRESS(72,A19+4)),\"PASS\"),COUNTIF(INDIRECT(\"'Success Criteria'!\" & ADDRESS(10,A19+4)):INDIRECT(\"'Success Criteria'!\" & ADDRESS(72,A19+4)),\"PASS with comments\"))","v":0},{"$f":"COUNTIF(INDIRECT(\"'Success Criteria'!\" & ADDRESS(10,A19+4)):INDIRECT(\"'Success Criteria'!\" & ADDRESS(72,A19+4)),\"NON conformant\")","v":0},{"$f":"COUNTIF(INDIRECT(\"'Success Criteria'!\" & ADDRESS(10,A19+4)):INDIRECT(\"'Success Criteria'!\" & ADDRESS(72,A19+4)),\"N/A\")","v":0},{"$f":"COUNTIF(INDIRECT(\"'Success Criteria'!\" & ADDRESS(10,A19+4)):INDIRECT(\"'Success Criteria'!\" & ADDRESS(72,A19+4)),\"not tested\")","v":30},{"$f":"SUM(COUNTIF(INDIRECT(\"'Success Criteria'!\" & ADDRESS(76,A19+4)):INDIRECT(\"'Success Criteria'!\" & ADDRESS(119,A19+4)),\"PASS\"),COUNTIF(INDIRECT(\"'Success Criteria'!\" & ADDRESS(76,A19+4)):INDIRECT(\"'Success Criteria'!\" & ADDRESS(119,A19+4)),\"PASS with comments\"))","v":0},{"$f":"COUNTIF(INDIRECT(\"'Success Criteria'!\" & ADDRESS(76,A19+4)):INDIRECT(\"'Success Criteria'!\" & ADDRESS(119,A19+4)),\"NON conformant\")","v":0},{"$f":"COUNTIF(INDIRECT(\"'Success Criteria'!\" & ADDRESS(76,A19+4)):INDIRECT(\"'Success Criteria'!\" & ADDRESS(119,A19+4)),\"N/A\")","v":0},{"$f":"COUNTIF(INDIRECT(\"'Success Criteria'!\" & ADDRESS(76,A19+4)):INDIRECT(\"'Success Criteria'!\" & ADDRESS(119,A19+4)),\"not tested\")","v":21},{"$f":"SUM(COUNTIF(INDIRECT(\"'Success Criteria'!\" & ADDRESS(124,A19+4)):INDIRECT(\"'Success Criteria'!\" & ADDRESS(178,A19+4)),\"PASS\"),COUNTIF(INDIRECT(\"'Success Criteria'!\" & ADDRESS(124,A19+4)):INDIRECT(\"'Success Criteria'!\" & ADDRESS(178,A19+4)),\"PASS with comments\"))","v":0},{"$f":"COUNTIF(INDIRECT(\"'Success Criteria'!\" & ADDRESS(124,A19+4)):INDIRECT(\"'Success Criteria'!\" & ADDRESS(178,A19+4)),\"NON conformant\")","v":0},{"$f":"COUNTIF(INDIRECT(\"'Success Criteria'!\" & ADDRESS(124,A19+4)):INDIRECT(\"'Success Criteria'!\" & ADDRESS(178,A19+4)),\"N/A\")","v":0},{"$f":"COUNTIF(INDIRECT(\"'Success Criteria'!\" & ADDRESS(124,A19+4)):INDIRECT(\"'Success Criteria'!\" & ADDRESS(178,A19+4)),\"not tested\")","v":28},0,0,0,79,null,30,1,21,"",28,1]
[6,"page 6",null,null,{"$f":"SUM(COUNTIF(INDIRECT(\"'Success Criteria'!\" & ADDRESS(10,A20+4)):INDIRECT(\"'Success Criteria'!\" & ADDRESS(72,A20+4)),\"PASS\"),COUNTIF(INDIRECT(\"'Success Criteria'!\" & ADDRESS(10,A20+4)):INDIRECT(\"'Success Criteria'!\" & ADDRESS(72,A20+4)),\"PASS with comments\"))","v":0},{"$f":"COUNTIF(INDIRECT(\"'Success Criteria'!\" & ADDRESS(10,A20+4)):INDIRECT(\"'Success Criteria'!\" & ADDRESS(72,A20+4)),\"NON conformant\")","v":0},{"$f":"COUNTIF(INDIRECT(\"'Success Criteria'!\" & ADDRESS(10,A20+4)):INDIRECT(\"'Success Criteria'!\" & ADDRESS(72,A20+4)),\"N/A\")","v":0},{"$f":"COUNTIF(INDIRECT(\"'Success Criteria'!\" & ADDRESS(10,A20+4)):INDIRECT(\"'Success Criteria'!\" & ADDRESS(72,A20+4)),\"not tested\")","v":30},{"$f":"SUM(COUNTIF(INDIRECT(\"'Success Criteria'!\" & ADDRESS(76,A20+4)):INDIRECT(\"'Success Criteria'!\" & ADDRESS(119,A20+4)),\"PASS\"),COUNTIF(INDIRECT(\"'Success Criteria'!\" & ADDRESS(76,A20+4)):INDIRECT(\"'Success Criteria'!\" & ADDRESS(119,A20+4)),\"PASS with comments\"))","v":0},{"$f":"COUNTIF(INDIRECT(\"'Success Criteria'!\" & ADDRESS(76,A20+4)):INDIRECT(\"'Success Criteria'!\" & ADDRESS(119,A20+4)),\"NON conformant\")","v":0},{"$f":"COUNTIF(INDIRECT(\"'Success Criteria'!\" & ADDRESS(76,A20+4)):INDIRECT(\"'Success Criteria'!\" & ADDRESS(119,A20+4)),\"N/A\")","v":0},{"$f":"COUNTIF(INDIRECT(\"'Success Criteria'!\" & ADDRESS(76,A20+4)):INDIRECT(\"'Success Criteria'!\" & ADDRESS(119,A20+4)),\"not tested\")","v":21},{"$f":"SUM(COUNTIF(INDIRECT(\"'Success Criteria'!\" & ADDRESS(124,A20+4)):INDIRECT(\"'Success Criteria'!\" & ADDRESS(178,A20+4)),\"PASS\"),COUNTIF(INDIRECT(\"'Success Criteria'!\" & ADDRESS(124,A20+4)):INDIRECT(\"'Success Criteria'!\" & ADDRESS(178,A20+4)),\"PASS with comments\"))","v":0},{"$f":"COUNTIF(INDIRECT(\"'Success Criteria'!\" & ADDRESS(124,A20+4)):INDIRECT(\"'Success Criteria'!\" & ADDRESS(178,A20+4)),\"NON conformant\")","v":0},{"$f":"COUNTIF(INDIRECT(\"'Success Criteria'!\" & ADDRESS(124,A20+4)):INDIRECT(\"'Success Criteria'!\" & ADDRESS(178,A20+4)),\"N/A\")","v":0},{"$f":"COUNTIF(INDIRECT(\"'Success Criteria'!\" & ADDRESS(124,A20+4)):INDIRECT(\"'Success Criteria'!\" & ADDRESS(178,A20+4)),\"not tested\")","v":28},0,0,0,79,null,30,1,21,"",28,1]
[7,"page 7",null,null,{"$f":"SUM(COUNTIF(INDIRECT(\"'Success Criteria'!\" & ADDRESS(10,A21+4)):INDIRECT(\"'Success Criteria'!\" & ADDRESS(72,A21+4)),\"PASS\"),COUNTIF(INDIRECT(\"'Success Criteria'!\" & ADDRESS(10,A21+4)):INDIRECT(\"'Success Criteria'!\" & ADDRESS(72,A21+4)),\"PASS with comments\"))","v":0},{"$f":"COUNTIF(INDIRECT(\"'Success Criteria'!\" & ADDRESS(10,A21+4)):INDIRECT(\"'Success Criteria'!\" & ADDRESS(72,A21+4)),\"NON conformant\")","v":0},{"$f":"COUNTIF(INDIRECT(\"'Success Criteria'!\" & ADDRESS(10,A21+4)):INDIRECT(\"'Success Criteria'!\" & ADDRESS(72,A21+4)),\"N/A\")","v":0},{"$f":"COUNTIF(INDIRECT(\"'Success Criteria'!\" & ADDRESS(10,A21+4)):INDIRECT(\"'Success Criteria'!\" & ADDRESS(72,A21+4)),\"not tested\")","v":30},{"$f":"SUM(COUNTIF(INDIRECT(\"'Success Criteria'!\" & ADDRESS(76,A21+4)):INDIRECT(\"'Success Criteria'!\" & ADDRESS(119,A21+4)),\"PASS\"),COUNTIF(INDIRECT(\"'Success Criteria'!\" & ADDRESS(76,A21+4)):INDIRECT(\"'Success Criteria'!\" & ADDRESS(119,A21+4)),\"PASS with comments\"))","v":0},{"$f":"COUNTIF(INDIRECT(\"'Success Criteria'!\" & ADDRESS(76,A21+4)):INDIRECT(\"'Success Criteria'!\" & ADDRESS(119,A21+4)),\"NON conformant\")","v":0},{"$f":"COUNTIF(INDIRECT(\"'Success Criteria'!\" & ADDRESS(76,A21+4)):INDIRECT(\"'Success Criteria'!\" & ADDRESS(119,A21+4)),\"N/A\")","v":0},{"$f":"COUNTIF(INDIRECT(\"'Success Criteria'!\" & ADDRESS(76,A21+4)):INDIRECT(\"'Success Criteria'!\" & ADDRESS(119,A21+4)),\"not tested\")","v":21},{"$f":"SUM(COUNTIF(INDIRECT(\"'Success Criteria'!\" & ADDRESS(124,A21+4)):INDIRECT(\"'Success Criteria'!\" & ADDRESS(178,A21+4)),\"PASS\"),COUNTIF(INDIRECT(\"'Success Criteria'!\" & ADDRESS(124,A21+4)):INDIRECT(\"'Success Criteria'!\" & ADDRESS(178,A21+4)),\"PASS with comments\"))","v":0},{"$f":"COUNTIF(INDIRECT(\"'Success Criteria'!\" & ADDRESS(124,A21+4)):INDIRECT(\"'Success Criteria'!\" & ADDRESS(178,A21+4)),\"NON conformant\")","v":0},{"$f":"COUNTIF(INDIRECT(\"'Success Criteria'!\" & ADDRESS(124,A21+4)):INDIRECT(\"'Success Criteria'!\" & ADDRESS(178,A21+4)),\"N/A\")","v":0},{"$f":"COUNTIF(INDIRECT(\"'Success Criteria'!\" & ADDRESS(124,A21+4)):INDIRECT(\"'Success Criteria'!\" & ADDRESS(178,A21+4)),\"not tested\")","v":28},0,0,0,79,null,30,1,21,"",28,1]
[8,"Header (Pre-login) (Admin)","https://rlac-test.glatest.org.uk/login","HTML Page (excluding components)",{"$f":"SUM(COUNTIF(INDIRECT(\"'Success Criteria'!\" & ADDRESS(10,A22+4)):INDIRECT(\"'Success Criteria'!\" & ADDRESS(72,A22+4)),\"PASS\"),COUNTIF(INDIRECT(\"'Success Criteria'!\" & ADDRESS(10,A22+4)):INDIRECT(\"'Success Criteria'!\" & ADDRESS(72,A22+4)),\"PASS with comments\"))","v":8},{"$f":"COUNTIF(INDIRECT(\"'Success Criteria'!\" & ADDRESS(10,A22+4)):INDIRECT(\"'Success Criteria'!\" & ADDRESS(72,A22+4)),\"NON conformant\")","v":0},{"$f":"COUNTIF(INDIRECT(\"'Success Criteria'!\" & ADDRESS(10,A22+4)):INDIRECT(\"'Success Criteria'!\" & ADDRESS(72,A22+4)),\"N/A\")","v":22},{"$f":"COUNTIF(INDIRECT(\"'Success Criteria'!\" & ADDRESS(10,A22+4)):INDIRECT(\"'Success Criteria'!\" & ADDRESS(72,A22+4)),\"not tested\")","v":0},{"$f":"SUM(COUNTIF(INDIRECT(\"'Success Criteria'!\" & ADDRESS(76,A22+4)):INDIRECT(\"'Success Criteria'!\" & ADDRESS(119,A22+4)),\"PASS\"),COUNTIF(INDIRECT(\"'Success Criteria'!\" & ADDRESS(76,A22+4)):INDIRECT(\"'Success Criteria'!\" & ADDRESS(119,A22+4)),\"PASS with comments\"))","v":7},{"$f":"COUNTIF(INDIRECT(\"'Success Criteria'!\" & ADDRESS(76,A22+4)):INDIRECT(\"'Success Criteria'!\" & ADDRESS(119,A22+4)),\"NON conformant\")","v":0},{"$f":"COUNTIF(INDIRECT(\"'Success Criteria'!\" & ADDRESS(76,A22+4)):INDIRECT(\"'Success Criteria'!\" & ADDRESS(119,A22+4)),\"N/A\")","v":13},{"$f":"COUNTIF(INDIRECT(\"'Success Criteria'!\" & ADDRESS(76,A22+4)):INDIRECT(\"'Success Criteria'!\" & ADDRESS(119,A22+4)),\"not tested\")","v":0},{"$f":"SUM(COUNTIF(INDIRECT(\"'Success Criteria'!\" & ADDRESS(124,A22+4)):INDIRECT(\"'Success Criteria'!\" & ADDRESS(178,A22+4)),\"PASS\"),COUNTIF(INDIRECT(\"'Success Criteria'!\" & ADDRESS(124,A22+4)):INDIRECT(\"'Success Criteria'!\" & ADDRESS(178,A22+4)),\"PASS with comments\"))","v":0},{"$f":"COUNTIF(INDIRECT(\"'Success Criteria'!\" & ADDRESS(124,A22+4)):INDIRECT(\"'Success Criteria'!\" & ADDRESS(178,A22+4)),\"NON conformant\")","v":0},{"$f":"COUNTIF(INDIRECT(\"'Success Criteria'!\" & ADDRESS(124,A22+4)):INDIRECT(\"'Success Criteria'!\" & ADDRESS(178,A22+4)),\"N/A\")","v":0},{"$f":"COUNTIF(INDIRECT(\"'Success Criteria'!\" & ADDRESS(124,A22+4)):INDIRECT(\"'Success Criteria'!\" & ADDRESS(178,A22+4)),\"not tested\")","v":28},15,0,35,28,null,30,1,20,1,28,1]
[9,"Footer (Pre-login) (Admin)","https://rlac-test.glatest.org.uk/login","HTML Page (excluding components)",{"$f":"SUM(COUNTIF(INDIRECT(\"'Success Criteria'!\" & ADDRESS(10,A23+4)):INDIRECT(\"'Success Criteria'!\" & ADDRESS(72,A23+4)),\"PASS\"),COUNTIF(INDIRECT(\"'Success Criteria'!\" & ADDRESS(10,A23+4)):INDIRECT(\"'Success Criteria'!\" & ADDRESS(72,A23+4)),\"PASS with comments\"))","v":8},{"$f":"COUNTIF(INDIRECT(\"'Success Criteria'!\" & ADDRESS(10,A23+4)):INDIRECT(\"'Success Criteria'!\" & ADDRESS(72,A23+4)),\"NON conformant\")","v":0},{"$f":"COUNTIF(INDIRECT(\"'Success Criteria'!\" & ADDRESS(10,A23+4)):INDIRECT(\"'Success Criteria'!\" & ADDRESS(72,A23+4)),\"N/A\")","v":22},{"$f":"COUNTIF(INDIRECT(\"'Success Criteria'!\" & ADDRESS(10,A23+4)):INDIRECT(\"'Success Criteria'!\" & ADDRESS(72,A23+4)),\"not tested\")","v":0},{"$f":"SUM(COUNTIF(INDIRECT(\"'Success Criteria'!\" & ADDRESS(76,A23+4)):INDIRECT(\"'Success Criteria'!\" & ADDRESS(119,A23+4)),\"PASS\"),COUNTIF(INDIRECT(\"'Success Criteria'!\" & ADDRESS(76,A23+4)):INDIRECT(\"'Success Criteria'!\" & ADDRESS(119,A23+4)),\"PASS with comments\"))","v":6},{"$f":"COUNTIF(INDIRECT(\"'Success Criteria'!\" & ADDRESS(76,A23+4)):INDIRECT(\"'Success Criteria'!\" & ADDRESS(119,A23+4)),\"NON conformant\")","v":0},{"$f":"COUNTIF(INDIRECT(\"'Success Criteria'!\" & ADDRESS(76,A23+4)):INDIRECT(\"'Success Criteria'!\" & ADDRESS(119,A23+4)),\"N/A\")","v":14},{"$f":"COUNTIF(INDIRECT(\"'Success Criteria'!\" & ADDRESS(76,A23+4)):INDIRECT(\"'Success Criteria'!\" & ADDRESS(119,A23+4)),\"not tested\")","v":0},{"$f":"SUM(COUNTIF(INDIRECT(\"'Success Criteria'!\" & ADDRESS(124,A23+4)):INDIRECT(\"'Success Criteria'!\" & ADDRESS(178,A23+4)),\"PASS\"),COUNTIF(INDIRECT(\"'Success Criteria'!\" & ADDRESS(124,A23+4)):INDIRECT(\"'Success Criteria'!\" & ADDRESS(178,A23+4)),\"PASS with comments\"))","v":0},{"$f":"COUNTIF(INDIRECT(\"'Success Criteria'!\" & ADDRESS(124,A23+4)):INDIRECT(\"'Success Criteria'!\" & ADDRESS(178,A23+4)),\"NON conformant\")","v":0},{"$f":"COUNTIF(INDIRECT(\"'Success Criteria'!\" & ADDRESS(124,A23+4)):INDIRECT(\"'Success Criteria'!\" & ADDRESS(178,A23+4)),\"N/A\")","v":0},{"$f":"COUNTIF(INDIRECT(\"'Success Criteria'!\" & ADDRESS(124,A23+4)):INDIRECT(\"'Success Criteria'!\" & ADDRESS(178,A23+4)),\"not tested\")","v":28},14,0,36,28,null,30,1,20,1,28,1]
[10,"Login (Admin)","https://rlac-test.glatest.org.uk/login","HTML Page (excluding components)",{"$f":"SUM(COUNTIF(INDIRECT(\"'Success Criteria'!\" & ADDRESS(10,A24+4)):INDIRECT(\"'Success Criteria'!\" & ADDRESS(72,A24+4)),\"PASS\"),COUNTIF(INDIRECT(\"'Success Criteria'!\" & ADDRESS(10,A24+4)):INDIRECT(\"'Success Criteria'!\" & ADDRESS(72,A24+4)),\"PASS with comments\"))","v":17},{"$f":"COUNTIF(INDIRECT(\"'Success Criteria'!\" & ADDRESS(10,A24+4)):INDIRECT(\"'Success Criteria'!\" & ADDRESS(72,A24+4)),\"NON conformant\")","v":0},{"$f":"COUNTIF(INDIRECT(\"'Success Criteria'!\" & ADDRESS(10,A24+4)):INDIRECT(\"'Success Criteria'!\" & ADDRESS(72,A24+4)),\"N/A\")","v":13},{"$f":"COUNTIF(INDIRECT(\"'Success Criteria'!\" & ADDRESS(10,A24+4)):INDIRECT(\"'Success Criteria'!\" & ADDRESS(72,A24+4)),\"not tested\")","v":0},{"$f":"SUM(COUNTIF(INDIRECT(\"'Success Criteria'!\" & ADDRESS(76,A24+4)):INDIRECT(\"'Success Criteria'!\" & ADDRESS(119,A24+4)),\"PASS\"),COUNTIF(INDIRECT(\"'Success Criteria'!\" & ADDRESS(76,A24+4)):INDIRECT(\"'Success Criteria'!\" & ADDRESS(119,A24+4)),\"PASS with comments\"))","v":11},{"$f":"COUNTIF(INDIRECT(\"'Success Criteria'!\" & ADDRESS(76,A24+4)):INDIRECT(\"'Success Criteria'!\" & ADDRESS(119,A24+4)),\"NON conformant\")","v":1},{"$f":"COUNTIF(INDIRECT(\"'Success Criteria'!\" & ADDRESS(76,A24+4)):INDIRECT(\"'Success Criteria'!\" & ADDRESS(119,A24+4)),\"N/A\")","v":8},{"$f":"COUNTIF(INDIRECT(\"'Success Criteria'!\" & ADDRESS(76,A24+4)):INDIRECT(\"'Success Criteria'!\" & ADDRESS(119,A24+4)),\"not tested\")","v":0},{"$f":"SUM(COUNTIF(INDIRECT(\"'Success Criteria'!\" & ADDRESS(124,A24+4)):INDIRECT(\"'Success Criteria'!\" & ADDRESS(178,A24+4)),\"PASS\"),COUNTIF(INDIRECT(\"'Success Criteria'!\" & ADDRESS(124,A24+4)):INDIRECT(\"'Success Criteria'!\" & ADDRESS(178,A24+4)),\"PASS with comments\"))","v":0},{"$f":"COUNTIF(INDIRECT(\"'Success Criteria'!\" & ADDRESS(124,A24+4)):INDIRECT(\"'Success Criteria'!\" & ADDRESS(178,A24+4)),\"NON conformant\")","v":0},{"$f":"COUNTIF(INDIRECT(\"'Success Criteria'!\" & ADDRESS(124,A24+4)):INDIRECT(\"'Success Criteria'!\" & ADDRESS(178,A24+4)),\"N/A\")","v":0},{"$f":"COUNTIF(INDIRECT(\"'Success Criteria'!\" & ADDRESS(124,A24+4)):INDIRECT(\"'Success Criteria'!\" & ADDRESS(178,A24+4)),\"not tested\")","v":28},28,1,21,28,null,30,1,20,1,28,1]
[11,"Header (Post-login) (Admin)","https://rlac-test.glatest.org.uk/login","HTML Page (excluding components)",{"$f":"SUM(COUNTIF(INDIRECT(\"'Success Criteria'!\" & ADDRESS(10,A25+4)):INDIRECT(\"'Success Criteria'!\" & ADDRESS(72,A25+4)),\"PASS\"),COUNTIF(INDIRECT(\"'Success Criteria'!\" & ADDRESS(10,A25+4)):INDIRECT(\"'Success Criteria'!\" & ADDRESS(72,A25+4)),\"PASS with comments\"))","v":14},{"$f":"COUNTIF(INDIRECT(\"'Success Criteria'!\" & ADDRESS(10,A25+4)):INDIRECT(\"'Success Criteria'!\" & ADDRESS(72,A25+4)),\"NON conformant\")","v":1},{"$f":"COUNTIF(INDIRECT(\"'Success Criteria'!\" & ADDRESS(10,A25+4)):INDIRECT(\"'Success Criteria'!\" & ADDRESS(72,A25+4)),\"N/A\")","v":15},{"$f":"COUNTIF(INDIRECT(\"'Success Criteria'!\" & ADDRESS(10,A25+4)):INDIRECT(\"'Success Criteria'!\" & ADDRESS(72,A25+4)),\"not tested\")","v":0},{"$f":"SUM(COUNTIF(INDIRECT(\"'Success Criteria'!\" & ADDRESS(76,A25+4)):INDIRECT(\"'Success Criteria'!\" & ADDRESS(119,A25+4)),\"PASS\"),COUNTIF(INDIRECT(\"'Success Criteria'!\" & ADDRESS(76,A25+4)):INDIRECT(\"'Success Criteria'!\" & ADDRESS(119,A25+4)),\"PASS with comments\"))","v":10},{"$f":"COUNTIF(INDIRECT(\"'Success Criteria'!\" & ADDRESS(76,A25+4)):INDIRECT(\"'Success Criteria'!\" & ADDRESS(119,A25+4)),\"NON conformant\")","v":0},{"$f":"COUNTIF(INDIRECT(\"'Success Criteria'!\" & ADDRESS(76,A25+4)):INDIRECT(\"'Success Criteria'!\" & ADDRESS(119,A25+4)),\"N/A\")","v":10},{"$f":"COUNTIF(INDIRECT(\"'Success Criteria'!\" & ADDRESS(76,A25+4)):INDIRECT(\"'Success Criteria'!\" & ADDRESS(119,A25+4)),\"not tested\")","v":0},{"$f":"SUM(COUNTIF(INDIRECT(\"'Success Criteria'!\" & ADDRESS(124,A25+4)):INDIRECT(\"'Success Criteria'!\" & ADDRESS(178,A25+4)),\"PASS\"),COUNTIF(INDIRECT(\"'Success Criteria'!\" & ADDRESS(124,A25+4)):INDIRECT(\"'Success Criteria'!\" & ADDRESS(178,A25+4)),\"PASS with comments\"))","v":0},{"$f":"COUNTIF(INDIRECT(\"'Success Criteria'!\" & ADDRESS(124,A25+4)):INDIRECT(\"'Success Criteria'!\" & ADDRESS(178,A25+4)),\"NON conformant\")","v":0},{"$f":"COUNTIF(INDIRECT(\"'Success Criteria'!\" & ADDRESS(124,A25+4)):INDIRECT(\"'Success Criteria'!\" & ADDRESS(178,A25+4)),\"N/A\")","v":0},{"$f":"COUNTIF(INDIRECT(\"'Success Criteria'!\" & ADDRESS(124,A25+4)):INDIRECT(\"'Success Criteria'!\" & ADDRESS(178,A25+4)),\"not tested\")","v":28},24,1,25,28,null,30,1,20,1,28,1]
[12,"Footer (Post-login) (Admin)","https://rlac-test.glatest.org.uk/login","HTML Page (excluding components)",{"$f":"SUM(COUNTIF(INDIRECT(\"'Success Criteria'!\" & ADDRESS(10,A26+4)):INDIRECT(\"'Success Criteria'!\" & ADDRESS(72,A26+4)),\"PASS\"),COUNTIF(INDIRECT(\"'Success Criteria'!\" & ADDRESS(10,A26+4)):INDIRECT(\"'Success Criteria'!\" & ADDRESS(72,A26+4)),\"PASS with comments\"))","v":14},{"$f":"COUNTIF(INDIRECT(\"'Success Criteria'!\" & ADDRESS(10,A26+4)):INDIRECT(\"'Success Criteria'!\" & ADDRESS(72,A26+4)),\"NON conformant\")","v":0},{"$f":"COUNTIF(INDIRECT(\"'Success Criteria'!\" & ADDRESS(10,A26+4)):INDIRECT(\"'Success Criteria'!\" & ADDRESS(72,A26+4)),\"N/A\")","v":16},{"$f":"COUNTIF(INDIRECT(\"'Success Criteria'!\" & ADDRESS(10,A26+4)):INDIRECT(\"'Success Criteria'!\" & ADDRESS(72,A26+4)),\"not tested\")","v":0},{"$f":"SUM(COUNTIF(INDIRECT(\"'Success Criteria'!\" & ADDRESS(76,A26+4)):INDIRECT(\"'Success Criteria'!\" & ADDRESS(119,A26+4)),\"PASS\"),COUNTIF(INDIRECT(\"'Success Criteria'!\" & ADDRESS(76,A26+4)):INDIRECT(\"'Success Criteria'!\" & ADDRESS(119,A26+4)),\"PASS with comments\"))","v":9},{"$f":"COUNTIF(INDIRECT(\"'Success Criteria'!\" & ADDRESS(76,A26+4)):INDIRECT(\"'Success Criteria'!\" & ADDRESS(119,A26+4)),\"NON conformant\")","v":0},{"$f":"COUNTIF(INDIRECT(\"'Success Criteria'!\" & ADDRESS(76,A26+4)):INDIRECT(\"'Success Criteria'!\" & ADDRESS(119,A26+4)),\"N/A\")","v":11},{"$f":"COUNTIF(INDIRECT(\"'Success Criteria'!\" & ADDRESS(76,A26+4)):INDIRECT(\"'Success Criteria'!\" & ADDRESS(119,A26+4)),\"not tested\")","v":0},{"$f":"SUM(COUNTIF(INDIRECT(\"'Success Criteria'!\" & ADDRESS(124,A26+4)):INDIRECT(\"'Success Criteria'!\" & ADDRESS(178,A26+4)),\"PASS\"),COUNTIF(INDIRECT(\"'Success Criteria'!\" & ADDRESS(124,A26+4)):INDIRECT(\"'Success Criteria'!\" & ADDRESS(178,A26+4)),\"PASS with comments\"))","v":0},{"$f":"COUNTIF(INDIRECT(\"'Success Criteria'!\" & ADDRESS(124,A26+4)):INDIRECT(\"'Success Criteria'!\" & ADDRESS(178,A26+4)),\"NON conformant\")","v":0},{"$f":"COUNTIF(INDIRECT(\"'Success Criteria'!\" & ADDRESS(124,A26+4)):INDIRECT(\"'Success Criteria'!\" & ADDRESS(178,A26+4)),\"N/A\")","v":0},{"$f":"COUNTIF(INDIRECT(\"'Success Criteria'!\" & ADDRESS(124,A26+4)):INDIRECT(\"'Success Criteria'!\" & ADDRESS(178,A26+4)),\"not tested\")","v":28},23,0,27,28,null,30,1,20,1,28,1]
[13,"Menu (Admin)","https://rlac-test.glatest.org.uk/login","HTML Page (excluding components)",{"$f":"SUM(COUNTIF(INDIRECT(\"'Success Criteria'!\" & ADDRESS(10,A27+4)):INDIRECT(\"'Success Criteria'!\" & ADDRESS(72,A27+4)),\"PASS\"),COUNTIF(INDIRECT(\"'Success Criteria'!\" & ADDRESS(10,A27+4)):INDIRECT(\"'Success Criteria'!\" & ADDRESS(72,A27+4)),\"PASS with comments\"))","v":11},{"$f":"COUNTIF(INDIRECT(\"'Success Criteria'!\" & ADDRESS(10,A27+4)):INDIRECT(\"'Success Criteria'!\" & ADDRESS(72,A27+4)),\"NON conformant\")","v":1},{"$f":"COUNTIF(INDIRECT(\"'Success Criteria'!\" & ADDRESS(10,A27+4)):INDIRECT(\"'Success Criteria'!\" & ADDRESS(72,A27+4)),\"N/A\")","v":18},{"$f":"COUNTIF(INDIRECT(\"'Success Criteria'!\" & ADDRESS(10,A27+4)):INDIRECT(\"'Success Criteria'!\" & ADDRESS(72,A27+4)),\"not tested\")","v":0},{"$f":"SUM(COUNTIF(INDIRECT(\"'Success Criteria'!\" & ADDRESS(76,A27+4)):INDIRECT(\"'Success Criteria'!\" & ADDRESS(119,A27+4)),\"PASS\"),COUNTIF(INDIRECT(\"'Success Criteria'!\" & ADDRESS(76,A27+4)):INDIRECT(\"'Success Criteria'!\" & ADDRESS(119,A27+4)),\"PASS with comments\"))","v":7},{"$f":"COUNTIF(INDIRECT(\"'Success Criteria'!\" & ADDRESS(76,A27+4)):INDIRECT(\"'Success Criteria'!\" & ADDRESS(119,A27+4)),\"NON conformant\")","v":2},{"$f":"COUNTIF(INDIRECT(\"'Success Criteria'!\" & ADDRESS(76,A27+4)):INDIRECT(\"'Success Criteria'!\" & ADDRESS(119,A27+4)),\"N/A\")","v":11},{"$f":"COUNTIF(INDIRECT(\"'Success Criteria'!\" & ADDRESS(76,A27+4)):INDIRECT(\"'Success Criteria'!\" & ADDRESS(119,A27+4)),\"not tested\")","v":0},{"$f":"SUM(COUNTIF(INDIRECT(\"'Success Criteria'!\" & ADDRESS(124,A27+4)):INDIRECT(\"'Success Criteria'!\" & ADDRESS(178,A27+4)),\"PASS\"),COUNTIF(INDIRECT(\"'Success Criteria'!\" & ADDRESS(124,A27+4)):INDIRECT(\"'Success Criteria'!\" & ADDRESS(178,A27+4)),\"PASS with comments\"))","v":0},{"$f":"COUNTIF(INDIRECT(\"'Success Criteria'!\" & ADDRESS(124,A27+4)):INDIRECT(\"'Success Criteria'!\" & ADDRESS(178,A27+4)),\"NON conformant\")","v":0},{"$f":"COUNTIF(INDIRECT(\"'Success Criteria'!\" & ADDRESS(124,A27+4)):INDIRECT(\"'Success Criteria'!\" & ADDRESS(178,A27+4)),\"N/A\")","v":0},{"$f":"COUNTIF(INDIRECT(\"'Success Criteria'!\" & ADDRESS(124,A27+4)):INDIRECT(\"'Success Criteria'!\" & ADDRESS(178,A27+4)),\"not tested\")","v":28},18,3,29,28,null,30,1,20,1,28,1]
[14,"View record (Admin)","https://rlac-test.glatest.org.uk/app/records/entity?id=952","HTML Page (excluding components)",{"$f":"SUM(COUNTIF(INDIRECT(\"'Success Criteria'!\" & ADDRESS(10,A28+4)):INDIRECT(\"'Success Criteria'!\" & ADDRESS(72,A28+4)),\"PASS\"),COUNTIF(INDIRECT(\"'Success Criteria'!\" & ADDRESS(10,A28+4)):INDIRECT(\"'Success Criteria'!\" & ADDRESS(72,A28+4)),\"PASS with comments\"))","v":16},{"$f":"COUNTIF(INDIRECT(\"'Success Criteria'!\" & ADDRESS(10,A28+4)):INDIRECT(\"'Success Criteria'!\" & ADDRESS(72,A28+4)),\"NON conformant\")","v":2},{"$f":"COUNTIF(INDIRECT(\"'Success Criteria'!\" & ADDRESS(10,A28+4)):INDIRECT(\"'Success Criteria'!\" & ADDRESS(72,A28+4)),\"N/A\")","v":12},{"$f":"COUNTIF(INDIRECT(\"'Success Criteria'!\" & ADDRESS(10,A28+4)):INDIRECT(\"'Success Criteria'!\" & ADDRESS(72,A28+4)),\"not tested\")","v":0},{"$f":"SUM(COUNTIF(INDIRECT(\"'Success Criteria'!\" & ADDRESS(76,A28+4)):INDIRECT(\"'Success Criteria'!\" & ADDRESS(119,A28+4)),\"PASS\"),COUNTIF(INDIRECT(\"'Success Criteria'!\" & ADDRESS(76,A28+4)):INDIRECT(\"'Success Criteria'!\" & ADDRESS(119,A28+4)),\"PASS with comments\"))","v":9},{"$f":"COUNTIF(INDIRECT(\"'Success Criteria'!\" & ADDRESS(76,A28+4)):INDIRECT(\"'Success Criteria'!\" & ADDRESS(119,A28+4)),\"NON conformant\")","v":1},{"$f":"COUNTIF(INDIRECT(\"'Success Criteria'!\" & ADDRESS(76,A28+4)):INDIRECT(\"'Success Criteria'!\" & ADDRESS(119,A28+4)),\"N/A\")","v":10},{"$f":"COUNTIF(INDIRECT(\"'Success Criteria'!\" & ADDRESS(76,A28+4)):INDIRECT(\"'Success Criteria'!\" & ADDRESS(119,A28+4)),\"not tested\")","v":0},{"$f":"SUM(COUNTIF(INDIRECT(\"'Success Criteria'!\" & ADDRESS(124,A28+4)):INDIRECT(\"'Success Criteria'!\" & ADDRESS(178,A28+4)),\"PASS\"),COUNTIF(INDIRECT(\"'Success Criteria'!\" & ADDRESS(124,A28+4)):INDIRECT(\"'Success Criteria'!\" & ADDRESS(178,A28+4)),\"PASS with comments\"))","v":0},{"$f":"COUNTIF(INDIRECT(\"'Success Criteria'!\" & ADDRESS(124,A28+4)):INDIRECT(\"'Success Criteria'!\" & ADDRESS(178,A28+4)),\"NON conformant\")","v":0},{"$f":"COUNTIF(INDIRECT(\"'Success Criteria'!\" & ADDRESS(124,A28+4)):INDIRECT(\"'Success Criteria'!\" & ADDRESS(178,A28+4)),\"N/A\")","v":0},{"$f":"COUNTIF(INDIRECT(\"'Success Criteria'!\" & ADDRESS(124,A28+4)):INDIRECT(\"'Success Criteria'!\" & ADDRESS(178,A28+4)),\"not tested\")","v":28},25,3,22,28,null,30,1,20,1,28,1]
[15,"Edit record (Admin)","https://rlac-test.glatest.org.uk/app/records/entity?id=952","HTML Page (excluding components)",{"$f":"SUM(COUNTIF(INDIRECT(\"'Success Criteria'!\" & ADDRESS(10,A29+4)):INDIRECT(\"'Success Criteria'!\" & ADDRESS(72,A29+4)),\"PASS\"),COUNTIF(INDIRECT(\"'Success Criteria'!\" & ADDRESS(10,A29+4)):INDIRECT(\"'Success Criteria'!\" & ADDRESS(72,A29+4)),\"PASS with comments\"))","v":16},{"$f":"COUNTIF(INDIRECT(\"'Success Criteria'!\" & ADDRESS(10,A29+4)):INDIRECT(\"'Success Criteria'!\" & ADDRESS(72,A29+4)),\"NON conformant\")","v":3},{"$f":"COUNTIF(INDIRECT(\"'Success Criteria'!\" & ADDRESS(10,A29+4)):INDIRECT(\"'Success Criteria'!\" & ADDRESS(72,A29+4)),\"N/A\")","v":11},{"$f":"COUNTIF(INDIRECT(\"'Success Criteria'!\" & ADDRESS(10,A29+4)):INDIRECT(\"'Success Criteria'!\" & ADDRESS(72,A29+4)),\"not tested\")","v":0},{"$f":"SUM(COUNTIF(INDIRECT(\"'Success Criteria'!\" & ADDRESS(76,A29+4)):INDIRECT(\"'Success Criteria'!\" & ADDRESS(119,A29+4)),\"PASS\"),COUNTIF(INDIRECT(\"'Success Criteria'!\" & ADDRESS(76,A29+4)):INDIRECT(\"'Success Criteria'!\" & ADDRESS(119,A29+4)),\"PASS with comments\"))","v":11},{"$f":"COUNTIF(INDIRECT(\"'Success Criteria'!\" & ADDRESS(76,A29+4)):INDIRECT(\"'Success Criteria'!\" & ADDRESS(119,A29+4)),\"NON conformant\")","v":1},{"$f":"COUNTIF(INDIRECT(\"'Success Criteria'!\" & ADDRESS(76,A29+4)):INDIRECT(\"'Success Criteria'!\" & ADDRESS(119,A29+4)),\"N/A\")","v":8},{"$f":"COUNTIF(INDIRECT(\"'Success Criteria'!\" & ADDRESS(76,A29+4)):INDIRECT(\"'Success Criteria'!\" & ADDRESS(119,A29+4)),\"not tested\")","v":0},{"$f":"SUM(COUNTIF(INDIRECT(\"'Success Criteria'!\" & ADDRESS(124,A29+4)):INDIRECT(\"'Success Criteria'!\" & ADDRESS(178,A29+4)),\"PASS\"),COUNTIF(INDIRECT(\"'Success Criteria'!\" & ADDRESS(124,A29+4)):INDIRECT(\"'Success Criteria'!\" & ADDRESS(178,A29+4)),\"PASS with comments\"))","v":0},{"$f":"COUNTIF(INDIRECT(\"'Success Criteria'!\" & ADDRESS(124,A29+4)):INDIRECT(\"'Success Criteria'!\" & ADDRESS(178,A29+4)),\"NON conformant\")","v":0},{"$f":"COUNTIF(INDIRECT(\"'Success Criteria'!\" & ADDRESS(124,A29+4)):INDIRECT(\"'Success Criteria'!\" & ADDRESS(178,A29+4)),\"N/A\")","v":0},{"$f":"COUNTIF(INDIRECT(\"'Success Criteria'!\" & ADDRESS(124,A29+4)):INDIRECT(\"'Success Criteria'!\" & ADDRESS(178,A29+4)),\"not tested\")","v":28},27,4,19,28,null,30,1,20,1,28,1]
[16,"Step 1: Enforcement Action Type ","https://rlac-test.glatest.org.uk/app/records/create","HTML Page (excluding components)",{"$f":"SUM(COUNTIF(INDIRECT(\"'Success Criteria'!\" & ADDRESS(10,A30+4)):INDIRECT(\"'Success Criteria'!\" & ADDRESS(72,A30+4)),\"PASS\"),COUNTIF(INDIRECT(\"'Success Criteria'!\" & ADDRESS(10,A30+4)):INDIRECT(\"'Success Criteria'!\" & ADDRESS(72,A30+4)),\"PASS with comments\"))","v":15},{"$f":"COUNTIF(INDIRECT(\"'Success Criteria'!\" & ADDRESS(10,A30+4)):INDIRECT(\"'Success Criteria'!\" & ADDRESS(72,A30+4)),\"NON conformant\")","v":3},{"$f":"COUNTIF(INDIRECT(\"'Success Criteria'!\" & ADDRESS(10,A30+4)):INDIRECT(\"'Success Criteria'!\" & ADDRESS(72,A30+4)),\"N/A\")","v":12},{"$f":"COUNTIF(INDIRECT(\"'Success Criteria'!\" & ADDRESS(10,A30+4)):INDIRECT(\"'Success Criteria'!\" & ADDRESS(72,A30+4)),\"not tested\")","v":0},{"$f":"SUM(COUNTIF(INDIRECT(\"'Success Criteria'!\" & ADDRESS(76,A30+4)):INDIRECT(\"'Success Criteria'!\" & ADDRESS(119,A30+4)),\"PASS\"),COUNTIF(INDIRECT(\"'Success Criteria'!\" & ADDRESS(76,A30+4)):INDIRECT(\"'Success Criteria'!\" & ADDRESS(119,A30+4)),\"PASS with comments\"))","v":9},{"$f":"COUNTIF(INDIRECT(\"'Success Criteria'!\" & ADDRESS(76,A30+4)):INDIRECT(\"'Success Criteria'!\" & ADDRESS(119,A30+4)),\"NON conformant\")","v":1},{"$f":"COUNTIF(INDIRECT(\"'Success Criteria'!\" & ADDRESS(76,A30+4)):INDIRECT(\"'Success Criteria'!\" & ADDRESS(119,A30+4)),\"N/A\")","v":10},{"$f":"COUNTIF(INDIRECT(\"'Success Criteria'!\" & ADDRESS(76,A30+4)):INDIRECT(\"'Success Criteria'!\" & ADDRESS(119,A30+4)),\"not tested\")","v":0},{"$f":"SUM(COUNTIF(INDIRECT(\"'Success Criteria'!\" & ADDRESS(124,A30+4)):INDIRECT(\"'Success Criteria'!\" & ADDRESS(178,A30+4)),\"PASS\"),COUNTIF(INDIRECT(\"'Success Criteria'!\" & ADDRESS(124,A30+4)):INDIRECT(\"'Success Criteria'!\" & ADDRESS(178,A30+4)),\"PASS with comments\"))","v":0},{"$f":"COUNTIF(INDIRECT(\"'Success Criteria'!\" & ADDRESS(124,A30+4)):INDIRECT(\"'Success Criteria'!\" & ADDRESS(178,A30+4)),\"NON conformant\")","v":0},{"$f":"COUNTIF(INDIRECT(\"'Success Criteria'!\" & ADDRESS(124,A30+4)):INDIRECT(\"'Success Criteria'!\" & ADDRESS(178,A30+4)),\"N/A\")","v":0},{"$f":"COUNTIF(INDIRECT(\"'Success Criteria'!\" & ADDRESS(124,A30+4)):INDIRECT(\"'Success Criteria'!\" & ADDRESS(178,A30+4)),\"not tested\")","v":28},24,4,22,28,null,30,1,20,1,28,1]
[17,"Step 1: Postal Address","https://rlac-test.glatest.org.uk/app/records/create","HTML Page (excluding components)",{"$f":"SUM(COUNTIF(INDIRECT(\"'Success Criteria'!\" & ADDRESS(10,A31+4)):INDIRECT(\"'Success Criteria'!\" & ADDRESS(72,A31+4)),\"PASS\"),COUNTIF(INDIRECT(\"'Success Criteria'!\" & ADDRESS(10,A31+4)):INDIRECT(\"'Success Criteria'!\" & ADDRESS(72,A31+4)),\"PASS with comments\"))","v":15},{"$f":"COUNTIF(INDIRECT(\"'Success Criteria'!\" & ADDRESS(10,A31+4)):INDIRECT(\"'Success Criteria'!\" & ADDRESS(72,A31+4)),\"NON conformant\")","v":3},{"$f":"COUNTIF(INDIRECT(\"'Success Criteria'!\" & ADDRESS(10,A31+4)):INDIRECT(\"'Success Criteria'!\" & ADDRESS(72,A31+4)),\"N/A\")","v":12},{"$f":"COUNTIF(INDIRECT(\"'Success Criteria'!\" & ADDRESS(10,A31+4)):INDIRECT(\"'Success Criteria'!\" & ADDRESS(72,A31+4)),\"not tested\")","v":0},{"$f":"SUM(COUNTIF(INDIRECT(\"'Success Criteria'!\" & ADDRESS(76,A31+4)):INDIRECT(\"'Success Criteria'!\" & ADDRESS(119,A31+4)),\"PASS\"),COUNTIF(INDIRECT(\"'Success Criteria'!\" & ADDRESS(76,A31+4)):INDIRECT(\"'Success Criteria'!\" & ADDRESS(119,A31+4)),\"PASS with comments\"))","v":11},{"$f":"COUNTIF(INDIRECT(\"'Success Criteria'!\" & ADDRESS(76,A31+4)):INDIRECT(\"'Success Criteria'!\" & ADDRESS(119,A31+4)),\"NON conformant\")","v":1},{"$f":"COUNTIF(INDIRECT(\"'Success Criteria'!\" & ADDRESS(76,A31+4)):INDIRECT(\"'Success Criteria'!\" & ADDRESS(119,A31+4)),\"N/A\")","v":8},{"$f":"COUNTIF(INDIRECT(\"'Success Criteria'!\" & ADDRESS(76,A31+4)):INDIRECT(\"'Success Criteria'!\" & ADDRESS(119,A31+4)),\"not tested\")","v":0},{"$f":"SUM(COUNTIF(INDIRECT(\"'Success Criteria'!\" & ADDRESS(124,A31+4)):INDIRECT(\"'Success Criteria'!\" & ADDRESS(178,A31+4)),\"PASS\"),COUNTIF(INDIRECT(\"'Success Criteria'!\" & ADDRESS(124,A31+4)):INDIRECT(\"'Success Criteria'!\" & ADDRESS(178,A31+4)),\"PASS with comments\"))","v":0},{"$f":"COUNTIF(INDIRECT(\"'Success Criteria'!\" & ADDRESS(124,A31+4)):INDIRECT(\"'Success Criteria'!\" & ADDRESS(178,A31+4)),\"NON conformant\")","v":0},{"$f":"COUNTIF(INDIRECT(\"'Success Criteria'!\" & ADDRESS(124,A31+4)):INDIRECT(\"'Success Criteria'!\" & ADDRESS(178,A31+4)),\"N/A\")","v":0},{"$f":"COUNTIF(INDIRECT(\"'Success Criteria'!\" & ADDRESS(124,A31+4)):INDIRECT(\"'Success Criteria'!\" & ADDRESS(178,A31+4)),\"not tested\")","v":28},26,4,20,28,null,30,1,20,1,28,1]
[18,"Step 3: Enforcement Action - Details","https://rlac-test.glatest.org.uk/app/records/create","HTML Page (excluding components)",{"$f":"SUM(COUNTIF(INDIRECT(\"'Success Criteria'!\" & ADDRESS(10,A32+4)):INDIRECT(\"'Success Criteria'!\" & ADDRESS(72,A32+4)),\"PASS\"),COUNTIF(INDIRECT(\"'Success Criteria'!\" & ADDRESS(10,A32+4)):INDIRECT(\"'Success Criteria'!\" & ADDRESS(72,A32+4)),\"PASS with comments\"))","v":14},{"$f":"COUNTIF(INDIRECT(\"'Success Criteria'!\" & ADDRESS(10,A32+4)):INDIRECT(\"'Success Criteria'!\" & ADDRESS(72,A32+4)),\"NON conformant\")","v":4},{"$f":"COUNTIF(INDIRECT(\"'Success Criteria'!\" & ADDRESS(10,A32+4)):INDIRECT(\"'Success Criteria'!\" & ADDRESS(72,A32+4)),\"N/A\")","v":12},{"$f":"COUNTIF(INDIRECT(\"'Success Criteria'!\" & ADDRESS(10,A32+4)):INDIRECT(\"'Success Criteria'!\" & ADDRESS(72,A32+4)),\"not tested\")","v":0},{"$f":"SUM(COUNTIF(INDIRECT(\"'Success Criteria'!\" & ADDRESS(76,A32+4)):INDIRECT(\"'Success Criteria'!\" & ADDRESS(119,A32+4)),\"PASS\"),COUNTIF(INDIRECT(\"'Success Criteria'!\" & ADDRESS(76,A32+4)):INDIRECT(\"'Success Criteria'!\" & ADDRESS(119,A32+4)),\"PASS with comments\"))","v":11},{"$f":"COUNTIF(INDIRECT(\"'Success Criteria'!\" & ADDRESS(76,A32+4)):INDIRECT(\"'Success Criteria'!\" & ADDRESS(119,A32+4)),\"NON conformant\")","v":1},{"$f":"COUNTIF(INDIRECT(\"'Success Criteria'!\" & ADDRESS(76,A32+4)):INDIRECT(\"'Success Criteria'!\" & ADDRESS(119,A32+4)),\"N/A\")","v":8},{"$f":"COUNTIF(INDIRECT(\"'Success Criteria'!\" & ADDRESS(76,A32+4)):INDIRECT(\"'Success Criteria'!\" & ADDRESS(119,A32+4)),\"not tested\")","v":0},{"$f":"SUM(COUNTIF(INDIRECT(\"'Success Criteria'!\" & ADDRESS(124,A32+4)):INDIRECT(\"'Success Criteria'!\" & ADDRESS(178,A32+4)),\"PASS\"),COUNTIF(INDIRECT(\"'Success Criteria'!\" & ADDRESS(124,A32+4)):INDIRECT(\"'Success Criteria'!\" & ADDRESS(178,A32+4)),\"PASS with comments\"))","v":0},{"$f":"COUNTIF(INDIRECT(\"'Success Criteria'!\" & ADDRESS(124,A32+4)):INDIRECT(\"'Success Criteria'!\" & ADDRESS(178,A32+4)),\"NON conformant\")","v":0},{"$f":"COUNTIF(INDIRECT(\"'Success Criteria'!\" & ADDRESS(124,A32+4)):INDIRECT(\"'Success Criteria'!\" & ADDRESS(178,A32+4)),\"N/A\")","v":0},{"$f":"COUNTIF(INDIRECT(\"'Success Criteria'!\" & ADDRESS(124,A32+4)):INDIRECT(\"'Success Criteria'!\" & ADDRESS(178,A32+4)),\"not tested\")","v":28},25,5,20,28,null,30,1,20,1,28,1]
[19,"My Records","URL 30","Please select",{"$f":"SUM(COUNTIF(INDIRECT(\"'Success Criteria'!\" & ADDRESS(10,A33+4)):INDIRECT(\"'Success Criteria'!\" & ADDRESS(72,A33+4)),\"PASS\"),COUNTIF(INDIRECT(\"'Success Criteria'!\" & ADDRESS(10,A33+4)):INDIRECT(\"'Success Criteria'!\" & ADDRESS(72,A33+4)),\"PASS with comments\"))","v":14},{"$f":"COUNTIF(INDIRECT(\"'Success Criteria'!\" & ADDRESS(10,A33+4)):INDIRECT(\"'Success Criteria'!\" & ADDRESS(72,A33+4)),\"NON conformant\")","v":4},{"$f":"COUNTIF(INDIRECT(\"'Success Criteria'!\" & ADDRESS(10,A33+4)):INDIRECT(\"'Success Criteria'!\" & ADDRESS(72,A33+4)),\"N/A\")","v":12},{"$f":"COUNTIF(INDIRECT(\"'Success Criteria'!\" & ADDRESS(10,A33+4)):INDIRECT(\"'Success Criteria'!\" & ADDRESS(72,A33+4)),\"not tested\")","v":0},{"$f":"SUM(COUNTIF(INDIRECT(\"'Success Criteria'!\" & ADDRESS(76,A33+4)):INDIRECT(\"'Success Criteria'!\" & ADDRESS(119,A33+4)),\"PASS\"),COUNTIF(INDIRECT(\"'Success Criteria'!\" & ADDRESS(76,A33+4)):INDIRECT(\"'Success Criteria'!\" & ADDRESS(119,A33+4)),\"PASS with comments\"))","v":9},{"$f":"COUNTIF(INDIRECT(\"'Success Criteria'!\" & ADDRESS(76,A33+4)):INDIRECT(\"'Success Criteria'!\" & ADDRESS(119,A33+4)),\"NON conformant\")","v":1},{"$f":"COUNTIF(INDIRECT(\"'Success Criteria'!\" & ADDRESS(76,A33+4)):INDIRECT(\"'Success Criteria'!\" & ADDRESS(119,A33+4)),\"N/A\")","v":10},{"$f":"COUNTIF(INDIRECT(\"'Success Criteria'!\" & ADDRESS(76,A33+4)):INDIRECT(\"'Success Criteria'!\" & ADDRESS(119,A33+4)),\"not tested\")","v":0},{"$f":"SUM(COUNTIF(INDIRECT(\"'Success Criteria'!\" & ADDRESS(124,A33+4)):INDIRECT(\"'Success Criteria'!\" & ADDRESS(178,A33+4)),\"PASS\"),COUNTIF(INDIRECT(\"'Success Criteria'!\" & ADDRESS(124,A33+4)):INDIRECT(\"'Success Criteria'!\" & ADDRESS(178,A33+4)),\"PASS with comments\"))","v":0},{"$f":"COUNTIF(INDIRECT(\"'Success Criteria'!\" & ADDRESS(124,A33+4)):INDIRECT(\"'Success Criteria'!\" & ADDRESS(178,A33+4)),\"NON conformant\")","v":0},{"$f":"COUNTIF(INDIRECT(\"'Success Criteria'!\" & ADDRESS(124,A33+4)):INDIRECT(\"'Success Criteria'!\" & ADDRESS(178,A33+4)),\"N/A\")","v":0},{"$f":"COUNTIF(INDIRECT(\"'Success Criteria'!\" & ADDRESS(124,A33+4)):INDIRECT(\"'Success Criteria'!\" & ADDRESS(178,A33+4)),\"not tested\")","v":28},23,5,22,28,null,30,1,20,1,28,1]
[20,"Users","https://rlac-test.glatest.org.uk/app/users","HTML Page (excluding components)",{"$f":"SUM(COUNTIF(INDIRECT(\"'Success Criteria'!\" & ADDRESS(10,A34+4)):INDIRECT(\"'Success Criteria'!\" & ADDRESS(72,A34+4)),\"PASS\"),COUNTIF(INDIRECT(\"'Success Criteria'!\" & ADDRESS(10,A34+4)):INDIRECT(\"'Success Criteria'!\" & ADDRESS(72,A34+4)),\"PASS with comments\"))","v":13},{"$f":"COUNTIF(INDIRECT(\"'Success Criteria'!\" & ADDRESS(10,A34+4)):INDIRECT(\"'Success Criteria'!\" & ADDRESS(72,A34+4)),\"NON conformant\")","v":5},{"$f":"COUNTIF(INDIRECT(\"'Success Criteria'!\" & ADDRESS(10,A34+4)):INDIRECT(\"'Success Criteria'!\" & ADDRESS(72,A34+4)),\"N/A\")","v":12},{"$f":"COUNTIF(INDIRECT(\"'Success Criteria'!\" & ADDRESS(10,A34+4)):INDIRECT(\"'Success Criteria'!\" & ADDRESS(72,A34+4)),\"not tested\")","v":0},{"$f":"SUM(COUNTIF(INDIRECT(\"'Success Criteria'!\" & ADDRESS(76,A34+4)):INDIRECT(\"'Success Criteria'!\" & ADDRESS(119,A34+4)),\"PASS\"),COUNTIF(INDIRECT(\"'Success Criteria'!\" & ADDRESS(76,A34+4)):INDIRECT(\"'Success Criteria'!\" & ADDRESS(119,A34+4)),\"PASS with comments\"))","v":9},{"$f":"COUNTIF(INDIRECT(\"'Success Criteria'!\" & ADDRESS(76,A34+4)):INDIRECT(\"'Success Criteria'!\" & ADDRESS(119,A34+4)),\"NON conformant\")","v":1},{"$f":"COUNTIF(INDIRECT(\"'Success Criteria'!\" & ADDRESS(76,A34+4)):INDIRECT(\"'Success Criteria'!\" & ADDRESS(119,A34+4)),\"N/A\")","v":10},{"$f":"COUNTIF(INDIRECT(\"'Success Criteria'!\" & ADDRESS(76,A34+4)):INDIRECT(\"'Success Criteria'!\" & ADDRESS(119,A34+4)),\"not tested\")","v":0},{"$f":"SUM(COUNTIF(INDIRECT(\"'Success Criteria'!\" & ADDRESS(124,A34+4)):INDIRECT(\"'Success Criteria'!\" & ADDRESS(178,A34+4)),\"PASS\"),COUNTIF(INDIRECT(\"'Success Criteria'!\" & ADDRESS(124,A34+4)):INDIRECT(\"'Success Criteria'!\" & ADDRESS(178,A34+4)),\"PASS with comments\"))","v":0},{"$f":"COUNTIF(INDIRECT(\"'Success Criteria'!\" & ADDRESS(124,A34+4)):INDIRECT(\"'Success Criteria'!\" & ADDRESS(178,A34+4)),\"NON conformant\")","v":0},{"$f":"COUNTIF(INDIRECT(\"'Success Criteria'!\" & ADDRESS(124,A34+4)):INDIRECT(\"'Success Criteria'!\" & ADDRESS(178,A34+4)),\"N/A\")","v":0},{"$f":"COUNTIF(INDIRECT(\"'Success Criteria'!\" & ADDRESS(124,A34+4)):INDIRECT(\"'Success Criteria'!\" & ADDRESS(178,A34+4)),\"not tested\")","v":28},22,6,22,28,null,30,1,20,1,28,1]
[21,"Search","https://rlac-test.glatest.org.uk/app/records/search","HTML Page (excluding components)",{"$f":"SUM(COUNTIF(INDIRECT(\"'Success Criteria'!\" & ADDRESS(10,A35+4)):INDIRECT(\"'Success Criteria'!\" & ADDRESS(72,A35+4)),\"PASS\"),COUNTIF(INDIRECT(\"'Success Criteria'!\" & ADDRESS(10,A35+4)):INDIRECT(\"'Success Criteria'!\" & ADDRESS(72,A35+4)),\"PASS with comments\"))","v":14},{"$f":"COUNTIF(INDIRECT(\"'Success Criteria'!\" & ADDRESS(10,A35+4)):INDIRECT(\"'Success Criteria'!\" & ADDRESS(72,A35+4)),\"NON conformant\")","v":4},{"$f":"COUNTIF(INDIRECT(\"'Success Criteria'!\" & ADDRESS(10,A35+4)):INDIRECT(\"'Success Criteria'!\" & ADDRESS(72,A35+4)),\"N/A\")","v":12},{"$f":"COUNTIF(INDIRECT(\"'Success Criteria'!\" & ADDRESS(10,A35+4)):INDIRECT(\"'Success Criteria'!\" & ADDRESS(72,A35+4)),\"not tested\")","v":0},{"$f":"SUM(COUNTIF(INDIRECT(\"'Success Criteria'!\" & ADDRESS(76,A35+4)):INDIRECT(\"'Success Criteria'!\" & ADDRESS(119,A35+4)),\"PASS\"),COUNTIF(INDIRECT(\"'Success Criteria'!\" & ADDRESS(76,A35+4)):INDIRECT(\"'Success Criteria'!\" & ADDRESS(119,A35+4)),\"PASS with comments\"))","v":9},{"$f":"COUNTIF(INDIRECT(\"'Success Criteria'!\" & ADDRESS(76,A35+4)):INDIRECT(\"'Success Criteria'!\" & ADDRESS(119,A35+4)),\"NON conformant\")","v":1},{"$f":"COUNTIF(INDIRECT(\"'Success Criteria'!\" & ADDRESS(76,A35+4)):INDIRECT(\"'Success Criteria'!\" & ADDRESS(119,A35+4)),\"N/A\")","v":10},{"$f":"COUNTIF(INDIRECT(\"'Success Criteria'!\" & ADDRESS(76,A35+4)):INDIRECT(\"'Success Criteria'!\" & ADDRESS(119,A35+4)),\"not tested\")","v":0},{"$f":"SUM(COUNTIF(INDIRECT(\"'Success Criteria'!\" & ADDRESS(124,A35+4)):INDIRECT(\"'Success Criteria'!\" & ADDRESS(178,A35+4)),\"PASS\"),COUNTIF(INDIRECT(\"'Success Criteria'!\" & ADDRESS(124,A35+4)):INDIRECT(\"'Success Criteria'!\" & ADDRESS(178,A35+4)),\"PASS with comments\"))","v":0},{"$f":"COUNTIF(INDIRECT(\"'Success Criteria'!\" & ADDRESS(124,A35+4)):INDIRECT(\"'Success Criteria'!\" & ADDRESS(178,A35+4)),\"NON conformant\")","v":0},{"$f":"COUNTIF(INDIRECT(\"'Success Criteria'!\" & ADDRESS(124,A35+4)):INDIRECT(\"'Success Criteria'!\" & ADDRESS(178,A35+4)),\"N/A\")","v":0},{"$f":"COUNTIF(INDIRECT(\"'Success Criteria'!\" & ADDRESS(124,A35+4)):INDIRECT(\"'Success Criteria'!\" & ADDRESS(178,A35+4)),\"not tested\")","v":28},23,5,22,28,null,30,1,20,1,28,1]
[22,"decision-1692365159.pdf","N/A","PDF",{"$f":"SUM(COUNTIF(INDIRECT(\"'Success Criteria'!\" & ADDRESS(10,A36+4)):INDIRECT(\"'Success Criteria'!\" & ADDRESS(72,A36+4)),\"PASS\"),COUNTIF(INDIRECT(\"'Success Criteria'!\" & ADDRESS(10,A36+4)):INDIRECT(\"'Success Criteria'!\" & ADDRESS(72,A36+4)),\"PASS with comments\"))","v":2},{"$f":"COUNTIF(INDIRECT(\"'Success Criteria'!\" & ADDRESS(10,A36+4)):INDIRECT(\"'Success Criteria'!\" & ADDRESS(72,A36+4)),\"NON conformant\")","v":1},{"$f":"COUNTIF(INDIRECT(\"'Success Criteria'!\" & ADDRESS(10,A36+4)):INDIRECT(\"'Success Criteria'!\" & ADDRESS(72,A36+4)),\"N/A\")","v":27},{"$f":"COUNTIF(INDIRECT(\"'Success Criteria'!\" & ADDRESS(10,A36+4)):INDIRECT(\"'Success Criteria'!\" & ADDRESS(72,A36+4)),\"not tested\")","v":0},{"$f":"SUM(COUNTIF(INDIRECT(\"'Success Criteria'!\" & ADDRESS(76,A36+4)):INDIRECT(\"'Success Criteria'!\" & ADDRESS(119,A36+4)),\"PASS\"),COUNTIF(INDIRECT(\"'Success Criteria'!\" & ADDRESS(76,A36+4)):INDIRECT(\"'Success Criteria'!\" & ADDRESS(119,A36+4)),\"PASS with comments\"))","v":10},{"$f":"COUNTIF(INDIRECT(\"'Success Criteria'!\" & ADDRESS(76,A36+4)):INDIRECT(\"'Success Criteria'!\" & ADDRESS(119,A36+4)),\"NON conformant\")","v":0},{"$f":"COUNTIF(INDIRECT(\"'Success Criteria'!\" & ADDRESS(76,A36+4)):INDIRECT(\"'Success Criteria'!\" & ADDRESS(119,A36+4)),\"N/A\")","v":10},{"$f":"COUNTIF(INDIRECT(\"'Success Criteria'!\" & ADDRESS(76,A36+4)):INDIRECT(\"'Success Criteria'!\" & ADDRESS(119,A36+4)),\"not tested\")","v":0},{"$f":"SUM(COUNTIF(INDIRECT(\"'Success Criteria'!\" & ADDRESS(124,A36+4)):INDIRECT(\"'Success Criteria'!\" & ADDRESS(178,A36+4)),\"PASS\"),COUNTIF(INDIRECT(\"'Success Criteria'!\" & ADDRESS(124,A36+4)):INDIRECT(\"'Success Criteria'!\" & ADDRESS(178,A36+4)),\"PASS with comments\"))","v":0},{"$f":"COUNTIF(INDIRECT(\"'Success Criteria'!\" & ADDRESS(124,A36+4)):INDIRECT(\"'Success Criteria'!\" & ADDRESS(178,A36+4)),\"NON conformant\")","v":0},{"$f":"COUNTIF(INDIRECT(\"'Success Criteria'!\" & ADDRESS(124,A36+4)):INDIRECT(\"'Success Criteria'!\" & ADDRESS(178,A36+4)),\"N/A\")","v":0},{"$f":"COUNTIF(INDIRECT(\"'Success Criteria'!\" & ADDRESS(124,A36+4)):INDIRECT(\"'Success Criteria'!\" & ADDRESS(178,A36+4)),\"not tested\")","v":28},12,1,37,28,null,30,1,20,1,28,1]
[23,"Edit user","https://rlac-test.glatest.org.uk/app/users/entity?id=251","HTML Page (excluding components)",{"$f":"SUM(COUNTIF(INDIRECT(\"'Success Criteria'!\" & ADDRESS(10,A37+4)):INDIRECT(\"'Success Criteria'!\" & ADDRESS(72,A37+4)),\"PASS\"),COUNTIF(INDIRECT(\"'Success Criteria'!\" & ADDRESS(10,A37+4)):INDIRECT(\"'Success Criteria'!\" & ADDRESS(72,A37+4)),\"PASS with comments\"))","v":15},{"$f":"COUNTIF(INDIRECT(\"'Success Criteria'!\" & ADDRESS(10,A37+4)):INDIRECT(\"'Success Criteria'!\" & ADDRESS(72,A37+4)),\"NON conformant\")","v":3},{"$f":"COUNTIF(INDIRECT(\"'Success Criteria'!\" & ADDRESS(10,A37+4)):INDIRECT(\"'Success Criteria'!\" & ADDRESS(72,A37+4)),\"N/A\")","v":12},{"$f":"COUNTIF(INDIRECT(\"'Success Criteria'!\" & ADDRESS(10,A37+4)):INDIRECT(\"'Success Criteria'!\" & ADDRESS(72,A37+4)),\"not tested\")","v":0},{"$f":"SUM(COUNTIF(INDIRECT(\"'Success Criteria'!\" & ADDRESS(76,A37+4)):INDIRECT(\"'Success Criteria'!\" & ADDRESS(119,A37+4)),\"PASS\"),COUNTIF(INDIRECT(\"'Success Criteria'!\" & ADDRESS(76,A37+4)):INDIRECT(\"'Success Criteria'!\" & ADDRESS(119,A37+4)),\"PASS with comments\"))","v":10},{"$f":"COUNTIF(INDIRECT(\"'Success Criteria'!\" & ADDRESS(76,A37+4)):INDIRECT(\"'Success Criteria'!\" & ADDRESS(119,A37+4)),\"NON conformant\")","v":0},{"$f":"COUNTIF(INDIRECT(\"'Success Criteria'!\" & ADDRESS(76,A37+4)):INDIRECT(\"'Success Criteria'!\" & ADDRESS(119,A37+4)),\"N/A\")","v":10},{"$f":"COUNTIF(INDIRECT(\"'Success Criteria'!\" & ADDRESS(76,A37+4)):INDIRECT(\"'Success Criteria'!\" & ADDRESS(119,A37+4)),\"not tested\")","v":0},{"$f":"SUM(COUNTIF(INDIRECT(\"'Success Criteria'!\" & ADDRESS(124,A37+4)):INDIRECT(\"'Success Criteria'!\" & ADDRESS(178,A37+4)),\"PASS\"),COUNTIF(INDIRECT(\"'Success Criteria'!\" & ADDRESS(124,A37+4)):INDIRECT(\"'Success Criteria'!\" & ADDRESS(178,A37+4)),\"PASS with comments\"))","v":0},{"$f":"COUNTIF(INDIRECT(\"'Success Criteria'!\" & ADDRESS(124,A37+4)):INDIRECT(\"'Success Criteria'!\" & ADDRESS(178,A37+4)),\"NON conformant\")","v":0},{"$f":"COUNTIF(INDIRECT(\"'Success Criteria'!\" & ADDRESS(124,A37+4)):INDIRECT(\"'Success Criteria'!\" & ADDRESS(178,A37+4)),\"N/A\")","v":0},{"$f":"COUNTIF(INDIRECT(\"'Success Criteria'!\" & ADDRESS(124,A37+4)):INDIRECT(\"'Success Criteria'!\" & ADDRESS(178,A37+4)),\"not tested\")","v":28},25,3,22,28,null,30,1,20,1,28,1]
[24,"Letter Template: Letters Decision Amend","https://rlac-test.glatest.org.uk/app/configure/letters-decision-amend","HTML Page (excluding components)",{"$f":"SUM(COUNTIF(INDIRECT(\"'Success Criteria'!\" & ADDRESS(10,A38+4)):INDIRECT(\"'Success Criteria'!\" & ADDRESS(72,A38+4)),\"PASS\"),COUNTIF(INDIRECT(\"'Success Criteria'!\" & ADDRESS(10,A38+4)):INDIRECT(\"'Success Criteria'!\" & ADDRESS(72,A38+4)),\"PASS with comments\"))","v":15},{"$f":"COUNTIF(INDIRECT(\"'Success Criteria'!\" & ADDRESS(10,A38+4)):INDIRECT(\"'Success Criteria'!\" & ADDRESS(72,A38+4)),\"NON conformant\")","v":3},{"$f":"COUNTIF(INDIRECT(\"'Success Criteria'!\" & ADDRESS(10,A38+4)):INDIRECT(\"'Success Criteria'!\" & ADDRESS(72,A38+4)),\"N/A\")","v":12},{"$f":"COUNTIF(INDIRECT(\"'Success Criteria'!\" & ADDRESS(10,A38+4)):INDIRECT(\"'Success Criteria'!\" & ADDRESS(72,A38+4)),\"not tested\")","v":0},{"$f":"SUM(COUNTIF(INDIRECT(\"'Success Criteria'!\" & ADDRESS(76,A38+4)):INDIRECT(\"'Success Criteria'!\" & ADDRESS(119,A38+4)),\"PASS\"),COUNTIF(INDIRECT(\"'Success Criteria'!\" & ADDRESS(76,A38+4)):INDIRECT(\"'Success Criteria'!\" & ADDRESS(119,A38+4)),\"PASS with comments\"))","v":10},{"$f":"COUNTIF(INDIRECT(\"'Success Criteria'!\" & ADDRESS(76,A38+4)):INDIRECT(\"'Success Criteria'!\" & ADDRESS(119,A38+4)),\"NON conformant\")","v":0},{"$f":"COUNTIF(INDIRECT(\"'Success Criteria'!\" & ADDRESS(76,A38+4)):INDIRECT(\"'Success Criteria'!\" & ADDRESS(119,A38+4)),\"N/A\")","v":10},{"$f":"COUNTIF(INDIRECT(\"'Success Criteria'!\" & ADDRESS(76,A38+4)):INDIRECT(\"'Success Criteria'!\" & ADDRESS(119,A38+4)),\"not tested\")","v":0},{"$f":"SUM(COUNTIF(INDIRECT(\"'Success Criteria'!\" & ADDRESS(124,A38+4)):INDIRECT(\"'Success Criteria'!\" & ADDRESS(178,A38+4)),\"PASS\"),COUNTIF(INDIRECT(\"'Success Criteria'!\" & ADDRESS(124,A38+4)):INDIRECT(\"'Success Criteria'!\" & ADDRESS(178,A38+4)),\"PASS with comments\"))","v":0},{"$f":"COUNTIF(INDIRECT(\"'Success Criteria'!\" & ADDRESS(124,A38+4)):INDIRECT(\"'Success Criteria'!\" & ADDRESS(178,A38+4)),\"NON conformant\")","v":0},{"$f":"COUNTIF(INDIRECT(\"'Success Criteria'!\" & ADDRESS(124,A38+4)):INDIRECT(\"'Success Criteria'!\" & ADDRESS(178,A38+4)),\"N/A\")","v":0},{"$f":"COUNTIF(INDIRECT(\"'Success Criteria'!\" & ADDRESS(124,A38+4)):INDIRECT(\"'Success Criteria'!\" & ADDRESS(178,A38+4)),\"not tested\")","v":28},25,3,22,28,null,30,1,20,1,28,1]
[25,"Suspend Enforcement Actions (Public) (Checkbox only)","https://rlac-test.glatest.org.uk/app/workflow/suspend-records/public","HTML Component",{"$f":"SUM(COUNTIF(INDIRECT(\"'Success Criteria'!\" & ADDRESS(10,A39+4)):INDIRECT(\"'Success Criteria'!\" & ADDRESS(72,A39+4)),\"PASS\"),COUNTIF(INDIRECT(\"'Success Criteria'!\" & ADDRESS(10,A39+4)):INDIRECT(\"'Success Criteria'!\" & ADDRESS(72,A39+4)),\"PASS with comments\"))","v":1},{"$f":"COUNTIF(INDIRECT(\"'Success Criteria'!\" & ADDRESS(10,A39+4)):INDIRECT(\"'Success Criteria'!\" & ADDRESS(72,A39+4)),\"NON conformant\")","v":1},{"$f":"COUNTIF(INDIRECT(\"'Success Criteria'!\" & ADDRESS(10,A39+4)):INDIRECT(\"'Success Criteria'!\" & ADDRESS(72,A39+4)),\"N/A\")","v":28},{"$f":"COUNTIF(INDIRECT(\"'Success Criteria'!\" & ADDRESS(10,A39+4)):INDIRECT(\"'Success Criteria'!\" & ADDRESS(72,A39+4)),\"not tested\")","v":0},{"$f":"SUM(COUNTIF(INDIRECT(\"'Success Criteria'!\" & ADDRESS(76,A39+4)):INDIRECT(\"'Success Criteria'!\" & ADDRESS(119,A39+4)),\"PASS\"),COUNTIF(INDIRECT(\"'Success Criteria'!\" & ADDRESS(76,A39+4)):INDIRECT(\"'Success Criteria'!\" & ADDRESS(119,A39+4)),\"PASS with comments\"))","v":10},{"$f":"COUNTIF(INDIRECT(\"'Success Criteria'!\" & ADDRESS(76,A39+4)):INDIRECT(\"'Success Criteria'!\" & ADDRESS(119,A39+4)),\"NON conformant\")","v":0},{"$f":"COUNTIF(INDIRECT(\"'Success Criteria'!\" & ADDRESS(76,A39+4)):INDIRECT(\"'Success Criteria'!\" & ADDRESS(119,A39+4)),\"N/A\")","v":10},{"$f":"COUNTIF(INDIRECT(\"'Success Criteria'!\" & ADDRESS(76,A39+4)):INDIRECT(\"'Success Criteria'!\" & ADDRESS(119,A39+4)),\"not tested\")","v":0},{"$f":"SUM(COUNTIF(INDIRECT(\"'Success Criteria'!\" & ADDRESS(124,A39+4)):INDIRECT(\"'Success Criteria'!\" & ADDRESS(178,A39+4)),\"PASS\"),COUNTIF(INDIRECT(\"'Success Criteria'!\" & ADDRESS(124,A39+4)):INDIRECT(\"'Success Criteria'!\" & ADDRESS(178,A39+4)),\"PASS with comments\"))","v":0},{"$f":"COUNTIF(INDIRECT(\"'Success Criteria'!\" & ADDRESS(124,A39+4)):INDIRECT(\"'Success Criteria'!\" & ADDRESS(178,A39+4)),\"NON conformant\")","v":0},{"$f":"COUNTIF(INDIRECT(\"'Success Criteria'!\" & ADDRESS(124,A39+4)):INDIRECT(\"'Success Criteria'!\" & ADDRESS(178,A39+4)),\"N/A\")","v":0},{"$f":"COUNTIF(INDIRECT(\"'Success Criteria'!\" & ADDRESS(124,A39+4)):INDIRECT(\"'Success Criteria'!\" & ADDRESS(178,A39+4)),\"not tested\")","v":28},11,1,38,28,null,30,1,20,1,28,1]
[26,"Suspend Enforcement Actions (Public) - are you sure?","https://rlac-test.glatest.org.uk/app/workflow/suspend-records/public","HTML Page (excluding components)",{"$f":"SUM(COUNTIF(INDIRECT(\"'Success Criteria'!\" & ADDRESS(10,A40+4)):INDIRECT(\"'Success Criteria'!\" & ADDRESS(72,A40+4)),\"PASS\"),COUNTIF(INDIRECT(\"'Success Criteria'!\" & ADDRESS(10,A40+4)):INDIRECT(\"'Success Criteria'!\" & ADDRESS(72,A40+4)),\"PASS with comments\"))","v":17},{"$f":"COUNTIF(INDIRECT(\"'Success Criteria'!\" & ADDRESS(10,A40+4)):INDIRECT(\"'Success Criteria'!\" & ADDRESS(72,A40+4)),\"NON conformant\")","v":1},{"$f":"COUNTIF(INDIRECT(\"'Success Criteria'!\" & ADDRESS(10,A40+4)):INDIRECT(\"'Success Criteria'!\" & ADDRESS(72,A40+4)),\"N/A\")","v":12},{"$f":"COUNTIF(INDIRECT(\"'Success Criteria'!\" & ADDRESS(10,A40+4)):INDIRECT(\"'Success Criteria'!\" & ADDRESS(72,A40+4)),\"not tested\")","v":0},{"$f":"SUM(COUNTIF(INDIRECT(\"'Success Criteria'!\" & ADDRESS(76,A40+4)):INDIRECT(\"'Success Criteria'!\" & ADDRESS(119,A40+4)),\"PASS\"),COUNTIF(INDIRECT(\"'Success Criteria'!\" & ADDRESS(76,A40+4)):INDIRECT(\"'Success Criteria'!\" & ADDRESS(119,A40+4)),\"PASS with comments\"))","v":10},{"$f":"COUNTIF(INDIRECT(\"'Success Criteria'!\" & ADDRESS(76,A40+4)):INDIRECT(\"'Success Criteria'!\" & ADDRESS(119,A40+4)),\"NON conformant\")","v":0},{"$f":"COUNTIF(INDIRECT(\"'Success Criteria'!\" & ADDRESS(76,A40+4)):INDIRECT(\"'Success Criteria'!\" & ADDRESS(119,A40+4)),\"N/A\")","v":10},{"$f":"COUNTIF(INDIRECT(\"'Success Criteria'!\" & ADDRESS(76,A40+4)):INDIRECT(\"'Success Criteria'!\" & ADDRESS(119,A40+4)),\"not tested\")","v":0},{"$f":"SUM(COUNTIF(INDIRECT(\"'Success Criteria'!\" & ADDRESS(124,A40+4)):INDIRECT(\"'Success Criteria'!\" & ADDRESS(178,A40+4)),\"PASS\"),COUNTIF(INDIRECT(\"'Success Criteria'!\" & ADDRESS(124,A40+4)):INDIRECT(\"'Success Criteria'!\" & ADDRESS(178,A40+4)),\"PASS with comments\"))","v":0},{"$f":"COUNTIF(INDIRECT(\"'Success Criteria'!\" & ADDRESS(124,A40+4)):INDIRECT(\"'Success Criteria'!\" & ADDRESS(178,A40+4)),\"NON conformant\")","v":0},{"$f":"COUNTIF(INDIRECT(\"'Success Criteria'!\" & ADDRESS(124,A40+4)):INDIRECT(\"'Success Criteria'!\" & ADDRESS(178,A40+4)),\"N/A\")","v":0},{"$f":"COUNTIF(INDIRECT(\"'Success Criteria'!\" & ADDRESS(124,A40+4)):INDIRECT(\"'Success Criteria'!\" & ADDRESS(178,A40+4)),\"not tested\")","v":28},27,1,22,28,null,30,1,20,1,28,1]
[27,"Decision Letter Entities (Table only)","https://rlac-test.glatest.org.uk/app/manage/decision-letters","HTML Component",{"$f":"SUM(COUNTIF(INDIRECT(\"'Success Criteria'!\" & ADDRESS(10,A41+4)):INDIRECT(\"'Success Criteria'!\" & ADDRESS(72,A41+4)),\"PASS\"),COUNTIF(INDIRECT(\"'Success Criteria'!\" & ADDRESS(10,A41+4)):INDIRECT(\"'Success Criteria'!\" & ADDRESS(72,A41+4)),\"PASS with comments\"))","v":13},{"$f":"COUNTIF(INDIRECT(\"'Success Criteria'!\" & ADDRESS(10,A41+4)):INDIRECT(\"'Success Criteria'!\" & ADDRESS(72,A41+4)),\"NON conformant\")","v":0},{"$f":"COUNTIF(INDIRECT(\"'Success Criteria'!\" & ADDRESS(10,A41+4)):INDIRECT(\"'Success Criteria'!\" & ADDRESS(72,A41+4)),\"N/A\")","v":17},{"$f":"COUNTIF(INDIRECT(\"'Success Criteria'!\" & ADDRESS(10,A41+4)):INDIRECT(\"'Success Criteria'!\" & ADDRESS(72,A41+4)),\"not tested\")","v":0},{"$f":"SUM(COUNTIF(INDIRECT(\"'Success Criteria'!\" & ADDRESS(76,A41+4)):INDIRECT(\"'Success Criteria'!\" & ADDRESS(119,A41+4)),\"PASS\"),COUNTIF(INDIRECT(\"'Success Criteria'!\" & ADDRESS(76,A41+4)):INDIRECT(\"'Success Criteria'!\" & ADDRESS(119,A41+4)),\"PASS with comments\"))","v":10},{"$f":"COUNTIF(INDIRECT(\"'Success Criteria'!\" & ADDRESS(76,A41+4)):INDIRECT(\"'Success Criteria'!\" & ADDRESS(119,A41+4)),\"NON conformant\")","v":0},{"$f":"COUNTIF(INDIRECT(\"'Success Criteria'!\" & ADDRESS(76,A41+4)):INDIRECT(\"'Success Criteria'!\" & ADDRESS(119,A41+4)),\"N/A\")","v":10},{"$f":"COUNTIF(INDIRECT(\"'Success Criteria'!\" & ADDRESS(76,A41+4)):INDIRECT(\"'Success Criteria'!\" & ADDRESS(119,A41+4)),\"not tested\")","v":0},{"$f":"SUM(COUNTIF(INDIRECT(\"'Success Criteria'!\" & ADDRESS(124,A41+4)):INDIRECT(\"'Success Criteria'!\" & ADDRESS(178,A41+4)),\"PASS\"),COUNTIF(INDIRECT(\"'Success Criteria'!\" & ADDRESS(124,A41+4)):INDIRECT(\"'Success Criteria'!\" & ADDRESS(178,A41+4)),\"PASS with comments\"))","v":0},{"$f":"COUNTIF(INDIRECT(\"'Success Criteria'!\" & ADDRESS(124,A41+4)):INDIRECT(\"'Success Criteria'!\" & ADDRESS(178,A41+4)),\"NON conformant\")","v":0},{"$f":"COUNTIF(INDIRECT(\"'Success Criteria'!\" & ADDRESS(124,A41+4)):INDIRECT(\"'Success Criteria'!\" & ADDRESS(178,A41+4)),\"N/A\")","v":0},{"$f":"COUNTIF(INDIRECT(\"'Success Criteria'!\" & ADDRESS(124,A41+4)):INDIRECT(\"'Success Criteria'!\" & ADDRESS(178,A41+4)),\"not tested\")","v":28},23,0,27,28,null,30,1,20,1,28,1]
[28,"Page 28","URL 30","Please select",{"$f":"SUM(COUNTIF(INDIRECT(\"'Success Criteria'!\" & ADDRESS(10,A42+4)):INDIRECT(\"'Success Criteria'!\" & ADDRESS(72,A42+4)),\"PASS\"),COUNTIF(INDIRECT(\"'Success Criteria'!\" & ADDRESS(10,A42+4)):INDIRECT(\"'Success Criteria'!\" & ADDRESS(72,A42+4)),\"PASS with comments\"))","v":0},{"$f":"COUNTIF(INDIRECT(\"'Success Criteria'!\" & ADDRESS(10,A42+4)):INDIRECT(\"'Success Criteria'!\" & ADDRESS(72,A42+4)),\"NON conformant\")","v":0},{"$f":"COUNTIF(INDIRECT(\"'Success Criteria'!\" & ADDRESS(10,A42+4)):INDIRECT(\"'Success Criteria'!\" & ADDRESS(72,A42+4)),\"N/A\")","v":0},{"$f":"COUNTIF(INDIRECT(\"'Success Criteria'!\" & ADDRESS(10,A42+4)):INDIRECT(\"'Success Criteria'!\" & ADDRESS(72,A42+4)),\"not tested\")","v":0},{"$f":"SUM(COUNTIF(INDIRECT(\"'Success Criteria'!\" & ADDRESS(76,A42+4)):INDIRECT(\"'Success Criteria'!\" & ADDRESS(119,A42+4)),\"PASS\"),COUNTIF(INDIRECT(\"'Success Criteria'!\" & ADDRESS(76,A42+4)):INDIRECT(\"'Success Criteria'!\" & ADDRESS(119,A42+4)),\"PASS with comments\"))","v":2},{"$f":"COUNTIF(INDIRECT(\"'Success Criteria'!\" & ADDRESS(76,A42+4)):INDIRECT(\"'Success Criteria'!\" & ADDRESS(119,A42+4)),\"NON conformant\")","v":0},{"$f":"COUNTIF(INDIRECT(\"'Success Criteria'!\" & ADDRESS(76,A42+4)):INDIRECT(\"'Success Criteria'!\" & ADDRESS(119,A42+4)),\"N/A\")","v":0},{"$f":"COUNTIF(INDIRECT(\"'Success Criteria'!\" & ADDRESS(76,A42+4)):INDIRECT(\"'Success Criteria'!\" & ADDRESS(119,A42+4)),\"not tested\")","v":0},{"$f":"SUM(COUNTIF(INDIRECT(\"'Success Criteria'!\" & ADDRESS(124,A42+4)):INDIRECT(\"'Success Criteria'!\" & ADDRESS(178,A42+4)),\"PASS\"),COUNTIF(INDIRECT(\"'Success Criteria'!\" & ADDRESS(124,A42+4)):INDIRECT(\"'Success Criteria'!\" & ADDRESS(178,A42+4)),\"PASS with comments\"))","v":0},{"$f":"COUNTIF(INDIRECT(\"'Success Criteria'!\" & ADDRESS(124,A42+4)):INDIRECT(\"'Success Criteria'!\" & ADDRESS(178,A42+4)),\"NON conformant\")","v":0},{"$f":"COUNTIF(INDIRECT(\"'Success Criteria'!\" & ADDRESS(124,A42+4)):INDIRECT(\"'Success Criteria'!\" & ADDRESS(178,A42+4)),\"N/A\")","v":0},{"$f":"COUNTIF(INDIRECT(\"'Success Criteria'!\" & ADDRESS(124,A42+4)):INDIRECT(\"'Success Criteria'!\" & ADDRESS(178,A42+4)),\"not tested\")","v":28},2,0,0,28,null,0,"",2,"",28,1]
[29,"Page 29","URL 30","Please select",{"$f":"SUM(COUNTIF(INDIRECT(\"'Success Criteria'!\" & ADDRESS(10,A43+4)):INDIRECT(\"'Success Criteria'!\" & ADDRESS(72,A43+4)),\"PASS\"),COUNTIF(INDIRECT(\"'Success Criteria'!\" & ADDRESS(10,A43+4)):INDIRECT(\"'Success Criteria'!\" & ADDRESS(72,A43+4)),\"PASS with comments\"))","v":0},{"$f":"COUNTIF(INDIRECT(\"'Success Criteria'!\" & ADDRESS(10,A43+4)):INDIRECT(\"'Success Criteria'!\" & ADDRESS(72,A43+4)),\"NON conformant\")","v":0},{"$f":"COUNTIF(INDIRECT(\"'Success Criteria'!\" & ADDRESS(10,A43+4)):INDIRECT(\"'Success Criteria'!\" & ADDRESS(72,A43+4)),\"N/A\")","v":0},{"$f":"COUNTIF(INDIRECT(\"'Success Criteria'!\" & ADDRESS(10,A43+4)):INDIRECT(\"'Success Criteria'!\" & ADDRESS(72,A43+4)),\"not tested\")","v":0},{"$f":"SUM(COUNTIF(INDIRECT(\"'Success Criteria'!\" & ADDRESS(76,A43+4)):INDIRECT(\"'Success Criteria'!\" & ADDRESS(119,A43+4)),\"PASS\"),COUNTIF(INDIRECT(\"'Success Criteria'!\" & ADDRESS(76,A43+4)):INDIRECT(\"'Success Criteria'!\" & ADDRESS(119,A43+4)),\"PASS with comments\"))","v":2},{"$f":"COUNTIF(INDIRECT(\"'Success Criteria'!\" & ADDRESS(76,A43+4)):INDIRECT(\"'Success Criteria'!\" & ADDRESS(119,A43+4)),\"NON conformant\")","v":0},{"$f":"COUNTIF(INDIRECT(\"'Success Criteria'!\" & ADDRESS(76,A43+4)):INDIRECT(\"'Success Criteria'!\" & ADDRESS(119,A43+4)),\"N/A\")","v":0},{"$f":"COUNTIF(INDIRECT(\"'Success Criteria'!\" & ADDRESS(76,A43+4)):INDIRECT(\"'Success Criteria'!\" & ADDRESS(119,A43+4)),\"not tested\")","v":0},{"$f":"SUM(COUNTIF(INDIRECT(\"'Success Criteria'!\" & ADDRESS(124,A43+4)):INDIRECT(\"'Success Criteria'!\" & ADDRESS(178,A43+4)),\"PASS\"),COUNTIF(INDIRECT(\"'Success Criteria'!\" & ADDRESS(124,A43+4)):INDIRECT(\"'Success Criteria'!\" & ADDRESS(178,A43+4)),\"PASS with comments\"))","v":0},{"$f":"COUNTIF(INDIRECT(\"'Success Criteria'!\" & ADDRESS(124,A43+4)):INDIRECT(\"'Success Criteria'!\" & ADDRESS(178,A43+4)),\"NON conformant\")","v":0},{"$f":"COUNTIF(INDIRECT(\"'Success Criteria'!\" & ADDRESS(124,A43+4)):INDIRECT(\"'Success Criteria'!\" & ADDRESS(178,A43+4)),\"N/A\")","v":0},{"$f":"COUNTIF(INDIRECT(\"'Success Criteria'!\" & ADDRESS(124,A43+4)):INDIRECT(\"'Success Criteria'!\" & ADDRESS(178,A43+4)),\"not tested\")","v":28},2,0,0,28,null,0,"",2,"",28,1]
[30,"Page 30","URL 30","Please select",{"$f":"SUM(COUNTIF(INDIRECT(\"'Success Criteria'!\" & ADDRESS(10,A44+4)):INDIRECT(\"'Success Criteria'!\" & ADDRESS(72,A44+4)),\"PASS\"),COUNTIF(INDIRECT(\"'Success Criteria'!\" & ADDRESS(10,A44+4)):INDIRECT(\"'Success Criteria'!\" & ADDRESS(72,A44+4)),\"PASS with comments\"))","v":0},{"$f":"COUNTIF(INDIRECT(\"'Success Criteria'!\" & ADDRESS(10,A44+4)):INDIRECT(\"'Success Criteria'!\" & ADDRESS(72,A44+4)),\"NON conformant\")","v":0},{"$f":"COUNTIF(INDIRECT(\"'Success Criteria'!\" & ADDRESS(10,A44+4)):INDIRECT(\"'Success Criteria'!\" & ADDRESS(72,A44+4)),\"N/A\")","v":0},{"$f":"COUNTIF(INDIRECT(\"'Success Criteria'!\" & ADDRESS(10,A44+4)):INDIRECT(\"'Success Criteria'!\" & ADDRESS(72,A44+4)),\"not tested\")","v":0},{"$f":"SUM(COUNTIF(INDIRECT(\"'Success Criteria'!\" & ADDRESS(76,A44+4)):INDIRECT(\"'Success Criteria'!\" & ADDRESS(119,A44+4)),\"PASS\"),COUNTIF(INDIRECT(\"'Success Criteria'!\" & ADDRESS(76,A44+4)):INDIRECT(\"'Success Criteria'!\" & ADDRESS(119,A44+4)),\"PASS with comments\"))","v":2},{"$f":"COUNTIF(INDIRECT(\"'Success Criteria'!\" & ADDRESS(76,A44+4)):INDIRECT(\"'Success Criteria'!\" & ADDRESS(119,A44+4)),\"NON conformant\")","v":0},{"$f":"COUNTIF(INDIRECT(\"'Success Criteria'!\" & ADDRESS(76,A44+4)):INDIRECT(\"'Success Criteria'!\" & ADDRESS(119,A44+4)),\"N/A\")","v":0},{"$f":"COUNTIF(INDIRECT(\"'Success Criteria'!\" & ADDRESS(76,A44+4)):INDIRECT(\"'Success Criteria'!\" & ADDRESS(119,A44+4)),\"not tested\")","v":0},{"$f":"SUM(COUNTIF(INDIRECT(\"'Success Criteria'!\" & ADDRESS(124,A44+4)):INDIRECT(\"'Success Criteria'!\" & ADDRESS(178,A44+4)),\"PASS\"),COUNTIF(INDIRECT(\"'Success Criteria'!\" & ADDRESS(124,A44+4)):INDIRECT(\"'Success Criteria'!\" & ADDRESS(178,A44+4)),\"PASS with comments\"))","v":0},{"$f":"COUNTIF(INDIRECT(\"'Success Criteria'!\" & ADDRESS(124,A44+4)):INDIRECT(\"'Success Criteria'!\" & ADDRESS(178,A44+4)),\"NON conformant\")","v":0},{"$f":"COUNTIF(INDIRECT(\"'Success Criteria'!\" & ADDRESS(124,A44+4)):INDIRECT(\"'Success Criteria'!\" & ADDRESS(178,A44+4)),\"N/A\")","v":0},{"$f":"COUNTIF(INDIRECT(\"'Success Criteria'!\" & ADDRESS(124,A44+4)):INDIRECT(\"'Success Criteria'!\" & ADDRESS(178,A44+4)),\"not tested\")","v":28},2,0,0,28,null,0,"",2,"",28,1]
[31,"Page 31","URL 31","Please select",{"$f":"SUM(COUNTIF(INDIRECT(\"'Success Criteria'!\" & ADDRESS(10,A45+4)):INDIRECT(\"'Success Criteria'!\" & ADDRESS(72,A45+4)),\"PASS\"),COUNTIF(INDIRECT(\"'Success Criteria'!\" & ADDRESS(10,A45+4)):INDIRECT(\"'Success Criteria'!\" & ADDRESS(72,A45+4)),\"PASS with comments\"))","v":0},{"$f":"COUNTIF(INDIRECT(\"'Success Criteria'!\" & ADDRESS(10,A45+4)):INDIRECT(\"'Success Criteria'!\" & ADDRESS(72,A45+4)),\"NON conformant\")","v":0},{"$f":"COUNTIF(INDIRECT(\"'Success Criteria'!\" & ADDRESS(10,A45+4)):INDIRECT(\"'Success Criteria'!\" & ADDRESS(72,A45+4)),\"N/A\")","v":0},{"$f":"COUNTIF(INDIRECT(\"'Success Criteria'!\" & ADDRESS(10,A45+4)):INDIRECT(\"'Success Criteria'!\" & ADDRESS(72,A45+4)),\"not tested\")","v":0},{"$f":"SUM(COUNTIF(INDIRECT(\"'Success Criteria'!\" & ADDRESS(76,A45+4)):INDIRECT(\"'Success Criteria'!\" & ADDRESS(119,A45+4)),\"PASS\"),COUNTIF(INDIRECT(\"'Success Criteria'!\" & ADDRESS(76,A45+4)):INDIRECT(\"'Success Criteria'!\" & ADDRESS(119,A45+4)),\"PASS with comments\"))","v":2},{"$f":"COUNTIF(INDIRECT(\"'Success Criteria'!\" & ADDRESS(76,A45+4)):INDIRECT(\"'Success Criteria'!\" & ADDRESS(119,A45+4)),\"NON conformant\")","v":0},{"$f":"COUNTIF(INDIRECT(\"'Success Criteria'!\" & ADDRESS(76,A45+4)):INDIRECT(\"'Success Criteria'!\" & ADDRESS(119,A45+4)),\"N/A\")","v":0},{"$f":"COUNTIF(INDIRECT(\"'Success Criteria'!\" & ADDRESS(76,A45+4)):INDIRECT(\"'Success Criteria'!\" & ADDRESS(119,A45+4)),\"not tested\")","v":0},{"$f":"SUM(COUNTIF(INDIRECT(\"'Success Criteria'!\" & ADDRESS(124,A45+4)):INDIRECT(\"'Success Criteria'!\" & ADDRESS(178,A45+4)),\"PASS\"),COUNTIF(INDIRECT(\"'Success Criteria'!\" & ADDRESS(124,A45+4)):INDIRECT(\"'Success Criteria'!\" & ADDRESS(178,A45+4)),\"PASS with comments\"))","v":0},{"$f":"COUNTIF(INDIRECT(\"'Success Criteria'!\" & ADDRESS(124,A45+4)):INDIRECT(\"'Success Criteria'!\" & ADDRESS(178,A45+4)),\"NON conformant\")","v":0},{"$f":"COUNTIF(INDIRECT(\"'Success Criteria'!\" & ADDRESS(124,A45+4)):INDIRECT(\"'Success Criteria'!\" & ADDRESS(178,A45+4)),\"N/A\")","v":0},{"$f":"COUNTIF(INDIRECT(\"'Success Criteria'!\" & ADDRESS(124,A45+4)):INDIRECT(\"'Success Criteria'!\" & ADDRESS(178,A45+4)),\"not tested\")","v":28},2,0,0,28,null,0,"",2,"",28,1]
[32,"Page 32","URL 32","Please select",{"$f":"SUM(COUNTIF(INDIRECT(\"'Success Criteria'!\" & ADDRESS(10,A46+4)):INDIRECT(\"'Success Criteria'!\" & ADDRESS(72,A46+4)),\"PASS\"),COUNTIF(INDIRECT(\"'Success Criteria'!\" & ADDRESS(10,A46+4)):INDIRECT(\"'Success Criteria'!\" & ADDRESS(72,A46+4)),\"PASS with comments\"))","v":0},{"$f":"COUNTIF(INDIRECT(\"'Success Criteria'!\" & ADDRESS(10,A46+4)):INDIRECT(\"'Success Criteria'!\" & ADDRESS(72,A46+4)),\"NON conformant\")","v":0},{"$f":"COUNTIF(INDIRECT(\"'Success Criteria'!\" & ADDRESS(10,A46+4)):INDIRECT(\"'Success Criteria'!\" & ADDRESS(72,A46+4)),\"N/A\")","v":0},{"$f":"COUNTIF(INDIRECT(\"'Success Criteria'!\" & ADDRESS(10,A46+4)):INDIRECT(\"'Success Criteria'!\" & ADDRESS(72,A46+4)),\"not tested\")","v":0},{"$f":"SUM(COUNTIF(INDIRECT(\"'Success Criteria'!\" & ADDRESS(76,A46+4)):INDIRECT(\"'Success Criteria'!\" & ADDRESS(119,A46+4)),\"PASS\"),COUNTIF(INDIRECT(\"'Success Criteria'!\" & ADDRESS(76,A46+4)):INDIRECT(\"'Success Criteria'!\" & ADDRESS(119,A46+4)),\"PASS with comments\"))","v":2},{"$f":"COUNTIF(INDIRECT(\"'Success Criteria'!\" & ADDRESS(76,A46+4)):INDIRECT(\"'Success Criteria'!\" & ADDRESS(119,A46+4)),\"NON conformant\")","v":0},{"$f":"COUNTIF(INDIRECT(\"'Success Criteria'!\" & ADDRESS(76,A46+4)):INDIRECT(\"'Success Criteria'!\" & ADDRESS(119,A46+4)),\"N/A\")","v":0},{"$f":"COUNTIF(INDIRECT(\"'Success Criteria'!\" & ADDRESS(76,A46+4)):INDIRECT(\"'Success Criteria'!\" & ADDRESS(119,A46+4)),\"not tested\")","v":0},{"$f":"SUM(COUNTIF(INDIRECT(\"'Success Criteria'!\" & ADDRESS(124,A46+4)):INDIRECT(\"'Success Criteria'!\" & ADDRESS(178,A46+4)),\"PASS\"),COUNTIF(INDIRECT(\"'Success Criteria'!\" & ADDRESS(124,A46+4)):INDIRECT(\"'Success Criteria'!\" & ADDRESS(178,A46+4)),\"PASS with comments\"))","v":0},{"$f":"COUNTIF(INDIRECT(\"'Success Criteria'!\" & ADDRESS(124,A46+4)):INDIRECT(\"'Success Criteria'!\" & ADDRESS(178,A46+4)),\"NON conformant\")","v":0},{"$f":"COUNTIF(INDIRECT(\"'Success Criteria'!\" & ADDRESS(124,A46+4)):INDIRECT(\"'Success Criteria'!\" & ADDRESS(178,A46+4)),\"N/A\")","v":0},{"$f":"COUNTIF(INDIRECT(\"'Success Criteria'!\" & ADDRESS(124,A46+4)):INDIRECT(\"'Success Criteria'!\" & ADDRESS(178,A46+4)),\"not tested\")","v":28},2,0,0,28,null,0,"",2,"",28,1]
[33,"Page 33","URL 33","Please select",{"$f":"SUM(COUNTIF(INDIRECT(\"'Success Criteria'!\" & ADDRESS(10,A47+4)):INDIRECT(\"'Success Criteria'!\" & ADDRESS(72,A47+4)),\"PASS\"),COUNTIF(INDIRECT(\"'Success Criteria'!\" & ADDRESS(10,A47+4)):INDIRECT(\"'Success Criteria'!\" & ADDRESS(72,A47+4)),\"PASS with comments\"))","v":0},{"$f":"COUNTIF(INDIRECT(\"'Success Criteria'!\" & ADDRESS(10,A47+4)):INDIRECT(\"'Success Criteria'!\" & ADDRESS(72,A47+4)),\"NON conformant\")","v":0},{"$f":"COUNTIF(INDIRECT(\"'Success Criteria'!\" & ADDRESS(10,A47+4)):INDIRECT(\"'Success Criteria'!\" & ADDRESS(72,A47+4)),\"N/A\")","v":0},{"$f":"COUNTIF(INDIRECT(\"'Success Criteria'!\" & ADDRESS(10,A47+4)):INDIRECT(\"'Success Criteria'!\" & ADDRESS(72,A47+4)),\"not tested\")","v":0},{"$f":"SUM(COUNTIF(INDIRECT(\"'Success Criteria'!\" & ADDRESS(76,A47+4)):INDIRECT(\"'Success Criteria'!\" & ADDRESS(119,A47+4)),\"PASS\"),COUNTIF(INDIRECT(\"'Success Criteria'!\" & ADDRESS(76,A47+4)):INDIRECT(\"'Success Criteria'!\" & ADDRESS(119,A47+4)),\"PASS with comments\"))","v":2},{"$f":"COUNTIF(INDIRECT(\"'Success Criteria'!\" & ADDRESS(76,A47+4)):INDIRECT(\"'Success Criteria'!\" & ADDRESS(119,A47+4)),\"NON conformant\")","v":0},{"$f":"COUNTIF(INDIRECT(\"'Success Criteria'!\" & ADDRESS(76,A47+4)):INDIRECT(\"'Success Criteria'!\" & ADDRESS(119,A47+4)),\"N/A\")","v":0},{"$f":"COUNTIF(INDIRECT(\"'Success Criteria'!\" & ADDRESS(76,A47+4)):INDIRECT(\"'Success Criteria'!\" & ADDRESS(119,A47+4)),\"not tested\")","v":0},{"$f":"SUM(COUNTIF(INDIRECT(\"'Success Criteria'!\" & ADDRESS(124,A47+4)):INDIRECT(\"'Success Criteria'!\" & ADDRESS(178,A47+4)),\"PASS\"),COUNTIF(INDIRECT(\"'Success Criteria'!\" & ADDRESS(124,A47+4)):INDIRECT(\"'Success Criteria'!\" & ADDRESS(178,A47+4)),\"PASS with comments\"))","v":0},{"$f":"COUNTIF(INDIRECT(\"'Success Criteria'!\" & ADDRESS(124,A47+4)):INDIRECT(\"'Success Criteria'!\" & ADDRESS(178,A47+4)),\"NON conformant\")","v":0},{"$f":"COUNTIF(INDIRECT(\"'Success Criteria'!\" & ADDRESS(124,A47+4)):INDIRECT(\"'Success Criteria'!\" & ADDRESS(178,A47+4)),\"N/A\")","v":0},{"$f":"COUNTIF(INDIRECT(\"'Success Criteria'!\" & ADDRESS(124,A47+4)):INDIRECT(\"'Success Criteria'!\" & ADDRESS(178,A47+4)),\"not tested\")","v":28},2,0,0,28,null,{"$f":"SUM(E47:H47)","v":0},{"$f":"IF(V47=30,1,\"\")","v":""},2,"",28,1]
[34,"Page 34","URL 34","Please select",{"$f":"SUM(COUNTIF(INDIRECT(\"'Success Criteria'!\" & ADDRESS(10,A48+4)):INDIRECT(\"'Success Criteria'!\" & ADDRESS(72,A48+4)),\"PASS\"),COUNTIF(INDIRECT(\"'Success Criteria'!\" & ADDRESS(10,A48+4)):INDIRECT(\"'Success Criteria'!\" & ADDRESS(72,A48+4)),\"PASS with comments\"))","v":0},{"$f":"COUNTIF(INDIRECT(\"'Success Criteria'!\" & ADDRESS(10,A48+4)):INDIRECT(\"'Success Criteria'!\" & ADDRESS(72,A48+4)),\"NON conformant\")","v":0},{"$f":"COUNTIF(INDIRECT(\"'Success Criteria'!\" & ADDRESS(10,A48+4)):INDIRECT(\"'Success Criteria'!\" & ADDRESS(72,A48+4)),\"N/A\")","v":0},{"$f":"COUNTIF(INDIRECT(\"'Success Criteria'!\" & ADDRESS(10,A48+4)):INDIRECT(\"'Success Criteria'!\" & ADDRESS(72,A48+4)),\"not tested\")","v":0},{"$f":"SUM(COUNTIF(INDIRECT(\"'Success Criteria'!\" & ADDRESS(76,A48+4)):INDIRECT(\"'Success Criteria'!\" & ADDRESS(119,A48+4)),\"PASS\"),COUNTIF(INDIRECT(\"'Success Criteria'!\" & ADDRESS(76,A48+4)):INDIRECT(\"'Success Criteria'!\" & ADDRESS(119,A48+4)),\"PASS with comments\"))","v":2},{"$f":"COUNTIF(INDIRECT(\"'Success Criteria'!\" & ADDRESS(76,A48+4)):INDIRECT(\"'Success Criteria'!\" & ADDRESS(119,A48+4)),\"NON conformant\")","v":0},{"$f":"COUNTIF(INDIRECT(\"'Success Criteria'!\" & ADDRESS(76,A48+4)):INDIRECT(\"'Success Criteria'!\" & ADDRESS(119,A48+4)),\"N/A\")","v":0},{"$f":"COUNTIF(INDIRECT(\"'Success Criteria'!\" & ADDRESS(76,A48+4)):INDIRECT(\"'Success Criteria'!\" & ADDRESS(119,A48+4)),\"not tested\")","v":0},{"$f":"SUM(COUNTIF(INDIRECT(\"'Success Criteria'!\" & ADDRESS(124,A48+4)):INDIRECT(\"'Success Criteria'!\" & ADDRESS(178,A48+4)),\"PASS\"),COUNTIF(INDIRECT(\"'Success Criteria'!\" & ADDRESS(124,A48+4)):INDIRECT(\"'Success Criteria'!\" & ADDRESS(178,A48+4)),\"PASS with comments\"))","v":0},{"$f":"COUNTIF(INDIRECT(\"'Success Criteria'!\" & ADDRESS(124,A48+4)):INDIRECT(\"'Success Criteria'!\" & ADDRESS(178,A48+4)),\"NON conformant\")","v":0},{"$f":"COUNTIF(INDIRECT(\"'Success Criteria'!\" & ADDRESS(124,A48+4)):INDIRECT(\"'Success Criteria'!\" & ADDRESS(178,A48+4)),\"N/A\")","v":0},{"$f":"COUNTIF(INDIRECT(\"'Success Criteria'!\" & ADDRESS(124,A48+4)):INDIRECT(\"'Success Criteria'!\" & ADDRESS(178,A48+4)),\"not tested\")","v":28},2,0,0,28,null,0,"",2,"",28,1]
[35,"Page 35","URL 35","Please select",{"$f":"SUM(COUNTIF(INDIRECT(\"'Success Criteria'!\" & ADDRESS(10,A49+4)):INDIRECT(\"'Success Criteria'!\" & ADDRESS(72,A49+4)),\"PASS\"),COUNTIF(INDIRECT(\"'Success Criteria'!\" & ADDRESS(10,A49+4)):INDIRECT(\"'Success Criteria'!\" & ADDRESS(72,A49+4)),\"PASS with comments\"))","v":0},{"$f":"COUNTIF(INDIRECT(\"'Success Criteria'!\" & ADDRESS(10,A49+4)):INDIRECT(\"'Success Criteria'!\" & ADDRESS(72,A49+4)),\"NON conformant\")","v":0},{"$f":"COUNTIF(INDIRECT(\"'Success Criteria'!\" & ADDRESS(10,A49+4)):INDIRECT(\"'Success Criteria'!\" & ADDRESS(72,A49+4)),\"N/A\")","v":0},{"$f":"COUNTIF(INDIRECT(\"'Success Criteria'!\" & ADDRESS(10,A49+4)):INDIRECT(\"'Success Criteria'!\" & ADDRESS(72,A49+4)),\"not tested\")","v":0},{"$f":"SUM(COUNTIF(INDIRECT(\"'Success Criteria'!\" & ADDRESS(76,A49+4)):INDIRECT(\"'Success Criteria'!\" & ADDRESS(119,A49+4)),\"PASS\"),COUNTIF(INDIRECT(\"'Success Criteria'!\" & ADDRESS(76,A49+4)):INDIRECT(\"'Success Criteria'!\" & ADDRESS(119,A49+4)),\"PASS with comments\"))","v":2},{"$f":"COUNTIF(INDIRECT(\"'Success Criteria'!\" & ADDRESS(76,A49+4)):INDIRECT(\"'Success Criteria'!\" & ADDRESS(119,A49+4)),\"NON conformant\")","v":0},{"$f":"COUNTIF(INDIRECT(\"'Success Criteria'!\" & ADDRESS(76,A49+4)):INDIRECT(\"'Success Criteria'!\" & ADDRESS(119,A49+4)),\"N/A\")","v":0},{"$f":"COUNTIF(INDIRECT(\"'Success Criteria'!\" & ADDRESS(76,A49+4)):INDIRECT(\"'Success Criteria'!\" & ADDRESS(119,A49+4)),\"not tested\")","v":0},{"$f":"SUM(COUNTIF(INDIRECT(\"'Success Criteria'!\" & ADDRESS(124,A49+4)):INDIRECT(\"'Success Criteria'!\" & ADDRESS(178,A49+4)),\"PASS\"),COUNTIF(INDIRECT(\"'Success Criteria'!\" & ADDRESS(124,A49+4)):INDIRECT(\"'Success Criteria'!\" & ADDRESS(178,A49+4)),\"PASS with comments\"))","v":0},{"$f":"COUNTIF(INDIRECT(\"'Success Criteria'!\" & ADDRESS(124,A49+4)):INDIRECT(\"'Success Criteria'!\" & ADDRESS(178,A49+4)),\"NON conformant\")","v":0},{"$f":"COUNTIF(INDIRECT(\"'Success Criteria'!\" & ADDRESS(124,A49+4)):INDIRECT(\"'Success Criteria'!\" & ADDRESS(178,A49+4)),\"N/A\")","v":0},{"$f":"COUNTIF(INDIRECT(\"'Success Criteria'!\" & ADDRESS(124,A49+4)):INDIRECT(\"'Success Criteria'!\" & ADDRESS(178,A49+4)),\"not tested\")","v":28},2,0,0,28,null,0,"",2,"",28,1]
[36,"Page 36","URL 36","Please select",{"$f":"SUM(COUNTIF(INDIRECT(\"'Success Criteria'!\" & ADDRESS(10,A50+4)):INDIRECT(\"'Success Criteria'!\" & ADDRESS(72,A50+4)),\"PASS\"),COUNTIF(INDIRECT(\"'Success Criteria'!\" & ADDRESS(10,A50+4)):INDIRECT(\"'Success Criteria'!\" & ADDRESS(72,A50+4)),\"PASS with comments\"))","v":0},{"$f":"COUNTIF(INDIRECT(\"'Success Criteria'!\" & ADDRESS(10,A50+4)):INDIRECT(\"'Success Criteria'!\" & ADDRESS(72,A50+4)),\"NON conformant\")","v":0},{"$f":"COUNTIF(INDIRECT(\"'Success Criteria'!\" & ADDRESS(10,A50+4)):INDIRECT(\"'Success Criteria'!\" & ADDRESS(72,A50+4)),\"N/A\")","v":0},{"$f":"COUNTIF(INDIRECT(\"'Success Criteria'!\" & ADDRESS(10,A50+4)):INDIRECT(\"'Success Criteria'!\" & ADDRESS(72,A50+4)),\"not tested\")","v":0},{"$f":"SUM(COUNTIF(INDIRECT(\"'Success Criteria'!\" & ADDRESS(76,A50+4)):INDIRECT(\"'Success Criteria'!\" & ADDRESS(119,A50+4)),\"PASS\"),COUNTIF(INDIRECT(\"'Success Criteria'!\" & ADDRESS(76,A50+4)):INDIRECT(\"'Success Criteria'!\" & ADDRESS(119,A50+4)),\"PASS with comments\"))","v":2},{"$f":"COUNTIF(INDIRECT(\"'Success Criteria'!\" & ADDRESS(76,A50+4)):INDIRECT(\"'Success Criteria'!\" & ADDRESS(119,A50+4)),\"NON conformant\")","v":0},{"$f":"COUNTIF(INDIRECT(\"'Success Criteria'!\" & ADDRESS(76,A50+4)):INDIRECT(\"'Success Criteria'!\" & ADDRESS(119,A50+4)),\"N/A\")","v":0},{"$f":"COUNTIF(INDIRECT(\"'Success Criteria'!\" & ADDRESS(76,A50+4)):INDIRECT(\"'Success Criteria'!\" & ADDRESS(119,A50+4)),\"not tested\")","v":0},{"$f":"SUM(COUNTIF(INDIRECT(\"'Success Criteria'!\" & ADDRESS(124,A50+4)):INDIRECT(\"'Success Criteria'!\" & ADDRESS(178,A50+4)),\"PASS\"),COUNTIF(INDIRECT(\"'Success Criteria'!\" & ADDRESS(124,A50+4)):INDIRECT(\"'Success Criteria'!\" & ADDRESS(178,A50+4)),\"PASS with comments\"))","v":0},{"$f":"COUNTIF(INDIRECT(\"'Success Criteria'!\" & ADDRESS(124,A50+4)):INDIRECT(\"'Success Criteria'!\" & ADDRESS(178,A50+4)),\"NON conformant\")","v":0},{"$f":"COUNTIF(INDIRECT(\"'Success Criteria'!\" & ADDRESS(124,A50+4)):INDIRECT(\"'Success Criteria'!\" & ADDRESS(178,A50+4)),\"N/A\")","v":0},{"$f":"COUNTIF(INDIRECT(\"'Success Criteria'!\" & ADDRESS(124,A50+4)):INDIRECT(\"'Success Criteria'!\" & ADDRESS(178,A50+4)),\"not tested\")","v":28},2,0,0,28,null,0,"",2,"",28,1]
[37,"Page 37","URL 37","Please select",{"$f":"SUM(COUNTIF(INDIRECT(\"'Success Criteria'!\" & ADDRESS(10,A51+4)):INDIRECT(\"'Success Criteria'!\" & ADDRESS(72,A51+4)),\"PASS\"),COUNTIF(INDIRECT(\"'Success Criteria'!\" & ADDRESS(10,A51+4)):INDIRECT(\"'Success Criteria'!\" & ADDRESS(72,A51+4)),\"PASS with comments\"))","v":0},{"$f":"COUNTIF(INDIRECT(\"'Success Criteria'!\" & ADDRESS(10,A51+4)):INDIRECT(\"'Success Criteria'!\" & ADDRESS(72,A51+4)),\"NON conformant\")","v":0},{"$f":"COUNTIF(INDIRECT(\"'Success Criteria'!\" & ADDRESS(10,A51+4)):INDIRECT(\"'Success Criteria'!\" & ADDRESS(72,A51+4)),\"N/A\")","v":0},{"$f":"COUNTIF(INDIRECT(\"'Success Criteria'!\" & ADDRESS(10,A51+4)):INDIRECT(\"'Success Criteria'!\" & ADDRESS(72,A51+4)),\"not tested\")","v":0},{"$f":"SUM(COUNTIF(INDIRECT(\"'Success Criteria'!\" & ADDRESS(76,A51+4)):INDIRECT(\"'Success Criteria'!\" & ADDRESS(119,A51+4)),\"PASS\"),COUNTIF(INDIRECT(\"'Success Criteria'!\" & ADDRESS(76,A51+4)):INDIRECT(\"'Success Criteria'!\" & ADDRESS(119,A51+4)),\"PASS with comments\"))","v":2},{"$f":"COUNTIF(INDIRECT(\"'Success Criteria'!\" & ADDRESS(76,A51+4)):INDIRECT(\"'Success Criteria'!\" & ADDRESS(119,A51+4)),\"NON conformant\")","v":0},{"$f":"COUNTIF(INDIRECT(\"'Success Criteria'!\" & ADDRESS(76,A51+4)):INDIRECT(\"'Success Criteria'!\" & ADDRESS(119,A51+4)),\"N/A\")","v":0},{"$f":"COUNTIF(INDIRECT(\"'Success Criteria'!\" & ADDRESS(76,A51+4)):INDIRECT(\"'Success Criteria'!\" & ADDRESS(119,A51+4)),\"not tested\")","v":0},{"$f":"SUM(COUNTIF(INDIRECT(\"'Success Criteria'!\" & ADDRESS(124,A51+4)):INDIRECT(\"'Success Criteria'!\" & ADDRESS(178,A51+4)),\"PASS\"),COUNTIF(INDIRECT(\"'Success Criteria'!\" & ADDRESS(124,A51+4)):INDIRECT(\"'Success Criteria'!\" & ADDRESS(178,A51+4)),\"PASS with comments\"))","v":0},{"$f":"COUNTIF(INDIRECT(\"'Success Criteria'!\" & ADDRESS(124,A51+4)):INDIRECT(\"'Success Criteria'!\" & ADDRESS(178,A51+4)),\"NON conformant\")","v":0},{"$f":"COUNTIF(INDIRECT(\"'Success Criteria'!\" & ADDRESS(124,A51+4)):INDIRECT(\"'Success Criteria'!\" & ADDRESS(178,A51+4)),\"N/A\")","v":0},{"$f":"COUNTIF(INDIRECT(\"'Success Criteria'!\" & ADDRESS(124,A51+4)):INDIRECT(\"'Success Criteria'!\" & ADDRESS(178,A51+4)),\"not tested\")","v":28},2,0,0,28,null,0,"",2,"",28,1]
[38,"Page 38","URL 38","Please select",{"$f":"SUM(COUNTIF(INDIRECT(\"'Success Criteria'!\" & ADDRESS(10,A52+4)):INDIRECT(\"'Success Criteria'!\" & ADDRESS(72,A52+4)),\"PASS\"),COUNTIF(INDIRECT(\"'Success Criteria'!\" & ADDRESS(10,A52+4)):INDIRECT(\"'Success Criteria'!\" & ADDRESS(72,A52+4)),\"PASS with comments\"))","v":0},{"$f":"COUNTIF(INDIRECT(\"'Success Criteria'!\" & ADDRESS(10,A52+4)):INDIRECT(\"'Success Criteria'!\" & ADDRESS(72,A52+4)),\"NON conformant\")","v":0},{"$f":"COUNTIF(INDIRECT(\"'Success Criteria'!\" & ADDRESS(10,A52+4)):INDIRECT(\"'Success Criteria'!\" & ADDRESS(72,A52+4)),\"N/A\")","v":0},{"$f":"COUNTIF(INDIRECT(\"'Success Criteria'!\" & ADDRESS(10,A52+4)):INDIRECT(\"'Success Criteria'!\" & ADDRESS(72,A52+4)),\"not tested\")","v":0},{"$f":"SUM(COUNTIF(INDIRECT(\"'Success Criteria'!\" & ADDRESS(76,A52+4)):INDIRECT(\"'Success Criteria'!\" & ADDRESS(119,A52+4)),\"PASS\"),COUNTIF(INDIRECT(\"'Success Criteria'!\" & ADDRESS(76,A52+4)):INDIRECT(\"'Success Criteria'!\" & ADDRESS(119,A52+4)),\"PASS with comments\"))","v":2},{"$f":"COUNTIF(INDIRECT(\"'Success Criteria'!\" & ADDRESS(76,A52+4)):INDIRECT(\"'Success Criteria'!\" & ADDRESS(119,A52+4)),\"NON conformant\")","v":0},{"$f":"COUNTIF(INDIRECT(\"'Success Criteria'!\" & ADDRESS(76,A52+4)):INDIRECT(\"'Success Criteria'!\" & ADDRESS(119,A52+4)),\"N/A\")","v":0},{"$f":"COUNTIF(INDIRECT(\"'Success Criteria'!\" & ADDRESS(76,A52+4)):INDIRECT(\"'Success Criteria'!\" & ADDRESS(119,A52+4)),\"not tested\")","v":0},{"$f":"SUM(COUNTIF(INDIRECT(\"'Success Criteria'!\" & ADDRESS(124,A52+4)):INDIRECT(\"'Success Criteria'!\" & ADDRESS(178,A52+4)),\"PASS\"),COUNTIF(INDIRECT(\"'Success Criteria'!\" & ADDRESS(124,A52+4)):INDIRECT(\"'Success Criteria'!\" & ADDRESS(178,A52+4)),\"PASS with comments\"))","v":0},{"$f":"COUNTIF(INDIRECT(\"'Success Criteria'!\" & ADDRESS(124,A52+4)):INDIRECT(\"'Success Criteria'!\" & ADDRESS(178,A52+4)),\"NON conformant\")","v":0},{"$f":"COUNTIF(INDIRECT(\"'Success Criteria'!\" & ADDRESS(124,A52+4)):INDIRECT(\"'Success Criteria'!\" & ADDRESS(178,A52+4)),\"N/A\")","v":0},{"$f":"COUNTIF(INDIRECT(\"'Success Criteria'!\" & ADDRESS(124,A52+4)):INDIRECT(\"'Success Criteria'!\" & ADDRESS(178,A52+4)),\"not tested\")","v":28},2,0,0,28,null,0,"",2,"",28,1]
[39,"Page 39","URL 39","Please select",{"$f":"SUM(COUNTIF(INDIRECT(\"'Success Criteria'!\" & ADDRESS(10,A53+4)):INDIRECT(\"'Success Criteria'!\" & ADDRESS(72,A53+4)),\"PASS\"),COUNTIF(INDIRECT(\"'Success Criteria'!\" & ADDRESS(10,A53+4)):INDIRECT(\"'Success Criteria'!\" & ADDRESS(72,A53+4)),\"PASS with comments\"))","v":0},{"$f":"COUNTIF(INDIRECT(\"'Success Criteria'!\" & ADDRESS(10,A53+4)):INDIRECT(\"'Success Criteria'!\" & ADDRESS(72,A53+4)),\"NON conformant\")","v":0},{"$f":"COUNTIF(INDIRECT(\"'Success Criteria'!\" & ADDRESS(10,A53+4)):INDIRECT(\"'Success Criteria'!\" & ADDRESS(72,A53+4)),\"N/A\")","v":0},{"$f":"COUNTIF(INDIRECT(\"'Success Criteria'!\" & ADDRESS(10,A53+4)):INDIRECT(\"'Success Criteria'!\" & ADDRESS(72,A53+4)),\"not tested\")","v":0},{"$f":"SUM(COUNTIF(INDIRECT(\"'Success Criteria'!\" & ADDRESS(76,A53+4)):INDIRECT(\"'Success Criteria'!\" & ADDRESS(119,A53+4)),\"PASS\"),COUNTIF(INDIRECT(\"'Success Criteria'!\" & ADDRESS(76,A53+4)):INDIRECT(\"'Success Criteria'!\" & ADDRESS(119,A53+4)),\"PASS with comments\"))","v":2},{"$f":"COUNTIF(INDIRECT(\"'Success Criteria'!\" & ADDRESS(76,A53+4)):INDIRECT(\"'Success Criteria'!\" & ADDRESS(119,A53+4)),\"NON conformant\")","v":0},{"$f":"COUNTIF(INDIRECT(\"'Success Criteria'!\" & ADDRESS(76,A53+4)):INDIRECT(\"'Success Criteria'!\" & ADDRESS(119,A53+4)),\"N/A\")","v":0},{"$f":"COUNTIF(INDIRECT(\"'Success Criteria'!\" & ADDRESS(76,A53+4)):INDIRECT(\"'Success Criteria'!\" & ADDRESS(119,A53+4)),\"not tested\")","v":0},{"$f":"SUM(COUNTIF(INDIRECT(\"'Success Criteria'!\" & ADDRESS(124,A53+4)):INDIRECT(\"'Success Criteria'!\" & ADDRESS(178,A53+4)),\"PASS\"),COUNTIF(INDIRECT(\"'Success Criteria'!\" & ADDRESS(124,A53+4)):INDIRECT(\"'Success Criteria'!\" & ADDRESS(178,A53+4)),\"PASS with comments\"))","v":0},{"$f":"COUNTIF(INDIRECT(\"'Success Criteria'!\" & ADDRESS(124,A53+4)):INDIRECT(\"'Success Criteria'!\" & ADDRESS(178,A53+4)),\"NON conformant\")","v":0},{"$f":"COUNTIF(INDIRECT(\"'Success Criteria'!\" & ADDRESS(124,A53+4)):INDIRECT(\"'Success Criteria'!\" & ADDRESS(178,A53+4)),\"N/A\")","v":0},{"$f":"COUNTIF(INDIRECT(\"'Success Criteria'!\" & ADDRESS(124,A53+4)):INDIRECT(\"'Success Criteria'!\" & ADDRESS(178,A53+4)),\"not tested\")","v":28},2,0,0,28,null,0,"",2,"",28,1]
[40,"Page 40","URL 40","Please select",{"$f":"SUM(COUNTIF(INDIRECT(\"'Success Criteria'!\" & ADDRESS(10,A54+4)):INDIRECT(\"'Success Criteria'!\" & ADDRESS(72,A54+4)),\"PASS\"),COUNTIF(INDIRECT(\"'Success Criteria'!\" & ADDRESS(10,A54+4)):INDIRECT(\"'Success Criteria'!\" & ADDRESS(72,A54+4)),\"PASS with comments\"))","v":0},{"$f":"COUNTIF(INDIRECT(\"'Success Criteria'!\" & ADDRESS(10,A54+4)):INDIRECT(\"'Success Criteria'!\" & ADDRESS(72,A54+4)),\"NON conformant\")","v":0},{"$f":"COUNTIF(INDIRECT(\"'Success Criteria'!\" & ADDRESS(10,A54+4)):INDIRECT(\"'Success Criteria'!\" & ADDRESS(72,A54+4)),\"N/A\")","v":0},{"$f":"COUNTIF(INDIRECT(\"'Success Criteria'!\" & ADDRESS(10,A54+4)):INDIRECT(\"'Success Criteria'!\" & ADDRESS(72,A54+4)),\"not tested\")","v":0},{"$f":"SUM(COUNTIF(INDIRECT(\"'Success Criteria'!\" & ADDRESS(76,A54+4)):INDIRECT(\"'Success Criteria'!\" & ADDRESS(119,A54+4)),\"PASS\"),COUNTIF(INDIRECT(\"'Success Criteria'!\" & ADDRESS(76,A54+4)):INDIRECT(\"'Success Criteria'!\" & ADDRESS(119,A54+4)),\"PASS with comments\"))","v":2},{"$f":"COUNTIF(INDIRECT(\"'Success Criteria'!\" & ADDRESS(76,A54+4)):INDIRECT(\"'Success Criteria'!\" & ADDRESS(119,A54+4)),\"NON conformant\")","v":0},{"$f":"COUNTIF(INDIRECT(\"'Success Criteria'!\" & ADDRESS(76,A54+4)):INDIRECT(\"'Success Criteria'!\" & ADDRESS(119,A54+4)),\"N/A\")","v":0},{"$f":"COUNTIF(INDIRECT(\"'Success Criteria'!\" & ADDRESS(76,A54+4)):INDIRECT(\"'Success Criteria'!\" & ADDRESS(119,A54+4)),\"not tested\")","v":0},{"$f":"SUM(COUNTIF(INDIRECT(\"'Success Criteria'!\" & ADDRESS(124,A54+4)):INDIRECT(\"'Success Criteria'!\" & ADDRESS(178,A54+4)),\"PASS\"),COUNTIF(INDIRECT(\"'Success Criteria'!\" & ADDRESS(124,A54+4)):INDIRECT(\"'Success Criteria'!\" & ADDRESS(178,A54+4)),\"PASS with comments\"))","v":0},{"$f":"COUNTIF(INDIRECT(\"'Success Criteria'!\" & ADDRESS(124,A54+4)):INDIRECT(\"'Success Criteria'!\" & ADDRESS(178,A54+4)),\"NON conformant\")","v":0},{"$f":"COUNTIF(INDIRECT(\"'Success Criteria'!\" & ADDRESS(124,A54+4)):INDIRECT(\"'Success Criteria'!\" & ADDRESS(178,A54+4)),\"N/A\")","v":0},{"$f":"COUNTIF(INDIRECT(\"'Success Criteria'!\" & ADDRESS(124,A54+4)):INDIRECT(\"'Success Criteria'!\" & ADDRESS(178,A54+4)),\"not tested\")","v":28},2,0,0,28,null,0,"",2,"",28,1]
[41,"Page 41","URL 41","Please select",{"$f":"SUM(COUNTIF(INDIRECT(\"'Success Criteria'!\" & ADDRESS(10,A55+4)):INDIRECT(\"'Success Criteria'!\" & ADDRESS(72,A55+4)),\"PASS\"),COUNTIF(INDIRECT(\"'Success Criteria'!\" & ADDRESS(10,A55+4)):INDIRECT(\"'Success Criteria'!\" & ADDRESS(72,A55+4)),\"PASS with comments\"))","v":0},{"$f":"COUNTIF(INDIRECT(\"'Success Criteria'!\" & ADDRESS(10,A55+4)):INDIRECT(\"'Success Criteria'!\" & ADDRESS(72,A55+4)),\"NON conformant\")","v":0},{"$f":"COUNTIF(INDIRECT(\"'Success Criteria'!\" & ADDRESS(10,A55+4)):INDIRECT(\"'Success Criteria'!\" & ADDRESS(72,A55+4)),\"N/A\")","v":0},{"$f":"COUNTIF(INDIRECT(\"'Success Criteria'!\" & ADDRESS(10,A55+4)):INDIRECT(\"'Success Criteria'!\" & ADDRESS(72,A55+4)),\"not tested\")","v":0},{"$f":"SUM(COUNTIF(INDIRECT(\"'Success Criteria'!\" & ADDRESS(76,A55+4)):INDIRECT(\"'Success Criteria'!\" & ADDRESS(119,A55+4)),\"PASS\"),COUNTIF(INDIRECT(\"'Success Criteria'!\" & ADDRESS(76,A55+4)):INDIRECT(\"'Success Criteria'!\" & ADDRESS(119,A55+4)),\"PASS with comments\"))","v":2},{"$f":"COUNTIF(INDIRECT(\"'Success Criteria'!\" & ADDRESS(76,A55+4)):INDIRECT(\"'Success Criteria'!\" & ADDRESS(119,A55+4)),\"NON conformant\")","v":0},{"$f":"COUNTIF(INDIRECT(\"'Success Criteria'!\" & ADDRESS(76,A55+4)):INDIRECT(\"'Success Criteria'!\" & ADDRESS(119,A55+4)),\"N/A\")","v":0},{"$f":"COUNTIF(INDIRECT(\"'Success Criteria'!\" & ADDRESS(76,A55+4)):INDIRECT(\"'Success Criteria'!\" & ADDRESS(119,A55+4)),\"not tested\")","v":0},{"$f":"SUM(COUNTIF(INDIRECT(\"'Success Criteria'!\" & ADDRESS(124,A55+4)):INDIRECT(\"'Success Criteria'!\" & ADDRESS(178,A55+4)),\"PASS\"),COUNTIF(INDIRECT(\"'Success Criteria'!\" & ADDRESS(124,A55+4)):INDIRECT(\"'Success Criteria'!\" & ADDRESS(178,A55+4)),\"PASS with comments\"))","v":0},{"$f":"COUNTIF(INDIRECT(\"'Success Criteria'!\" & ADDRESS(124,A55+4)):INDIRECT(\"'Success Criteria'!\" & ADDRESS(178,A55+4)),\"NON conformant\")","v":0},{"$f":"COUNTIF(INDIRECT(\"'Success Criteria'!\" & ADDRESS(124,A55+4)):INDIRECT(\"'Success Criteria'!\" & ADDRESS(178,A55+4)),\"N/A\")","v":0},{"$f":"COUNTIF(INDIRECT(\"'Success Criteria'!\" & ADDRESS(124,A55+4)):INDIRECT(\"'Success Criteria'!\" & ADDRESS(178,A55+4)),\"not tested\")","v":28},2,0,0,28,null,0,"",2,"",28,1]
[42,"Page 42","URL 42","Please select",{"$f":"SUM(COUNTIF(INDIRECT(\"'Success Criteria'!\" & ADDRESS(10,A56+4)):INDIRECT(\"'Success Criteria'!\" & ADDRESS(72,A56+4)),\"PASS\"),COUNTIF(INDIRECT(\"'Success Criteria'!\" & ADDRESS(10,A56+4)):INDIRECT(\"'Success Criteria'!\" & ADDRESS(72,A56+4)),\"PASS with comments\"))","v":0},{"$f":"COUNTIF(INDIRECT(\"'Success Criteria'!\" & ADDRESS(10,A56+4)):INDIRECT(\"'Success Criteria'!\" & ADDRESS(72,A56+4)),\"NON conformant\")","v":0},{"$f":"COUNTIF(INDIRECT(\"'Success Criteria'!\" & ADDRESS(10,A56+4)):INDIRECT(\"'Success Criteria'!\" & ADDRESS(72,A56+4)),\"N/A\")","v":0},{"$f":"COUNTIF(INDIRECT(\"'Success Criteria'!\" & ADDRESS(10,A56+4)):INDIRECT(\"'Success Criteria'!\" & ADDRESS(72,A56+4)),\"not tested\")","v":0},{"$f":"SUM(COUNTIF(INDIRECT(\"'Success Criteria'!\" & ADDRESS(76,A56+4)):INDIRECT(\"'Success Criteria'!\" & ADDRESS(119,A56+4)),\"PASS\"),COUNTIF(INDIRECT(\"'Success Criteria'!\" & ADDRESS(76,A56+4)):INDIRECT(\"'Success Criteria'!\" & ADDRESS(119,A56+4)),\"PASS with comments\"))","v":2},{"$f":"COUNTIF(INDIRECT(\"'Success Criteria'!\" & ADDRESS(76,A56+4)):INDIRECT(\"'Success Criteria'!\" & ADDRESS(119,A56+4)),\"NON conformant\")","v":0},{"$f":"COUNTIF(INDIRECT(\"'Success Criteria'!\" & ADDRESS(76,A56+4)):INDIRECT(\"'Success Criteria'!\" & ADDRESS(119,A56+4)),\"N/A\")","v":0},{"$f":"COUNTIF(INDIRECT(\"'Success Criteria'!\" & ADDRESS(76,A56+4)):INDIRECT(\"'Success Criteria'!\" & ADDRESS(119,A56+4)),\"not tested\")","v":0},{"$f":"SUM(COUNTIF(INDIRECT(\"'Success Criteria'!\" & ADDRESS(124,A56+4)):INDIRECT(\"'Success Criteria'!\" & ADDRESS(178,A56+4)),\"PASS\"),COUNTIF(INDIRECT(\"'Success Criteria'!\" & ADDRESS(124,A56+4)):INDIRECT(\"'Success Criteria'!\" & ADDRESS(178,A56+4)),\"PASS with comments\"))","v":0},{"$f":"COUNTIF(INDIRECT(\"'Success Criteria'!\" & ADDRESS(124,A56+4)):INDIRECT(\"'Success Criteria'!\" & ADDRESS(178,A56+4)),\"NON conformant\")","v":0},{"$f":"COUNTIF(INDIRECT(\"'Success Criteria'!\" & ADDRESS(124,A56+4)):INDIRECT(\"'Success Criteria'!\" & ADDRESS(178,A56+4)),\"N/A\")","v":0},{"$f":"COUNTIF(INDIRECT(\"'Success Criteria'!\" & ADDRESS(124,A56+4)):INDIRECT(\"'Success Criteria'!\" & ADDRESS(178,A56+4)),\"not tested\")","v":28},2,0,0,28,null,0,"",2,"",28,1]
[43,"Page 43","URL 43","Please select",{"$f":"SUM(COUNTIF(INDIRECT(\"'Success Criteria'!\" & ADDRESS(10,A57+4)):INDIRECT(\"'Success Criteria'!\" & ADDRESS(72,A57+4)),\"PASS\"),COUNTIF(INDIRECT(\"'Success Criteria'!\" & ADDRESS(10,A57+4)):INDIRECT(\"'Success Criteria'!\" & ADDRESS(72,A57+4)),\"PASS with comments\"))","v":0},{"$f":"COUNTIF(INDIRECT(\"'Success Criteria'!\" & ADDRESS(10,A57+4)):INDIRECT(\"'Success Criteria'!\" & ADDRESS(72,A57+4)),\"NON conformant\")","v":0},{"$f":"COUNTIF(INDIRECT(\"'Success Criteria'!\" & ADDRESS(10,A57+4)):INDIRECT(\"'Success Criteria'!\" & ADDRESS(72,A57+4)),\"N/A\")","v":0},{"$f":"COUNTIF(INDIRECT(\"'Success Criteria'!\" & ADDRESS(10,A57+4)):INDIRECT(\"'Success Criteria'!\" & ADDRESS(72,A57+4)),\"not tested\")","v":0},{"$f":"SUM(COUNTIF(INDIRECT(\"'Success Criteria'!\" & ADDRESS(76,A57+4)):INDIRECT(\"'Success Criteria'!\" & ADDRESS(119,A57+4)),\"PASS\"),COUNTIF(INDIRECT(\"'Success Criteria'!\" & ADDRESS(76,A57+4)):INDIRECT(\"'Success Criteria'!\" & ADDRESS(119,A57+4)),\"PASS with comments\"))","v":2},{"$f":"COUNTIF(INDIRECT(\"'Success Criteria'!\" & ADDRESS(76,A57+4)):INDIRECT(\"'Success Criteria'!\" & ADDRESS(119,A57+4)),\"NON conformant\")","v":0},{"$f":"COUNTIF(INDIRECT(\"'Success Criteria'!\" & ADDRESS(76,A57+4)):INDIRECT(\"'Success Criteria'!\" & ADDRESS(119,A57+4)),\"N/A\")","v":0},{"$f":"COUNTIF(INDIRECT(\"'Success Criteria'!\" & ADDRESS(76,A57+4)):INDIRECT(\"'Success Criteria'!\" & ADDRESS(119,A57+4)),\"not tested\")","v":0},{"$f":"SUM(COUNTIF(INDIRECT(\"'Success Criteria'!\" & ADDRESS(124,A57+4)):INDIRECT(\"'Success Criteria'!\" & ADDRESS(178,A57+4)),\"PASS\"),COUNTIF(INDIRECT(\"'Success Criteria'!\" & ADDRESS(124,A57+4)):INDIRECT(\"'Success Criteria'!\" & ADDRESS(178,A57+4)),\"PASS with comments\"))","v":0},{"$f":"COUNTIF(INDIRECT(\"'Success Criteria'!\" & ADDRESS(124,A57+4)):INDIRECT(\"'Success Criteria'!\" & ADDRESS(178,A57+4)),\"NON conformant\")","v":0},{"$f":"COUNTIF(INDIRECT(\"'Success Criteria'!\" & ADDRESS(124,A57+4)):INDIRECT(\"'Success Criteria'!\" & ADDRESS(178,A57+4)),\"N/A\")","v":0},{"$f":"COUNTIF(INDIRECT(\"'Success Criteria'!\" & ADDRESS(124,A57+4)):INDIRECT(\"'Success Criteria'!\" & ADDRESS(178,A57+4)),\"not tested\")","v":28},2,0,0,28,null,0,"",2,"",28,1]
[44,"Page 44","URL 44","Please select",{"$f":"SUM(COUNTIF(INDIRECT(\"'Success Criteria'!\" & ADDRESS(10,A58+4)):INDIRECT(\"'Success Criteria'!\" & ADDRESS(72,A58+4)),\"PASS\"),COUNTIF(INDIRECT(\"'Success Criteria'!\" & ADDRESS(10,A58+4)):INDIRECT(\"'Success Criteria'!\" & ADDRESS(72,A58+4)),\"PASS with comments\"))","v":0},{"$f":"COUNTIF(INDIRECT(\"'Success Criteria'!\" & ADDRESS(10,A58+4)):INDIRECT(\"'Success Criteria'!\" & ADDRESS(72,A58+4)),\"NON conformant\")","v":0},{"$f":"COUNTIF(INDIRECT(\"'Success Criteria'!\" & ADDRESS(10,A58+4)):INDIRECT(\"'Success Criteria'!\" & ADDRESS(72,A58+4)),\"N/A\")","v":0},{"$f":"COUNTIF(INDIRECT(\"'Success Criteria'!\" & ADDRESS(10,A58+4)):INDIRECT(\"'Success Criteria'!\" & ADDRESS(72,A58+4)),\"not tested\")","v":0},{"$f":"SUM(COUNTIF(INDIRECT(\"'Success Criteria'!\" & ADDRESS(76,A58+4)):INDIRECT(\"'Success Criteria'!\" & ADDRESS(119,A58+4)),\"PASS\"),COUNTIF(INDIRECT(\"'Success Criteria'!\" & ADDRESS(76,A58+4)):INDIRECT(\"'Success Criteria'!\" & ADDRESS(119,A58+4)),\"PASS with comments\"))","v":2},{"$f":"COUNTIF(INDIRECT(\"'Success Criteria'!\" & ADDRESS(76,A58+4)):INDIRECT(\"'Success Criteria'!\" & ADDRESS(119,A58+4)),\"NON conformant\")","v":0},{"$f":"COUNTIF(INDIRECT(\"'Success Criteria'!\" & ADDRESS(76,A58+4)):INDIRECT(\"'Success Criteria'!\" & ADDRESS(119,A58+4)),\"N/A\")","v":0},{"$f":"COUNTIF(INDIRECT(\"'Success Criteria'!\" & ADDRESS(76,A58+4)):INDIRECT(\"'Success Criteria'!\" & ADDRESS(119,A58+4)),\"not tested\")","v":0},{"$f":"SUM(COUNTIF(INDIRECT(\"'Success Criteria'!\" & ADDRESS(124,A58+4)):INDIRECT(\"'Success Criteria'!\" & ADDRESS(178,A58+4)),\"PASS\"),COUNTIF(INDIRECT(\"'Success Criteria'!\" & ADDRESS(124,A58+4)):INDIRECT(\"'Success Criteria'!\" & ADDRESS(178,A58+4)),\"PASS with comments\"))","v":0},{"$f":"COUNTIF(INDIRECT(\"'Success Criteria'!\" & ADDRESS(124,A58+4)):INDIRECT(\"'Success Criteria'!\" & ADDRESS(178,A58+4)),\"NON conformant\")","v":0},{"$f":"COUNTIF(INDIRECT(\"'Success Criteria'!\" & ADDRESS(124,A58+4)):INDIRECT(\"'Success Criteria'!\" & ADDRESS(178,A58+4)),\"N/A\")","v":0},{"$f":"COUNTIF(INDIRECT(\"'Success Criteria'!\" & ADDRESS(124,A58+4)):INDIRECT(\"'Success Criteria'!\" & ADDRESS(178,A58+4)),\"not tested\")","v":28},2,0,0,28,null,0,"",2,"",28,1]
[45,"Page 45","URL 45","Please select",{"$f":"SUM(COUNTIF(INDIRECT(\"'Success Criteria'!\" & ADDRESS(10,A59+4)):INDIRECT(\"'Success Criteria'!\" & ADDRESS(72,A59+4)),\"PASS\"),COUNTIF(INDIRECT(\"'Success Criteria'!\" & ADDRESS(10,A59+4)):INDIRECT(\"'Success Criteria'!\" & ADDRESS(72,A59+4)),\"PASS with comments\"))","v":0},{"$f":"COUNTIF(INDIRECT(\"'Success Criteria'!\" & ADDRESS(10,A59+4)):INDIRECT(\"'Success Criteria'!\" & ADDRESS(72,A59+4)),\"NON conformant\")","v":0},{"$f":"COUNTIF(INDIRECT(\"'Success Criteria'!\" & ADDRESS(10,A59+4)):INDIRECT(\"'Success Criteria'!\" & ADDRESS(72,A59+4)),\"N/A\")","v":0},{"$f":"COUNTIF(INDIRECT(\"'Success Criteria'!\" & ADDRESS(10,A59+4)):INDIRECT(\"'Success Criteria'!\" & ADDRESS(72,A59+4)),\"not tested\")","v":0},{"$f":"SUM(COUNTIF(INDIRECT(\"'Success Criteria'!\" & ADDRESS(76,A59+4)):INDIRECT(\"'Success Criteria'!\" & ADDRESS(119,A59+4)),\"PASS\"),COUNTIF(INDIRECT(\"'Success Criteria'!\" & ADDRESS(76,A59+4)):INDIRECT(\"'Success Criteria'!\" & ADDRESS(119,A59+4)),\"PASS with comments\"))","v":2},{"$f":"COUNTIF(INDIRECT(\"'Success Criteria'!\" & ADDRESS(76,A59+4)):INDIRECT(\"'Success Criteria'!\" & ADDRESS(119,A59+4)),\"NON conformant\")","v":0},{"$f":"COUNTIF(INDIRECT(\"'Success Criteria'!\" & ADDRESS(76,A59+4)):INDIRECT(\"'Success Criteria'!\" & ADDRESS(119,A59+4)),\"N/A\")","v":0},{"$f":"COUNTIF(INDIRECT(\"'Success Criteria'!\" & ADDRESS(76,A59+4)):INDIRECT(\"'Success Criteria'!\" & ADDRESS(119,A59+4)),\"not tested\")","v":0},{"$f":"SUM(COUNTIF(INDIRECT(\"'Success Criteria'!\" & ADDRESS(124,A59+4)):INDIRECT(\"'Success Criteria'!\" & ADDRESS(178,A59+4)),\"PASS\"),COUNTIF(INDIRECT(\"'Success Criteria'!\" & ADDRESS(124,A59+4)):INDIRECT(\"'Success Criteria'!\" & ADDRESS(178,A59+4)),\"PASS with comments\"))","v":0},{"$f":"COUNTIF(INDIRECT(\"'Success Criteria'!\" & ADDRESS(124,A59+4)):INDIRECT(\"'Success Criteria'!\" & ADDRESS(178,A59+4)),\"NON conformant\")","v":0},{"$f":"COUNTIF(INDIRECT(\"'Success Criteria'!\" & ADDRESS(124,A59+4)):INDIRECT(\"'Success Criteria'!\" & ADDRESS(178,A59+4)),\"N/A\")","v":0},{"$f":"COUNTIF(INDIRECT(\"'Success Criteria'!\" & ADDRESS(124,A59+4)):INDIRECT(\"'Success Criteria'!\" & ADDRESS(178,A59+4)),\"not tested\")","v":28},2,0,0,28,null,0,"",2,"",28,1]
[46,"Page 46","URL 46","Please select",{"$f":"SUM(COUNTIF(INDIRECT(\"'Success Criteria'!\" & ADDRESS(10,A60+4)):INDIRECT(\"'Success Criteria'!\" & ADDRESS(72,A60+4)),\"PASS\"),COUNTIF(INDIRECT(\"'Success Criteria'!\" & ADDRESS(10,A60+4)):INDIRECT(\"'Success Criteria'!\" & ADDRESS(72,A60+4)),\"PASS with comments\"))","v":0},{"$f":"COUNTIF(INDIRECT(\"'Success Criteria'!\" & ADDRESS(10,A60+4)):INDIRECT(\"'Success Criteria'!\" & ADDRESS(72,A60+4)),\"NON conformant\")","v":0},{"$f":"COUNTIF(INDIRECT(\"'Success Criteria'!\" & ADDRESS(10,A60+4)):INDIRECT(\"'Success Criteria'!\" & ADDRESS(72,A60+4)),\"N/A\")","v":0},{"$f":"COUNTIF(INDIRECT(\"'Success Criteria'!\" & ADDRESS(10,A60+4)):INDIRECT(\"'Success Criteria'!\" & ADDRESS(72,A60+4)),\"not tested\")","v":0},{"$f":"SUM(COUNTIF(INDIRECT(\"'Success Criteria'!\" & ADDRESS(76,A60+4)):INDIRECT(\"'Success Criteria'!\" & ADDRESS(119,A60+4)),\"PASS\"),COUNTIF(INDIRECT(\"'Success Criteria'!\" & ADDRESS(76,A60+4)):INDIRECT(\"'Success Criteria'!\" & ADDRESS(119,A60+4)),\"PASS with comments\"))","v":2},{"$f":"COUNTIF(INDIRECT(\"'Success Criteria'!\" & ADDRESS(76,A60+4)):INDIRECT(\"'Success Criteria'!\" & ADDRESS(119,A60+4)),\"NON conformant\")","v":0},{"$f":"COUNTIF(INDIRECT(\"'Success Criteria'!\" & ADDRESS(76,A60+4)):INDIRECT(\"'Success Criteria'!\" & ADDRESS(119,A60+4)),\"N/A\")","v":0},{"$f":"COUNTIF(INDIRECT(\"'Success Criteria'!\" & ADDRESS(76,A60+4)):INDIRECT(\"'Success Criteria'!\" & ADDRESS(119,A60+4)),\"not tested\")","v":0},{"$f":"SUM(COUNTIF(INDIRECT(\"'Success Criteria'!\" & ADDRESS(124,A60+4)):INDIRECT(\"'Success Criteria'!\" & ADDRESS(178,A60+4)),\"PASS\"),COUNTIF(INDIRECT(\"'Success Criteria'!\" & ADDRESS(124,A60+4)):INDIRECT(\"'Success Criteria'!\" & ADDRESS(178,A60+4)),\"PASS with comments\"))","v":0},{"$f":"COUNTIF(INDIRECT(\"'Success Criteria'!\" & ADDRESS(124,A60+4)):INDIRECT(\"'Success Criteria'!\" & ADDRESS(178,A60+4)),\"NON conformant\")","v":0},{"$f":"COUNTIF(INDIRECT(\"'Success Criteria'!\" & ADDRESS(124,A60+4)):INDIRECT(\"'Success Criteria'!\" & ADDRESS(178,A60+4)),\"N/A\")","v":0},{"$f":"COUNTIF(INDIRECT(\"'Success Criteria'!\" & ADDRESS(124,A60+4)):INDIRECT(\"'Success Criteria'!\" & ADDRESS(178,A60+4)),\"not tested\")","v":28},2,0,0,28,null,0,"",2,"",28,1]
[47,"Page 47","URL 47","Please select",{"$f":"SUM(COUNTIF(INDIRECT(\"'Success Criteria'!\" & ADDRESS(10,A61+4)):INDIRECT(\"'Success Criteria'!\" & ADDRESS(72,A61+4)),\"PASS\"),COUNTIF(INDIRECT(\"'Success Criteria'!\" & ADDRESS(10,A61+4)):INDIRECT(\"'Success Criteria'!\" & ADDRESS(72,A61+4)),\"PASS with comments\"))","v":0},{"$f":"COUNTIF(INDIRECT(\"'Success Criteria'!\" & ADDRESS(10,A61+4)):INDIRECT(\"'Success Criteria'!\" & ADDRESS(72,A61+4)),\"NON conformant\")","v":0},{"$f":"COUNTIF(INDIRECT(\"'Success Criteria'!\" & ADDRESS(10,A61+4)):INDIRECT(\"'Success Criteria'!\" & ADDRESS(72,A61+4)),\"N/A\")","v":0},{"$f":"COUNTIF(INDIRECT(\"'Success Criteria'!\" & ADDRESS(10,A61+4)):INDIRECT(\"'Success Criteria'!\" & ADDRESS(72,A61+4)),\"not tested\")","v":0},{"$f":"SUM(COUNTIF(INDIRECT(\"'Success Criteria'!\" & ADDRESS(76,A61+4)):INDIRECT(\"'Success Criteria'!\" & ADDRESS(119,A61+4)),\"PASS\"),COUNTIF(INDIRECT(\"'Success Criteria'!\" & ADDRESS(76,A61+4)):INDIRECT(\"'Success Criteria'!\" & ADDRESS(119,A61+4)),\"PASS with comments\"))","v":2},{"$f":"COUNTIF(INDIRECT(\"'Success Criteria'!\" & ADDRESS(76,A61+4)):INDIRECT(\"'Success Criteria'!\" & ADDRESS(119,A61+4)),\"NON conformant\")","v":0},{"$f":"COUNTIF(INDIRECT(\"'Success Criteria'!\" & ADDRESS(76,A61+4)):INDIRECT(\"'Success Criteria'!\" & ADDRESS(119,A61+4)),\"N/A\")","v":0},{"$f":"COUNTIF(INDIRECT(\"'Success Criteria'!\" & ADDRESS(76,A61+4)):INDIRECT(\"'Success Criteria'!\" & ADDRESS(119,A61+4)),\"not tested\")","v":0},{"$f":"SUM(COUNTIF(INDIRECT(\"'Success Criteria'!\" & ADDRESS(124,A61+4)):INDIRECT(\"'Success Criteria'!\" & ADDRESS(178,A61+4)),\"PASS\"),COUNTIF(INDIRECT(\"'Success Criteria'!\" & ADDRESS(124,A61+4)):INDIRECT(\"'Success Criteria'!\" & ADDRESS(178,A61+4)),\"PASS with comments\"))","v":0},{"$f":"COUNTIF(INDIRECT(\"'Success Criteria'!\" & ADDRESS(124,A61+4)):INDIRECT(\"'Success Criteria'!\" & ADDRESS(178,A61+4)),\"NON conformant\")","v":0},{"$f":"COUNTIF(INDIRECT(\"'Success Criteria'!\" & ADDRESS(124,A61+4)):INDIRECT(\"'Success Criteria'!\" & ADDRESS(178,A61+4)),\"N/A\")","v":0},{"$f":"COUNTIF(INDIRECT(\"'Success Criteria'!\" & ADDRESS(124,A61+4)):INDIRECT(\"'Success Criteria'!\" & ADDRESS(178,A61+4)),\"not tested\")","v":28},2,0,0,28,null,0,"",2,"",28,1]
[48,"Page 48","URL 48","Please select",{"$f":"SUM(COUNTIF(INDIRECT(\"'Success Criteria'!\" & ADDRESS(10,A62+4)):INDIRECT(\"'Success Criteria'!\" & ADDRESS(72,A62+4)),\"PASS\"),COUNTIF(INDIRECT(\"'Success Criteria'!\" & ADDRESS(10,A62+4)):INDIRECT(\"'Success Criteria'!\" & ADDRESS(72,A62+4)),\"PASS with comments\"))","v":0},{"$f":"COUNTIF(INDIRECT(\"'Success Criteria'!\" & ADDRESS(10,A62+4)):INDIRECT(\"'Success Criteria'!\" & ADDRESS(72,A62+4)),\"NON conformant\")","v":0},{"$f":"COUNTIF(INDIRECT(\"'Success Criteria'!\" & ADDRESS(10,A62+4)):INDIRECT(\"'Success Criteria'!\" & ADDRESS(72,A62+4)),\"N/A\")","v":0},{"$f":"COUNTIF(INDIRECT(\"'Success Criteria'!\" & ADDRESS(10,A62+4)):INDIRECT(\"'Success Criteria'!\" & ADDRESS(72,A62+4)),\"not tested\")","v":0},{"$f":"SUM(COUNTIF(INDIRECT(\"'Success Criteria'!\" & ADDRESS(76,A62+4)):INDIRECT(\"'Success Criteria'!\" & ADDRESS(119,A62+4)),\"PASS\"),COUNTIF(INDIRECT(\"'Success Criteria'!\" & ADDRESS(76,A62+4)):INDIRECT(\"'Success Criteria'!\" & ADDRESS(119,A62+4)),\"PASS with comments\"))","v":2},{"$f":"COUNTIF(INDIRECT(\"'Success Criteria'!\" & ADDRESS(76,A62+4)):INDIRECT(\"'Success Criteria'!\" & ADDRESS(119,A62+4)),\"NON conformant\")","v":0},{"$f":"COUNTIF(INDIRECT(\"'Success Criteria'!\" & ADDRESS(76,A62+4)):INDIRECT(\"'Success Criteria'!\" & ADDRESS(119,A62+4)),\"N/A\")","v":0},{"$f":"COUNTIF(INDIRECT(\"'Success Criteria'!\" & ADDRESS(76,A62+4)):INDIRECT(\"'Success Criteria'!\" & ADDRESS(119,A62+4)),\"not tested\")","v":0},{"$f":"SUM(COUNTIF(INDIRECT(\"'Success Criteria'!\" & ADDRESS(124,A62+4)):INDIRECT(\"'Success Criteria'!\" & ADDRESS(178,A62+4)),\"PASS\"),COUNTIF(INDIRECT(\"'Success Criteria'!\" & ADDRESS(124,A62+4)):INDIRECT(\"'Success Criteria'!\" & ADDRESS(178,A62+4)),\"PASS with comments\"))","v":0},{"$f":"COUNTIF(INDIRECT(\"'Success Criteria'!\" & ADDRESS(124,A62+4)):INDIRECT(\"'Success Criteria'!\" & ADDRESS(178,A62+4)),\"NON conformant\")","v":0},{"$f":"COUNTIF(INDIRECT(\"'Success Criteria'!\" & ADDRESS(124,A62+4)):INDIRECT(\"'Success Criteria'!\" & ADDRESS(178,A62+4)),\"N/A\")","v":0},{"$f":"COUNTIF(INDIRECT(\"'Success Criteria'!\" & ADDRESS(124,A62+4)):INDIRECT(\"'Success Criteria'!\" & ADDRESS(178,A62+4)),\"not tested\")","v":28},2,0,0,28,null,0,"",2,"",28,1]
[49,"Page 49","URL 49","Please select",{"$f":"SUM(COUNTIF(INDIRECT(\"'Success Criteria'!\" & ADDRESS(10,A63+4)):INDIRECT(\"'Success Criteria'!\" & ADDRESS(72,A63+4)),\"PASS\"),COUNTIF(INDIRECT(\"'Success Criteria'!\" & ADDRESS(10,A63+4)):INDIRECT(\"'Success Criteria'!\" & ADDRESS(72,A63+4)),\"PASS with comments\"))","v":0},{"$f":"COUNTIF(INDIRECT(\"'Success Criteria'!\" & ADDRESS(10,A63+4)):INDIRECT(\"'Success Criteria'!\" & ADDRESS(72,A63+4)),\"NON conformant\")","v":0},{"$f":"COUNTIF(INDIRECT(\"'Success Criteria'!\" & ADDRESS(10,A63+4)):INDIRECT(\"'Success Criteria'!\" & ADDRESS(72,A63+4)),\"N/A\")","v":0},{"$f":"COUNTIF(INDIRECT(\"'Success Criteria'!\" & ADDRESS(10,A63+4)):INDIRECT(\"'Success Criteria'!\" & ADDRESS(72,A63+4)),\"not tested\")","v":0},{"$f":"SUM(COUNTIF(INDIRECT(\"'Success Criteria'!\" & ADDRESS(76,A63+4)):INDIRECT(\"'Success Criteria'!\" & ADDRESS(119,A63+4)),\"PASS\"),COUNTIF(INDIRECT(\"'Success Criteria'!\" & ADDRESS(76,A63+4)):INDIRECT(\"'Success Criteria'!\" & ADDRESS(119,A63+4)),\"PASS with comments\"))","v":2},{"$f":"COUNTIF(INDIRECT(\"'Success Criteria'!\" & ADDRESS(76,A63+4)):INDIRECT(\"'Success Criteria'!\" & ADDRESS(119,A63+4)),\"NON conformant\")","v":0},{"$f":"COUNTIF(INDIRECT(\"'Success Criteria'!\" & ADDRESS(76,A63+4)):INDIRECT(\"'Success Criteria'!\" & ADDRESS(119,A63+4)),\"N/A\")","v":0},{"$f":"COUNTIF(INDIRECT(\"'Success Criteria'!\" & ADDRESS(76,A63+4)):INDIRECT(\"'Success Criteria'!\" & ADDRESS(119,A63+4)),\"not tested\")","v":0},{"$f":"SUM(COUNTIF(INDIRECT(\"'Success Criteria'!\" & ADDRESS(124,A63+4)):INDIRECT(\"'Success Criteria'!\" & ADDRESS(178,A63+4)),\"PASS\"),COUNTIF(INDIRECT(\"'Success Criteria'!\" & ADDRESS(124,A63+4)):INDIRECT(\"'Success Criteria'!\" & ADDRESS(178,A63+4)),\"PASS with comments\"))","v":0},{"$f":"COUNTIF(INDIRECT(\"'Success Criteria'!\" & ADDRESS(124,A63+4)):INDIRECT(\"'Success Criteria'!\" & ADDRESS(178,A63+4)),\"NON conformant\")","v":0},{"$f":"COUNTIF(INDIRECT(\"'Success Criteria'!\" & ADDRESS(124,A63+4)):INDIRECT(\"'Success Criteria'!\" & ADDRESS(178,A63+4)),\"N/A\")","v":0},{"$f":"COUNTIF(INDIRECT(\"'Success Criteria'!\" & ADDRESS(124,A63+4)):INDIRECT(\"'Success Criteria'!\" & ADDRESS(178,A63+4)),\"not tested\")","v":28},2,0,0,28,null,0,"",2,"",28,1]
[50,"Page 50","URL 50","Please select",{"$f":"SUM(COUNTIF(INDIRECT(\"'Success Criteria'!\" & ADDRESS(10,A64+4)):INDIRECT(\"'Success Criteria'!\" & ADDRESS(72,A64+4)),\"PASS\"),COUNTIF(INDIRECT(\"'Success Criteria'!\" & ADDRESS(10,A64+4)):INDIRECT(\"'Success Criteria'!\" & ADDRESS(72,A64+4)),\"PASS with comments\"))","v":0},{"$f":"COUNTIF(INDIRECT(\"'Success Criteria'!\" & ADDRESS(10,A64+4)):INDIRECT(\"'Success Criteria'!\" & ADDRESS(72,A64+4)),\"NON conformant\")","v":0},{"$f":"COUNTIF(INDIRECT(\"'Success Criteria'!\" & ADDRESS(10,A64+4)):INDIRECT(\"'Success Criteria'!\" & ADDRESS(72,A64+4)),\"N/A\")","v":0},{"$f":"COUNTIF(INDIRECT(\"'Success Criteria'!\" & ADDRESS(10,A64+4)):INDIRECT(\"'Success Criteria'!\" & ADDRESS(72,A64+4)),\"not tested\")","v":0},{"$f":"SUM(COUNTIF(INDIRECT(\"'Success Criteria'!\" & ADDRESS(76,A64+4)):INDIRECT(\"'Success Criteria'!\" & ADDRESS(119,A64+4)),\"PASS\"),COUNTIF(INDIRECT(\"'Success Criteria'!\" & ADDRESS(76,A64+4)):INDIRECT(\"'Success Criteria'!\" & ADDRESS(119,A64+4)),\"PASS with comments\"))","v":2},{"$f":"COUNTIF(INDIRECT(\"'Success Criteria'!\" & ADDRESS(76,A64+4)):INDIRECT(\"'Success Criteria'!\" & ADDRESS(119,A64+4)),\"NON conformant\")","v":0},{"$f":"COUNTIF(INDIRECT(\"'Success Criteria'!\" & ADDRESS(76,A64+4)):INDIRECT(\"'Success Criteria'!\" & ADDRESS(119,A64+4)),\"N/A\")","v":0},{"$f":"COUNTIF(INDIRECT(\"'Success Criteria'!\" & ADDRESS(76,A64+4)):INDIRECT(\"'Success Criteria'!\" & ADDRESS(119,A64+4)),\"not tested\")","v":0},{"$f":"SUM(COUNTIF(INDIRECT(\"'Success Criteria'!\" & ADDRESS(124,A64+4)):INDIRECT(\"'Success Criteria'!\" & ADDRESS(178,A64+4)),\"PASS\"),COUNTIF(INDIRECT(\"'Success Criteria'!\" & ADDRESS(124,A64+4)):INDIRECT(\"'Success Criteria'!\" & ADDRESS(178,A64+4)),\"PASS with comments\"))","v":0},{"$f":"COUNTIF(INDIRECT(\"'Success Criteria'!\" & ADDRESS(124,A64+4)):INDIRECT(\"'Success Criteria'!\" & ADDRESS(178,A64+4)),\"NON conformant\")","v":0},{"$f":"COUNTIF(INDIRECT(\"'Success Criteria'!\" & ADDRESS(124,A64+4)):INDIRECT(\"'Success Criteria'!\" & ADDRESS(178,A64+4)),\"N/A\")","v":0},{"$f":"COUNTIF(INDIRECT(\"'Success Criteria'!\" & ADDRESS(124,A64+4)):INDIRECT(\"'Success Criteria'!\" & ADDRESS(178,A64+4)),\"not tested\")","v":28},2,0,0,28,null,0,"",2,"",28,1]
[51,"Page 51","URL 51","Please select",{"$f":"SUM(COUNTIF(INDIRECT(\"'Success Criteria'!\" & ADDRESS(10,A65+4)):INDIRECT(\"'Success Criteria'!\" & ADDRESS(72,A65+4)),\"PASS\"),COUNTIF(INDIRECT(\"'Success Criteria'!\" & ADDRESS(10,A65+4)):INDIRECT(\"'Success Criteria'!\" & ADDRESS(72,A65+4)),\"PASS with comments\"))","v":0},{"$f":"COUNTIF(INDIRECT(\"'Success Criteria'!\" & ADDRESS(10,A65+4)):INDIRECT(\"'Success Criteria'!\" & ADDRESS(72,A65+4)),\"NON conformant\")","v":0},{"$f":"COUNTIF(INDIRECT(\"'Success Criteria'!\" & ADDRESS(10,A65+4)):INDIRECT(\"'Success Criteria'!\" & ADDRESS(72,A65+4)),\"N/A\")","v":0},{"$f":"COUNTIF(INDIRECT(\"'Success Criteria'!\" & ADDRESS(10,A65+4)):INDIRECT(\"'Success Criteria'!\" & ADDRESS(72,A65+4)),\"not tested\")","v":0},{"$f":"SUM(COUNTIF(INDIRECT(\"'Success Criteria'!\" & ADDRESS(76,A65+4)):INDIRECT(\"'Success Criteria'!\" & ADDRESS(119,A65+4)),\"PASS\"),COUNTIF(INDIRECT(\"'Success Criteria'!\" & ADDRESS(76,A65+4)):INDIRECT(\"'Success Criteria'!\" & ADDRESS(119,A65+4)),\"PASS with comments\"))","v":2},{"$f":"COUNTIF(INDIRECT(\"'Success Criteria'!\" & ADDRESS(76,A65+4)):INDIRECT(\"'Success Criteria'!\" & ADDRESS(119,A65+4)),\"NON conformant\")","v":0},{"$f":"COUNTIF(INDIRECT(\"'Success Criteria'!\" & ADDRESS(76,A65+4)):INDIRECT(\"'Success Criteria'!\" & ADDRESS(119,A65+4)),\"N/A\")","v":0},{"$f":"COUNTIF(INDIRECT(\"'Success Criteria'!\" & ADDRESS(76,A65+4)):INDIRECT(\"'Success Criteria'!\" & ADDRESS(119,A65+4)),\"not tested\")","v":0},{"$f":"SUM(COUNTIF(INDIRECT(\"'Success Criteria'!\" & ADDRESS(124,A65+4)):INDIRECT(\"'Success Criteria'!\" & ADDRESS(178,A65+4)),\"PASS\"),COUNTIF(INDIRECT(\"'Success Criteria'!\" & ADDRESS(124,A65+4)):INDIRECT(\"'Success Criteria'!\" & ADDRESS(178,A65+4)),\"PASS with comments\"))","v":0},{"$f":"COUNTIF(INDIRECT(\"'Success Criteria'!\" & ADDRESS(124,A65+4)):INDIRECT(\"'Success Criteria'!\" & ADDRESS(178,A65+4)),\"NON conformant\")","v":0},{"$f":"COUNTIF(INDIRECT(\"'Success Criteria'!\" & ADDRESS(124,A65+4)):INDIRECT(\"'Success Criteria'!\" & ADDRESS(178,A65+4)),\"N/A\")","v":0},{"$f":"COUNTIF(INDIRECT(\"'Success Criteria'!\" & ADDRESS(124,A65+4)):INDIRECT(\"'Success Criteria'!\" & ADDRESS(178,A65+4)),\"not tested\")","v":28},2,{"$f":"SUM(F65+J65+N65)","v":0},0,28,null,{"$f":"SUM(E65:H65)","v":0},{"$f":"IF(V65=30,1,\"\")","v":""},2,{"$f":"IF(X65=20,1,\"\")","v":""},28,{"$f":"IF(Z65=28,1,\"\")","v":1}]
[52,"Page 52","URL 52","Please select",{"$f":"SUM(COUNTIF(INDIRECT(\"'Success Criteria'!\" & ADDRESS(10,A66+4)):INDIRECT(\"'Success Criteria'!\" & ADDRESS(72,A66+4)),\"PASS\"),COUNTIF(INDIRECT(\"'Success Criteria'!\" & ADDRESS(10,A66+4)):INDIRECT(\"'Success Criteria'!\" & ADDRESS(72,A66+4)),\"PASS with comments\"))","v":0},{"$f":"COUNTIF(INDIRECT(\"'Success Criteria'!\" & ADDRESS(10,A66+4)):INDIRECT(\"'Success Criteria'!\" & ADDRESS(72,A66+4)),\"NON conformant\")","v":0},{"$f":"COUNTIF(INDIRECT(\"'Success Criteria'!\" & ADDRESS(10,A66+4)):INDIRECT(\"'Success Criteria'!\" & ADDRESS(72,A66+4)),\"N/A\")","v":0},{"$f":"COUNTIF(INDIRECT(\"'Success Criteria'!\" & ADDRESS(10,A66+4)):INDIRECT(\"'Success Criteria'!\" & ADDRESS(72,A66+4)),\"not tested\")","v":0},{"$f":"SUM(COUNTIF(INDIRECT(\"'Success Criteria'!\" & ADDRESS(76,A66+4)):INDIRECT(\"'Success Criteria'!\" & ADDRESS(119,A66+4)),\"PASS\"),COUNTIF(INDIRECT(\"'Success Criteria'!\" & ADDRESS(76,A66+4)):INDIRECT(\"'Success Criteria'!\" & ADDRESS(119,A66+4)),\"PASS with comments\"))","v":2},{"$f":"COUNTIF(INDIRECT(\"'Success Criteria'!\" & ADDRESS(76,A66+4)):INDIRECT(\"'Success Criteria'!\" & ADDRESS(119,A66+4)),\"NON conformant\")","v":0},{"$f":"COUNTIF(INDIRECT(\"'Success Criteria'!\" & ADDRESS(76,A66+4)):INDIRECT(\"'Success Criteria'!\" & ADDRESS(119,A66+4)),\"N/A\")","v":0},{"$f":"COUNTIF(INDIRECT(\"'Success Criteria'!\" & ADDRESS(76,A66+4)):INDIRECT(\"'Success Criteria'!\" & ADDRESS(119,A66+4)),\"not tested\")","v":0},{"$f":"SUM(COUNTIF(INDIRECT(\"'Success Criteria'!\" & ADDRESS(124,A66+4)):INDIRECT(\"'Success Criteria'!\" & ADDRESS(178,A66+4)),\"PASS\"),COUNTIF(INDIRECT(\"'Success Criteria'!\" & ADDRESS(124,A66+4)):INDIRECT(\"'Success Criteria'!\" & ADDRESS(178,A66+4)),\"PASS with comments\"))","v":0},{"$f":"COUNTIF(INDIRECT(\"'Success Criteria'!\" & ADDRESS(124,A66+4)):INDIRECT(\"'Success Criteria'!\" & ADDRESS(178,A66+4)),\"NON conformant\")","v":0},{"$f":"COUNTIF(INDIRECT(\"'Success Criteria'!\" & ADDRESS(124,A66+4)):INDIRECT(\"'Success Criteria'!\" & ADDRESS(178,A66+4)),\"N/A\")","v":0},{"$f":"COUNTIF(INDIRECT(\"'Success Criteria'!\" & ADDRESS(124,A66+4)):INDIRECT(\"'Success Criteria'!\" & ADDRESS(178,A66+4)),\"not tested\")","v":28},2,0,0,28,null,0,"",2,"",28,1]
[53,"Page 53","URL 53","Please select",{"$f":"SUM(COUNTIF(INDIRECT(\"'Success Criteria'!\" & ADDRESS(10,A67+4)):INDIRECT(\"'Success Criteria'!\" & ADDRESS(72,A67+4)),\"PASS\"),COUNTIF(INDIRECT(\"'Success Criteria'!\" & ADDRESS(10,A67+4)):INDIRECT(\"'Success Criteria'!\" & ADDRESS(72,A67+4)),\"PASS with comments\"))","v":0},{"$f":"COUNTIF(INDIRECT(\"'Success Criteria'!\" & ADDRESS(10,A67+4)):INDIRECT(\"'Success Criteria'!\" & ADDRESS(72,A67+4)),\"NON conformant\")","v":0},{"$f":"COUNTIF(INDIRECT(\"'Success Criteria'!\" & ADDRESS(10,A67+4)):INDIRECT(\"'Success Criteria'!\" & ADDRESS(72,A67+4)),\"N/A\")","v":0},{"$f":"COUNTIF(INDIRECT(\"'Success Criteria'!\" & ADDRESS(10,A67+4)):INDIRECT(\"'Success Criteria'!\" & ADDRESS(72,A67+4)),\"not tested\")","v":0},{"$f":"SUM(COUNTIF(INDIRECT(\"'Success Criteria'!\" & ADDRESS(76,A67+4)):INDIRECT(\"'Success Criteria'!\" & ADDRESS(119,A67+4)),\"PASS\"),COUNTIF(INDIRECT(\"'Success Criteria'!\" & ADDRESS(76,A67+4)):INDIRECT(\"'Success Criteria'!\" & ADDRESS(119,A67+4)),\"PASS with comments\"))","v":2},{"$f":"COUNTIF(INDIRECT(\"'Success Criteria'!\" & ADDRESS(76,A67+4)):INDIRECT(\"'Success Criteria'!\" & ADDRESS(119,A67+4)),\"NON conformant\")","v":0},{"$f":"COUNTIF(INDIRECT(\"'Success Criteria'!\" & ADDRESS(76,A67+4)):INDIRECT(\"'Success Criteria'!\" & ADDRESS(119,A67+4)),\"N/A\")","v":0},{"$f":"COUNTIF(INDIRECT(\"'Success Criteria'!\" & ADDRESS(76,A67+4)):INDIRECT(\"'Success Criteria'!\" & ADDRESS(119,A67+4)),\"not tested\")","v":0},{"$f":"SUM(COUNTIF(INDIRECT(\"'Success Criteria'!\" & ADDRESS(124,A67+4)):INDIRECT(\"'Success Criteria'!\" & ADDRESS(178,A67+4)),\"PASS\"),COUNTIF(INDIRECT(\"'Success Criteria'!\" & ADDRESS(124,A67+4)):INDIRECT(\"'Success Criteria'!\" & ADDRESS(178,A67+4)),\"PASS with comments\"))","v":0},{"$f":"COUNTIF(INDIRECT(\"'Success Criteria'!\" & ADDRESS(124,A67+4)):INDIRECT(\"'Success Criteria'!\" & ADDRESS(178,A67+4)),\"NON conformant\")","v":0},{"$f":"COUNTIF(INDIRECT(\"'Success Criteria'!\" & ADDRESS(124,A67+4)):INDIRECT(\"'Success Criteria'!\" & ADDRESS(178,A67+4)),\"N/A\")","v":0},{"$f":"COUNTIF(INDIRECT(\"'Success Criteria'!\" & ADDRESS(124,A67+4)):INDIRECT(\"'Success Criteria'!\" & ADDRESS(178,A67+4)),\"not tested\")","v":28},2,0,0,28,null,0,"",2,"",28,1]
[54,"Page 54","URL 54","Please select",{"$f":"SUM(COUNTIF(INDIRECT(\"'Success Criteria'!\" & ADDRESS(10,A68+4)):INDIRECT(\"'Success Criteria'!\" & ADDRESS(72,A68+4)),\"PASS\"),COUNTIF(INDIRECT(\"'Success Criteria'!\" & ADDRESS(10,A68+4)):INDIRECT(\"'Success Criteria'!\" & ADDRESS(72,A68+4)),\"PASS with comments\"))","v":0},{"$f":"COUNTIF(INDIRECT(\"'Success Criteria'!\" & ADDRESS(10,A68+4)):INDIRECT(\"'Success Criteria'!\" & ADDRESS(72,A68+4)),\"NON conformant\")","v":0},{"$f":"COUNTIF(INDIRECT(\"'Success Criteria'!\" & ADDRESS(10,A68+4)):INDIRECT(\"'Success Criteria'!\" & ADDRESS(72,A68+4)),\"N/A\")","v":0},{"$f":"COUNTIF(INDIRECT(\"'Success Criteria'!\" & ADDRESS(10,A68+4)):INDIRECT(\"'Success Criteria'!\" & ADDRESS(72,A68+4)),\"not tested\")","v":0},{"$f":"SUM(COUNTIF(INDIRECT(\"'Success Criteria'!\" & ADDRESS(76,A68+4)):INDIRECT(\"'Success Criteria'!\" & ADDRESS(119,A68+4)),\"PASS\"),COUNTIF(INDIRECT(\"'Success Criteria'!\" & ADDRESS(76,A68+4)):INDIRECT(\"'Success Criteria'!\" & ADDRESS(119,A68+4)),\"PASS with comments\"))","v":2},{"$f":"COUNTIF(INDIRECT(\"'Success Criteria'!\" & ADDRESS(76,A68+4)):INDIRECT(\"'Success Criteria'!\" & ADDRESS(119,A68+4)),\"NON conformant\")","v":0},{"$f":"COUNTIF(INDIRECT(\"'Success Criteria'!\" & ADDRESS(76,A68+4)):INDIRECT(\"'Success Criteria'!\" & ADDRESS(119,A68+4)),\"N/A\")","v":0},{"$f":"COUNTIF(INDIRECT(\"'Success Criteria'!\" & ADDRESS(76,A68+4)):INDIRECT(\"'Success Criteria'!\" & ADDRESS(119,A68+4)),\"not tested\")","v":0},{"$f":"SUM(COUNTIF(INDIRECT(\"'Success Criteria'!\" & ADDRESS(124,A68+4)):INDIRECT(\"'Success Criteria'!\" & ADDRESS(178,A68+4)),\"PASS\"),COUNTIF(INDIRECT(\"'Success Criteria'!\" & ADDRESS(124,A68+4)):INDIRECT(\"'Success Criteria'!\" & ADDRESS(178,A68+4)),\"PASS with comments\"))","v":0},{"$f":"COUNTIF(INDIRECT(\"'Success Criteria'!\" & ADDRESS(124,A68+4)):INDIRECT(\"'Success Criteria'!\" & ADDRESS(178,A68+4)),\"NON conformant\")","v":0},{"$f":"COUNTIF(INDIRECT(\"'Success Criteria'!\" & ADDRESS(124,A68+4)):INDIRECT(\"'Success Criteria'!\" & ADDRESS(178,A68+4)),\"N/A\")","v":0},{"$f":"COUNTIF(INDIRECT(\"'Success Criteria'!\" & ADDRESS(124,A68+4)):INDIRECT(\"'Success Criteria'!\" & ADDRESS(178,A68+4)),\"not tested\")","v":28},2,0,0,28,null,0,"",2,"",28,1]
[55,"Page 55","URL 55","Please select",{"$f":"SUM(COUNTIF(INDIRECT(\"'Success Criteria'!\" & ADDRESS(10,A69+4)):INDIRECT(\"'Success Criteria'!\" & ADDRESS(72,A69+4)),\"PASS\"),COUNTIF(INDIRECT(\"'Success Criteria'!\" & ADDRESS(10,A69+4)):INDIRECT(\"'Success Criteria'!\" & ADDRESS(72,A69+4)),\"PASS with comments\"))","v":0},{"$f":"COUNTIF(INDIRECT(\"'Success Criteria'!\" & ADDRESS(10,A69+4)):INDIRECT(\"'Success Criteria'!\" & ADDRESS(72,A69+4)),\"NON conformant\")","v":0},{"$f":"COUNTIF(INDIRECT(\"'Success Criteria'!\" & ADDRESS(10,A69+4)):INDIRECT(\"'Success Criteria'!\" & ADDRESS(72,A69+4)),\"N/A\")","v":0},{"$f":"COUNTIF(INDIRECT(\"'Success Criteria'!\" & ADDRESS(10,A69+4)):INDIRECT(\"'Success Criteria'!\" & ADDRESS(72,A69+4)),\"not tested\")","v":0},{"$f":"SUM(COUNTIF(INDIRECT(\"'Success Criteria'!\" & ADDRESS(76,A69+4)):INDIRECT(\"'Success Criteria'!\" & ADDRESS(119,A69+4)),\"PASS\"),COUNTIF(INDIRECT(\"'Success Criteria'!\" & ADDRESS(76,A69+4)):INDIRECT(\"'Success Criteria'!\" & ADDRESS(119,A69+4)),\"PASS with comments\"))","v":2},{"$f":"COUNTIF(INDIRECT(\"'Success Criteria'!\" & ADDRESS(76,A69+4)):INDIRECT(\"'Success Criteria'!\" & ADDRESS(119,A69+4)),\"NON conformant\")","v":0},{"$f":"COUNTIF(INDIRECT(\"'Success Criteria'!\" & ADDRESS(76,A69+4)):INDIRECT(\"'Success Criteria'!\" & ADDRESS(119,A69+4)),\"N/A\")","v":0},{"$f":"COUNTIF(INDIRECT(\"'Success Criteria'!\" & ADDRESS(76,A69+4)):INDIRECT(\"'Success Criteria'!\" & ADDRESS(119,A69+4)),\"not tested\")","v":0},{"$f":"SUM(COUNTIF(INDIRECT(\"'Success Criteria'!\" & ADDRESS(124,A69+4)):INDIRECT(\"'Success Criteria'!\" & ADDRESS(178,A69+4)),\"PASS\"),COUNTIF(INDIRECT(\"'Success Criteria'!\" & ADDRESS(124,A69+4)):INDIRECT(\"'Success Criteria'!\" & ADDRESS(178,A69+4)),\"PASS with comments\"))","v":0},{"$f":"COUNTIF(INDIRECT(\"'Success Criteria'!\" & ADDRESS(124,A69+4)):INDIRECT(\"'Success Criteria'!\" & ADDRESS(178,A69+4)),\"NON conformant\")","v":0},{"$f":"COUNTIF(INDIRECT(\"'Success Criteria'!\" & ADDRESS(124,A69+4)):INDIRECT(\"'Success Criteria'!\" & ADDRESS(178,A69+4)),\"N/A\")","v":0},{"$f":"COUNTIF(INDIRECT(\"'Success Criteria'!\" & ADDRESS(124,A69+4)):INDIRECT(\"'Success Criteria'!\" & ADDRESS(178,A69+4)),\"not tested\")","v":28},2,0,0,28,null,0,"",2,"",28,1]
[56,"Page 56","URL 56","Please select",{"$f":"SUM(COUNTIF(INDIRECT(\"'Success Criteria'!\" & ADDRESS(10,A70+4)):INDIRECT(\"'Success Criteria'!\" & ADDRESS(72,A70+4)),\"PASS\"),COUNTIF(INDIRECT(\"'Success Criteria'!\" & ADDRESS(10,A70+4)):INDIRECT(\"'Success Criteria'!\" & ADDRESS(72,A70+4)),\"PASS with comments\"))","v":0},{"$f":"COUNTIF(INDIRECT(\"'Success Criteria'!\" & ADDRESS(10,A70+4)):INDIRECT(\"'Success Criteria'!\" & ADDRESS(72,A70+4)),\"NON conformant\")","v":0},{"$f":"COUNTIF(INDIRECT(\"'Success Criteria'!\" & ADDRESS(10,A70+4)):INDIRECT(\"'Success Criteria'!\" & ADDRESS(72,A70+4)),\"N/A\")","v":0},{"$f":"COUNTIF(INDIRECT(\"'Success Criteria'!\" & ADDRESS(10,A70+4)):INDIRECT(\"'Success Criteria'!\" & ADDRESS(72,A70+4)),\"not tested\")","v":0},{"$f":"SUM(COUNTIF(INDIRECT(\"'Success Criteria'!\" & ADDRESS(76,A70+4)):INDIRECT(\"'Success Criteria'!\" & ADDRESS(119,A70+4)),\"PASS\"),COUNTIF(INDIRECT(\"'Success Criteria'!\" & ADDRESS(76,A70+4)):INDIRECT(\"'Success Criteria'!\" & ADDRESS(119,A70+4)),\"PASS with comments\"))","v":2},{"$f":"COUNTIF(INDIRECT(\"'Success Criteria'!\" & ADDRESS(76,A70+4)):INDIRECT(\"'Success Criteria'!\" & ADDRESS(119,A70+4)),\"NON conformant\")","v":0},{"$f":"COUNTIF(INDIRECT(\"'Success Criteria'!\" & ADDRESS(76,A70+4)):INDIRECT(\"'Success Criteria'!\" & ADDRESS(119,A70+4)),\"N/A\")","v":0},{"$f":"COUNTIF(INDIRECT(\"'Success Criteria'!\" & ADDRESS(76,A70+4)):INDIRECT(\"'Success Criteria'!\" & ADDRESS(119,A70+4)),\"not tested\")","v":0},{"$f":"SUM(COUNTIF(INDIRECT(\"'Success Criteria'!\" & ADDRESS(124,A70+4)):INDIRECT(\"'Success Criteria'!\" & ADDRESS(178,A70+4)),\"PASS\"),COUNTIF(INDIRECT(\"'Success Criteria'!\" & ADDRESS(124,A70+4)):INDIRECT(\"'Success Criteria'!\" & ADDRESS(178,A70+4)),\"PASS with comments\"))","v":0},{"$f":"COUNTIF(INDIRECT(\"'Success Criteria'!\" & ADDRESS(124,A70+4)):INDIRECT(\"'Success Criteria'!\" & ADDRESS(178,A70+4)),\"NON conformant\")","v":0},{"$f":"COUNTIF(INDIRECT(\"'Success Criteria'!\" & ADDRESS(124,A70+4)):INDIRECT(\"'Success Criteria'!\" & ADDRESS(178,A70+4)),\"N/A\")","v":0},{"$f":"COUNTIF(INDIRECT(\"'Success Criteria'!\" & ADDRESS(124,A70+4)):INDIRECT(\"'Success Criteria'!\" & ADDRESS(178,A70+4)),\"not tested\")","v":28},2,0,0,28,null,0,"",2,"",28,1]
[57,"Page 57","URL 57","Please select",{"$f":"SUM(COUNTIF(INDIRECT(\"'Success Criteria'!\" & ADDRESS(10,A71+4)):INDIRECT(\"'Success Criteria'!\" & ADDRESS(72,A71+4)),\"PASS\"),COUNTIF(INDIRECT(\"'Success Criteria'!\" & ADDRESS(10,A71+4)):INDIRECT(\"'Success Criteria'!\" & ADDRESS(72,A71+4)),\"PASS with comments\"))","v":0},{"$f":"COUNTIF(INDIRECT(\"'Success Criteria'!\" & ADDRESS(10,A71+4)):INDIRECT(\"'Success Criteria'!\" & ADDRESS(72,A71+4)),\"NON conformant\")","v":0},{"$f":"COUNTIF(INDIRECT(\"'Success Criteria'!\" & ADDRESS(10,A71+4)):INDIRECT(\"'Success Criteria'!\" & ADDRESS(72,A71+4)),\"N/A\")","v":0},{"$f":"COUNTIF(INDIRECT(\"'Success Criteria'!\" & ADDRESS(10,A71+4)):INDIRECT(\"'Success Criteria'!\" & ADDRESS(72,A71+4)),\"not tested\")","v":0},{"$f":"SUM(COUNTIF(INDIRECT(\"'Success Criteria'!\" & ADDRESS(76,A71+4)):INDIRECT(\"'Success Criteria'!\" & ADDRESS(119,A71+4)),\"PASS\"),COUNTIF(INDIRECT(\"'Success Criteria'!\" & ADDRESS(76,A71+4)):INDIRECT(\"'Success Criteria'!\" & ADDRESS(119,A71+4)),\"PASS with comments\"))","v":2},{"$f":"COUNTIF(INDIRECT(\"'Success Criteria'!\" & ADDRESS(76,A71+4)):INDIRECT(\"'Success Criteria'!\" & ADDRESS(119,A71+4)),\"NON conformant\")","v":0},{"$f":"COUNTIF(INDIRECT(\"'Success Criteria'!\" & ADDRESS(76,A71+4)):INDIRECT(\"'Success Criteria'!\" & ADDRESS(119,A71+4)),\"N/A\")","v":0},{"$f":"COUNTIF(INDIRECT(\"'Success Criteria'!\" & ADDRESS(76,A71+4)):INDIRECT(\"'Success Criteria'!\" & ADDRESS(119,A71+4)),\"not tested\")","v":0},{"$f":"SUM(COUNTIF(INDIRECT(\"'Success Criteria'!\" & ADDRESS(124,A71+4)):INDIRECT(\"'Success Criteria'!\" & ADDRESS(178,A71+4)),\"PASS\"),COUNTIF(INDIRECT(\"'Success Criteria'!\" & ADDRESS(124,A71+4)):INDIRECT(\"'Success Criteria'!\" & ADDRESS(178,A71+4)),\"PASS with comments\"))","v":0},{"$f":"COUNTIF(INDIRECT(\"'Success Criteria'!\" & ADDRESS(124,A71+4)):INDIRECT(\"'Success Criteria'!\" & ADDRESS(178,A71+4)),\"NON conformant\")","v":0},{"$f":"COUNTIF(INDIRECT(\"'Success Criteria'!\" & ADDRESS(124,A71+4)):INDIRECT(\"'Success Criteria'!\" & ADDRESS(178,A71+4)),\"N/A\")","v":0},{"$f":"COUNTIF(INDIRECT(\"'Success Criteria'!\" & ADDRESS(124,A71+4)):INDIRECT(\"'Success Criteria'!\" & ADDRESS(178,A71+4)),\"not tested\")","v":28},2,0,0,28,null,0,"",2,"",28,1]
[58,"Page 58","URL 58","Please select",{"$f":"SUM(COUNTIF(INDIRECT(\"'Success Criteria'!\" & ADDRESS(10,A72+4)):INDIRECT(\"'Success Criteria'!\" & ADDRESS(72,A72+4)),\"PASS\"),COUNTIF(INDIRECT(\"'Success Criteria'!\" & ADDRESS(10,A72+4)):INDIRECT(\"'Success Criteria'!\" & ADDRESS(72,A72+4)),\"PASS with comments\"))","v":0},{"$f":"COUNTIF(INDIRECT(\"'Success Criteria'!\" & ADDRESS(10,A72+4)):INDIRECT(\"'Success Criteria'!\" & ADDRESS(72,A72+4)),\"NON conformant\")","v":0},{"$f":"COUNTIF(INDIRECT(\"'Success Criteria'!\" & ADDRESS(10,A72+4)):INDIRECT(\"'Success Criteria'!\" & ADDRESS(72,A72+4)),\"N/A\")","v":0},{"$f":"COUNTIF(INDIRECT(\"'Success Criteria'!\" & ADDRESS(10,A72+4)):INDIRECT(\"'Success Criteria'!\" & ADDRESS(72,A72+4)),\"not tested\")","v":0},{"$f":"SUM(COUNTIF(INDIRECT(\"'Success Criteria'!\" & ADDRESS(76,A72+4)):INDIRECT(\"'Success Criteria'!\" & ADDRESS(119,A72+4)),\"PASS\"),COUNTIF(INDIRECT(\"'Success Criteria'!\" & ADDRESS(76,A72+4)):INDIRECT(\"'Success Criteria'!\" & ADDRESS(119,A72+4)),\"PASS with comments\"))","v":2},{"$f":"COUNTIF(INDIRECT(\"'Success Criteria'!\" & ADDRESS(76,A72+4)):INDIRECT(\"'Success Criteria'!\" & ADDRESS(119,A72+4)),\"NON conformant\")","v":0},{"$f":"COUNTIF(INDIRECT(\"'Success Criteria'!\" & ADDRESS(76,A72+4)):INDIRECT(\"'Success Criteria'!\" & ADDRESS(119,A72+4)),\"N/A\")","v":0},{"$f":"COUNTIF(INDIRECT(\"'Success Criteria'!\" & ADDRESS(76,A72+4)):INDIRECT(\"'Success Criteria'!\" & ADDRESS(119,A72+4)),\"not tested\")","v":0},{"$f":"SUM(COUNTIF(INDIRECT(\"'Success Criteria'!\" & ADDRESS(124,A72+4)):INDIRECT(\"'Success Criteria'!\" & ADDRESS(178,A72+4)),\"PASS\"),COUNTIF(INDIRECT(\"'Success Criteria'!\" & ADDRESS(124,A72+4)):INDIRECT(\"'Success Criteria'!\" & ADDRESS(178,A72+4)),\"PASS with comments\"))","v":0},{"$f":"COUNTIF(INDIRECT(\"'Success Criteria'!\" & ADDRESS(124,A72+4)):INDIRECT(\"'Success Criteria'!\" & ADDRESS(178,A72+4)),\"NON conformant\")","v":0},{"$f":"COUNTIF(INDIRECT(\"'Success Criteria'!\" & ADDRESS(124,A72+4)):INDIRECT(\"'Success Criteria'!\" & ADDRESS(178,A72+4)),\"N/A\")","v":0},{"$f":"COUNTIF(INDIRECT(\"'Success Criteria'!\" & ADDRESS(124,A72+4)):INDIRECT(\"'Success Criteria'!\" & ADDRESS(178,A72+4)),\"not tested\")","v":28},2,0,0,28,null,0,"",2,"",28,1]
[59,"Page 59","URL 59","Please select",{"$f":"SUM(COUNTIF(INDIRECT(\"'Success Criteria'!\" & ADDRESS(10,A73+4)):INDIRECT(\"'Success Criteria'!\" & ADDRESS(72,A73+4)),\"PASS\"),COUNTIF(INDIRECT(\"'Success Criteria'!\" & ADDRESS(10,A73+4)):INDIRECT(\"'Success Criteria'!\" & ADDRESS(72,A73+4)),\"PASS with comments\"))","v":0},{"$f":"COUNTIF(INDIRECT(\"'Success Criteria'!\" & ADDRESS(10,A73+4)):INDIRECT(\"'Success Criteria'!\" & ADDRESS(72,A73+4)),\"NON conformant\")","v":0},{"$f":"COUNTIF(INDIRECT(\"'Success Criteria'!\" & ADDRESS(10,A73+4)):INDIRECT(\"'Success Criteria'!\" & ADDRESS(72,A73+4)),\"N/A\")","v":0},{"$f":"COUNTIF(INDIRECT(\"'Success Criteria'!\" & ADDRESS(10,A73+4)):INDIRECT(\"'Success Criteria'!\" & ADDRESS(72,A73+4)),\"not tested\")","v":0},{"$f":"SUM(COUNTIF(INDIRECT(\"'Success Criteria'!\" & ADDRESS(76,A73+4)):INDIRECT(\"'Success Criteria'!\" & ADDRESS(119,A73+4)),\"PASS\"),COUNTIF(INDIRECT(\"'Success Criteria'!\" & ADDRESS(76,A73+4)):INDIRECT(\"'Success Criteria'!\" & ADDRESS(119,A73+4)),\"PASS with comments\"))","v":2},{"$f":"COUNTIF(INDIRECT(\"'Success Criteria'!\" & ADDRESS(76,A73+4)):INDIRECT(\"'Success Criteria'!\" & ADDRESS(119,A73+4)),\"NON conformant\")","v":0},{"$f":"COUNTIF(INDIRECT(\"'Success Criteria'!\" & ADDRESS(76,A73+4)):INDIRECT(\"'Success Criteria'!\" & ADDRESS(119,A73+4)),\"N/A\")","v":0},{"$f":"COUNTIF(INDIRECT(\"'Success Criteria'!\" & ADDRESS(76,A73+4)):INDIRECT(\"'Success Criteria'!\" & ADDRESS(119,A73+4)),\"not tested\")","v":0},{"$f":"SUM(COUNTIF(INDIRECT(\"'Success Criteria'!\" & ADDRESS(124,A73+4)):INDIRECT(\"'Success Criteria'!\" & ADDRESS(178,A73+4)),\"PASS\"),COUNTIF(INDIRECT(\"'Success Criteria'!\" & ADDRESS(124,A73+4)):INDIRECT(\"'Success Criteria'!\" & ADDRESS(178,A73+4)),\"PASS with comments\"))","v":0},{"$f":"COUNTIF(INDIRECT(\"'Success Criteria'!\" & ADDRESS(124,A73+4)):INDIRECT(\"'Success Criteria'!\" & ADDRESS(178,A73+4)),\"NON conformant\")","v":0},{"$f":"COUNTIF(INDIRECT(\"'Success Criteria'!\" & ADDRESS(124,A73+4)):INDIRECT(\"'Success Criteria'!\" & ADDRESS(178,A73+4)),\"N/A\")","v":0},{"$f":"COUNTIF(INDIRECT(\"'Success Criteria'!\" & ADDRESS(124,A73+4)):INDIRECT(\"'Success Criteria'!\" & ADDRESS(178,A73+4)),\"not tested\")","v":28},2,0,0,28,null,0,"",2,"",28,1]
[60,"Page 60","URL 60","Please select",{"$f":"SUM(COUNTIF(INDIRECT(\"'Success Criteria'!\" & ADDRESS(10,A74+4)):INDIRECT(\"'Success Criteria'!\" & ADDRESS(72,A74+4)),\"PASS\"),COUNTIF(INDIRECT(\"'Success Criteria'!\" & ADDRESS(10,A74+4)):INDIRECT(\"'Success Criteria'!\" & ADDRESS(72,A74+4)),\"PASS with comments\"))","v":0},{"$f":"COUNTIF(INDIRECT(\"'Success Criteria'!\" & ADDRESS(10,A74+4)):INDIRECT(\"'Success Criteria'!\" & ADDRESS(72,A74+4)),\"NON conformant\")","v":0},{"$f":"COUNTIF(INDIRECT(\"'Success Criteria'!\" & ADDRESS(10,A74+4)):INDIRECT(\"'Success Criteria'!\" & ADDRESS(72,A74+4)),\"N/A\")","v":0},{"$f":"COUNTIF(INDIRECT(\"'Success Criteria'!\" & ADDRESS(10,A74+4)):INDIRECT(\"'Success Criteria'!\" & ADDRESS(72,A74+4)),\"not tested\")","v":0},{"$f":"SUM(COUNTIF(INDIRECT(\"'Success Criteria'!\" & ADDRESS(76,A74+4)):INDIRECT(\"'Success Criteria'!\" & ADDRESS(119,A74+4)),\"PASS\"),COUNTIF(INDIRECT(\"'Success Criteria'!\" & ADDRESS(76,A74+4)):INDIRECT(\"'Success Criteria'!\" & ADDRESS(119,A74+4)),\"PASS with comments\"))","v":2},{"$f":"COUNTIF(INDIRECT(\"'Success Criteria'!\" & ADDRESS(76,A74+4)):INDIRECT(\"'Success Criteria'!\" & ADDRESS(119,A74+4)),\"NON conformant\")","v":0},{"$f":"COUNTIF(INDIRECT(\"'Success Criteria'!\" & ADDRESS(76,A74+4)):INDIRECT(\"'Success Criteria'!\" & ADDRESS(119,A74+4)),\"N/A\")","v":0},{"$f":"COUNTIF(INDIRECT(\"'Success Criteria'!\" & ADDRESS(76,A74+4)):INDIRECT(\"'Success Criteria'!\" & ADDRESS(119,A74+4)),\"not tested\")","v":0},{"$f":"SUM(COUNTIF(INDIRECT(\"'Success Criteria'!\" & ADDRESS(124,A74+4)):INDIRECT(\"'Success Criteria'!\" & ADDRESS(178,A74+4)),\"PASS\"),COUNTIF(INDIRECT(\"'Success Criteria'!\" & ADDRESS(124,A74+4)):INDIRECT(\"'Success Criteria'!\" & ADDRESS(178,A74+4)),\"PASS with comments\"))","v":0},{"$f":"COUNTIF(INDIRECT(\"'Success Criteria'!\" & ADDRESS(124,A74+4)):INDIRECT(\"'Success Criteria'!\" & ADDRESS(178,A74+4)),\"NON conformant\")","v":0},{"$f":"COUNTIF(INDIRECT(\"'Success Criteria'!\" & ADDRESS(124,A74+4)):INDIRECT(\"'Success Criteria'!\" & ADDRESS(178,A74+4)),\"N/A\")","v":0},{"$f":"COUNTIF(INDIRECT(\"'Success Criteria'!\" & ADDRESS(124,A74+4)):INDIRECT(\"'Success Criteria'!\" & ADDRESS(178,A74+4)),\"not tested\")","v":28},2,0,0,28,null,0,"",2,"",28,1]
[61,"Page 61","URL 61","Please select",{"$f":"SUM(COUNTIF(INDIRECT(\"'Success Criteria'!\" & ADDRESS(10,A75+4)):INDIRECT(\"'Success Criteria'!\" & ADDRESS(72,A75+4)),\"PASS\"),COUNTIF(INDIRECT(\"'Success Criteria'!\" & ADDRESS(10,A75+4)):INDIRECT(\"'Success Criteria'!\" & ADDRESS(72,A75+4)),\"PASS with comments\"))","v":0},{"$f":"COUNTIF(INDIRECT(\"'Success Criteria'!\" & ADDRESS(10,A75+4)):INDIRECT(\"'Success Criteria'!\" & ADDRESS(72,A75+4)),\"NON conformant\")","v":0},{"$f":"COUNTIF(INDIRECT(\"'Success Criteria'!\" & ADDRESS(10,A75+4)):INDIRECT(\"'Success Criteria'!\" & ADDRESS(72,A75+4)),\"N/A\")","v":0},{"$f":"COUNTIF(INDIRECT(\"'Success Criteria'!\" & ADDRESS(10,A75+4)):INDIRECT(\"'Success Criteria'!\" & ADDRESS(72,A75+4)),\"not tested\")","v":0},{"$f":"SUM(COUNTIF(INDIRECT(\"'Success Criteria'!\" & ADDRESS(76,A75+4)):INDIRECT(\"'Success Criteria'!\" & ADDRESS(119,A75+4)),\"PASS\"),COUNTIF(INDIRECT(\"'Success Criteria'!\" & ADDRESS(76,A75+4)):INDIRECT(\"'Success Criteria'!\" & ADDRESS(119,A75+4)),\"PASS with comments\"))","v":2},{"$f":"COUNTIF(INDIRECT(\"'Success Criteria'!\" & ADDRESS(76,A75+4)):INDIRECT(\"'Success Criteria'!\" & ADDRESS(119,A75+4)),\"NON conformant\")","v":0},{"$f":"COUNTIF(INDIRECT(\"'Success Criteria'!\" & ADDRESS(76,A75+4)):INDIRECT(\"'Success Criteria'!\" & ADDRESS(119,A75+4)),\"N/A\")","v":0},{"$f":"COUNTIF(INDIRECT(\"'Success Criteria'!\" & ADDRESS(76,A75+4)):INDIRECT(\"'Success Criteria'!\" & ADDRESS(119,A75+4)),\"not tested\")","v":0},{"$f":"SUM(COUNTIF(INDIRECT(\"'Success Criteria'!\" & ADDRESS(124,A75+4)):INDIRECT(\"'Success Criteria'!\" & ADDRESS(178,A75+4)),\"PASS\"),COUNTIF(INDIRECT(\"'Success Criteria'!\" & ADDRESS(124,A75+4)):INDIRECT(\"'Success Criteria'!\" & ADDRESS(178,A75+4)),\"PASS with comments\"))","v":0},{"$f":"COUNTIF(INDIRECT(\"'Success Criteria'!\" & ADDRESS(124,A75+4)):INDIRECT(\"'Success Criteria'!\" & ADDRESS(178,A75+4)),\"NON conformant\")","v":0},{"$f":"COUNTIF(INDIRECT(\"'Success Criteria'!\" & ADDRESS(124,A75+4)):INDIRECT(\"'Success Criteria'!\" & ADDRESS(178,A75+4)),\"N/A\")","v":0},{"$f":"COUNTIF(INDIRECT(\"'Success Criteria'!\" & ADDRESS(124,A75+4)):INDIRECT(\"'Success Criteria'!\" & ADDRESS(178,A75+4)),\"not tested\")","v":28},2,0,0,28,null,0,"",2,"",28,1]
[62,"Page 62","URL 62","Please select",{"$f":"SUM(COUNTIF(INDIRECT(\"'Success Criteria'!\" & ADDRESS(10,A76+4)):INDIRECT(\"'Success Criteria'!\" & ADDRESS(72,A76+4)),\"PASS\"),COUNTIF(INDIRECT(\"'Success Criteria'!\" & ADDRESS(10,A76+4)):INDIRECT(\"'Success Criteria'!\" & ADDRESS(72,A76+4)),\"PASS with comments\"))","v":0},{"$f":"COUNTIF(INDIRECT(\"'Success Criteria'!\" & ADDRESS(10,A76+4)):INDIRECT(\"'Success Criteria'!\" & ADDRESS(72,A76+4)),\"NON conformant\")","v":0},{"$f":"COUNTIF(INDIRECT(\"'Success Criteria'!\" & ADDRESS(10,A76+4)):INDIRECT(\"'Success Criteria'!\" & ADDRESS(72,A76+4)),\"N/A\")","v":0},{"$f":"COUNTIF(INDIRECT(\"'Success Criteria'!\" & ADDRESS(10,A76+4)):INDIRECT(\"'Success Criteria'!\" & ADDRESS(72,A76+4)),\"not tested\")","v":0},{"$f":"SUM(COUNTIF(INDIRECT(\"'Success Criteria'!\" & ADDRESS(76,A76+4)):INDIRECT(\"'Success Criteria'!\" & ADDRESS(119,A76+4)),\"PASS\"),COUNTIF(INDIRECT(\"'Success Criteria'!\" & ADDRESS(76,A76+4)):INDIRECT(\"'Success Criteria'!\" & ADDRESS(119,A76+4)),\"PASS with comments\"))","v":2},{"$f":"COUNTIF(INDIRECT(\"'Success Criteria'!\" & ADDRESS(76,A76+4)):INDIRECT(\"'Success Criteria'!\" & ADDRESS(119,A76+4)),\"NON conformant\")","v":0},{"$f":"COUNTIF(INDIRECT(\"'Success Criteria'!\" & ADDRESS(76,A76+4)):INDIRECT(\"'Success Criteria'!\" & ADDRESS(119,A76+4)),\"N/A\")","v":0},{"$f":"COUNTIF(INDIRECT(\"'Success Criteria'!\" & ADDRESS(76,A76+4)):INDIRECT(\"'Success Criteria'!\" & ADDRESS(119,A76+4)),\"not tested\")","v":0},{"$f":"SUM(COUNTIF(INDIRECT(\"'Success Criteria'!\" & ADDRESS(124,A76+4)):INDIRECT(\"'Success Criteria'!\" & ADDRESS(178,A76+4)),\"PASS\"),COUNTIF(INDIRECT(\"'Success Criteria'!\" & ADDRESS(124,A76+4)):INDIRECT(\"'Success Criteria'!\" & ADDRESS(178,A76+4)),\"PASS with comments\"))","v":0},{"$f":"COUNTIF(INDIRECT(\"'Success Criteria'!\" & ADDRESS(124,A76+4)):INDIRECT(\"'Success Criteria'!\" & ADDRESS(178,A76+4)),\"NON conformant\")","v":0},{"$f":"COUNTIF(INDIRECT(\"'Success Criteria'!\" & ADDRESS(124,A76+4)):INDIRECT(\"'Success Criteria'!\" & ADDRESS(178,A76+4)),\"N/A\")","v":0},{"$f":"COUNTIF(INDIRECT(\"'Success Criteria'!\" & ADDRESS(124,A76+4)):INDIRECT(\"'Success Criteria'!\" & ADDRESS(178,A76+4)),\"not tested\")","v":28},2,0,0,28,null,0,"",2,"",28,1]
[63,"Page 63","URL 63","Please select",{"$f":"SUM(COUNTIF(INDIRECT(\"'Success Criteria'!\" & ADDRESS(10,A77+4)):INDIRECT(\"'Success Criteria'!\" & ADDRESS(72,A77+4)),\"PASS\"),COUNTIF(INDIRECT(\"'Success Criteria'!\" & ADDRESS(10,A77+4)):INDIRECT(\"'Success Criteria'!\" & ADDRESS(72,A77+4)),\"PASS with comments\"))","v":0},{"$f":"COUNTIF(INDIRECT(\"'Success Criteria'!\" & ADDRESS(10,A77+4)):INDIRECT(\"'Success Criteria'!\" & ADDRESS(72,A77+4)),\"NON conformant\")","v":0},{"$f":"COUNTIF(INDIRECT(\"'Success Criteria'!\" & ADDRESS(10,A77+4)):INDIRECT(\"'Success Criteria'!\" & ADDRESS(72,A77+4)),\"N/A\")","v":0},{"$f":"COUNTIF(INDIRECT(\"'Success Criteria'!\" & ADDRESS(10,A77+4)):INDIRECT(\"'Success Criteria'!\" & ADDRESS(72,A77+4)),\"not tested\")","v":0},{"$f":"SUM(COUNTIF(INDIRECT(\"'Success Criteria'!\" & ADDRESS(76,A77+4)):INDIRECT(\"'Success Criteria'!\" & ADDRESS(119,A77+4)),\"PASS\"),COUNTIF(INDIRECT(\"'Success Criteria'!\" & ADDRESS(76,A77+4)):INDIRECT(\"'Success Criteria'!\" & ADDRESS(119,A77+4)),\"PASS with comments\"))","v":2},{"$f":"COUNTIF(INDIRECT(\"'Success Criteria'!\" & ADDRESS(76,A77+4)):INDIRECT(\"'Success Criteria'!\" & ADDRESS(119,A77+4)),\"NON conformant\")","v":0},{"$f":"COUNTIF(INDIRECT(\"'Success Criteria'!\" & ADDRESS(76,A77+4)):INDIRECT(\"'Success Criteria'!\" & ADDRESS(119,A77+4)),\"N/A\")","v":0},{"$f":"COUNTIF(INDIRECT(\"'Success Criteria'!\" & ADDRESS(76,A77+4)):INDIRECT(\"'Success Criteria'!\" & ADDRESS(119,A77+4)),\"not tested\")","v":0},{"$f":"SUM(COUNTIF(INDIRECT(\"'Success Criteria'!\" & ADDRESS(124,A77+4)):INDIRECT(\"'Success Criteria'!\" & ADDRESS(178,A77+4)),\"PASS\"),COUNTIF(INDIRECT(\"'Success Criteria'!\" & ADDRESS(124,A77+4)):INDIRECT(\"'Success Criteria'!\" & ADDRESS(178,A77+4)),\"PASS with comments\"))","v":0},{"$f":"COUNTIF(INDIRECT(\"'Success Criteria'!\" & ADDRESS(124,A77+4)):INDIRECT(\"'Success Criteria'!\" & ADDRESS(178,A77+4)),\"NON conformant\")","v":0},{"$f":"COUNTIF(INDIRECT(\"'Success Criteria'!\" & ADDRESS(124,A77+4)):INDIRECT(\"'Success Criteria'!\" & ADDRESS(178,A77+4)),\"N/A\")","v":0},{"$f":"COUNTIF(INDIRECT(\"'Success Criteria'!\" & ADDRESS(124,A77+4)):INDIRECT(\"'Success Criteria'!\" & ADDRESS(178,A77+4)),\"not tested\")","v":28},2,0,0,28,null,0,"",2,"",28,1]
[64,"Page 64","URL 64","Please select",{"$f":"SUM(COUNTIF(INDIRECT(\"'Success Criteria'!\" & ADDRESS(10,A78+4)):INDIRECT(\"'Success Criteria'!\" & ADDRESS(72,A78+4)),\"PASS\"),COUNTIF(INDIRECT(\"'Success Criteria'!\" & ADDRESS(10,A78+4)):INDIRECT(\"'Success Criteria'!\" & ADDRESS(72,A78+4)),\"PASS with comments\"))","v":0},{"$f":"COUNTIF(INDIRECT(\"'Success Criteria'!\" & ADDRESS(10,A78+4)):INDIRECT(\"'Success Criteria'!\" & ADDRESS(72,A78+4)),\"NON conformant\")","v":0},{"$f":"COUNTIF(INDIRECT(\"'Success Criteria'!\" & ADDRESS(10,A78+4)):INDIRECT(\"'Success Criteria'!\" & ADDRESS(72,A78+4)),\"N/A\")","v":0},{"$f":"COUNTIF(INDIRECT(\"'Success Criteria'!\" & ADDRESS(10,A78+4)):INDIRECT(\"'Success Criteria'!\" & ADDRESS(72,A78+4)),\"not tested\")","v":0},{"$f":"SUM(COUNTIF(INDIRECT(\"'Success Criteria'!\" & ADDRESS(76,A78+4)):INDIRECT(\"'Success Criteria'!\" & ADDRESS(119,A78+4)),\"PASS\"),COUNTIF(INDIRECT(\"'Success Criteria'!\" & ADDRESS(76,A78+4)):INDIRECT(\"'Success Criteria'!\" & ADDRESS(119,A78+4)),\"PASS with comments\"))","v":2},{"$f":"COUNTIF(INDIRECT(\"'Success Criteria'!\" & ADDRESS(76,A78+4)):INDIRECT(\"'Success Criteria'!\" & ADDRESS(119,A78+4)),\"NON conformant\")","v":0},{"$f":"COUNTIF(INDIRECT(\"'Success Criteria'!\" & ADDRESS(76,A78+4)):INDIRECT(\"'Success Criteria'!\" & ADDRESS(119,A78+4)),\"N/A\")","v":0},{"$f":"COUNTIF(INDIRECT(\"'Success Criteria'!\" & ADDRESS(76,A78+4)):INDIRECT(\"'Success Criteria'!\" & ADDRESS(119,A78+4)),\"not tested\")","v":0},{"$f":"SUM(COUNTIF(INDIRECT(\"'Success Criteria'!\" & ADDRESS(124,A78+4)):INDIRECT(\"'Success Criteria'!\" & ADDRESS(178,A78+4)),\"PASS\"),COUNTIF(INDIRECT(\"'Success Criteria'!\" & ADDRESS(124,A78+4)):INDIRECT(\"'Success Criteria'!\" & ADDRESS(178,A78+4)),\"PASS with comments\"))","v":0},{"$f":"COUNTIF(INDIRECT(\"'Success Criteria'!\" & ADDRESS(124,A78+4)):INDIRECT(\"'Success Criteria'!\" & ADDRESS(178,A78+4)),\"NON conformant\")","v":0},{"$f":"COUNTIF(INDIRECT(\"'Success Criteria'!\" & ADDRESS(124,A78+4)):INDIRECT(\"'Success Criteria'!\" & ADDRESS(178,A78+4)),\"N/A\")","v":0},{"$f":"COUNTIF(INDIRECT(\"'Success Criteria'!\" & ADDRESS(124,A78+4)):INDIRECT(\"'Success Criteria'!\" & ADDRESS(178,A78+4)),\"not tested\")","v":28},2,0,0,28,null,0,"",2,"",28,1]
[65,"Page 65","URL 65","Please select",{"$f":"SUM(COUNTIF(INDIRECT(\"'Success Criteria'!\" & ADDRESS(10,A79+4)):INDIRECT(\"'Success Criteria'!\" & ADDRESS(72,A79+4)),\"PASS\"),COUNTIF(INDIRECT(\"'Success Criteria'!\" & ADDRESS(10,A79+4)):INDIRECT(\"'Success Criteria'!\" & ADDRESS(72,A79+4)),\"PASS with comments\"))","v":0},{"$f":"COUNTIF(INDIRECT(\"'Success Criteria'!\" & ADDRESS(10,A79+4)):INDIRECT(\"'Success Criteria'!\" & ADDRESS(72,A79+4)),\"NON conformant\")","v":0},{"$f":"COUNTIF(INDIRECT(\"'Success Criteria'!\" & ADDRESS(10,A79+4)):INDIRECT(\"'Success Criteria'!\" & ADDRESS(72,A79+4)),\"N/A\")","v":0},{"$f":"COUNTIF(INDIRECT(\"'Success Criteria'!\" & ADDRESS(10,A79+4)):INDIRECT(\"'Success Criteria'!\" & ADDRESS(72,A79+4)),\"not tested\")","v":0},{"$f":"SUM(COUNTIF(INDIRECT(\"'Success Criteria'!\" & ADDRESS(76,A79+4)):INDIRECT(\"'Success Criteria'!\" & ADDRESS(119,A79+4)),\"PASS\"),COUNTIF(INDIRECT(\"'Success Criteria'!\" & ADDRESS(76,A79+4)):INDIRECT(\"'Success Criteria'!\" & ADDRESS(119,A79+4)),\"PASS with comments\"))","v":2},{"$f":"COUNTIF(INDIRECT(\"'Success Criteria'!\" & ADDRESS(76,A79+4)):INDIRECT(\"'Success Criteria'!\" & ADDRESS(119,A79+4)),\"NON conformant\")","v":0},{"$f":"COUNTIF(INDIRECT(\"'Success Criteria'!\" & ADDRESS(76,A79+4)):INDIRECT(\"'Success Criteria'!\" & ADDRESS(119,A79+4)),\"N/A\")","v":0},{"$f":"COUNTIF(INDIRECT(\"'Success Criteria'!\" & ADDRESS(76,A79+4)):INDIRECT(\"'Success Criteria'!\" & ADDRESS(119,A79+4)),\"not tested\")","v":0},{"$f":"SUM(COUNTIF(INDIRECT(\"'Success Criteria'!\" & ADDRESS(124,A79+4)):INDIRECT(\"'Success Criteria'!\" & ADDRESS(178,A79+4)),\"PASS\"),COUNTIF(INDIRECT(\"'Success Criteria'!\" & ADDRESS(124,A79+4)):INDIRECT(\"'Success Criteria'!\" & ADDRESS(178,A79+4)),\"PASS with comments\"))","v":0},{"$f":"COUNTIF(INDIRECT(\"'Success Criteria'!\" & ADDRESS(124,A79+4)):INDIRECT(\"'Success Criteria'!\" & ADDRESS(178,A79+4)),\"NON conformant\")","v":0},{"$f":"COUNTIF(INDIRECT(\"'Success Criteria'!\" & ADDRESS(124,A79+4)):INDIRECT(\"'Success Criteria'!\" & ADDRESS(178,A79+4)),\"N/A\")","v":0},{"$f":"COUNTIF(INDIRECT(\"'Success Criteria'!\" & ADDRESS(124,A79+4)):INDIRECT(\"'Success Criteria'!\" & ADDRESS(178,A79+4)),\"not tested\")","v":28},2,0,0,28,null,0,"",2,"",28,1]
[{"$f":"HYPERLINK(\"#'Success Criteria'!\"&ADDRESS(1,ROW()-10,4),ROW()-14)","v":66},"Page 66","URL 66","Please select",{"$f":"SUM(COUNTIF(INDIRECT(\"'Success Criteria'!\" & ADDRESS(10,A80+4)):INDIRECT(\"'Success Criteria'!\" & ADDRESS(72,A80+4)),\"PASS\"),COUNTIF(INDIRECT(\"'Success Criteria'!\" & ADDRESS(10,A80+4)):INDIRECT(\"'Success Criteria'!\" & ADDRESS(72,A80+4)),\"PASS with comments\"))","v":0},{"$f":"COUNTIF(INDIRECT(\"'Success Criteria'!\" & ADDRESS(10,A80+4)):INDIRECT(\"'Success Criteria'!\" & ADDRESS(72,A80+4)),\"NON conformant\")","v":0},{"$f":"COUNTIF(INDIRECT(\"'Success Criteria'!\" & ADDRESS(10,A80+4)):INDIRECT(\"'Success Criteria'!\" & ADDRESS(72,A80+4)),\"N/A\")","v":0},{"$f":"COUNTIF(INDIRECT(\"'Success Criteria'!\" & ADDRESS(10,A80+4)):INDIRECT(\"'Success Criteria'!\" & ADDRESS(72,A80+4)),\"not tested\")","v":0},{"$f":"SUM(COUNTIF(INDIRECT(\"'Success Criteria'!\" & ADDRESS(76,A80+4)):INDIRECT(\"'Success Criteria'!\" & ADDRESS(119,A80+4)),\"PASS\"),COUNTIF(INDIRECT(\"'Success Criteria'!\" & ADDRESS(76,A80+4)):INDIRECT(\"'Success Criteria'!\" & ADDRESS(119,A80+4)),\"PASS with comments\"))","v":2},{"$f":"COUNTIF(INDIRECT(\"'Success Criteria'!\" & ADDRESS(76,A80+4)):INDIRECT(\"'Success Criteria'!\" & ADDRESS(119,A80+4)),\"NON conformant\")","v":0},{"$f":"COUNTIF(INDIRECT(\"'Success Criteria'!\" & ADDRESS(76,A80+4)):INDIRECT(\"'Success Criteria'!\" & ADDRESS(119,A80+4)),\"N/A\")","v":0},{"$f":"COUNTIF(INDIRECT(\"'Success Criteria'!\" & ADDRESS(76,A80+4)):INDIRECT(\"'Success Criteria'!\" & ADDRESS(119,A80+4)),\"not tested\")","v":0},{"$f":"SUM(COUNTIF(INDIRECT(\"'Success Criteria'!\" & ADDRESS(124,A80+4)):INDIRECT(\"'Success Criteria'!\" & ADDRESS(178,A80+4)),\"PASS\"),COUNTIF(INDIRECT(\"'Success Criteria'!\" & ADDRESS(124,A80+4)):INDIRECT(\"'Success Criteria'!\" & ADDRESS(178,A80+4)),\"PASS with comments\"))","v":0},{"$f":"COUNTIF(INDIRECT(\"'Success Criteria'!\" & ADDRESS(124,A80+4)):INDIRECT(\"'Success Criteria'!\" & ADDRESS(178,A80+4)),\"NON conformant\")","v":0},{"$f":"COUNTIF(INDIRECT(\"'Success Criteria'!\" & ADDRESS(124,A80+4)):INDIRECT(\"'Success Criteria'!\" & ADDRESS(178,A80+4)),\"N/A\")","v":0},{"$f":"COUNTIF(INDIRECT(\"'Success Criteria'!\" & ADDRESS(124,A80+4)):INDIRECT(\"'Success Criteria'!\" & ADDRESS(178,A80+4)),\"not tested\")","v":28},{"$f":"SUM(E80+I80+M80)","v":2},0,0,28,null,0,"",{"$f":"SUM($I80:$L80)","v":2},"",{"$f":"SUM($M80:$P80)","v":28},1]
[67,"Page 67","URL 67","Please select",{"$f":"SUM(COUNTIF(INDIRECT(\"'Success Criteria'!\" & ADDRESS(10,A81+4)):INDIRECT(\"'Success Criteria'!\" & ADDRESS(72,A81+4)),\"PASS\"),COUNTIF(INDIRECT(\"'Success Criteria'!\" & ADDRESS(10,A81+4)):INDIRECT(\"'Success Criteria'!\" & ADDRESS(72,A81+4)),\"PASS with comments\"))","v":0},{"$f":"COUNTIF(INDIRECT(\"'Success Criteria'!\" & ADDRESS(10,A81+4)):INDIRECT(\"'Success Criteria'!\" & ADDRESS(72,A81+4)),\"NON conformant\")","v":0},{"$f":"COUNTIF(INDIRECT(\"'Success Criteria'!\" & ADDRESS(10,A81+4)):INDIRECT(\"'Success Criteria'!\" & ADDRESS(72,A81+4)),\"N/A\")","v":0},{"$f":"COUNTIF(INDIRECT(\"'Success Criteria'!\" & ADDRESS(10,A81+4)):INDIRECT(\"'Success Criteria'!\" & ADDRESS(72,A81+4)),\"not tested\")","v":0},{"$f":"SUM(COUNTIF(INDIRECT(\"'Success Criteria'!\" & ADDRESS(76,A81+4)):INDIRECT(\"'Success Criteria'!\" & ADDRESS(119,A81+4)),\"PASS\"),COUNTIF(INDIRECT(\"'Success Criteria'!\" & ADDRESS(76,A81+4)):INDIRECT(\"'Success Criteria'!\" & ADDRESS(119,A81+4)),\"PASS with comments\"))","v":2},{"$f":"COUNTIF(INDIRECT(\"'Success Criteria'!\" & ADDRESS(76,A81+4)):INDIRECT(\"'Success Criteria'!\" & ADDRESS(119,A81+4)),\"NON conformant\")","v":0},{"$f":"COUNTIF(INDIRECT(\"'Success Criteria'!\" & ADDRESS(76,A81+4)):INDIRECT(\"'Success Criteria'!\" & ADDRESS(119,A81+4)),\"N/A\")","v":0},{"$f":"COUNTIF(INDIRECT(\"'Success Criteria'!\" & ADDRESS(76,A81+4)):INDIRECT(\"'Success Criteria'!\" & ADDRESS(119,A81+4)),\"not tested\")","v":0},{"$f":"SUM(COUNTIF(INDIRECT(\"'Success Criteria'!\" & ADDRESS(124,A81+4)):INDIRECT(\"'Success Criteria'!\" & ADDRESS(178,A81+4)),\"PASS\"),COUNTIF(INDIRECT(\"'Success Criteria'!\" & ADDRESS(124,A81+4)):INDIRECT(\"'Success Criteria'!\" & ADDRESS(178,A81+4)),\"PASS with comments\"))","v":0},{"$f":"COUNTIF(INDIRECT(\"'Success Criteria'!\" & ADDRESS(124,A81+4)):INDIRECT(\"'Success Criteria'!\" & ADDRESS(178,A81+4)),\"NON conformant\")","v":0},{"$f":"COUNTIF(INDIRECT(\"'Success Criteria'!\" & ADDRESS(124,A81+4)):INDIRECT(\"'Success Criteria'!\" & ADDRESS(178,A81+4)),\"N/A\")","v":0},{"$f":"COUNTIF(INDIRECT(\"'Success Criteria'!\" & ADDRESS(124,A81+4)):INDIRECT(\"'Success Criteria'!\" & ADDRESS(178,A81+4)),\"not tested\")","v":28},2,{"$f":"SUM(F81+J81+N81)","v":0},0,28,null,0,"",2,"",28,1]
[68,"Page 68","URL 68","Please select",{"$f":"SUM(COUNTIF(INDIRECT(\"'Success Criteria'!\" & ADDRESS(10,A82+4)):INDIRECT(\"'Success Criteria'!\" & ADDRESS(72,A82+4)),\"PASS\"),COUNTIF(INDIRECT(\"'Success Criteria'!\" & ADDRESS(10,A82+4)):INDIRECT(\"'Success Criteria'!\" & ADDRESS(72,A82+4)),\"PASS with comments\"))","v":0},{"$f":"COUNTIF(INDIRECT(\"'Success Criteria'!\" & ADDRESS(10,A82+4)):INDIRECT(\"'Success Criteria'!\" & ADDRESS(72,A82+4)),\"NON conformant\")","v":0},{"$f":"COUNTIF(INDIRECT(\"'Success Criteria'!\" & ADDRESS(10,A82+4)):INDIRECT(\"'Success Criteria'!\" & ADDRESS(72,A82+4)),\"N/A\")","v":0},{"$f":"COUNTIF(INDIRECT(\"'Success Criteria'!\" & ADDRESS(10,A82+4)):INDIRECT(\"'Success Criteria'!\" & ADDRESS(72,A82+4)),\"not tested\")","v":0},{"$f":"SUM(COUNTIF(INDIRECT(\"'Success Criteria'!\" & ADDRESS(76,A82+4)):INDIRECT(\"'Success Criteria'!\" & ADDRESS(119,A82+4)),\"PASS\"),COUNTIF(INDIRECT(\"'Success Criteria'!\" & ADDRESS(76,A82+4)):INDIRECT(\"'Success Criteria'!\" & ADDRESS(119,A82+4)),\"PASS with comments\"))","v":2},{"$f":"COUNTIF(INDIRECT(\"'Success Criteria'!\" & ADDRESS(76,A82+4)):INDIRECT(\"'Success Criteria'!\" & ADDRESS(119,A82+4)),\"NON conformant\")","v":0},{"$f":"COUNTIF(INDIRECT(\"'Success Criteria'!\" & ADDRESS(76,A82+4)):INDIRECT(\"'Success Criteria'!\" & ADDRESS(119,A82+4)),\"N/A\")","v":0},{"$f":"COUNTIF(INDIRECT(\"'Success Criteria'!\" & ADDRESS(76,A82+4)):INDIRECT(\"'Success Criteria'!\" & ADDRESS(119,A82+4)),\"not tested\")","v":0},{"$f":"SUM(COUNTIF(INDIRECT(\"'Success Criteria'!\" & ADDRESS(124,A82+4)):INDIRECT(\"'Success Criteria'!\" & ADDRESS(178,A82+4)),\"PASS\"),COUNTIF(INDIRECT(\"'Success Criteria'!\" & ADDRESS(124,A82+4)):INDIRECT(\"'Success Criteria'!\" & ADDRESS(178,A82+4)),\"PASS with comments\"))","v":0},{"$f":"COUNTIF(INDIRECT(\"'Success Criteria'!\" & ADDRESS(124,A82+4)):INDIRECT(\"'Success Criteria'!\" & ADDRESS(178,A82+4)),\"NON conformant\")","v":0},{"$f":"COUNTIF(INDIRECT(\"'Success Criteria'!\" & ADDRESS(124,A82+4)):INDIRECT(\"'Success Criteria'!\" & ADDRESS(178,A82+4)),\"N/A\")","v":0},{"$f":"COUNTIF(INDIRECT(\"'Success Criteria'!\" & ADDRESS(124,A82+4)):INDIRECT(\"'Success Criteria'!\" & ADDRESS(178,A82+4)),\"not tested\")","v":28},2,0,0,28,null,0,"",2,"",28,1]
[69,"Page 69","URL 69","Please select",{"$f":"SUM(COUNTIF(INDIRECT(\"'Success Criteria'!\" & ADDRESS(10,A83+4)):INDIRECT(\"'Success Criteria'!\" & ADDRESS(72,A83+4)),\"PASS\"),COUNTIF(INDIRECT(\"'Success Criteria'!\" & ADDRESS(10,A83+4)):INDIRECT(\"'Success Criteria'!\" & ADDRESS(72,A83+4)),\"PASS with comments\"))","v":0},{"$f":"COUNTIF(INDIRECT(\"'Success Criteria'!\" & ADDRESS(10,A83+4)):INDIRECT(\"'Success Criteria'!\" & ADDRESS(72,A83+4)),\"NON conformant\")","v":0},{"$f":"COUNTIF(INDIRECT(\"'Success Criteria'!\" & ADDRESS(10,A83+4)):INDIRECT(\"'Success Criteria'!\" & ADDRESS(72,A83+4)),\"N/A\")","v":0},{"$f":"COUNTIF(INDIRECT(\"'Success Criteria'!\" & ADDRESS(10,A83+4)):INDIRECT(\"'Success Criteria'!\" & ADDRESS(72,A83+4)),\"not tested\")","v":0},{"$f":"SUM(COUNTIF(INDIRECT(\"'Success Criteria'!\" & ADDRESS(76,A83+4)):INDIRECT(\"'Success Criteria'!\" & ADDRESS(119,A83+4)),\"PASS\"),COUNTIF(INDIRECT(\"'Success Criteria'!\" & ADDRESS(76,A83+4)):INDIRECT(\"'Success Criteria'!\" & ADDRESS(119,A83+4)),\"PASS with comments\"))","v":2},{"$f":"COUNTIF(INDIRECT(\"'Success Criteria'!\" & ADDRESS(76,A83+4)):INDIRECT(\"'Success Criteria'!\" & ADDRESS(119,A83+4)),\"NON conformant\")","v":0},{"$f":"COUNTIF(INDIRECT(\"'Success Criteria'!\" & ADDRESS(76,A83+4)):INDIRECT(\"'Success Criteria'!\" & ADDRESS(119,A83+4)),\"N/A\")","v":0},{"$f":"COUNTIF(INDIRECT(\"'Success Criteria'!\" & ADDRESS(76,A83+4)):INDIRECT(\"'Success Criteria'!\" & ADDRESS(119,A83+4)),\"not tested\")","v":0},{"$f":"SUM(COUNTIF(INDIRECT(\"'Success Criteria'!\" & ADDRESS(124,A83+4)):INDIRECT(\"'Success Criteria'!\" & ADDRESS(178,A83+4)),\"PASS\"),COUNTIF(INDIRECT(\"'Success Criteria'!\" & ADDRESS(124,A83+4)):INDIRECT(\"'Success Criteria'!\" & ADDRESS(178,A83+4)),\"PASS with comments\"))","v":0},{"$f":"COUNTIF(INDIRECT(\"'Success Criteria'!\" & ADDRESS(124,A83+4)):INDIRECT(\"'Success Criteria'!\" & ADDRESS(178,A83+4)),\"NON conformant\")","v":0},{"$f":"COUNTIF(INDIRECT(\"'Success Criteria'!\" & ADDRESS(124,A83+4)):INDIRECT(\"'Success Criteria'!\" & ADDRESS(178,A83+4)),\"N/A\")","v":0},{"$f":"COUNTIF(INDIRECT(\"'Success Criteria'!\" & ADDRESS(124,A83+4)):INDIRECT(\"'Success Criteria'!\" & ADDRESS(178,A83+4)),\"not tested\")","v":28},2,0,0,28,null,0,"",2,"",28,1]
[70,"Page 70","URL 70","Please select",{"$f":"SUM(COUNTIF(INDIRECT(\"'Success Criteria'!\" & ADDRESS(10,A84+4)):INDIRECT(\"'Success Criteria'!\" & ADDRESS(72,A84+4)),\"PASS\"),COUNTIF(INDIRECT(\"'Success Criteria'!\" & ADDRESS(10,A84+4)):INDIRECT(\"'Success Criteria'!\" & ADDRESS(72,A84+4)),\"PASS with comments\"))","v":0},{"$f":"COUNTIF(INDIRECT(\"'Success Criteria'!\" & ADDRESS(10,A84+4)):INDIRECT(\"'Success Criteria'!\" & ADDRESS(72,A84+4)),\"NON conformant\")","v":0},{"$f":"COUNTIF(INDIRECT(\"'Success Criteria'!\" & ADDRESS(10,A84+4)):INDIRECT(\"'Success Criteria'!\" & ADDRESS(72,A84+4)),\"N/A\")","v":0},{"$f":"COUNTIF(INDIRECT(\"'Success Criteria'!\" & ADDRESS(10,A84+4)):INDIRECT(\"'Success Criteria'!\" & ADDRESS(72,A84+4)),\"not tested\")","v":0},{"$f":"SUM(COUNTIF(INDIRECT(\"'Success Criteria'!\" & ADDRESS(76,A84+4)):INDIRECT(\"'Success Criteria'!\" & ADDRESS(119,A84+4)),\"PASS\"),COUNTIF(INDIRECT(\"'Success Criteria'!\" & ADDRESS(76,A84+4)):INDIRECT(\"'Success Criteria'!\" & ADDRESS(119,A84+4)),\"PASS with comments\"))","v":2},{"$f":"COUNTIF(INDIRECT(\"'Success Criteria'!\" & ADDRESS(76,A84+4)):INDIRECT(\"'Success Criteria'!\" & ADDRESS(119,A84+4)),\"NON conformant\")","v":0},{"$f":"COUNTIF(INDIRECT(\"'Success Criteria'!\" & ADDRESS(76,A84+4)):INDIRECT(\"'Success Criteria'!\" & ADDRESS(119,A84+4)),\"N/A\")","v":0},{"$f":"COUNTIF(INDIRECT(\"'Success Criteria'!\" & ADDRESS(76,A84+4)):INDIRECT(\"'Success Criteria'!\" & ADDRESS(119,A84+4)),\"not tested\")","v":0},{"$f":"SUM(COUNTIF(INDIRECT(\"'Success Criteria'!\" & ADDRESS(124,A84+4)):INDIRECT(\"'Success Criteria'!\" & ADDRESS(178,A84+4)),\"PASS\"),COUNTIF(INDIRECT(\"'Success Criteria'!\" & ADDRESS(124,A84+4)):INDIRECT(\"'Success Criteria'!\" & ADDRESS(178,A84+4)),\"PASS with comments\"))","v":0},{"$f":"COUNTIF(INDIRECT(\"'Success Criteria'!\" & ADDRESS(124,A84+4)):INDIRECT(\"'Success Criteria'!\" & ADDRESS(178,A84+4)),\"NON conformant\")","v":0},{"$f":"COUNTIF(INDIRECT(\"'Success Criteria'!\" & ADDRESS(124,A84+4)):INDIRECT(\"'Success Criteria'!\" & ADDRESS(178,A84+4)),\"N/A\")","v":0},{"$f":"COUNTIF(INDIRECT(\"'Success Criteria'!\" & ADDRESS(124,A84+4)):INDIRECT(\"'Success Criteria'!\" & ADDRESS(178,A84+4)),\"not tested\")","v":28},2,0,0,28,null,0,"",2,"",28,1]
[71,"Page 71","URL 71","Please select",{"$f":"SUM(COUNTIF(INDIRECT(\"'Success Criteria'!\" & ADDRESS(10,A85+4)):INDIRECT(\"'Success Criteria'!\" & ADDRESS(72,A85+4)),\"PASS\"),COUNTIF(INDIRECT(\"'Success Criteria'!\" & ADDRESS(10,A85+4)):INDIRECT(\"'Success Criteria'!\" & ADDRESS(72,A85+4)),\"PASS with comments\"))","v":0},{"$f":"COUNTIF(INDIRECT(\"'Success Criteria'!\" & ADDRESS(10,A85+4)):INDIRECT(\"'Success Criteria'!\" & ADDRESS(72,A85+4)),\"NON conformant\")","v":0},{"$f":"COUNTIF(INDIRECT(\"'Success Criteria'!\" & ADDRESS(10,A85+4)):INDIRECT(\"'Success Criteria'!\" & ADDRESS(72,A85+4)),\"N/A\")","v":0},{"$f":"COUNTIF(INDIRECT(\"'Success Criteria'!\" & ADDRESS(10,A85+4)):INDIRECT(\"'Success Criteria'!\" & ADDRESS(72,A85+4)),\"not tested\")","v":0},{"$f":"SUM(COUNTIF(INDIRECT(\"'Success Criteria'!\" & ADDRESS(76,A85+4)):INDIRECT(\"'Success Criteria'!\" & ADDRESS(119,A85+4)),\"PASS\"),COUNTIF(INDIRECT(\"'Success Criteria'!\" & ADDRESS(76,A85+4)):INDIRECT(\"'Success Criteria'!\" & ADDRESS(119,A85+4)),\"PASS with comments\"))","v":2},{"$f":"COUNTIF(INDIRECT(\"'Success Criteria'!\" & ADDRESS(76,A85+4)):INDIRECT(\"'Success Criteria'!\" & ADDRESS(119,A85+4)),\"NON conformant\")","v":0},{"$f":"COUNTIF(INDIRECT(\"'Success Criteria'!\" & ADDRESS(76,A85+4)):INDIRECT(\"'Success Criteria'!\" & ADDRESS(119,A85+4)),\"N/A\")","v":0},{"$f":"COUNTIF(INDIRECT(\"'Success Criteria'!\" & ADDRESS(76,A85+4)):INDIRECT(\"'Success Criteria'!\" & ADDRESS(119,A85+4)),\"not tested\")","v":0},{"$f":"SUM(COUNTIF(INDIRECT(\"'Success Criteria'!\" & ADDRESS(124,A85+4)):INDIRECT(\"'Success Criteria'!\" & ADDRESS(178,A85+4)),\"PASS\"),COUNTIF(INDIRECT(\"'Success Criteria'!\" & ADDRESS(124,A85+4)):INDIRECT(\"'Success Criteria'!\" & ADDRESS(178,A85+4)),\"PASS with comments\"))","v":0},{"$f":"COUNTIF(INDIRECT(\"'Success Criteria'!\" & ADDRESS(124,A85+4)):INDIRECT(\"'Success Criteria'!\" & ADDRESS(178,A85+4)),\"NON conformant\")","v":0},{"$f":"COUNTIF(INDIRECT(\"'Success Criteria'!\" & ADDRESS(124,A85+4)):INDIRECT(\"'Success Criteria'!\" & ADDRESS(178,A85+4)),\"N/A\")","v":0},{"$f":"COUNTIF(INDIRECT(\"'Success Criteria'!\" & ADDRESS(124,A85+4)):INDIRECT(\"'Success Criteria'!\" & ADDRESS(178,A85+4)),\"not tested\")","v":28},2,0,0,28,null,0,"",2,"",28,1]
[72,"Page 72","URL 72","Please select",{"$f":"SUM(COUNTIF(INDIRECT(\"'Success Criteria'!\" & ADDRESS(10,A86+4)):INDIRECT(\"'Success Criteria'!\" & ADDRESS(72,A86+4)),\"PASS\"),COUNTIF(INDIRECT(\"'Success Criteria'!\" & ADDRESS(10,A86+4)):INDIRECT(\"'Success Criteria'!\" & ADDRESS(72,A86+4)),\"PASS with comments\"))","v":0},{"$f":"COUNTIF(INDIRECT(\"'Success Criteria'!\" & ADDRESS(10,A86+4)):INDIRECT(\"'Success Criteria'!\" & ADDRESS(72,A86+4)),\"NON conformant\")","v":0},{"$f":"COUNTIF(INDIRECT(\"'Success Criteria'!\" & ADDRESS(10,A86+4)):INDIRECT(\"'Success Criteria'!\" & ADDRESS(72,A86+4)),\"N/A\")","v":0},{"$f":"COUNTIF(INDIRECT(\"'Success Criteria'!\" & ADDRESS(10,A86+4)):INDIRECT(\"'Success Criteria'!\" & ADDRESS(72,A86+4)),\"not tested\")","v":0},{"$f":"SUM(COUNTIF(INDIRECT(\"'Success Criteria'!\" & ADDRESS(76,A86+4)):INDIRECT(\"'Success Criteria'!\" & ADDRESS(119,A86+4)),\"PASS\"),COUNTIF(INDIRECT(\"'Success Criteria'!\" & ADDRESS(76,A86+4)):INDIRECT(\"'Success Criteria'!\" & ADDRESS(119,A86+4)),\"PASS with comments\"))","v":2},{"$f":"COUNTIF(INDIRECT(\"'Success Criteria'!\" & ADDRESS(76,A86+4)):INDIRECT(\"'Success Criteria'!\" & ADDRESS(119,A86+4)),\"NON conformant\")","v":0},{"$f":"COUNTIF(INDIRECT(\"'Success Criteria'!\" & ADDRESS(76,A86+4)):INDIRECT(\"'Success Criteria'!\" & ADDRESS(119,A86+4)),\"N/A\")","v":0},{"$f":"COUNTIF(INDIRECT(\"'Success Criteria'!\" & ADDRESS(76,A86+4)):INDIRECT(\"'Success Criteria'!\" & ADDRESS(119,A86+4)),\"not tested\")","v":0},{"$f":"SUM(COUNTIF(INDIRECT(\"'Success Criteria'!\" & ADDRESS(124,A86+4)):INDIRECT(\"'Success Criteria'!\" & ADDRESS(178,A86+4)),\"PASS\"),COUNTIF(INDIRECT(\"'Success Criteria'!\" & ADDRESS(124,A86+4)):INDIRECT(\"'Success Criteria'!\" & ADDRESS(178,A86+4)),\"PASS with comments\"))","v":0},{"$f":"COUNTIF(INDIRECT(\"'Success Criteria'!\" & ADDRESS(124,A86+4)):INDIRECT(\"'Success Criteria'!\" & ADDRESS(178,A86+4)),\"NON conformant\")","v":0},{"$f":"COUNTIF(INDIRECT(\"'Success Criteria'!\" & ADDRESS(124,A86+4)):INDIRECT(\"'Success Criteria'!\" & ADDRESS(178,A86+4)),\"N/A\")","v":0},{"$f":"COUNTIF(INDIRECT(\"'Success Criteria'!\" & ADDRESS(124,A86+4)):INDIRECT(\"'Success Criteria'!\" & ADDRESS(178,A86+4)),\"not tested\")","v":28},2,0,0,28,null,0,"",2,"",28,1]
[73,"Page 73","URL 73","Please select",{"$f":"SUM(COUNTIF(INDIRECT(\"'Success Criteria'!\" & ADDRESS(10,A87+4)):INDIRECT(\"'Success Criteria'!\" & ADDRESS(72,A87+4)),\"PASS\"),COUNTIF(INDIRECT(\"'Success Criteria'!\" & ADDRESS(10,A87+4)):INDIRECT(\"'Success Criteria'!\" & ADDRESS(72,A87+4)),\"PASS with comments\"))","v":0},{"$f":"COUNTIF(INDIRECT(\"'Success Criteria'!\" & ADDRESS(10,A87+4)):INDIRECT(\"'Success Criteria'!\" & ADDRESS(72,A87+4)),\"NON conformant\")","v":0},{"$f":"COUNTIF(INDIRECT(\"'Success Criteria'!\" & ADDRESS(10,A87+4)):INDIRECT(\"'Success Criteria'!\" & ADDRESS(72,A87+4)),\"N/A\")","v":0},{"$f":"COUNTIF(INDIRECT(\"'Success Criteria'!\" & ADDRESS(10,A87+4)):INDIRECT(\"'Success Criteria'!\" & ADDRESS(72,A87+4)),\"not tested\")","v":0},{"$f":"SUM(COUNTIF(INDIRECT(\"'Success Criteria'!\" & ADDRESS(76,A87+4)):INDIRECT(\"'Success Criteria'!\" & ADDRESS(119,A87+4)),\"PASS\"),COUNTIF(INDIRECT(\"'Success Criteria'!\" & ADDRESS(76,A87+4)):INDIRECT(\"'Success Criteria'!\" & ADDRESS(119,A87+4)),\"PASS with comments\"))","v":2},{"$f":"COUNTIF(INDIRECT(\"'Success Criteria'!\" & ADDRESS(76,A87+4)):INDIRECT(\"'Success Criteria'!\" & ADDRESS(119,A87+4)),\"NON conformant\")","v":0},{"$f":"COUNTIF(INDIRECT(\"'Success Criteria'!\" & ADDRESS(76,A87+4)):INDIRECT(\"'Success Criteria'!\" & ADDRESS(119,A87+4)),\"N/A\")","v":0},{"$f":"COUNTIF(INDIRECT(\"'Success Criteria'!\" & ADDRESS(76,A87+4)):INDIRECT(\"'Success Criteria'!\" & ADDRESS(119,A87+4)),\"not tested\")","v":0},{"$f":"SUM(COUNTIF(INDIRECT(\"'Success Criteria'!\" & ADDRESS(124,A87+4)):INDIRECT(\"'Success Criteria'!\" & ADDRESS(178,A87+4)),\"PASS\"),COUNTIF(INDIRECT(\"'Success Criteria'!\" & ADDRESS(124,A87+4)):INDIRECT(\"'Success Criteria'!\" & ADDRESS(178,A87+4)),\"PASS with comments\"))","v":0},{"$f":"COUNTIF(INDIRECT(\"'Success Criteria'!\" & ADDRESS(124,A87+4)):INDIRECT(\"'Success Criteria'!\" & ADDRESS(178,A87+4)),\"NON conformant\")","v":0},{"$f":"COUNTIF(INDIRECT(\"'Success Criteria'!\" & ADDRESS(124,A87+4)):INDIRECT(\"'Success Criteria'!\" & ADDRESS(178,A87+4)),\"N/A\")","v":0},{"$f":"COUNTIF(INDIRECT(\"'Success Criteria'!\" & ADDRESS(124,A87+4)):INDIRECT(\"'Success Criteria'!\" & ADDRESS(178,A87+4)),\"not tested\")","v":28},2,0,0,28,null,0,"",2,"",28,1]
[74,"Page 74","URL 74","Please select",{"$f":"SUM(COUNTIF(INDIRECT(\"'Success Criteria'!\" & ADDRESS(10,A88+4)):INDIRECT(\"'Success Criteria'!\" & ADDRESS(72,A88+4)),\"PASS\"),COUNTIF(INDIRECT(\"'Success Criteria'!\" & ADDRESS(10,A88+4)):INDIRECT(\"'Success Criteria'!\" & ADDRESS(72,A88+4)),\"PASS with comments\"))","v":0},{"$f":"COUNTIF(INDIRECT(\"'Success Criteria'!\" & ADDRESS(10,A88+4)):INDIRECT(\"'Success Criteria'!\" & ADDRESS(72,A88+4)),\"NON conformant\")","v":0},{"$f":"COUNTIF(INDIRECT(\"'Success Criteria'!\" & ADDRESS(10,A88+4)):INDIRECT(\"'Success Criteria'!\" & ADDRESS(72,A88+4)),\"N/A\")","v":0},{"$f":"COUNTIF(INDIRECT(\"'Success Criteria'!\" & ADDRESS(10,A88+4)):INDIRECT(\"'Success Criteria'!\" & ADDRESS(72,A88+4)),\"not tested\")","v":0},{"$f":"SUM(COUNTIF(INDIRECT(\"'Success Criteria'!\" & ADDRESS(76,A88+4)):INDIRECT(\"'Success Criteria'!\" & ADDRESS(119,A88+4)),\"PASS\"),COUNTIF(INDIRECT(\"'Success Criteria'!\" & ADDRESS(76,A88+4)):INDIRECT(\"'Success Criteria'!\" & ADDRESS(119,A88+4)),\"PASS with comments\"))","v":2},{"$f":"COUNTIF(INDIRECT(\"'Success Criteria'!\" & ADDRESS(76,A88+4)):INDIRECT(\"'Success Criteria'!\" & ADDRESS(119,A88+4)),\"NON conformant\")","v":0},{"$f":"COUNTIF(INDIRECT(\"'Success Criteria'!\" & ADDRESS(76,A88+4)):INDIRECT(\"'Success Criteria'!\" & ADDRESS(119,A88+4)),\"N/A\")","v":0},{"$f":"COUNTIF(INDIRECT(\"'Success Criteria'!\" & ADDRESS(76,A88+4)):INDIRECT(\"'Success Criteria'!\" & ADDRESS(119,A88+4)),\"not tested\")","v":0},{"$f":"SUM(COUNTIF(INDIRECT(\"'Success Criteria'!\" & ADDRESS(124,A88+4)):INDIRECT(\"'Success Criteria'!\" & ADDRESS(178,A88+4)),\"PASS\"),COUNTIF(INDIRECT(\"'Success Criteria'!\" & ADDRESS(124,A88+4)):INDIRECT(\"'Success Criteria'!\" & ADDRESS(178,A88+4)),\"PASS with comments\"))","v":0},{"$f":"COUNTIF(INDIRECT(\"'Success Criteria'!\" & ADDRESS(124,A88+4)):INDIRECT(\"'Success Criteria'!\" & ADDRESS(178,A88+4)),\"NON conformant\")","v":0},{"$f":"COUNTIF(INDIRECT(\"'Success Criteria'!\" & ADDRESS(124,A88+4)):INDIRECT(\"'Success Criteria'!\" & ADDRESS(178,A88+4)),\"N/A\")","v":0},{"$f":"COUNTIF(INDIRECT(\"'Success Criteria'!\" & ADDRESS(124,A88+4)):INDIRECT(\"'Success Criteria'!\" & ADDRESS(178,A88+4)),\"not tested\")","v":28},2,0,0,28,null,0,"",2,"",28,1]
[75,"Page 75","URL 75","Please select",{"$f":"SUM(COUNTIF(INDIRECT(\"'Success Criteria'!\" & ADDRESS(10,A89+4)):INDIRECT(\"'Success Criteria'!\" & ADDRESS(72,A89+4)),\"PASS\"),COUNTIF(INDIRECT(\"'Success Criteria'!\" & ADDRESS(10,A89+4)):INDIRECT(\"'Success Criteria'!\" & ADDRESS(72,A89+4)),\"PASS with comments\"))","v":0},{"$f":"COUNTIF(INDIRECT(\"'Success Criteria'!\" & ADDRESS(10,A89+4)):INDIRECT(\"'Success Criteria'!\" & ADDRESS(72,A89+4)),\"NON conformant\")","v":0},{"$f":"COUNTIF(INDIRECT(\"'Success Criteria'!\" & ADDRESS(10,A89+4)):INDIRECT(\"'Success Criteria'!\" & ADDRESS(72,A89+4)),\"N/A\")","v":0},{"$f":"COUNTIF(INDIRECT(\"'Success Criteria'!\" & ADDRESS(10,A89+4)):INDIRECT(\"'Success Criteria'!\" & ADDRESS(72,A89+4)),\"not tested\")","v":0},{"$f":"SUM(COUNTIF(INDIRECT(\"'Success Criteria'!\" & ADDRESS(76,A89+4)):INDIRECT(\"'Success Criteria'!\" & ADDRESS(119,A89+4)),\"PASS\"),COUNTIF(INDIRECT(\"'Success Criteria'!\" & ADDRESS(76,A89+4)):INDIRECT(\"'Success Criteria'!\" & ADDRESS(119,A89+4)),\"PASS with comments\"))","v":2},{"$f":"COUNTIF(INDIRECT(\"'Success Criteria'!\" & ADDRESS(76,A89+4)):INDIRECT(\"'Success Criteria'!\" & ADDRESS(119,A89+4)),\"NON conformant\")","v":0},{"$f":"COUNTIF(INDIRECT(\"'Success Criteria'!\" & ADDRESS(76,A89+4)):INDIRECT(\"'Success Criteria'!\" & ADDRESS(119,A89+4)),\"N/A\")","v":0},{"$f":"COUNTIF(INDIRECT(\"'Success Criteria'!\" & ADDRESS(76,A89+4)):INDIRECT(\"'Success Criteria'!\" & ADDRESS(119,A89+4)),\"not tested\")","v":0},{"$f":"SUM(COUNTIF(INDIRECT(\"'Success Criteria'!\" & ADDRESS(124,A89+4)):INDIRECT(\"'Success Criteria'!\" & ADDRESS(178,A89+4)),\"PASS\"),COUNTIF(INDIRECT(\"'Success Criteria'!\" & ADDRESS(124,A89+4)):INDIRECT(\"'Success Criteria'!\" & ADDRESS(178,A89+4)),\"PASS with comments\"))","v":0},{"$f":"COUNTIF(INDIRECT(\"'Success Criteria'!\" & ADDRESS(124,A89+4)):INDIRECT(\"'Success Criteria'!\" & ADDRESS(178,A89+4)),\"NON conformant\")","v":0},{"$f":"COUNTIF(INDIRECT(\"'Success Criteria'!\" & ADDRESS(124,A89+4)):INDIRECT(\"'Success Criteria'!\" & ADDRESS(178,A89+4)),\"N/A\")","v":0},{"$f":"COUNTIF(INDIRECT(\"'Success Criteria'!\" & ADDRESS(124,A89+4)):INDIRECT(\"'Success Criteria'!\" & ADDRESS(178,A89+4)),\"not tested\")","v":28},2,0,0,28,null,0,"",2,"",28,1]
[76,"Page 76","URL 76","Please select",{"$f":"SUM(COUNTIF(INDIRECT(\"'Success Criteria'!\" & ADDRESS(10,A90+4)):INDIRECT(\"'Success Criteria'!\" & ADDRESS(72,A90+4)),\"PASS\"),COUNTIF(INDIRECT(\"'Success Criteria'!\" & ADDRESS(10,A90+4)):INDIRECT(\"'Success Criteria'!\" & ADDRESS(72,A90+4)),\"PASS with comments\"))","v":0},{"$f":"COUNTIF(INDIRECT(\"'Success Criteria'!\" & ADDRESS(10,A90+4)):INDIRECT(\"'Success Criteria'!\" & ADDRESS(72,A90+4)),\"NON conformant\")","v":0},{"$f":"COUNTIF(INDIRECT(\"'Success Criteria'!\" & ADDRESS(10,A90+4)):INDIRECT(\"'Success Criteria'!\" & ADDRESS(72,A90+4)),\"N/A\")","v":0},{"$f":"COUNTIF(INDIRECT(\"'Success Criteria'!\" & ADDRESS(10,A90+4)):INDIRECT(\"'Success Criteria'!\" & ADDRESS(72,A90+4)),\"not tested\")","v":0},{"$f":"SUM(COUNTIF(INDIRECT(\"'Success Criteria'!\" & ADDRESS(76,A90+4)):INDIRECT(\"'Success Criteria'!\" & ADDRESS(119,A90+4)),\"PASS\"),COUNTIF(INDIRECT(\"'Success Criteria'!\" & ADDRESS(76,A90+4)):INDIRECT(\"'Success Criteria'!\" & ADDRESS(119,A90+4)),\"PASS with comments\"))","v":2},{"$f":"COUNTIF(INDIRECT(\"'Success Criteria'!\" & ADDRESS(76,A90+4)):INDIRECT(\"'Success Criteria'!\" & ADDRESS(119,A90+4)),\"NON conformant\")","v":0},{"$f":"COUNTIF(INDIRECT(\"'Success Criteria'!\" & ADDRESS(76,A90+4)):INDIRECT(\"'Success Criteria'!\" & ADDRESS(119,A90+4)),\"N/A\")","v":0},{"$f":"COUNTIF(INDIRECT(\"'Success Criteria'!\" & ADDRESS(76,A90+4)):INDIRECT(\"'Success Criteria'!\" & ADDRESS(119,A90+4)),\"not tested\")","v":0},{"$f":"SUM(COUNTIF(INDIRECT(\"'Success Criteria'!\" & ADDRESS(124,A90+4)):INDIRECT(\"'Success Criteria'!\" & ADDRESS(178,A90+4)),\"PASS\"),COUNTIF(INDIRECT(\"'Success Criteria'!\" & ADDRESS(124,A90+4)):INDIRECT(\"'Success Criteria'!\" & ADDRESS(178,A90+4)),\"PASS with comments\"))","v":0},{"$f":"COUNTIF(INDIRECT(\"'Success Criteria'!\" & ADDRESS(124,A90+4)):INDIRECT(\"'Success Criteria'!\" & ADDRESS(178,A90+4)),\"NON conformant\")","v":0},{"$f":"COUNTIF(INDIRECT(\"'Success Criteria'!\" & ADDRESS(124,A90+4)):INDIRECT(\"'Success Criteria'!\" & ADDRESS(178,A90+4)),\"N/A\")","v":0},{"$f":"COUNTIF(INDIRECT(\"'Success Criteria'!\" & ADDRESS(124,A90+4)):INDIRECT(\"'Success Criteria'!\" & ADDRESS(178,A90+4)),\"not tested\")","v":28},2,0,0,28,null,0,"",2,"",28,1]
[77,"Page 77","URL 77","Please select",{"$f":"SUM(COUNTIF(INDIRECT(\"'Success Criteria'!\" & ADDRESS(10,A91+4)):INDIRECT(\"'Success Criteria'!\" & ADDRESS(72,A91+4)),\"PASS\"),COUNTIF(INDIRECT(\"'Success Criteria'!\" & ADDRESS(10,A91+4)):INDIRECT(\"'Success Criteria'!\" & ADDRESS(72,A91+4)),\"PASS with comments\"))","v":0},{"$f":"COUNTIF(INDIRECT(\"'Success Criteria'!\" & ADDRESS(10,A91+4)):INDIRECT(\"'Success Criteria'!\" & ADDRESS(72,A91+4)),\"NON conformant\")","v":0},{"$f":"COUNTIF(INDIRECT(\"'Success Criteria'!\" & ADDRESS(10,A91+4)):INDIRECT(\"'Success Criteria'!\" & ADDRESS(72,A91+4)),\"N/A\")","v":0},{"$f":"COUNTIF(INDIRECT(\"'Success Criteria'!\" & ADDRESS(10,A91+4)):INDIRECT(\"'Success Criteria'!\" & ADDRESS(72,A91+4)),\"not tested\")","v":0},{"$f":"SUM(COUNTIF(INDIRECT(\"'Success Criteria'!\" & ADDRESS(76,A91+4)):INDIRECT(\"'Success Criteria'!\" & ADDRESS(119,A91+4)),\"PASS\"),COUNTIF(INDIRECT(\"'Success Criteria'!\" & ADDRESS(76,A91+4)):INDIRECT(\"'Success Criteria'!\" & ADDRESS(119,A91+4)),\"PASS with comments\"))","v":2},{"$f":"COUNTIF(INDIRECT(\"'Success Criteria'!\" & ADDRESS(76,A91+4)):INDIRECT(\"'Success Criteria'!\" & ADDRESS(119,A91+4)),\"NON conformant\")","v":0},{"$f":"COUNTIF(INDIRECT(\"'Success Criteria'!\" & ADDRESS(76,A91+4)):INDIRECT(\"'Success Criteria'!\" & ADDRESS(119,A91+4)),\"N/A\")","v":0},{"$f":"COUNTIF(INDIRECT(\"'Success Criteria'!\" & ADDRESS(76,A91+4)):INDIRECT(\"'Success Criteria'!\" & ADDRESS(119,A91+4)),\"not tested\")","v":0},{"$f":"SUM(COUNTIF(INDIRECT(\"'Success Criteria'!\" & ADDRESS(124,A91+4)):INDIRECT(\"'Success Criteria'!\" & ADDRESS(178,A91+4)),\"PASS\"),COUNTIF(INDIRECT(\"'Success Criteria'!\" & ADDRESS(124,A91+4)):INDIRECT(\"'Success Criteria'!\" & ADDRESS(178,A91+4)),\"PASS with comments\"))","v":0},{"$f":"COUNTIF(INDIRECT(\"'Success Criteria'!\" & ADDRESS(124,A91+4)):INDIRECT(\"'Success Criteria'!\" & ADDRESS(178,A91+4)),\"NON conformant\")","v":0},{"$f":"COUNTIF(INDIRECT(\"'Success Criteria'!\" & ADDRESS(124,A91+4)):INDIRECT(\"'Success Criteria'!\" & ADDRESS(178,A91+4)),\"N/A\")","v":0},{"$f":"COUNTIF(INDIRECT(\"'Success Criteria'!\" & ADDRESS(124,A91+4)):INDIRECT(\"'Success Criteria'!\" & ADDRESS(178,A91+4)),\"not tested\")","v":28},2,0,0,28,null,0,"",2,"",28,1]
[78,"Page 78","URL 78","Please select",{"$f":"SUM(COUNTIF(INDIRECT(\"'Success Criteria'!\" & ADDRESS(10,A92+4)):INDIRECT(\"'Success Criteria'!\" & ADDRESS(72,A92+4)),\"PASS\"),COUNTIF(INDIRECT(\"'Success Criteria'!\" & ADDRESS(10,A92+4)):INDIRECT(\"'Success Criteria'!\" & ADDRESS(72,A92+4)),\"PASS with comments\"))","v":0},{"$f":"COUNTIF(INDIRECT(\"'Success Criteria'!\" & ADDRESS(10,A92+4)):INDIRECT(\"'Success Criteria'!\" & ADDRESS(72,A92+4)),\"NON conformant\")","v":0},{"$f":"COUNTIF(INDIRECT(\"'Success Criteria'!\" & ADDRESS(10,A92+4)):INDIRECT(\"'Success Criteria'!\" & ADDRESS(72,A92+4)),\"N/A\")","v":0},{"$f":"COUNTIF(INDIRECT(\"'Success Criteria'!\" & ADDRESS(10,A92+4)):INDIRECT(\"'Success Criteria'!\" & ADDRESS(72,A92+4)),\"not tested\")","v":0},{"$f":"SUM(COUNTIF(INDIRECT(\"'Success Criteria'!\" & ADDRESS(76,A92+4)):INDIRECT(\"'Success Criteria'!\" & ADDRESS(119,A92+4)),\"PASS\"),COUNTIF(INDIRECT(\"'Success Criteria'!\" & ADDRESS(76,A92+4)):INDIRECT(\"'Success Criteria'!\" & ADDRESS(119,A92+4)),\"PASS with comments\"))","v":2},{"$f":"COUNTIF(INDIRECT(\"'Success Criteria'!\" & ADDRESS(76,A92+4)):INDIRECT(\"'Success Criteria'!\" & ADDRESS(119,A92+4)),\"NON conformant\")","v":0},{"$f":"COUNTIF(INDIRECT(\"'Success Criteria'!\" & ADDRESS(76,A92+4)):INDIRECT(\"'Success Criteria'!\" & ADDRESS(119,A92+4)),\"N/A\")","v":0},{"$f":"COUNTIF(INDIRECT(\"'Success Criteria'!\" & ADDRESS(76,A92+4)):INDIRECT(\"'Success Criteria'!\" & ADDRESS(119,A92+4)),\"not tested\")","v":0},{"$f":"SUM(COUNTIF(INDIRECT(\"'Success Criteria'!\" & ADDRESS(124,A92+4)):INDIRECT(\"'Success Criteria'!\" & ADDRESS(178,A92+4)),\"PASS\"),COUNTIF(INDIRECT(\"'Success Criteria'!\" & ADDRESS(124,A92+4)):INDIRECT(\"'Success Criteria'!\" & ADDRESS(178,A92+4)),\"PASS with comments\"))","v":0},{"$f":"COUNTIF(INDIRECT(\"'Success Criteria'!\" & ADDRESS(124,A92+4)):INDIRECT(\"'Success Criteria'!\" & ADDRESS(178,A92+4)),\"NON conformant\")","v":0},{"$f":"COUNTIF(INDIRECT(\"'Success Criteria'!\" & ADDRESS(124,A92+4)):INDIRECT(\"'Success Criteria'!\" & ADDRESS(178,A92+4)),\"N/A\")","v":0},{"$f":"COUNTIF(INDIRECT(\"'Success Criteria'!\" & ADDRESS(124,A92+4)):INDIRECT(\"'Success Criteria'!\" & ADDRESS(178,A92+4)),\"not tested\")","v":28},2,0,0,28,null,0,"",2,"",28,1]
[79,"Page 79","URL 79","Please select",{"$f":"SUM(COUNTIF(INDIRECT(\"'Success Criteria'!\" & ADDRESS(10,A93+4)):INDIRECT(\"'Success Criteria'!\" & ADDRESS(72,A93+4)),\"PASS\"),COUNTIF(INDIRECT(\"'Success Criteria'!\" & ADDRESS(10,A93+4)):INDIRECT(\"'Success Criteria'!\" & ADDRESS(72,A93+4)),\"PASS with comments\"))","v":0},{"$f":"COUNTIF(INDIRECT(\"'Success Criteria'!\" & ADDRESS(10,A93+4)):INDIRECT(\"'Success Criteria'!\" & ADDRESS(72,A93+4)),\"NON conformant\")","v":0},{"$f":"COUNTIF(INDIRECT(\"'Success Criteria'!\" & ADDRESS(10,A93+4)):INDIRECT(\"'Success Criteria'!\" & ADDRESS(72,A93+4)),\"N/A\")","v":0},{"$f":"COUNTIF(INDIRECT(\"'Success Criteria'!\" & ADDRESS(10,A93+4)):INDIRECT(\"'Success Criteria'!\" & ADDRESS(72,A93+4)),\"not tested\")","v":0},{"$f":"SUM(COUNTIF(INDIRECT(\"'Success Criteria'!\" & ADDRESS(76,A93+4)):INDIRECT(\"'Success Criteria'!\" & ADDRESS(119,A93+4)),\"PASS\"),COUNTIF(INDIRECT(\"'Success Criteria'!\" & ADDRESS(76,A93+4)):INDIRECT(\"'Success Criteria'!\" & ADDRESS(119,A93+4)),\"PASS with comments\"))","v":2},{"$f":"COUNTIF(INDIRECT(\"'Success Criteria'!\" & ADDRESS(76,A93+4)):INDIRECT(\"'Success Criteria'!\" & ADDRESS(119,A93+4)),\"NON conformant\")","v":0},{"$f":"COUNTIF(INDIRECT(\"'Success Criteria'!\" & ADDRESS(76,A93+4)):INDIRECT(\"'Success Criteria'!\" & ADDRESS(119,A93+4)),\"N/A\")","v":0},{"$f":"COUNTIF(INDIRECT(\"'Success Criteria'!\" & ADDRESS(76,A93+4)):INDIRECT(\"'Success Criteria'!\" & ADDRESS(119,A93+4)),\"not tested\")","v":0},{"$f":"SUM(COUNTIF(INDIRECT(\"'Success Criteria'!\" & ADDRESS(124,A93+4)):INDIRECT(\"'Success Criteria'!\" & ADDRESS(178,A93+4)),\"PASS\"),COUNTIF(INDIRECT(\"'Success Criteria'!\" & ADDRESS(124,A93+4)):INDIRECT(\"'Success Criteria'!\" & ADDRESS(178,A93+4)),\"PASS with comments\"))","v":0},{"$f":"COUNTIF(INDIRECT(\"'Success Criteria'!\" & ADDRESS(124,A93+4)):INDIRECT(\"'Success Criteria'!\" & ADDRESS(178,A93+4)),\"NON conformant\")","v":0},{"$f":"COUNTIF(INDIRECT(\"'Success Criteria'!\" & ADDRESS(124,A93+4)):INDIRECT(\"'Success Criteria'!\" & ADDRESS(178,A93+4)),\"N/A\")","v":0},{"$f":"COUNTIF(INDIRECT(\"'Success Criteria'!\" & ADDRESS(124,A93+4)):INDIRECT(\"'Success Criteria'!\" & ADDRESS(178,A93+4)),\"not tested\")","v":28},2,0,0,28,null,0,"",2,"",28,1]
[80,"Page 80","URL 80","Please select",{"$f":"SUM(COUNTIF(INDIRECT(\"'Success Criteria'!\" & ADDRESS(10,A94+4)):INDIRECT(\"'Success Criteria'!\" & ADDRESS(72,A94+4)),\"PASS\"),COUNTIF(INDIRECT(\"'Success Criteria'!\" & ADDRESS(10,A94+4)):INDIRECT(\"'Success Criteria'!\" & ADDRESS(72,A94+4)),\"PASS with comments\"))","v":0},{"$f":"COUNTIF(INDIRECT(\"'Success Criteria'!\" & ADDRESS(10,A94+4)):INDIRECT(\"'Success Criteria'!\" & ADDRESS(72,A94+4)),\"NON conformant\")","v":0},{"$f":"COUNTIF(INDIRECT(\"'Success Criteria'!\" & ADDRESS(10,A94+4)):INDIRECT(\"'Success Criteria'!\" & ADDRESS(72,A94+4)),\"N/A\")","v":0},{"$f":"COUNTIF(INDIRECT(\"'Success Criteria'!\" & ADDRESS(10,A94+4)):INDIRECT(\"'Success Criteria'!\" & ADDRESS(72,A94+4)),\"not tested\")","v":0},{"$f":"SUM(COUNTIF(INDIRECT(\"'Success Criteria'!\" & ADDRESS(76,A94+4)):INDIRECT(\"'Success Criteria'!\" & ADDRESS(119,A94+4)),\"PASS\"),COUNTIF(INDIRECT(\"'Success Criteria'!\" & ADDRESS(76,A94+4)):INDIRECT(\"'Success Criteria'!\" & ADDRESS(119,A94+4)),\"PASS with comments\"))","v":2},{"$f":"COUNTIF(INDIRECT(\"'Success Criteria'!\" & ADDRESS(76,A94+4)):INDIRECT(\"'Success Criteria'!\" & ADDRESS(119,A94+4)),\"NON conformant\")","v":0},{"$f":"COUNTIF(INDIRECT(\"'Success Criteria'!\" & ADDRESS(76,A94+4)):INDIRECT(\"'Success Criteria'!\" & ADDRESS(119,A94+4)),\"N/A\")","v":0},{"$f":"COUNTIF(INDIRECT(\"'Success Criteria'!\" & ADDRESS(76,A94+4)):INDIRECT(\"'Success Criteria'!\" & ADDRESS(119,A94+4)),\"not tested\")","v":0},{"$f":"SUM(COUNTIF(INDIRECT(\"'Success Criteria'!\" & ADDRESS(124,A94+4)):INDIRECT(\"'Success Criteria'!\" & ADDRESS(178,A94+4)),\"PASS\"),COUNTIF(INDIRECT(\"'Success Criteria'!\" & ADDRESS(124,A94+4)):INDIRECT(\"'Success Criteria'!\" & ADDRESS(178,A94+4)),\"PASS with comments\"))","v":0},{"$f":"COUNTIF(INDIRECT(\"'Success Criteria'!\" & ADDRESS(124,A94+4)):INDIRECT(\"'Success Criteria'!\" & ADDRESS(178,A94+4)),\"NON conformant\")","v":0},{"$f":"COUNTIF(INDIRECT(\"'Success Criteria'!\" & ADDRESS(124,A94+4)):INDIRECT(\"'Success Criteria'!\" & ADDRESS(178,A94+4)),\"N/A\")","v":0},{"$f":"COUNTIF(INDIRECT(\"'Success Criteria'!\" & ADDRESS(124,A94+4)):INDIRECT(\"'Success Criteria'!\" & ADDRESS(178,A94+4)),\"not tested\")","v":28},2,0,0,28,null,0,"",2,"",28,1]
[81,"Page 81","URL 81","Please select",{"$f":"SUM(COUNTIF(INDIRECT(\"'Success Criteria'!\" & ADDRESS(10,A95+4)):INDIRECT(\"'Success Criteria'!\" & ADDRESS(72,A95+4)),\"PASS\"),COUNTIF(INDIRECT(\"'Success Criteria'!\" & ADDRESS(10,A95+4)):INDIRECT(\"'Success Criteria'!\" & ADDRESS(72,A95+4)),\"PASS with comments\"))","v":0},{"$f":"COUNTIF(INDIRECT(\"'Success Criteria'!\" & ADDRESS(10,A95+4)):INDIRECT(\"'Success Criteria'!\" & ADDRESS(72,A95+4)),\"NON conformant\")","v":0},{"$f":"COUNTIF(INDIRECT(\"'Success Criteria'!\" & ADDRESS(10,A95+4)):INDIRECT(\"'Success Criteria'!\" & ADDRESS(72,A95+4)),\"N/A\")","v":0},{"$f":"COUNTIF(INDIRECT(\"'Success Criteria'!\" & ADDRESS(10,A95+4)):INDIRECT(\"'Success Criteria'!\" & ADDRESS(72,A95+4)),\"not tested\")","v":0},{"$f":"SUM(COUNTIF(INDIRECT(\"'Success Criteria'!\" & ADDRESS(76,A95+4)):INDIRECT(\"'Success Criteria'!\" & ADDRESS(119,A95+4)),\"PASS\"),COUNTIF(INDIRECT(\"'Success Criteria'!\" & ADDRESS(76,A95+4)):INDIRECT(\"'Success Criteria'!\" & ADDRESS(119,A95+4)),\"PASS with comments\"))","v":2},{"$f":"COUNTIF(INDIRECT(\"'Success Criteria'!\" & ADDRESS(76,A95+4)):INDIRECT(\"'Success Criteria'!\" & ADDRESS(119,A95+4)),\"NON conformant\")","v":0},{"$f":"COUNTIF(INDIRECT(\"'Success Criteria'!\" & ADDRESS(76,A95+4)):INDIRECT(\"'Success Criteria'!\" & ADDRESS(119,A95+4)),\"N/A\")","v":0},{"$f":"COUNTIF(INDIRECT(\"'Success Criteria'!\" & ADDRESS(76,A95+4)):INDIRECT(\"'Success Criteria'!\" & ADDRESS(119,A95+4)),\"not tested\")","v":0},{"$f":"SUM(COUNTIF(INDIRECT(\"'Success Criteria'!\" & ADDRESS(124,A95+4)):INDIRECT(\"'Success Criteria'!\" & ADDRESS(178,A95+4)),\"PASS\"),COUNTIF(INDIRECT(\"'Success Criteria'!\" & ADDRESS(124,A95+4)):INDIRECT(\"'Success Criteria'!\" & ADDRESS(178,A95+4)),\"PASS with comments\"))","v":0},{"$f":"COUNTIF(INDIRECT(\"'Success Criteria'!\" & ADDRESS(124,A95+4)):INDIRECT(\"'Success Criteria'!\" & ADDRESS(178,A95+4)),\"NON conformant\")","v":0},{"$f":"COUNTIF(INDIRECT(\"'Success Criteria'!\" & ADDRESS(124,A95+4)):INDIRECT(\"'Success Criteria'!\" & ADDRESS(178,A95+4)),\"N/A\")","v":0},{"$f":"COUNTIF(INDIRECT(\"'Success Criteria'!\" & ADDRESS(124,A95+4)):INDIRECT(\"'Success Criteria'!\" & ADDRESS(178,A95+4)),\"not tested\")","v":28},2,0,0,28,null,0,"",2,"",28,1]
[82,"Page 82","URL 82","Please select",{"$f":"SUM(COUNTIF(INDIRECT(\"'Success Criteria'!\" & ADDRESS(10,A96+4)):INDIRECT(\"'Success Criteria'!\" & ADDRESS(72,A96+4)),\"PASS\"),COUNTIF(INDIRECT(\"'Success Criteria'!\" & ADDRESS(10,A96+4)):INDIRECT(\"'Success Criteria'!\" & ADDRESS(72,A96+4)),\"PASS with comments\"))","v":0},{"$f":"COUNTIF(INDIRECT(\"'Success Criteria'!\" & ADDRESS(10,A96+4)):INDIRECT(\"'Success Criteria'!\" & ADDRESS(72,A96+4)),\"NON conformant\")","v":0},{"$f":"COUNTIF(INDIRECT(\"'Success Criteria'!\" & ADDRESS(10,A96+4)):INDIRECT(\"'Success Criteria'!\" & ADDRESS(72,A96+4)),\"N/A\")","v":0},{"$f":"COUNTIF(INDIRECT(\"'Success Criteria'!\" & ADDRESS(10,A96+4)):INDIRECT(\"'Success Criteria'!\" & ADDRESS(72,A96+4)),\"not tested\")","v":0},{"$f":"SUM(COUNTIF(INDIRECT(\"'Success Criteria'!\" & ADDRESS(76,A96+4)):INDIRECT(\"'Success Criteria'!\" & ADDRESS(119,A96+4)),\"PASS\"),COUNTIF(INDIRECT(\"'Success Criteria'!\" & ADDRESS(76,A96+4)):INDIRECT(\"'Success Criteria'!\" & ADDRESS(119,A96+4)),\"PASS with comments\"))","v":2},{"$f":"COUNTIF(INDIRECT(\"'Success Criteria'!\" & ADDRESS(76,A96+4)):INDIRECT(\"'Success Criteria'!\" & ADDRESS(119,A96+4)),\"NON conformant\")","v":0},{"$f":"COUNTIF(INDIRECT(\"'Success Criteria'!\" & ADDRESS(76,A96+4)):INDIRECT(\"'Success Criteria'!\" & ADDRESS(119,A96+4)),\"N/A\")","v":0},{"$f":"COUNTIF(INDIRECT(\"'Success Criteria'!\" & ADDRESS(76,A96+4)):INDIRECT(\"'Success Criteria'!\" & ADDRESS(119,A96+4)),\"not tested\")","v":0},{"$f":"SUM(COUNTIF(INDIRECT(\"'Success Criteria'!\" & ADDRESS(124,A96+4)):INDIRECT(\"'Success Criteria'!\" & ADDRESS(178,A96+4)),\"PASS\"),COUNTIF(INDIRECT(\"'Success Criteria'!\" & ADDRESS(124,A96+4)):INDIRECT(\"'Success Criteria'!\" & ADDRESS(178,A96+4)),\"PASS with comments\"))","v":0},{"$f":"COUNTIF(INDIRECT(\"'Success Criteria'!\" & ADDRESS(124,A96+4)):INDIRECT(\"'Success Criteria'!\" & ADDRESS(178,A96+4)),\"NON conformant\")","v":0},{"$f":"COUNTIF(INDIRECT(\"'Success Criteria'!\" & ADDRESS(124,A96+4)):INDIRECT(\"'Success Criteria'!\" & ADDRESS(178,A96+4)),\"N/A\")","v":0},{"$f":"COUNTIF(INDIRECT(\"'Success Criteria'!\" & ADDRESS(124,A96+4)):INDIRECT(\"'Success Criteria'!\" & ADDRESS(178,A96+4)),\"not tested\")","v":28},2,0,0,28,null,0,"",2,"",28,1]
[83,"Page 83","URL 83","Please select",{"$f":"SUM(COUNTIF(INDIRECT(\"'Success Criteria'!\" & ADDRESS(10,A97+4)):INDIRECT(\"'Success Criteria'!\" & ADDRESS(72,A97+4)),\"PASS\"),COUNTIF(INDIRECT(\"'Success Criteria'!\" & ADDRESS(10,A97+4)):INDIRECT(\"'Success Criteria'!\" & ADDRESS(72,A97+4)),\"PASS with comments\"))","v":0},{"$f":"COUNTIF(INDIRECT(\"'Success Criteria'!\" & ADDRESS(10,A97+4)):INDIRECT(\"'Success Criteria'!\" & ADDRESS(72,A97+4)),\"NON conformant\")","v":0},{"$f":"COUNTIF(INDIRECT(\"'Success Criteria'!\" & ADDRESS(10,A97+4)):INDIRECT(\"'Success Criteria'!\" & ADDRESS(72,A97+4)),\"N/A\")","v":0},{"$f":"COUNTIF(INDIRECT(\"'Success Criteria'!\" & ADDRESS(10,A97+4)):INDIRECT(\"'Success Criteria'!\" & ADDRESS(72,A97+4)),\"not tested\")","v":0},{"$f":"SUM(COUNTIF(INDIRECT(\"'Success Criteria'!\" & ADDRESS(76,A97+4)):INDIRECT(\"'Success Criteria'!\" & ADDRESS(119,A97+4)),\"PASS\"),COUNTIF(INDIRECT(\"'Success Criteria'!\" & ADDRESS(76,A97+4)):INDIRECT(\"'Success Criteria'!\" & ADDRESS(119,A97+4)),\"PASS with comments\"))","v":2},{"$f":"COUNTIF(INDIRECT(\"'Success Criteria'!\" & ADDRESS(76,A97+4)):INDIRECT(\"'Success Criteria'!\" & ADDRESS(119,A97+4)),\"NON conformant\")","v":0},{"$f":"COUNTIF(INDIRECT(\"'Success Criteria'!\" & ADDRESS(76,A97+4)):INDIRECT(\"'Success Criteria'!\" & ADDRESS(119,A97+4)),\"N/A\")","v":0},{"$f":"COUNTIF(INDIRECT(\"'Success Criteria'!\" & ADDRESS(76,A97+4)):INDIRECT(\"'Success Criteria'!\" & ADDRESS(119,A97+4)),\"not tested\")","v":0},{"$f":"SUM(COUNTIF(INDIRECT(\"'Success Criteria'!\" & ADDRESS(124,A97+4)):INDIRECT(\"'Success Criteria'!\" & ADDRESS(178,A97+4)),\"PASS\"),COUNTIF(INDIRECT(\"'Success Criteria'!\" & ADDRESS(124,A97+4)):INDIRECT(\"'Success Criteria'!\" & ADDRESS(178,A97+4)),\"PASS with comments\"))","v":0},{"$f":"COUNTIF(INDIRECT(\"'Success Criteria'!\" & ADDRESS(124,A97+4)):INDIRECT(\"'Success Criteria'!\" & ADDRESS(178,A97+4)),\"NON conformant\")","v":0},{"$f":"COUNTIF(INDIRECT(\"'Success Criteria'!\" & ADDRESS(124,A97+4)):INDIRECT(\"'Success Criteria'!\" & ADDRESS(178,A97+4)),\"N/A\")","v":0},{"$f":"COUNTIF(INDIRECT(\"'Success Criteria'!\" & ADDRESS(124,A97+4)):INDIRECT(\"'Success Criteria'!\" & ADDRESS(178,A97+4)),\"not tested\")","v":28},2,0,0,28,null,0,"",2,"",28,1]
[84,"Page 84","URL 84","Please select",{"$f":"SUM(COUNTIF(INDIRECT(\"'Success Criteria'!\" & ADDRESS(10,A98+4)):INDIRECT(\"'Success Criteria'!\" & ADDRESS(72,A98+4)),\"PASS\"),COUNTIF(INDIRECT(\"'Success Criteria'!\" & ADDRESS(10,A98+4)):INDIRECT(\"'Success Criteria'!\" & ADDRESS(72,A98+4)),\"PASS with comments\"))","v":0},{"$f":"COUNTIF(INDIRECT(\"'Success Criteria'!\" & ADDRESS(10,A98+4)):INDIRECT(\"'Success Criteria'!\" & ADDRESS(72,A98+4)),\"NON conformant\")","v":0},{"$f":"COUNTIF(INDIRECT(\"'Success Criteria'!\" & ADDRESS(10,A98+4)):INDIRECT(\"'Success Criteria'!\" & ADDRESS(72,A98+4)),\"N/A\")","v":0},{"$f":"COUNTIF(INDIRECT(\"'Success Criteria'!\" & ADDRESS(10,A98+4)):INDIRECT(\"'Success Criteria'!\" & ADDRESS(72,A98+4)),\"not tested\")","v":0},{"$f":"SUM(COUNTIF(INDIRECT(\"'Success Criteria'!\" & ADDRESS(76,A98+4)):INDIRECT(\"'Success Criteria'!\" & ADDRESS(119,A98+4)),\"PASS\"),COUNTIF(INDIRECT(\"'Success Criteria'!\" & ADDRESS(76,A98+4)):INDIRECT(\"'Success Criteria'!\" & ADDRESS(119,A98+4)),\"PASS with comments\"))","v":2},{"$f":"COUNTIF(INDIRECT(\"'Success Criteria'!\" & ADDRESS(76,A98+4)):INDIRECT(\"'Success Criteria'!\" & ADDRESS(119,A98+4)),\"NON conformant\")","v":0},{"$f":"COUNTIF(INDIRECT(\"'Success Criteria'!\" & ADDRESS(76,A98+4)):INDIRECT(\"'Success Criteria'!\" & ADDRESS(119,A98+4)),\"N/A\")","v":0},{"$f":"COUNTIF(INDIRECT(\"'Success Criteria'!\" & ADDRESS(76,A98+4)):INDIRECT(\"'Success Criteria'!\" & ADDRESS(119,A98+4)),\"not tested\")","v":0},{"$f":"SUM(COUNTIF(INDIRECT(\"'Success Criteria'!\" & ADDRESS(124,A98+4)):INDIRECT(\"'Success Criteria'!\" & ADDRESS(178,A98+4)),\"PASS\"),COUNTIF(INDIRECT(\"'Success Criteria'!\" & ADDRESS(124,A98+4)):INDIRECT(\"'Success Criteria'!\" & ADDRESS(178,A98+4)),\"PASS with comments\"))","v":0},{"$f":"COUNTIF(INDIRECT(\"'Success Criteria'!\" & ADDRESS(124,A98+4)):INDIRECT(\"'Success Criteria'!\" & ADDRESS(178,A98+4)),\"NON conformant\")","v":0},{"$f":"COUNTIF(INDIRECT(\"'Success Criteria'!\" & ADDRESS(124,A98+4)):INDIRECT(\"'Success Criteria'!\" & ADDRESS(178,A98+4)),\"N/A\")","v":0},{"$f":"COUNTIF(INDIRECT(\"'Success Criteria'!\" & ADDRESS(124,A98+4)):INDIRECT(\"'Success Criteria'!\" & ADDRESS(178,A98+4)),\"not tested\")","v":28},2,0,0,28,null,0,"",2,"",28,1]
[85,"Page 85","URL 85","Please select",{"$f":"SUM(COUNTIF(INDIRECT(\"'Success Criteria'!\" & ADDRESS(10,A99+4)):INDIRECT(\"'Success Criteria'!\" & ADDRESS(72,A99+4)),\"PASS\"),COUNTIF(INDIRECT(\"'Success Criteria'!\" & ADDRESS(10,A99+4)):INDIRECT(\"'Success Criteria'!\" & ADDRESS(72,A99+4)),\"PASS with comments\"))","v":0},{"$f":"COUNTIF(INDIRECT(\"'Success Criteria'!\" & ADDRESS(10,A99+4)):INDIRECT(\"'Success Criteria'!\" & ADDRESS(72,A99+4)),\"NON conformant\")","v":0},{"$f":"COUNTIF(INDIRECT(\"'Success Criteria'!\" & ADDRESS(10,A99+4)):INDIRECT(\"'Success Criteria'!\" & ADDRESS(72,A99+4)),\"N/A\")","v":0},{"$f":"COUNTIF(INDIRECT(\"'Success Criteria'!\" & ADDRESS(10,A99+4)):INDIRECT(\"'Success Criteria'!\" & ADDRESS(72,A99+4)),\"not tested\")","v":0},{"$f":"SUM(COUNTIF(INDIRECT(\"'Success Criteria'!\" & ADDRESS(76,A99+4)):INDIRECT(\"'Success Criteria'!\" & ADDRESS(119,A99+4)),\"PASS\"),COUNTIF(INDIRECT(\"'Success Criteria'!\" & ADDRESS(76,A99+4)):INDIRECT(\"'Success Criteria'!\" & ADDRESS(119,A99+4)),\"PASS with comments\"))","v":2},{"$f":"COUNTIF(INDIRECT(\"'Success Criteria'!\" & ADDRESS(76,A99+4)):INDIRECT(\"'Success Criteria'!\" & ADDRESS(119,A99+4)),\"NON conformant\")","v":0},{"$f":"COUNTIF(INDIRECT(\"'Success Criteria'!\" & ADDRESS(76,A99+4)):INDIRECT(\"'Success Criteria'!\" & ADDRESS(119,A99+4)),\"N/A\")","v":0},{"$f":"COUNTIF(INDIRECT(\"'Success Criteria'!\" & ADDRESS(76,A99+4)):INDIRECT(\"'Success Criteria'!\" & ADDRESS(119,A99+4)),\"not tested\")","v":0},{"$f":"SUM(COUNTIF(INDIRECT(\"'Success Criteria'!\" & ADDRESS(124,A99+4)):INDIRECT(\"'Success Criteria'!\" & ADDRESS(178,A99+4)),\"PASS\"),COUNTIF(INDIRECT(\"'Success Criteria'!\" & ADDRESS(124,A99+4)):INDIRECT(\"'Success Criteria'!\" & ADDRESS(178,A99+4)),\"PASS with comments\"))","v":0},{"$f":"COUNTIF(INDIRECT(\"'Success Criteria'!\" & ADDRESS(124,A99+4)):INDIRECT(\"'Success Criteria'!\" & ADDRESS(178,A99+4)),\"NON conformant\")","v":0},{"$f":"COUNTIF(INDIRECT(\"'Success Criteria'!\" & ADDRESS(124,A99+4)):INDIRECT(\"'Success Criteria'!\" & ADDRESS(178,A99+4)),\"N/A\")","v":0},{"$f":"COUNTIF(INDIRECT(\"'Success Criteria'!\" & ADDRESS(124,A99+4)):INDIRECT(\"'Success Criteria'!\" & ADDRESS(178,A99+4)),\"not tested\")","v":28},2,0,0,28,null,0,"",2,"",28,1]
[86,"Page 86","URL 86","Please select",{"$f":"SUM(COUNTIF(INDIRECT(\"'Success Criteria'!\" & ADDRESS(10,A100+4)):INDIRECT(\"'Success Criteria'!\" & ADDRESS(72,A100+4)),\"PASS\"),COUNTIF(INDIRECT(\"'Success Criteria'!\" & ADDRESS(10,A100+4)):INDIRECT(\"'Success Criteria'!\" & ADDRESS(72,A100+4)),\"PASS with comments\"))","v":0},{"$f":"COUNTIF(INDIRECT(\"'Success Criteria'!\" & ADDRESS(10,A100+4)):INDIRECT(\"'Success Criteria'!\" & ADDRESS(72,A100+4)),\"NON conformant\")","v":0},{"$f":"COUNTIF(INDIRECT(\"'Success Criteria'!\" & ADDRESS(10,A100+4)):INDIRECT(\"'Success Criteria'!\" & ADDRESS(72,A100+4)),\"N/A\")","v":0},{"$f":"COUNTIF(INDIRECT(\"'Success Criteria'!\" & ADDRESS(10,A100+4)):INDIRECT(\"'Success Criteria'!\" & ADDRESS(72,A100+4)),\"not tested\")","v":0},{"$f":"SUM(COUNTIF(INDIRECT(\"'Success Criteria'!\" & ADDRESS(76,A100+4)):INDIRECT(\"'Success Criteria'!\" & ADDRESS(119,A100+4)),\"PASS\"),COUNTIF(INDIRECT(\"'Success Criteria'!\" & ADDRESS(76,A100+4)):INDIRECT(\"'Success Criteria'!\" & ADDRESS(119,A100+4)),\"PASS with comments\"))","v":2},{"$f":"COUNTIF(INDIRECT(\"'Success Criteria'!\" & ADDRESS(76,A100+4)):INDIRECT(\"'Success Criteria'!\" & ADDRESS(119,A100+4)),\"NON conformant\")","v":0},{"$f":"COUNTIF(INDIRECT(\"'Success Criteria'!\" & ADDRESS(76,A100+4)):INDIRECT(\"'Success Criteria'!\" & ADDRESS(119,A100+4)),\"N/A\")","v":0},{"$f":"COUNTIF(INDIRECT(\"'Success Criteria'!\" & ADDRESS(76,A100+4)):INDIRECT(\"'Success Criteria'!\" & ADDRESS(119,A100+4)),\"not tested\")","v":0},{"$f":"SUM(COUNTIF(INDIRECT(\"'Success Criteria'!\" & ADDRESS(124,A100+4)):INDIRECT(\"'Success Criteria'!\" & ADDRESS(178,A100+4)),\"PASS\"),COUNTIF(INDIRECT(\"'Success Criteria'!\" & ADDRESS(124,A100+4)):INDIRECT(\"'Success Criteria'!\" & ADDRESS(178,A100+4)),\"PASS with comments\"))","v":0},{"$f":"COUNTIF(INDIRECT(\"'Success Criteria'!\" & ADDRESS(124,A100+4)):INDIRECT(\"'Success Criteria'!\" & ADDRESS(178,A100+4)),\"NON conformant\")","v":0},{"$f":"COUNTIF(INDIRECT(\"'Success Criteria'!\" & ADDRESS(124,A100+4)):INDIRECT(\"'Success Criteria'!\" & ADDRESS(178,A100+4)),\"N/A\")","v":0},{"$f":"COUNTIF(INDIRECT(\"'Success Criteria'!\" & ADDRESS(124,A100+4)):INDIRECT(\"'Success Criteria'!\" & ADDRESS(178,A100+4)),\"not tested\")","v":28},2,0,0,28,null,0,"",2,"",28,1]
[87,"Page 87","URL 87","Please select",{"$f":"SUM(COUNTIF(INDIRECT(\"'Success Criteria'!\" & ADDRESS(10,A101+4)):INDIRECT(\"'Success Criteria'!\" & ADDRESS(72,A101+4)),\"PASS\"),COUNTIF(INDIRECT(\"'Success Criteria'!\" & ADDRESS(10,A101+4)):INDIRECT(\"'Success Criteria'!\" & ADDRESS(72,A101+4)),\"PASS with comments\"))","v":0},{"$f":"COUNTIF(INDIRECT(\"'Success Criteria'!\" & ADDRESS(10,A101+4)):INDIRECT(\"'Success Criteria'!\" & ADDRESS(72,A101+4)),\"NON conformant\")","v":0},{"$f":"COUNTIF(INDIRECT(\"'Success Criteria'!\" & ADDRESS(10,A101+4)):INDIRECT(\"'Success Criteria'!\" & ADDRESS(72,A101+4)),\"N/A\")","v":0},{"$f":"COUNTIF(INDIRECT(\"'Success Criteria'!\" & ADDRESS(10,A101+4)):INDIRECT(\"'Success Criteria'!\" & ADDRESS(72,A101+4)),\"not tested\")","v":0},{"$f":"SUM(COUNTIF(INDIRECT(\"'Success Criteria'!\" & ADDRESS(76,A101+4)):INDIRECT(\"'Success Criteria'!\" & ADDRESS(119,A101+4)),\"PASS\"),COUNTIF(INDIRECT(\"'Success Criteria'!\" & ADDRESS(76,A101+4)):INDIRECT(\"'Success Criteria'!\" & ADDRESS(119,A101+4)),\"PASS with comments\"))","v":2},{"$f":"COUNTIF(INDIRECT(\"'Success Criteria'!\" & ADDRESS(76,A101+4)):INDIRECT(\"'Success Criteria'!\" & ADDRESS(119,A101+4)),\"NON conformant\")","v":0},{"$f":"COUNTIF(INDIRECT(\"'Success Criteria'!\" & ADDRESS(76,A101+4)):INDIRECT(\"'Success Criteria'!\" & ADDRESS(119,A101+4)),\"N/A\")","v":0},{"$f":"COUNTIF(INDIRECT(\"'Success Criteria'!\" & ADDRESS(76,A101+4)):INDIRECT(\"'Success Criteria'!\" & ADDRESS(119,A101+4)),\"not tested\")","v":0},{"$f":"SUM(COUNTIF(INDIRECT(\"'Success Criteria'!\" & ADDRESS(124,A101+4)):INDIRECT(\"'Success Criteria'!\" & ADDRESS(178,A101+4)),\"PASS\"),COUNTIF(INDIRECT(\"'Success Criteria'!\" & ADDRESS(124,A101+4)):INDIRECT(\"'Success Criteria'!\" & ADDRESS(178,A101+4)),\"PASS with comments\"))","v":0},{"$f":"COUNTIF(INDIRECT(\"'Success Criteria'!\" & ADDRESS(124,A101+4)):INDIRECT(\"'Success Criteria'!\" & ADDRESS(178,A101+4)),\"NON conformant\")","v":0},{"$f":"COUNTIF(INDIRECT(\"'Success Criteria'!\" & ADDRESS(124,A101+4)):INDIRECT(\"'Success Criteria'!\" & ADDRESS(178,A101+4)),\"N/A\")","v":0},{"$f":"COUNTIF(INDIRECT(\"'Success Criteria'!\" & ADDRESS(124,A101+4)):INDIRECT(\"'Success Criteria'!\" & ADDRESS(178,A101+4)),\"not tested\")","v":28},2,0,0,28,null,0,"",2,"",28,1]
[88,"Page 88","URL 88","Please select",{"$f":"SUM(COUNTIF(INDIRECT(\"'Success Criteria'!\" & ADDRESS(10,A102+4)):INDIRECT(\"'Success Criteria'!\" & ADDRESS(72,A102+4)),\"PASS\"),COUNTIF(INDIRECT(\"'Success Criteria'!\" & ADDRESS(10,A102+4)):INDIRECT(\"'Success Criteria'!\" & ADDRESS(72,A102+4)),\"PASS with comments\"))","v":0},{"$f":"COUNTIF(INDIRECT(\"'Success Criteria'!\" & ADDRESS(10,A102+4)):INDIRECT(\"'Success Criteria'!\" & ADDRESS(72,A102+4)),\"NON conformant\")","v":0},{"$f":"COUNTIF(INDIRECT(\"'Success Criteria'!\" & ADDRESS(10,A102+4)):INDIRECT(\"'Success Criteria'!\" & ADDRESS(72,A102+4)),\"N/A\")","v":0},{"$f":"COUNTIF(INDIRECT(\"'Success Criteria'!\" & ADDRESS(10,A102+4)):INDIRECT(\"'Success Criteria'!\" & ADDRESS(72,A102+4)),\"not tested\")","v":0},{"$f":"SUM(COUNTIF(INDIRECT(\"'Success Criteria'!\" & ADDRESS(76,A102+4)):INDIRECT(\"'Success Criteria'!\" & ADDRESS(119,A102+4)),\"PASS\"),COUNTIF(INDIRECT(\"'Success Criteria'!\" & ADDRESS(76,A102+4)):INDIRECT(\"'Success Criteria'!\" & ADDRESS(119,A102+4)),\"PASS with comments\"))","v":2},{"$f":"COUNTIF(INDIRECT(\"'Success Criteria'!\" & ADDRESS(76,A102+4)):INDIRECT(\"'Success Criteria'!\" & ADDRESS(119,A102+4)),\"NON conformant\")","v":0},{"$f":"COUNTIF(INDIRECT(\"'Success Criteria'!\" & ADDRESS(76,A102+4)):INDIRECT(\"'Success Criteria'!\" & ADDRESS(119,A102+4)),\"N/A\")","v":0},{"$f":"COUNTIF(INDIRECT(\"'Success Criteria'!\" & ADDRESS(76,A102+4)):INDIRECT(\"'Success Criteria'!\" & ADDRESS(119,A102+4)),\"not tested\")","v":0},{"$f":"SUM(COUNTIF(INDIRECT(\"'Success Criteria'!\" & ADDRESS(124,A102+4)):INDIRECT(\"'Success Criteria'!\" & ADDRESS(178,A102+4)),\"PASS\"),COUNTIF(INDIRECT(\"'Success Criteria'!\" & ADDRESS(124,A102+4)):INDIRECT(\"'Success Criteria'!\" & ADDRESS(178,A102+4)),\"PASS with comments\"))","v":0},{"$f":"COUNTIF(INDIRECT(\"'Success Criteria'!\" & ADDRESS(124,A102+4)):INDIRECT(\"'Success Criteria'!\" & ADDRESS(178,A102+4)),\"NON conformant\")","v":0},{"$f":"COUNTIF(INDIRECT(\"'Success Criteria'!\" & ADDRESS(124,A102+4)):INDIRECT(\"'Success Criteria'!\" & ADDRESS(178,A102+4)),\"N/A\")","v":0},{"$f":"COUNTIF(INDIRECT(\"'Success Criteria'!\" & ADDRESS(124,A102+4)):INDIRECT(\"'Success Criteria'!\" & ADDRESS(178,A102+4)),\"not tested\")","v":28},2,0,0,28,null,0,"",2,"",28,1]
[89,"Page 89","URL 89","Please select",{"$f":"SUM(COUNTIF(INDIRECT(\"'Success Criteria'!\" & ADDRESS(10,A103+4)):INDIRECT(\"'Success Criteria'!\" & ADDRESS(72,A103+4)),\"PASS\"),COUNTIF(INDIRECT(\"'Success Criteria'!\" & ADDRESS(10,A103+4)):INDIRECT(\"'Success Criteria'!\" & ADDRESS(72,A103+4)),\"PASS with comments\"))","v":0},{"$f":"COUNTIF(INDIRECT(\"'Success Criteria'!\" & ADDRESS(10,A103+4)):INDIRECT(\"'Success Criteria'!\" & ADDRESS(72,A103+4)),\"NON conformant\")","v":0},{"$f":"COUNTIF(INDIRECT(\"'Success Criteria'!\" & ADDRESS(10,A103+4)):INDIRECT(\"'Success Criteria'!\" & ADDRESS(72,A103+4)),\"N/A\")","v":0},{"$f":"COUNTIF(INDIRECT(\"'Success Criteria'!\" & ADDRESS(10,A103+4)):INDIRECT(\"'Success Criteria'!\" & ADDRESS(72,A103+4)),\"not tested\")","v":0},{"$f":"SUM(COUNTIF(INDIRECT(\"'Success Criteria'!\" & ADDRESS(76,A103+4)):INDIRECT(\"'Success Criteria'!\" & ADDRESS(119,A103+4)),\"PASS\"),COUNTIF(INDIRECT(\"'Success Criteria'!\" & ADDRESS(76,A103+4)):INDIRECT(\"'Success Criteria'!\" & ADDRESS(119,A103+4)),\"PASS with comments\"))","v":2},{"$f":"COUNTIF(INDIRECT(\"'Success Criteria'!\" & ADDRESS(76,A103+4)):INDIRECT(\"'Success Criteria'!\" & ADDRESS(119,A103+4)),\"NON conformant\")","v":0},{"$f":"COUNTIF(INDIRECT(\"'Success Criteria'!\" & ADDRESS(76,A103+4)):INDIRECT(\"'Success Criteria'!\" & ADDRESS(119,A103+4)),\"N/A\")","v":0},{"$f":"COUNTIF(INDIRECT(\"'Success Criteria'!\" & ADDRESS(76,A103+4)):INDIRECT(\"'Success Criteria'!\" & ADDRESS(119,A103+4)),\"not tested\")","v":0},{"$f":"SUM(COUNTIF(INDIRECT(\"'Success Criteria'!\" & ADDRESS(124,A103+4)):INDIRECT(\"'Success Criteria'!\" & ADDRESS(178,A103+4)),\"PASS\"),COUNTIF(INDIRECT(\"'Success Criteria'!\" & ADDRESS(124,A103+4)):INDIRECT(\"'Success Criteria'!\" & ADDRESS(178,A103+4)),\"PASS with comments\"))","v":0},{"$f":"COUNTIF(INDIRECT(\"'Success Criteria'!\" & ADDRESS(124,A103+4)):INDIRECT(\"'Success Criteria'!\" & ADDRESS(178,A103+4)),\"NON conformant\")","v":0},{"$f":"COUNTIF(INDIRECT(\"'Success Criteria'!\" & ADDRESS(124,A103+4)):INDIRECT(\"'Success Criteria'!\" & ADDRESS(178,A103+4)),\"N/A\")","v":0},{"$f":"COUNTIF(INDIRECT(\"'Success Criteria'!\" & ADDRESS(124,A103+4)):INDIRECT(\"'Success Criteria'!\" & ADDRESS(178,A103+4)),\"not tested\")","v":28},2,0,0,28,null,0,"",2,"",28,1]
[90,"Page 90","URL 90","Please select",{"$f":"SUM(COUNTIF(INDIRECT(\"'Success Criteria'!\" & ADDRESS(10,A104+4)):INDIRECT(\"'Success Criteria'!\" & ADDRESS(72,A104+4)),\"PASS\"),COUNTIF(INDIRECT(\"'Success Criteria'!\" & ADDRESS(10,A104+4)):INDIRECT(\"'Success Criteria'!\" & ADDRESS(72,A104+4)),\"PASS with comments\"))","v":0},{"$f":"COUNTIF(INDIRECT(\"'Success Criteria'!\" & ADDRESS(10,A104+4)):INDIRECT(\"'Success Criteria'!\" & ADDRESS(72,A104+4)),\"NON conformant\")","v":0},{"$f":"COUNTIF(INDIRECT(\"'Success Criteria'!\" & ADDRESS(10,A104+4)):INDIRECT(\"'Success Criteria'!\" & ADDRESS(72,A104+4)),\"N/A\")","v":0},{"$f":"COUNTIF(INDIRECT(\"'Success Criteria'!\" & ADDRESS(10,A104+4)):INDIRECT(\"'Success Criteria'!\" & ADDRESS(72,A104+4)),\"not tested\")","v":0},{"$f":"SUM(COUNTIF(INDIRECT(\"'Success Criteria'!\" & ADDRESS(76,A104+4)):INDIRECT(\"'Success Criteria'!\" & ADDRESS(119,A104+4)),\"PASS\"),COUNTIF(INDIRECT(\"'Success Criteria'!\" & ADDRESS(76,A104+4)):INDIRECT(\"'Success Criteria'!\" & ADDRESS(119,A104+4)),\"PASS with comments\"))","v":2},{"$f":"COUNTIF(INDIRECT(\"'Success Criteria'!\" & ADDRESS(76,A104+4)):INDIRECT(\"'Success Criteria'!\" & ADDRESS(119,A104+4)),\"NON conformant\")","v":0},{"$f":"COUNTIF(INDIRECT(\"'Success Criteria'!\" & ADDRESS(76,A104+4)):INDIRECT(\"'Success Criteria'!\" & ADDRESS(119,A104+4)),\"N/A\")","v":0},{"$f":"COUNTIF(INDIRECT(\"'Success Criteria'!\" & ADDRESS(76,A104+4)):INDIRECT(\"'Success Criteria'!\" & ADDRESS(119,A104+4)),\"not tested\")","v":0},{"$f":"SUM(COUNTIF(INDIRECT(\"'Success Criteria'!\" & ADDRESS(124,A104+4)):INDIRECT(\"'Success Criteria'!\" & ADDRESS(178,A104+4)),\"PASS\"),COUNTIF(INDIRECT(\"'Success Criteria'!\" & ADDRESS(124,A104+4)):INDIRECT(\"'Success Criteria'!\" & ADDRESS(178,A104+4)),\"PASS with comments\"))","v":0},{"$f":"COUNTIF(INDIRECT(\"'Success Criteria'!\" & ADDRESS(124,A104+4)):INDIRECT(\"'Success Criteria'!\" & ADDRESS(178,A104+4)),\"NON conformant\")","v":0},{"$f":"COUNTIF(INDIRECT(\"'Success Criteria'!\" & ADDRESS(124,A104+4)):INDIRECT(\"'Success Criteria'!\" & ADDRESS(178,A104+4)),\"N/A\")","v":0},{"$f":"COUNTIF(INDIRECT(\"'Success Criteria'!\" & ADDRESS(124,A104+4)):INDIRECT(\"'Success Criteria'!\" & ADDRESS(178,A104+4)),\"not tested\")","v":28},2,0,0,28,null,0,"",2,"",28,1]
[91,"Page 91","URL 91","Please select",{"$f":"SUM(COUNTIF(INDIRECT(\"'Success Criteria'!\" & ADDRESS(10,A105+4)):INDIRECT(\"'Success Criteria'!\" & ADDRESS(72,A105+4)),\"PASS\"),COUNTIF(INDIRECT(\"'Success Criteria'!\" & ADDRESS(10,A105+4)):INDIRECT(\"'Success Criteria'!\" & ADDRESS(72,A105+4)),\"PASS with comments\"))","v":0},{"$f":"COUNTIF(INDIRECT(\"'Success Criteria'!\" & ADDRESS(10,A105+4)):INDIRECT(\"'Success Criteria'!\" & ADDRESS(72,A105+4)),\"NON conformant\")","v":0},{"$f":"COUNTIF(INDIRECT(\"'Success Criteria'!\" & ADDRESS(10,A105+4)):INDIRECT(\"'Success Criteria'!\" & ADDRESS(72,A105+4)),\"N/A\")","v":0},{"$f":"COUNTIF(INDIRECT(\"'Success Criteria'!\" & ADDRESS(10,A105+4)):INDIRECT(\"'Success Criteria'!\" & ADDRESS(72,A105+4)),\"not tested\")","v":0},{"$f":"SUM(COUNTIF(INDIRECT(\"'Success Criteria'!\" & ADDRESS(76,A105+4)):INDIRECT(\"'Success Criteria'!\" & ADDRESS(119,A105+4)),\"PASS\"),COUNTIF(INDIRECT(\"'Success Criteria'!\" & ADDRESS(76,A105+4)):INDIRECT(\"'Success Criteria'!\" & ADDRESS(119,A105+4)),\"PASS with comments\"))","v":2},{"$f":"COUNTIF(INDIRECT(\"'Success Criteria'!\" & ADDRESS(76,A105+4)):INDIRECT(\"'Success Criteria'!\" & ADDRESS(119,A105+4)),\"NON conformant\")","v":0},{"$f":"COUNTIF(INDIRECT(\"'Success Criteria'!\" & ADDRESS(76,A105+4)):INDIRECT(\"'Success Criteria'!\" & ADDRESS(119,A105+4)),\"N/A\")","v":0},{"$f":"COUNTIF(INDIRECT(\"'Success Criteria'!\" & ADDRESS(76,A105+4)):INDIRECT(\"'Success Criteria'!\" & ADDRESS(119,A105+4)),\"not tested\")","v":0},{"$f":"SUM(COUNTIF(INDIRECT(\"'Success Criteria'!\" & ADDRESS(124,A105+4)):INDIRECT(\"'Success Criteria'!\" & ADDRESS(178,A105+4)),\"PASS\"),COUNTIF(INDIRECT(\"'Success Criteria'!\" & ADDRESS(124,A105+4)):INDIRECT(\"'Success Criteria'!\" & ADDRESS(178,A105+4)),\"PASS with comments\"))","v":0},{"$f":"COUNTIF(INDIRECT(\"'Success Criteria'!\" & ADDRESS(124,A105+4)):INDIRECT(\"'Success Criteria'!\" & ADDRESS(178,A105+4)),\"NON conformant\")","v":0},{"$f":"COUNTIF(INDIRECT(\"'Success Criteria'!\" & ADDRESS(124,A105+4)):INDIRECT(\"'Success Criteria'!\" & ADDRESS(178,A105+4)),\"N/A\")","v":0},{"$f":"COUNTIF(INDIRECT(\"'Success Criteria'!\" & ADDRESS(124,A105+4)):INDIRECT(\"'Success Criteria'!\" & ADDRESS(178,A105+4)),\"not tested\")","v":28},2,0,0,28,null,0,"",2,"",28,1]
[92,"Page 92","URL 92","Please select",{"$f":"SUM(COUNTIF(INDIRECT(\"'Success Criteria'!\" & ADDRESS(10,A106+4)):INDIRECT(\"'Success Criteria'!\" & ADDRESS(72,A106+4)),\"PASS\"),COUNTIF(INDIRECT(\"'Success Criteria'!\" & ADDRESS(10,A106+4)):INDIRECT(\"'Success Criteria'!\" & ADDRESS(72,A106+4)),\"PASS with comments\"))","v":0},{"$f":"COUNTIF(INDIRECT(\"'Success Criteria'!\" & ADDRESS(10,A106+4)):INDIRECT(\"'Success Criteria'!\" & ADDRESS(72,A106+4)),\"NON conformant\")","v":0},{"$f":"COUNTIF(INDIRECT(\"'Success Criteria'!\" & ADDRESS(10,A106+4)):INDIRECT(\"'Success Criteria'!\" & ADDRESS(72,A106+4)),\"N/A\")","v":0},{"$f":"COUNTIF(INDIRECT(\"'Success Criteria'!\" & ADDRESS(10,A106+4)):INDIRECT(\"'Success Criteria'!\" & ADDRESS(72,A106+4)),\"not tested\")","v":0},{"$f":"SUM(COUNTIF(INDIRECT(\"'Success Criteria'!\" & ADDRESS(76,A106+4)):INDIRECT(\"'Success Criteria'!\" & ADDRESS(119,A106+4)),\"PASS\"),COUNTIF(INDIRECT(\"'Success Criteria'!\" & ADDRESS(76,A106+4)):INDIRECT(\"'Success Criteria'!\" & ADDRESS(119,A106+4)),\"PASS with comments\"))","v":2},{"$f":"COUNTIF(INDIRECT(\"'Success Criteria'!\" & ADDRESS(76,A106+4)):INDIRECT(\"'Success Criteria'!\" & ADDRESS(119,A106+4)),\"NON conformant\")","v":0},{"$f":"COUNTIF(INDIRECT(\"'Success Criteria'!\" & ADDRESS(76,A106+4)):INDIRECT(\"'Success Criteria'!\" & ADDRESS(119,A106+4)),\"N/A\")","v":0},{"$f":"COUNTIF(INDIRECT(\"'Success Criteria'!\" & ADDRESS(76,A106+4)):INDIRECT(\"'Success Criteria'!\" & ADDRESS(119,A106+4)),\"not tested\")","v":0},{"$f":"SUM(COUNTIF(INDIRECT(\"'Success Criteria'!\" & ADDRESS(124,A106+4)):INDIRECT(\"'Success Criteria'!\" & ADDRESS(178,A106+4)),\"PASS\"),COUNTIF(INDIRECT(\"'Success Criteria'!\" & ADDRESS(124,A106+4)):INDIRECT(\"'Success Criteria'!\" & ADDRESS(178,A106+4)),\"PASS with comments\"))","v":0},{"$f":"COUNTIF(INDIRECT(\"'Success Criteria'!\" & ADDRESS(124,A106+4)):INDIRECT(\"'Success Criteria'!\" & ADDRESS(178,A106+4)),\"NON conformant\")","v":0},{"$f":"COUNTIF(INDIRECT(\"'Success Criteria'!\" & ADDRESS(124,A106+4)):INDIRECT(\"'Success Criteria'!\" & ADDRESS(178,A106+4)),\"N/A\")","v":0},{"$f":"COUNTIF(INDIRECT(\"'Success Criteria'!\" & ADDRESS(124,A106+4)):INDIRECT(\"'Success Criteria'!\" & ADDRESS(178,A106+4)),\"not tested\")","v":28},2,0,0,28,null,0,"",2,"",28,1]
[93,"Page 93","URL 93","Please select",{"$f":"SUM(COUNTIF(INDIRECT(\"'Success Criteria'!\" & ADDRESS(10,A107+4)):INDIRECT(\"'Success Criteria'!\" & ADDRESS(72,A107+4)),\"PASS\"),COUNTIF(INDIRECT(\"'Success Criteria'!\" & ADDRESS(10,A107+4)):INDIRECT(\"'Success Criteria'!\" & ADDRESS(72,A107+4)),\"PASS with comments\"))","v":0},{"$f":"COUNTIF(INDIRECT(\"'Success Criteria'!\" & ADDRESS(10,A107+4)):INDIRECT(\"'Success Criteria'!\" & ADDRESS(72,A107+4)),\"NON conformant\")","v":0},{"$f":"COUNTIF(INDIRECT(\"'Success Criteria'!\" & ADDRESS(10,A107+4)):INDIRECT(\"'Success Criteria'!\" & ADDRESS(72,A107+4)),\"N/A\")","v":0},{"$f":"COUNTIF(INDIRECT(\"'Success Criteria'!\" & ADDRESS(10,A107+4)):INDIRECT(\"'Success Criteria'!\" & ADDRESS(72,A107+4)),\"not tested\")","v":0},{"$f":"SUM(COUNTIF(INDIRECT(\"'Success Criteria'!\" & ADDRESS(76,A107+4)):INDIRECT(\"'Success Criteria'!\" & ADDRESS(119,A107+4)),\"PASS\"),COUNTIF(INDIRECT(\"'Success Criteria'!\" & ADDRESS(76,A107+4)):INDIRECT(\"'Success Criteria'!\" & ADDRESS(119,A107+4)),\"PASS with comments\"))","v":2},{"$f":"COUNTIF(INDIRECT(\"'Success Criteria'!\" & ADDRESS(76,A107+4)):INDIRECT(\"'Success Criteria'!\" & ADDRESS(119,A107+4)),\"NON conformant\")","v":0},{"$f":"COUNTIF(INDIRECT(\"'Success Criteria'!\" & ADDRESS(76,A107+4)):INDIRECT(\"'Success Criteria'!\" & ADDRESS(119,A107+4)),\"N/A\")","v":0},{"$f":"COUNTIF(INDIRECT(\"'Success Criteria'!\" & ADDRESS(76,A107+4)):INDIRECT(\"'Success Criteria'!\" & ADDRESS(119,A107+4)),\"not tested\")","v":0},{"$f":"SUM(COUNTIF(INDIRECT(\"'Success Criteria'!\" & ADDRESS(124,A107+4)):INDIRECT(\"'Success Criteria'!\" & ADDRESS(178,A107+4)),\"PASS\"),COUNTIF(INDIRECT(\"'Success Criteria'!\" & ADDRESS(124,A107+4)):INDIRECT(\"'Success Criteria'!\" & ADDRESS(178,A107+4)),\"PASS with comments\"))","v":0},{"$f":"COUNTIF(INDIRECT(\"'Success Criteria'!\" & ADDRESS(124,A107+4)):INDIRECT(\"'Success Criteria'!\" & ADDRESS(178,A107+4)),\"NON conformant\")","v":0},{"$f":"COUNTIF(INDIRECT(\"'Success Criteria'!\" & ADDRESS(124,A107+4)):INDIRECT(\"'Success Criteria'!\" & ADDRESS(178,A107+4)),\"N/A\")","v":0},{"$f":"COUNTIF(INDIRECT(\"'Success Criteria'!\" & ADDRESS(124,A107+4)):INDIRECT(\"'Success Criteria'!\" & ADDRESS(178,A107+4)),\"not tested\")","v":28},2,0,0,28,null,0,"",2,"",28,1]
[94,"Page 94","URL 94","Please select",{"$f":"SUM(COUNTIF(INDIRECT(\"'Success Criteria'!\" & ADDRESS(10,A108+4)):INDIRECT(\"'Success Criteria'!\" & ADDRESS(72,A108+4)),\"PASS\"),COUNTIF(INDIRECT(\"'Success Criteria'!\" & ADDRESS(10,A108+4)):INDIRECT(\"'Success Criteria'!\" & ADDRESS(72,A108+4)),\"PASS with comments\"))","v":0},{"$f":"COUNTIF(INDIRECT(\"'Success Criteria'!\" & ADDRESS(10,A108+4)):INDIRECT(\"'Success Criteria'!\" & ADDRESS(72,A108+4)),\"NON conformant\")","v":0},{"$f":"COUNTIF(INDIRECT(\"'Success Criteria'!\" & ADDRESS(10,A108+4)):INDIRECT(\"'Success Criteria'!\" & ADDRESS(72,A108+4)),\"N/A\")","v":0},{"$f":"COUNTIF(INDIRECT(\"'Success Criteria'!\" & ADDRESS(10,A108+4)):INDIRECT(\"'Success Criteria'!\" & ADDRESS(72,A108+4)),\"not tested\")","v":0},{"$f":"SUM(COUNTIF(INDIRECT(\"'Success Criteria'!\" & ADDRESS(76,A108+4)):INDIRECT(\"'Success Criteria'!\" & ADDRESS(119,A108+4)),\"PASS\"),COUNTIF(INDIRECT(\"'Success Criteria'!\" & ADDRESS(76,A108+4)):INDIRECT(\"'Success Criteria'!\" & ADDRESS(119,A108+4)),\"PASS with comments\"))","v":2},{"$f":"COUNTIF(INDIRECT(\"'Success Criteria'!\" & ADDRESS(76,A108+4)):INDIRECT(\"'Success Criteria'!\" & ADDRESS(119,A108+4)),\"NON conformant\")","v":0},{"$f":"COUNTIF(INDIRECT(\"'Success Criteria'!\" & ADDRESS(76,A108+4)):INDIRECT(\"'Success Criteria'!\" & ADDRESS(119,A108+4)),\"N/A\")","v":0},{"$f":"COUNTIF(INDIRECT(\"'Success Criteria'!\" & ADDRESS(76,A108+4)):INDIRECT(\"'Success Criteria'!\" & ADDRESS(119,A108+4)),\"not tested\")","v":0},{"$f":"SUM(COUNTIF(INDIRECT(\"'Success Criteria'!\" & ADDRESS(124,A108+4)):INDIRECT(\"'Success Criteria'!\" & ADDRESS(178,A108+4)),\"PASS\"),COUNTIF(INDIRECT(\"'Success Criteria'!\" & ADDRESS(124,A108+4)):INDIRECT(\"'Success Criteria'!\" & ADDRESS(178,A108+4)),\"PASS with comments\"))","v":0},{"$f":"COUNTIF(INDIRECT(\"'Success Criteria'!\" & ADDRESS(124,A108+4)):INDIRECT(\"'Success Criteria'!\" & ADDRESS(178,A108+4)),\"NON conformant\")","v":0},{"$f":"COUNTIF(INDIRECT(\"'Success Criteria'!\" & ADDRESS(124,A108+4)):INDIRECT(\"'Success Criteria'!\" & ADDRESS(178,A108+4)),\"N/A\")","v":0},{"$f":"COUNTIF(INDIRECT(\"'Success Criteria'!\" & ADDRESS(124,A108+4)):INDIRECT(\"'Success Criteria'!\" & ADDRESS(178,A108+4)),\"not tested\")","v":28},2,0,0,28,null,0,"",2,"",28,1]
[95,"Page 95","URL 95","Please select",{"$f":"SUM(COUNTIF(INDIRECT(\"'Success Criteria'!\" & ADDRESS(10,A109+4)):INDIRECT(\"'Success Criteria'!\" & ADDRESS(72,A109+4)),\"PASS\"),COUNTIF(INDIRECT(\"'Success Criteria'!\" & ADDRESS(10,A109+4)):INDIRECT(\"'Success Criteria'!\" & ADDRESS(72,A109+4)),\"PASS with comments\"))","v":0},{"$f":"COUNTIF(INDIRECT(\"'Success Criteria'!\" & ADDRESS(10,A109+4)):INDIRECT(\"'Success Criteria'!\" & ADDRESS(72,A109+4)),\"NON conformant\")","v":0},{"$f":"COUNTIF(INDIRECT(\"'Success Criteria'!\" & ADDRESS(10,A109+4)):INDIRECT(\"'Success Criteria'!\" & ADDRESS(72,A109+4)),\"N/A\")","v":0},{"$f":"COUNTIF(INDIRECT(\"'Success Criteria'!\" & ADDRESS(10,A109+4)):INDIRECT(\"'Success Criteria'!\" & ADDRESS(72,A109+4)),\"not tested\")","v":0},{"$f":"SUM(COUNTIF(INDIRECT(\"'Success Criteria'!\" & ADDRESS(76,A109+4)):INDIRECT(\"'Success Criteria'!\" & ADDRESS(119,A109+4)),\"PASS\"),COUNTIF(INDIRECT(\"'Success Criteria'!\" & ADDRESS(76,A109+4)):INDIRECT(\"'Success Criteria'!\" & ADDRESS(119,A109+4)),\"PASS with comments\"))","v":2},{"$f":"COUNTIF(INDIRECT(\"'Success Criteria'!\" & ADDRESS(76,A109+4)):INDIRECT(\"'Success Criteria'!\" & ADDRESS(119,A109+4)),\"NON conformant\")","v":0},{"$f":"COUNTIF(INDIRECT(\"'Success Criteria'!\" & ADDRESS(76,A109+4)):INDIRECT(\"'Success Criteria'!\" & ADDRESS(119,A109+4)),\"N/A\")","v":0},{"$f":"COUNTIF(INDIRECT(\"'Success Criteria'!\" & ADDRESS(76,A109+4)):INDIRECT(\"'Success Criteria'!\" & ADDRESS(119,A109+4)),\"not tested\")","v":0},{"$f":"SUM(COUNTIF(INDIRECT(\"'Success Criteria'!\" & ADDRESS(124,A109+4)):INDIRECT(\"'Success Criteria'!\" & ADDRESS(178,A109+4)),\"PASS\"),COUNTIF(INDIRECT(\"'Success Criteria'!\" & ADDRESS(124,A109+4)):INDIRECT(\"'Success Criteria'!\" & ADDRESS(178,A109+4)),\"PASS with comments\"))","v":0},{"$f":"COUNTIF(INDIRECT(\"'Success Criteria'!\" & ADDRESS(124,A109+4)):INDIRECT(\"'Success Criteria'!\" & ADDRESS(178,A109+4)),\"NON conformant\")","v":0},{"$f":"COUNTIF(INDIRECT(\"'Success Criteria'!\" & ADDRESS(124,A109+4)):INDIRECT(\"'Success Criteria'!\" & ADDRESS(178,A109+4)),\"N/A\")","v":0},{"$f":"COUNTIF(INDIRECT(\"'Success Criteria'!\" & ADDRESS(124,A109+4)):INDIRECT(\"'Success Criteria'!\" & ADDRESS(178,A109+4)),\"not tested\")","v":28},2,0,0,28,null,0,"",2,"",28,1]
[96,"Page 96","URL 96","Please select",{"$f":"SUM(COUNTIF(INDIRECT(\"'Success Criteria'!\" & ADDRESS(10,A110+4)):INDIRECT(\"'Success Criteria'!\" & ADDRESS(72,A110+4)),\"PASS\"),COUNTIF(INDIRECT(\"'Success Criteria'!\" & ADDRESS(10,A110+4)):INDIRECT(\"'Success Criteria'!\" & ADDRESS(72,A110+4)),\"PASS with comments\"))","v":0},{"$f":"COUNTIF(INDIRECT(\"'Success Criteria'!\" & ADDRESS(10,A110+4)):INDIRECT(\"'Success Criteria'!\" & ADDRESS(72,A110+4)),\"NON conformant\")","v":0},{"$f":"COUNTIF(INDIRECT(\"'Success Criteria'!\" & ADDRESS(10,A110+4)):INDIRECT(\"'Success Criteria'!\" & ADDRESS(72,A110+4)),\"N/A\")","v":0},{"$f":"COUNTIF(INDIRECT(\"'Success Criteria'!\" & ADDRESS(10,A110+4)):INDIRECT(\"'Success Criteria'!\" & ADDRESS(72,A110+4)),\"not tested\")","v":0},{"$f":"SUM(COUNTIF(INDIRECT(\"'Success Criteria'!\" & ADDRESS(76,A110+4)):INDIRECT(\"'Success Criteria'!\" & ADDRESS(119,A110+4)),\"PASS\"),COUNTIF(INDIRECT(\"'Success Criteria'!\" & ADDRESS(76,A110+4)):INDIRECT(\"'Success Criteria'!\" & ADDRESS(119,A110+4)),\"PASS with comments\"))","v":2},{"$f":"COUNTIF(INDIRECT(\"'Success Criteria'!\" & ADDRESS(76,A110+4)):INDIRECT(\"'Success Criteria'!\" & ADDRESS(119,A110+4)),\"NON conformant\")","v":0},{"$f":"COUNTIF(INDIRECT(\"'Success Criteria'!\" & ADDRESS(76,A110+4)):INDIRECT(\"'Success Criteria'!\" & ADDRESS(119,A110+4)),\"N/A\")","v":0},{"$f":"COUNTIF(INDIRECT(\"'Success Criteria'!\" & ADDRESS(76,A110+4)):INDIRECT(\"'Success Criteria'!\" & ADDRESS(119,A110+4)),\"not tested\")","v":0},{"$f":"SUM(COUNTIF(INDIRECT(\"'Success Criteria'!\" & ADDRESS(124,A110+4)):INDIRECT(\"'Success Criteria'!\" & ADDRESS(178,A110+4)),\"PASS\"),COUNTIF(INDIRECT(\"'Success Criteria'!\" & ADDRESS(124,A110+4)):INDIRECT(\"'Success Criteria'!\" & ADDRESS(178,A110+4)),\"PASS with comments\"))","v":0},{"$f":"COUNTIF(INDIRECT(\"'Success Criteria'!\" & ADDRESS(124,A110+4)):INDIRECT(\"'Success Criteria'!\" & ADDRESS(178,A110+4)),\"NON conformant\")","v":0},{"$f":"COUNTIF(INDIRECT(\"'Success Criteria'!\" & ADDRESS(124,A110+4)):INDIRECT(\"'Success Criteria'!\" & ADDRESS(178,A110+4)),\"N/A\")","v":0},{"$f":"COUNTIF(INDIRECT(\"'Success Criteria'!\" & ADDRESS(124,A110+4)):INDIRECT(\"'Success Criteria'!\" & ADDRESS(178,A110+4)),\"not tested\")","v":28},2,0,0,28,null,0,"",2,"",28,1]
[97,"Page 97","URL 97","Please select",{"$f":"SUM(COUNTIF(INDIRECT(\"'Success Criteria'!\" & ADDRESS(10,A111+4)):INDIRECT(\"'Success Criteria'!\" & ADDRESS(72,A111+4)),\"PASS\"),COUNTIF(INDIRECT(\"'Success Criteria'!\" & ADDRESS(10,A111+4)):INDIRECT(\"'Success Criteria'!\" & ADDRESS(72,A111+4)),\"PASS with comments\"))","v":0},{"$f":"COUNTIF(INDIRECT(\"'Success Criteria'!\" & ADDRESS(10,A111+4)):INDIRECT(\"'Success Criteria'!\" & ADDRESS(72,A111+4)),\"NON conformant\")","v":0},{"$f":"COUNTIF(INDIRECT(\"'Success Criteria'!\" & ADDRESS(10,A111+4)):INDIRECT(\"'Success Criteria'!\" & ADDRESS(72,A111+4)),\"N/A\")","v":0},{"$f":"COUNTIF(INDIRECT(\"'Success Criteria'!\" & ADDRESS(10,A111+4)):INDIRECT(\"'Success Criteria'!\" & ADDRESS(72,A111+4)),\"not tested\")","v":0},{"$f":"SUM(COUNTIF(INDIRECT(\"'Success Criteria'!\" & ADDRESS(76,A111+4)):INDIRECT(\"'Success Criteria'!\" & ADDRESS(119,A111+4)),\"PASS\"),COUNTIF(INDIRECT(\"'Success Criteria'!\" & ADDRESS(76,A111+4)):INDIRECT(\"'Success Criteria'!\" & ADDRESS(119,A111+4)),\"PASS with comments\"))","v":2},{"$f":"COUNTIF(INDIRECT(\"'Success Criteria'!\" & ADDRESS(76,A111+4)):INDIRECT(\"'Success Criteria'!\" & ADDRESS(119,A111+4)),\"NON conformant\")","v":0},{"$f":"COUNTIF(INDIRECT(\"'Success Criteria'!\" & ADDRESS(76,A111+4)):INDIRECT(\"'Success Criteria'!\" & ADDRESS(119,A111+4)),\"N/A\")","v":0},{"$f":"COUNTIF(INDIRECT(\"'Success Criteria'!\" & ADDRESS(76,A111+4)):INDIRECT(\"'Success Criteria'!\" & ADDRESS(119,A111+4)),\"not tested\")","v":0},{"$f":"SUM(COUNTIF(INDIRECT(\"'Success Criteria'!\" & ADDRESS(124,A111+4)):INDIRECT(\"'Success Criteria'!\" & ADDRESS(178,A111+4)),\"PASS\"),COUNTIF(INDIRECT(\"'Success Criteria'!\" & ADDRESS(124,A111+4)):INDIRECT(\"'Success Criteria'!\" & ADDRESS(178,A111+4)),\"PASS with comments\"))","v":0},{"$f":"COUNTIF(INDIRECT(\"'Success Criteria'!\" & ADDRESS(124,A111+4)):INDIRECT(\"'Success Criteria'!\" & ADDRESS(178,A111+4)),\"NON conformant\")","v":0},{"$f":"COUNTIF(INDIRECT(\"'Success Criteria'!\" & ADDRESS(124,A111+4)):INDIRECT(\"'Success Criteria'!\" & ADDRESS(178,A111+4)),\"N/A\")","v":0},{"$f":"COUNTIF(INDIRECT(\"'Success Criteria'!\" & ADDRESS(124,A111+4)):INDIRECT(\"'Success Criteria'!\" & ADDRESS(178,A111+4)),\"not tested\")","v":28},2,0,0,28,null,0,"",2,"",28,1]
[98,"Page 98","URL 98","Please select",{"$f":"SUM(COUNTIF(INDIRECT(\"'Success Criteria'!\" & ADDRESS(10,A112+4)):INDIRECT(\"'Success Criteria'!\" & ADDRESS(72,A112+4)),\"PASS\"),COUNTIF(INDIRECT(\"'Success Criteria'!\" & ADDRESS(10,A112+4)):INDIRECT(\"'Success Criteria'!\" & ADDRESS(72,A112+4)),\"PASS with comments\"))","v":0},{"$f":"COUNTIF(INDIRECT(\"'Success Criteria'!\" & ADDRESS(10,A112+4)):INDIRECT(\"'Success Criteria'!\" & ADDRESS(72,A112+4)),\"NON conformant\")","v":0},{"$f":"COUNTIF(INDIRECT(\"'Success Criteria'!\" & ADDRESS(10,A112+4)):INDIRECT(\"'Success Criteria'!\" & ADDRESS(72,A112+4)),\"N/A\")","v":0},{"$f":"COUNTIF(INDIRECT(\"'Success Criteria'!\" & ADDRESS(10,A112+4)):INDIRECT(\"'Success Criteria'!\" & ADDRESS(72,A112+4)),\"not tested\")","v":0},{"$f":"SUM(COUNTIF(INDIRECT(\"'Success Criteria'!\" & ADDRESS(76,A112+4)):INDIRECT(\"'Success Criteria'!\" & ADDRESS(119,A112+4)),\"PASS\"),COUNTIF(INDIRECT(\"'Success Criteria'!\" & ADDRESS(76,A112+4)):INDIRECT(\"'Success Criteria'!\" & ADDRESS(119,A112+4)),\"PASS with comments\"))","v":2},{"$f":"COUNTIF(INDIRECT(\"'Success Criteria'!\" & ADDRESS(76,A112+4)):INDIRECT(\"'Success Criteria'!\" & ADDRESS(119,A112+4)),\"NON conformant\")","v":0},{"$f":"COUNTIF(INDIRECT(\"'Success Criteria'!\" & ADDRESS(76,A112+4)):INDIRECT(\"'Success Criteria'!\" & ADDRESS(119,A112+4)),\"N/A\")","v":0},{"$f":"COUNTIF(INDIRECT(\"'Success Criteria'!\" & ADDRESS(76,A112+4)):INDIRECT(\"'Success Criteria'!\" & ADDRESS(119,A112+4)),\"not tested\")","v":0},{"$f":"SUM(COUNTIF(INDIRECT(\"'Success Criteria'!\" & ADDRESS(124,A112+4)):INDIRECT(\"'Success Criteria'!\" & ADDRESS(178,A112+4)),\"PASS\"),COUNTIF(INDIRECT(\"'Success Criteria'!\" & ADDRESS(124,A112+4)):INDIRECT(\"'Success Criteria'!\" & ADDRESS(178,A112+4)),\"PASS with comments\"))","v":0},{"$f":"COUNTIF(INDIRECT(\"'Success Criteria'!\" & ADDRESS(124,A112+4)):INDIRECT(\"'Success Criteria'!\" & ADDRESS(178,A112+4)),\"NON conformant\")","v":0},{"$f":"COUNTIF(INDIRECT(\"'Success Criteria'!\" & ADDRESS(124,A112+4)):INDIRECT(\"'Success Criteria'!\" & ADDRESS(178,A112+4)),\"N/A\")","v":0},{"$f":"COUNTIF(INDIRECT(\"'Success Criteria'!\" & ADDRESS(124,A112+4)):INDIRECT(\"'Success Criteria'!\" & ADDRESS(178,A112+4)),\"not tested\")","v":28},2,0,0,28,null,0,"",2,"",28,1]
[99,"Page 99","URL 99","Please select",{"$f":"SUM(COUNTIF(INDIRECT(\"'Success Criteria'!\" & ADDRESS(10,A113+4)):INDIRECT(\"'Success Criteria'!\" & ADDRESS(72,A113+4)),\"PASS\"),COUNTIF(INDIRECT(\"'Success Criteria'!\" & ADDRESS(10,A113+4)):INDIRECT(\"'Success Criteria'!\" & ADDRESS(72,A113+4)),\"PASS with comments\"))","v":0},{"$f":"COUNTIF(INDIRECT(\"'Success Criteria'!\" & ADDRESS(10,A113+4)):INDIRECT(\"'Success Criteria'!\" & ADDRESS(72,A113+4)),\"NON conformant\")","v":0},{"$f":"COUNTIF(INDIRECT(\"'Success Criteria'!\" & ADDRESS(10,A113+4)):INDIRECT(\"'Success Criteria'!\" & ADDRESS(72,A113+4)),\"N/A\")","v":0},{"$f":"COUNTIF(INDIRECT(\"'Success Criteria'!\" & ADDRESS(10,A113+4)):INDIRECT(\"'Success Criteria'!\" & ADDRESS(72,A113+4)),\"not tested\")","v":0},{"$f":"SUM(COUNTIF(INDIRECT(\"'Success Criteria'!\" & ADDRESS(76,A113+4)):INDIRECT(\"'Success Criteria'!\" & ADDRESS(119,A113+4)),\"PASS\"),COUNTIF(INDIRECT(\"'Success Criteria'!\" & ADDRESS(76,A113+4)):INDIRECT(\"'Success Criteria'!\" & ADDRESS(119,A113+4)),\"PASS with comments\"))","v":2},{"$f":"COUNTIF(INDIRECT(\"'Success Criteria'!\" & ADDRESS(76,A113+4)):INDIRECT(\"'Success Criteria'!\" & ADDRESS(119,A113+4)),\"NON conformant\")","v":0},{"$f":"COUNTIF(INDIRECT(\"'Success Criteria'!\" & ADDRESS(76,A113+4)):INDIRECT(\"'Success Criteria'!\" & ADDRESS(119,A113+4)),\"N/A\")","v":0},{"$f":"COUNTIF(INDIRECT(\"'Success Criteria'!\" & ADDRESS(76,A113+4)):INDIRECT(\"'Success Criteria'!\" & ADDRESS(119,A113+4)),\"not tested\")","v":0},{"$f":"SUM(COUNTIF(INDIRECT(\"'Success Criteria'!\" & ADDRESS(124,A113+4)):INDIRECT(\"'Success Criteria'!\" & ADDRESS(178,A113+4)),\"PASS\"),COUNTIF(INDIRECT(\"'Success Criteria'!\" & ADDRESS(124,A113+4)):INDIRECT(\"'Success Criteria'!\" & ADDRESS(178,A113+4)),\"PASS with comments\"))","v":0},{"$f":"COUNTIF(INDIRECT(\"'Success Criteria'!\" & ADDRESS(124,A113+4)):INDIRECT(\"'Success Criteria'!\" & ADDRESS(178,A113+4)),\"NON conformant\")","v":0},{"$f":"COUNTIF(INDIRECT(\"'Success Criteria'!\" & ADDRESS(124,A113+4)):INDIRECT(\"'Success Criteria'!\" & ADDRESS(178,A113+4)),\"N/A\")","v":0},{"$f":"COUNTIF(INDIRECT(\"'Success Criteria'!\" & ADDRESS(124,A113+4)):INDIRECT(\"'Success Criteria'!\" & ADDRESS(178,A113+4)),\"not tested\")","v":28},2,0,0,28,null,0,"",2,"",28,1]
[100,"Page 100","URL 100","Please select",{"$f":"SUM(COUNTIF(INDIRECT(\"'Success Criteria'!\" & ADDRESS(10,A114+4)):INDIRECT(\"'Success Criteria'!\" & ADDRESS(72,A114+4)),\"PASS\"),COUNTIF(INDIRECT(\"'Success Criteria'!\" & ADDRESS(10,A114+4)):INDIRECT(\"'Success Criteria'!\" & ADDRESS(72,A114+4)),\"PASS with comments\"))","v":0},{"$f":"COUNTIF(INDIRECT(\"'Success Criteria'!\" & ADDRESS(10,A114+4)):INDIRECT(\"'Success Criteria'!\" & ADDRESS(72,A114+4)),\"NON conformant\")","v":0},{"$f":"COUNTIF(INDIRECT(\"'Success Criteria'!\" & ADDRESS(10,A114+4)):INDIRECT(\"'Success Criteria'!\" & ADDRESS(72,A114+4)),\"N/A\")","v":0},{"$f":"COUNTIF(INDIRECT(\"'Success Criteria'!\" & ADDRESS(10,A114+4)):INDIRECT(\"'Success Criteria'!\" & ADDRESS(72,A114+4)),\"not tested\")","v":0},{"$f":"SUM(COUNTIF(INDIRECT(\"'Success Criteria'!\" & ADDRESS(76,A114+4)):INDIRECT(\"'Success Criteria'!\" & ADDRESS(119,A114+4)),\"PASS\"),COUNTIF(INDIRECT(\"'Success Criteria'!\" & ADDRESS(76,A114+4)):INDIRECT(\"'Success Criteria'!\" & ADDRESS(119,A114+4)),\"PASS with comments\"))","v":2},{"$f":"COUNTIF(INDIRECT(\"'Success Criteria'!\" & ADDRESS(76,A114+4)):INDIRECT(\"'Success Criteria'!\" & ADDRESS(119,A114+4)),\"NON conformant\")","v":0},{"$f":"COUNTIF(INDIRECT(\"'Success Criteria'!\" & ADDRESS(76,A114+4)):INDIRECT(\"'Success Criteria'!\" & ADDRESS(119,A114+4)),\"N/A\")","v":0},{"$f":"COUNTIF(INDIRECT(\"'Success Criteria'!\" & ADDRESS(76,A114+4)):INDIRECT(\"'Success Criteria'!\" & ADDRESS(119,A114+4)),\"not tested\")","v":0},{"$f":"SUM(COUNTIF(INDIRECT(\"'Success Criteria'!\" & ADDRESS(124,A114+4)):INDIRECT(\"'Success Criteria'!\" & ADDRESS(178,A114+4)),\"PASS\"),COUNTIF(INDIRECT(\"'Success Criteria'!\" & ADDRESS(124,A114+4)):INDIRECT(\"'Success Criteria'!\" & ADDRESS(178,A114+4)),\"PASS with comments\"))","v":0},{"$f":"COUNTIF(INDIRECT(\"'Success Criteria'!\" & ADDRESS(124,A114+4)):INDIRECT(\"'Success Criteria'!\" & ADDRESS(178,A114+4)),\"NON conformant\")","v":0},{"$f":"COUNTIF(INDIRECT(\"'Success Criteria'!\" & ADDRESS(124,A114+4)):INDIRECT(\"'Success Criteria'!\" & ADDRESS(178,A114+4)),\"N/A\")","v":0},{"$f":"COUNTIF(INDIRECT(\"'Success Criteria'!\" & ADDRESS(124,A114+4)):INDIRECT(\"'Success Criteria'!\" & ADDRESS(178,A114+4)),\"not tested\")","v":28},2,0,0,28,null,0,"",2,"",28,1]
[101,"Page 101","URL 101","Please select",{"$f":"SUM(COUNTIF(INDIRECT(\"'Success Criteria'!\" & ADDRESS(10,A115+4)):INDIRECT(\"'Success Criteria'!\" & ADDRESS(72,A115+4)),\"PASS\"),COUNTIF(INDIRECT(\"'Success Criteria'!\" & ADDRESS(10,A115+4)):INDIRECT(\"'Success Criteria'!\" & ADDRESS(72,A115+4)),\"PASS with comments\"))","v":0},{"$f":"COUNTIF(INDIRECT(\"'Success Criteria'!\" & ADDRESS(10,A115+4)):INDIRECT(\"'Success Criteria'!\" & ADDRESS(72,A115+4)),\"NON conformant\")","v":0},{"$f":"COUNTIF(INDIRECT(\"'Success Criteria'!\" & ADDRESS(10,A115+4)):INDIRECT(\"'Success Criteria'!\" & ADDRESS(72,A115+4)),\"N/A\")","v":0},{"$f":"COUNTIF(INDIRECT(\"'Success Criteria'!\" & ADDRESS(10,A115+4)):INDIRECT(\"'Success Criteria'!\" & ADDRESS(72,A115+4)),\"not tested\")","v":0},{"$f":"SUM(COUNTIF(INDIRECT(\"'Success Criteria'!\" & ADDRESS(76,A115+4)):INDIRECT(\"'Success Criteria'!\" & ADDRESS(119,A115+4)),\"PASS\"),COUNTIF(INDIRECT(\"'Success Criteria'!\" & ADDRESS(76,A115+4)):INDIRECT(\"'Success Criteria'!\" & ADDRESS(119,A115+4)),\"PASS with comments\"))","v":2},{"$f":"COUNTIF(INDIRECT(\"'Success Criteria'!\" & ADDRESS(76,A115+4)):INDIRECT(\"'Success Criteria'!\" & ADDRESS(119,A115+4)),\"NON conformant\")","v":0},{"$f":"COUNTIF(INDIRECT(\"'Success Criteria'!\" & ADDRESS(76,A115+4)):INDIRECT(\"'Success Criteria'!\" & ADDRESS(119,A115+4)),\"N/A\")","v":0},{"$f":"COUNTIF(INDIRECT(\"'Success Criteria'!\" & ADDRESS(76,A115+4)):INDIRECT(\"'Success Criteria'!\" & ADDRESS(119,A115+4)),\"not tested\")","v":0},{"$f":"SUM(COUNTIF(INDIRECT(\"'Success Criteria'!\" & ADDRESS(124,A115+4)):INDIRECT(\"'Success Criteria'!\" & ADDRESS(178,A115+4)),\"PASS\"),COUNTIF(INDIRECT(\"'Success Criteria'!\" & ADDRESS(124,A115+4)):INDIRECT(\"'Success Criteria'!\" & ADDRESS(178,A115+4)),\"PASS with comments\"))","v":0},{"$f":"COUNTIF(INDIRECT(\"'Success Criteria'!\" & ADDRESS(124,A115+4)):INDIRECT(\"'Success Criteria'!\" & ADDRESS(178,A115+4)),\"NON conformant\")","v":0},{"$f":"COUNTIF(INDIRECT(\"'Success Criteria'!\" & ADDRESS(124,A115+4)):INDIRECT(\"'Success Criteria'!\" & ADDRESS(178,A115+4)),\"N/A\")","v":0},{"$f":"COUNTIF(INDIRECT(\"'Success Criteria'!\" & ADDRESS(124,A115+4)):INDIRECT(\"'Success Criteria'!\" & ADDRESS(178,A115+4)),\"not tested\")","v":28},2,0,0,28,null,0,"",2,"",28,1]
[102,"Page 102","URL 102","Please select",{"$f":"SUM(COUNTIF(INDIRECT(\"'Success Criteria'!\" & ADDRESS(10,A116+4)):INDIRECT(\"'Success Criteria'!\" & ADDRESS(72,A116+4)),\"PASS\"),COUNTIF(INDIRECT(\"'Success Criteria'!\" & ADDRESS(10,A116+4)):INDIRECT(\"'Success Criteria'!\" & ADDRESS(72,A116+4)),\"PASS with comments\"))","v":0},{"$f":"COUNTIF(INDIRECT(\"'Success Criteria'!\" & ADDRESS(10,A116+4)):INDIRECT(\"'Success Criteria'!\" & ADDRESS(72,A116+4)),\"NON conformant\")","v":0},{"$f":"COUNTIF(INDIRECT(\"'Success Criteria'!\" & ADDRESS(10,A116+4)):INDIRECT(\"'Success Criteria'!\" & ADDRESS(72,A116+4)),\"N/A\")","v":0},{"$f":"COUNTIF(INDIRECT(\"'Success Criteria'!\" & ADDRESS(10,A116+4)):INDIRECT(\"'Success Criteria'!\" & ADDRESS(72,A116+4)),\"not tested\")","v":0},{"$f":"SUM(COUNTIF(INDIRECT(\"'Success Criteria'!\" & ADDRESS(76,A116+4)):INDIRECT(\"'Success Criteria'!\" & ADDRESS(119,A116+4)),\"PASS\"),COUNTIF(INDIRECT(\"'Success Criteria'!\" & ADDRESS(76,A116+4)):INDIRECT(\"'Success Criteria'!\" & ADDRESS(119,A116+4)),\"PASS with comments\"))","v":2},{"$f":"COUNTIF(INDIRECT(\"'Success Criteria'!\" & ADDRESS(76,A116+4)):INDIRECT(\"'Success Criteria'!\" & ADDRESS(119,A116+4)),\"NON conformant\")","v":0},{"$f":"COUNTIF(INDIRECT(\"'Success Criteria'!\" & ADDRESS(76,A116+4)):INDIRECT(\"'Success Criteria'!\" & ADDRESS(119,A116+4)),\"N/A\")","v":0},{"$f":"COUNTIF(INDIRECT(\"'Success Criteria'!\" & ADDRESS(76,A116+4)):INDIRECT(\"'Success Criteria'!\" & ADDRESS(119,A116+4)),\"not tested\")","v":0},{"$f":"SUM(COUNTIF(INDIRECT(\"'Success Criteria'!\" & ADDRESS(124,A116+4)):INDIRECT(\"'Success Criteria'!\" & ADDRESS(178,A116+4)),\"PASS\"),COUNTIF(INDIRECT(\"'Success Criteria'!\" & ADDRESS(124,A116+4)):INDIRECT(\"'Success Criteria'!\" & ADDRESS(178,A116+4)),\"PASS with comments\"))","v":0},{"$f":"COUNTIF(INDIRECT(\"'Success Criteria'!\" & ADDRESS(124,A116+4)):INDIRECT(\"'Success Criteria'!\" & ADDRESS(178,A116+4)),\"NON conformant\")","v":0},{"$f":"COUNTIF(INDIRECT(\"'Success Criteria'!\" & ADDRESS(124,A116+4)):INDIRECT(\"'Success Criteria'!\" & ADDRESS(178,A116+4)),\"N/A\")","v":0},{"$f":"COUNTIF(INDIRECT(\"'Success Criteria'!\" & ADDRESS(124,A116+4)):INDIRECT(\"'Success Criteria'!\" & ADDRESS(178,A116+4)),\"not tested\")","v":28},2,0,0,28,null,0,"",2,"",28,1]
[103,"Page 103","URL 103","Please select",{"$f":"SUM(COUNTIF(INDIRECT(\"'Success Criteria'!\" & ADDRESS(10,A117+4)):INDIRECT(\"'Success Criteria'!\" & ADDRESS(72,A117+4)),\"PASS\"),COUNTIF(INDIRECT(\"'Success Criteria'!\" & ADDRESS(10,A117+4)):INDIRECT(\"'Success Criteria'!\" & ADDRESS(72,A117+4)),\"PASS with comments\"))","v":0},{"$f":"COUNTIF(INDIRECT(\"'Success Criteria'!\" & ADDRESS(10,A117+4)):INDIRECT(\"'Success Criteria'!\" & ADDRESS(72,A117+4)),\"NON conformant\")","v":0},{"$f":"COUNTIF(INDIRECT(\"'Success Criteria'!\" & ADDRESS(10,A117+4)):INDIRECT(\"'Success Criteria'!\" & ADDRESS(72,A117+4)),\"N/A\")","v":0},{"$f":"COUNTIF(INDIRECT(\"'Success Criteria'!\" & ADDRESS(10,A117+4)):INDIRECT(\"'Success Criteria'!\" & ADDRESS(72,A117+4)),\"not tested\")","v":0},{"$f":"SUM(COUNTIF(INDIRECT(\"'Success Criteria'!\" & ADDRESS(76,A117+4)):INDIRECT(\"'Success Criteria'!\" & ADDRESS(119,A117+4)),\"PASS\"),COUNTIF(INDIRECT(\"'Success Criteria'!\" & ADDRESS(76,A117+4)):INDIRECT(\"'Success Criteria'!\" & ADDRESS(119,A117+4)),\"PASS with comments\"))","v":2},{"$f":"COUNTIF(INDIRECT(\"'Success Criteria'!\" & ADDRESS(76,A117+4)):INDIRECT(\"'Success Criteria'!\" & ADDRESS(119,A117+4)),\"NON conformant\")","v":0},{"$f":"COUNTIF(INDIRECT(\"'Success Criteria'!\" & ADDRESS(76,A117+4)):INDIRECT(\"'Success Criteria'!\" & ADDRESS(119,A117+4)),\"N/A\")","v":0},{"$f":"COUNTIF(INDIRECT(\"'Success Criteria'!\" & ADDRESS(76,A117+4)):INDIRECT(\"'Success Criteria'!\" & ADDRESS(119,A117+4)),\"not tested\")","v":0},{"$f":"SUM(COUNTIF(INDIRECT(\"'Success Criteria'!\" & ADDRESS(124,A117+4)):INDIRECT(\"'Success Criteria'!\" & ADDRESS(178,A117+4)),\"PASS\"),COUNTIF(INDIRECT(\"'Success Criteria'!\" & ADDRESS(124,A117+4)):INDIRECT(\"'Success Criteria'!\" & ADDRESS(178,A117+4)),\"PASS with comments\"))","v":0},{"$f":"COUNTIF(INDIRECT(\"'Success Criteria'!\" & ADDRESS(124,A117+4)):INDIRECT(\"'Success Criteria'!\" & ADDRESS(178,A117+4)),\"NON conformant\")","v":0},{"$f":"COUNTIF(INDIRECT(\"'Success Criteria'!\" & ADDRESS(124,A117+4)):INDIRECT(\"'Success Criteria'!\" & ADDRESS(178,A117+4)),\"N/A\")","v":0},{"$f":"COUNTIF(INDIRECT(\"'Success Criteria'!\" & ADDRESS(124,A117+4)):INDIRECT(\"'Success Criteria'!\" & ADDRESS(178,A117+4)),\"not tested\")","v":28},2,0,0,28,null,0,"",2,"",28,1]
[104,"Page 104","URL 104","Please select",{"$f":"SUM(COUNTIF(INDIRECT(\"'Success Criteria'!\" & ADDRESS(10,A118+4)):INDIRECT(\"'Success Criteria'!\" & ADDRESS(72,A118+4)),\"PASS\"),COUNTIF(INDIRECT(\"'Success Criteria'!\" & ADDRESS(10,A118+4)):INDIRECT(\"'Success Criteria'!\" & ADDRESS(72,A118+4)),\"PASS with comments\"))","v":0},{"$f":"COUNTIF(INDIRECT(\"'Success Criteria'!\" & ADDRESS(10,A118+4)):INDIRECT(\"'Success Criteria'!\" & ADDRESS(72,A118+4)),\"NON conformant\")","v":0},{"$f":"COUNTIF(INDIRECT(\"'Success Criteria'!\" & ADDRESS(10,A118+4)):INDIRECT(\"'Success Criteria'!\" & ADDRESS(72,A118+4)),\"N/A\")","v":0},{"$f":"COUNTIF(INDIRECT(\"'Success Criteria'!\" & ADDRESS(10,A118+4)):INDIRECT(\"'Success Criteria'!\" & ADDRESS(72,A118+4)),\"not tested\")","v":0},{"$f":"SUM(COUNTIF(INDIRECT(\"'Success Criteria'!\" & ADDRESS(76,A118+4)):INDIRECT(\"'Success Criteria'!\" & ADDRESS(119,A118+4)),\"PASS\"),COUNTIF(INDIRECT(\"'Success Criteria'!\" & ADDRESS(76,A118+4)):INDIRECT(\"'Success Criteria'!\" & ADDRESS(119,A118+4)),\"PASS with comments\"))","v":2},{"$f":"COUNTIF(INDIRECT(\"'Success Criteria'!\" & ADDRESS(76,A118+4)):INDIRECT(\"'Success Criteria'!\" & ADDRESS(119,A118+4)),\"NON conformant\")","v":0},{"$f":"COUNTIF(INDIRECT(\"'Success Criteria'!\" & ADDRESS(76,A118+4)):INDIRECT(\"'Success Criteria'!\" & ADDRESS(119,A118+4)),\"N/A\")","v":0},{"$f":"COUNTIF(INDIRECT(\"'Success Criteria'!\" & ADDRESS(76,A118+4)):INDIRECT(\"'Success Criteria'!\" & ADDRESS(119,A118+4)),\"not tested\")","v":0},{"$f":"SUM(COUNTIF(INDIRECT(\"'Success Criteria'!\" & ADDRESS(124,A118+4)):INDIRECT(\"'Success Criteria'!\" & ADDRESS(178,A118+4)),\"PASS\"),COUNTIF(INDIRECT(\"'Success Criteria'!\" & ADDRESS(124,A118+4)):INDIRECT(\"'Success Criteria'!\" & ADDRESS(178,A118+4)),\"PASS with comments\"))","v":0},{"$f":"COUNTIF(INDIRECT(\"'Success Criteria'!\" & ADDRESS(124,A118+4)):INDIRECT(\"'Success Criteria'!\" & ADDRESS(178,A118+4)),\"NON conformant\")","v":0},{"$f":"COUNTIF(INDIRECT(\"'Success Criteria'!\" & ADDRESS(124,A118+4)):INDIRECT(\"'Success Criteria'!\" & ADDRESS(178,A118+4)),\"N/A\")","v":0},{"$f":"COUNTIF(INDIRECT(\"'Success Criteria'!\" & ADDRESS(124,A118+4)):INDIRECT(\"'Success Criteria'!\" & ADDRESS(178,A118+4)),\"not tested\")","v":28},2,0,0,28,null,0,"",2,"",28,1]
[105,"Page 105","URL 105","Please select",{"$f":"SUM(COUNTIF(INDIRECT(\"'Success Criteria'!\" & ADDRESS(10,A119+4)):INDIRECT(\"'Success Criteria'!\" & ADDRESS(72,A119+4)),\"PASS\"),COUNTIF(INDIRECT(\"'Success Criteria'!\" & ADDRESS(10,A119+4)):INDIRECT(\"'Success Criteria'!\" & ADDRESS(72,A119+4)),\"PASS with comments\"))","v":0},{"$f":"COUNTIF(INDIRECT(\"'Success Criteria'!\" & ADDRESS(10,A119+4)):INDIRECT(\"'Success Criteria'!\" & ADDRESS(72,A119+4)),\"NON conformant\")","v":0},{"$f":"COUNTIF(INDIRECT(\"'Success Criteria'!\" & ADDRESS(10,A119+4)):INDIRECT(\"'Success Criteria'!\" & ADDRESS(72,A119+4)),\"N/A\")","v":0},{"$f":"COUNTIF(INDIRECT(\"'Success Criteria'!\" & ADDRESS(10,A119+4)):INDIRECT(\"'Success Criteria'!\" & ADDRESS(72,A119+4)),\"not tested\")","v":0},{"$f":"SUM(COUNTIF(INDIRECT(\"'Success Criteria'!\" & ADDRESS(76,A119+4)):INDIRECT(\"'Success Criteria'!\" & ADDRESS(119,A119+4)),\"PASS\"),COUNTIF(INDIRECT(\"'Success Criteria'!\" & ADDRESS(76,A119+4)):INDIRECT(\"'Success Criteria'!\" & ADDRESS(119,A119+4)),\"PASS with comments\"))","v":2},{"$f":"COUNTIF(INDIRECT(\"'Success Criteria'!\" & ADDRESS(76,A119+4)):INDIRECT(\"'Success Criteria'!\" & ADDRESS(119,A119+4)),\"NON conformant\")","v":0},{"$f":"COUNTIF(INDIRECT(\"'Success Criteria'!\" & ADDRESS(76,A119+4)):INDIRECT(\"'Success Criteria'!\" & ADDRESS(119,A119+4)),\"N/A\")","v":0},{"$f":"COUNTIF(INDIRECT(\"'Success Criteria'!\" & ADDRESS(76,A119+4)):INDIRECT(\"'Success Criteria'!\" & ADDRESS(119,A119+4)),\"not tested\")","v":0},{"$f":"SUM(COUNTIF(INDIRECT(\"'Success Criteria'!\" & ADDRESS(124,A119+4)):INDIRECT(\"'Success Criteria'!\" & ADDRESS(178,A119+4)),\"PASS\"),COUNTIF(INDIRECT(\"'Success Criteria'!\" & ADDRESS(124,A119+4)):INDIRECT(\"'Success Criteria'!\" & ADDRESS(178,A119+4)),\"PASS with comments\"))","v":0},{"$f":"COUNTIF(INDIRECT(\"'Success Criteria'!\" & ADDRESS(124,A119+4)):INDIRECT(\"'Success Criteria'!\" & ADDRESS(178,A119+4)),\"NON conformant\")","v":0},{"$f":"COUNTIF(INDIRECT(\"'Success Criteria'!\" & ADDRESS(124,A119+4)):INDIRECT(\"'Success Criteria'!\" & ADDRESS(178,A119+4)),\"N/A\")","v":0},{"$f":"COUNTIF(INDIRECT(\"'Success Criteria'!\" & ADDRESS(124,A119+4)):INDIRECT(\"'Success Criteria'!\" & ADDRESS(178,A119+4)),\"not tested\")","v":28},2,0,0,28,null,0,"",2,"",28,1]
[106,"Page 106","URL 106","Please select",{"$f":"SUM(COUNTIF(INDIRECT(\"'Success Criteria'!\" & ADDRESS(10,A120+4)):INDIRECT(\"'Success Criteria'!\" & ADDRESS(72,A120+4)),\"PASS\"),COUNTIF(INDIRECT(\"'Success Criteria'!\" & ADDRESS(10,A120+4)):INDIRECT(\"'Success Criteria'!\" & ADDRESS(72,A120+4)),\"PASS with comments\"))","v":0},{"$f":"COUNTIF(INDIRECT(\"'Success Criteria'!\" & ADDRESS(10,A120+4)):INDIRECT(\"'Success Criteria'!\" & ADDRESS(72,A120+4)),\"NON conformant\")","v":0},{"$f":"COUNTIF(INDIRECT(\"'Success Criteria'!\" & ADDRESS(10,A120+4)):INDIRECT(\"'Success Criteria'!\" & ADDRESS(72,A120+4)),\"N/A\")","v":0},{"$f":"COUNTIF(INDIRECT(\"'Success Criteria'!\" & ADDRESS(10,A120+4)):INDIRECT(\"'Success Criteria'!\" & ADDRESS(72,A120+4)),\"not tested\")","v":0},{"$f":"SUM(COUNTIF(INDIRECT(\"'Success Criteria'!\" & ADDRESS(76,A120+4)):INDIRECT(\"'Success Criteria'!\" & ADDRESS(119,A120+4)),\"PASS\"),COUNTIF(INDIRECT(\"'Success Criteria'!\" & ADDRESS(76,A120+4)):INDIRECT(\"'Success Criteria'!\" & ADDRESS(119,A120+4)),\"PASS with comments\"))","v":2},{"$f":"COUNTIF(INDIRECT(\"'Success Criteria'!\" & ADDRESS(76,A120+4)):INDIRECT(\"'Success Criteria'!\" & ADDRESS(119,A120+4)),\"NON conformant\")","v":0},{"$f":"COUNTIF(INDIRECT(\"'Success Criteria'!\" & ADDRESS(76,A120+4)):INDIRECT(\"'Success Criteria'!\" & ADDRESS(119,A120+4)),\"N/A\")","v":0},{"$f":"COUNTIF(INDIRECT(\"'Success Criteria'!\" & ADDRESS(76,A120+4)):INDIRECT(\"'Success Criteria'!\" & ADDRESS(119,A120+4)),\"not tested\")","v":0},{"$f":"SUM(COUNTIF(INDIRECT(\"'Success Criteria'!\" & ADDRESS(124,A120+4)):INDIRECT(\"'Success Criteria'!\" & ADDRESS(178,A120+4)),\"PASS\"),COUNTIF(INDIRECT(\"'Success Criteria'!\" & ADDRESS(124,A120+4)):INDIRECT(\"'Success Criteria'!\" & ADDRESS(178,A120+4)),\"PASS with comments\"))","v":0},{"$f":"COUNTIF(INDIRECT(\"'Success Criteria'!\" & ADDRESS(124,A120+4)):INDIRECT(\"'Success Criteria'!\" & ADDRESS(178,A120+4)),\"NON conformant\")","v":0},{"$f":"COUNTIF(INDIRECT(\"'Success Criteria'!\" & ADDRESS(124,A120+4)):INDIRECT(\"'Success Criteria'!\" & ADDRESS(178,A120+4)),\"N/A\")","v":0},{"$f":"COUNTIF(INDIRECT(\"'Success Criteria'!\" & ADDRESS(124,A120+4)):INDIRECT(\"'Success Criteria'!\" & ADDRESS(178,A120+4)),\"not tested\")","v":28},2,0,0,28,null,0,"",2,"",28,1]
[107,"Page 107","URL 107","Please select",{"$f":"SUM(COUNTIF(INDIRECT(\"'Success Criteria'!\" & ADDRESS(10,A121+4)):INDIRECT(\"'Success Criteria'!\" & ADDRESS(72,A121+4)),\"PASS\"),COUNTIF(INDIRECT(\"'Success Criteria'!\" & ADDRESS(10,A121+4)):INDIRECT(\"'Success Criteria'!\" & ADDRESS(72,A121+4)),\"PASS with comments\"))","v":0},{"$f":"COUNTIF(INDIRECT(\"'Success Criteria'!\" & ADDRESS(10,A121+4)):INDIRECT(\"'Success Criteria'!\" & ADDRESS(72,A121+4)),\"NON conformant\")","v":0},{"$f":"COUNTIF(INDIRECT(\"'Success Criteria'!\" & ADDRESS(10,A121+4)):INDIRECT(\"'Success Criteria'!\" & ADDRESS(72,A121+4)),\"N/A\")","v":0},{"$f":"COUNTIF(INDIRECT(\"'Success Criteria'!\" & ADDRESS(10,A121+4)):INDIRECT(\"'Success Criteria'!\" & ADDRESS(72,A121+4)),\"not tested\")","v":0},{"$f":"SUM(COUNTIF(INDIRECT(\"'Success Criteria'!\" & ADDRESS(76,A121+4)):INDIRECT(\"'Success Criteria'!\" & ADDRESS(119,A121+4)),\"PASS\"),COUNTIF(INDIRECT(\"'Success Criteria'!\" & ADDRESS(76,A121+4)):INDIRECT(\"'Success Criteria'!\" & ADDRESS(119,A121+4)),\"PASS with comments\"))","v":2},{"$f":"COUNTIF(INDIRECT(\"'Success Criteria'!\" & ADDRESS(76,A121+4)):INDIRECT(\"'Success Criteria'!\" & ADDRESS(119,A121+4)),\"NON conformant\")","v":0},{"$f":"COUNTIF(INDIRECT(\"'Success Criteria'!\" & ADDRESS(76,A121+4)):INDIRECT(\"'Success Criteria'!\" & ADDRESS(119,A121+4)),\"N/A\")","v":0},{"$f":"COUNTIF(INDIRECT(\"'Success Criteria'!\" & ADDRESS(76,A121+4)):INDIRECT(\"'Success Criteria'!\" & ADDRESS(119,A121+4)),\"not tested\")","v":0},{"$f":"SUM(COUNTIF(INDIRECT(\"'Success Criteria'!\" & ADDRESS(124,A121+4)):INDIRECT(\"'Success Criteria'!\" & ADDRESS(178,A121+4)),\"PASS\"),COUNTIF(INDIRECT(\"'Success Criteria'!\" & ADDRESS(124,A121+4)):INDIRECT(\"'Success Criteria'!\" & ADDRESS(178,A121+4)),\"PASS with comments\"))","v":0},{"$f":"COUNTIF(INDIRECT(\"'Success Criteria'!\" & ADDRESS(124,A121+4)):INDIRECT(\"'Success Criteria'!\" & ADDRESS(178,A121+4)),\"NON conformant\")","v":0},{"$f":"COUNTIF(INDIRECT(\"'Success Criteria'!\" & ADDRESS(124,A121+4)):INDIRECT(\"'Success Criteria'!\" & ADDRESS(178,A121+4)),\"N/A\")","v":0},{"$f":"COUNTIF(INDIRECT(\"'Success Criteria'!\" & ADDRESS(124,A121+4)):INDIRECT(\"'Success Criteria'!\" & ADDRESS(178,A121+4)),\"not tested\")","v":28},2,0,0,28,null,0,"",2,"",28,1]
[108,"Page 108","URL 108","Please select",{"$f":"SUM(COUNTIF(INDIRECT(\"'Success Criteria'!\" & ADDRESS(10,A122+4)):INDIRECT(\"'Success Criteria'!\" & ADDRESS(72,A122+4)),\"PASS\"),COUNTIF(INDIRECT(\"'Success Criteria'!\" & ADDRESS(10,A122+4)):INDIRECT(\"'Success Criteria'!\" & ADDRESS(72,A122+4)),\"PASS with comments\"))","v":0},{"$f":"COUNTIF(INDIRECT(\"'Success Criteria'!\" & ADDRESS(10,A122+4)):INDIRECT(\"'Success Criteria'!\" & ADDRESS(72,A122+4)),\"NON conformant\")","v":0},{"$f":"COUNTIF(INDIRECT(\"'Success Criteria'!\" & ADDRESS(10,A122+4)):INDIRECT(\"'Success Criteria'!\" & ADDRESS(72,A122+4)),\"N/A\")","v":0},{"$f":"COUNTIF(INDIRECT(\"'Success Criteria'!\" & ADDRESS(10,A122+4)):INDIRECT(\"'Success Criteria'!\" & ADDRESS(72,A122+4)),\"not tested\")","v":0},{"$f":"SUM(COUNTIF(INDIRECT(\"'Success Criteria'!\" & ADDRESS(76,A122+4)):INDIRECT(\"'Success Criteria'!\" & ADDRESS(119,A122+4)),\"PASS\"),COUNTIF(INDIRECT(\"'Success Criteria'!\" & ADDRESS(76,A122+4)):INDIRECT(\"'Success Criteria'!\" & ADDRESS(119,A122+4)),\"PASS with comments\"))","v":2},{"$f":"COUNTIF(INDIRECT(\"'Success Criteria'!\" & ADDRESS(76,A122+4)):INDIRECT(\"'Success Criteria'!\" & ADDRESS(119,A122+4)),\"NON conformant\")","v":0},{"$f":"COUNTIF(INDIRECT(\"'Success Criteria'!\" & ADDRESS(76,A122+4)):INDIRECT(\"'Success Criteria'!\" & ADDRESS(119,A122+4)),\"N/A\")","v":0},{"$f":"COUNTIF(INDIRECT(\"'Success Criteria'!\" & ADDRESS(76,A122+4)):INDIRECT(\"'Success Criteria'!\" & ADDRESS(119,A122+4)),\"not tested\")","v":0},{"$f":"SUM(COUNTIF(INDIRECT(\"'Success Criteria'!\" & ADDRESS(124,A122+4)):INDIRECT(\"'Success Criteria'!\" & ADDRESS(178,A122+4)),\"PASS\"),COUNTIF(INDIRECT(\"'Success Criteria'!\" & ADDRESS(124,A122+4)):INDIRECT(\"'Success Criteria'!\" & ADDRESS(178,A122+4)),\"PASS with comments\"))","v":0},{"$f":"COUNTIF(INDIRECT(\"'Success Criteria'!\" & ADDRESS(124,A122+4)):INDIRECT(\"'Success Criteria'!\" & ADDRESS(178,A122+4)),\"NON conformant\")","v":0},{"$f":"COUNTIF(INDIRECT(\"'Success Criteria'!\" & ADDRESS(124,A122+4)):INDIRECT(\"'Success Criteria'!\" & ADDRESS(178,A122+4)),\"N/A\")","v":0},{"$f":"COUNTIF(INDIRECT(\"'Success Criteria'!\" & ADDRESS(124,A122+4)):INDIRECT(\"'Success Criteria'!\" & ADDRESS(178,A122+4)),\"not tested\")","v":28},2,0,0,28,null,0,"",2,"",28,1]
[109,"Page 109","URL 109","Please select",{"$f":"SUM(COUNTIF(INDIRECT(\"'Success Criteria'!\" & ADDRESS(10,A123+4)):INDIRECT(\"'Success Criteria'!\" & ADDRESS(72,A123+4)),\"PASS\"),COUNTIF(INDIRECT(\"'Success Criteria'!\" & ADDRESS(10,A123+4)):INDIRECT(\"'Success Criteria'!\" & ADDRESS(72,A123+4)),\"PASS with comments\"))","v":0},{"$f":"COUNTIF(INDIRECT(\"'Success Criteria'!\" & ADDRESS(10,A123+4)):INDIRECT(\"'Success Criteria'!\" & ADDRESS(72,A123+4)),\"NON conformant\")","v":0},{"$f":"COUNTIF(INDIRECT(\"'Success Criteria'!\" & ADDRESS(10,A123+4)):INDIRECT(\"'Success Criteria'!\" & ADDRESS(72,A123+4)),\"N/A\")","v":0},{"$f":"COUNTIF(INDIRECT(\"'Success Criteria'!\" & ADDRESS(10,A123+4)):INDIRECT(\"'Success Criteria'!\" & ADDRESS(72,A123+4)),\"not tested\")","v":0},{"$f":"SUM(COUNTIF(INDIRECT(\"'Success Criteria'!\" & ADDRESS(76,A123+4)):INDIRECT(\"'Success Criteria'!\" & ADDRESS(119,A123+4)),\"PASS\"),COUNTIF(INDIRECT(\"'Success Criteria'!\" & ADDRESS(76,A123+4)):INDIRECT(\"'Success Criteria'!\" & ADDRESS(119,A123+4)),\"PASS with comments\"))","v":2},{"$f":"COUNTIF(INDIRECT(\"'Success Criteria'!\" & ADDRESS(76,A123+4)):INDIRECT(\"'Success Criteria'!\" & ADDRESS(119,A123+4)),\"NON conformant\")","v":0},{"$f":"COUNTIF(INDIRECT(\"'Success Criteria'!\" & ADDRESS(76,A123+4)):INDIRECT(\"'Success Criteria'!\" & ADDRESS(119,A123+4)),\"N/A\")","v":0},{"$f":"COUNTIF(INDIRECT(\"'Success Criteria'!\" & ADDRESS(76,A123+4)):INDIRECT(\"'Success Criteria'!\" & ADDRESS(119,A123+4)),\"not tested\")","v":0},{"$f":"SUM(COUNTIF(INDIRECT(\"'Success Criteria'!\" & ADDRESS(124,A123+4)):INDIRECT(\"'Success Criteria'!\" & ADDRESS(178,A123+4)),\"PASS\"),COUNTIF(INDIRECT(\"'Success Criteria'!\" & ADDRESS(124,A123+4)):INDIRECT(\"'Success Criteria'!\" & ADDRESS(178,A123+4)),\"PASS with comments\"))","v":0},{"$f":"COUNTIF(INDIRECT(\"'Success Criteria'!\" & ADDRESS(124,A123+4)):INDIRECT(\"'Success Criteria'!\" & ADDRESS(178,A123+4)),\"NON conformant\")","v":0},{"$f":"COUNTIF(INDIRECT(\"'Success Criteria'!\" & ADDRESS(124,A123+4)):INDIRECT(\"'Success Criteria'!\" & ADDRESS(178,A123+4)),\"N/A\")","v":0},{"$f":"COUNTIF(INDIRECT(\"'Success Criteria'!\" & ADDRESS(124,A123+4)):INDIRECT(\"'Success Criteria'!\" & ADDRESS(178,A123+4)),\"not tested\")","v":28},2,0,0,28,null,0,"",2,"",28,1]
[110,"Page 110","URL 110","Please select",{"$f":"SUM(COUNTIF(INDIRECT(\"'Success Criteria'!\" & ADDRESS(10,A124+4)):INDIRECT(\"'Success Criteria'!\" & ADDRESS(72,A124+4)),\"PASS\"),COUNTIF(INDIRECT(\"'Success Criteria'!\" & ADDRESS(10,A124+4)):INDIRECT(\"'Success Criteria'!\" & ADDRESS(72,A124+4)),\"PASS with comments\"))","v":0},{"$f":"COUNTIF(INDIRECT(\"'Success Criteria'!\" & ADDRESS(10,A124+4)):INDIRECT(\"'Success Criteria'!\" & ADDRESS(72,A124+4)),\"NON conformant\")","v":0},{"$f":"COUNTIF(INDIRECT(\"'Success Criteria'!\" & ADDRESS(10,A124+4)):INDIRECT(\"'Success Criteria'!\" & ADDRESS(72,A124+4)),\"N/A\")","v":0},{"$f":"COUNTIF(INDIRECT(\"'Success Criteria'!\" & ADDRESS(10,A124+4)):INDIRECT(\"'Success Criteria'!\" & ADDRESS(72,A124+4)),\"not tested\")","v":0},{"$f":"SUM(COUNTIF(INDIRECT(\"'Success Criteria'!\" & ADDRESS(76,A124+4)):INDIRECT(\"'Success Criteria'!\" & ADDRESS(119,A124+4)),\"PASS\"),COUNTIF(INDIRECT(\"'Success Criteria'!\" & ADDRESS(76,A124+4)):INDIRECT(\"'Success Criteria'!\" & ADDRESS(119,A124+4)),\"PASS with comments\"))","v":2},{"$f":"COUNTIF(INDIRECT(\"'Success Criteria'!\" & ADDRESS(76,A124+4)):INDIRECT(\"'Success Criteria'!\" & ADDRESS(119,A124+4)),\"NON conformant\")","v":0},{"$f":"COUNTIF(INDIRECT(\"'Success Criteria'!\" & ADDRESS(76,A124+4)):INDIRECT(\"'Success Criteria'!\" & ADDRESS(119,A124+4)),\"N/A\")","v":0},{"$f":"COUNTIF(INDIRECT(\"'Success Criteria'!\" & ADDRESS(76,A124+4)):INDIRECT(\"'Success Criteria'!\" & ADDRESS(119,A124+4)),\"not tested\")","v":0},{"$f":"SUM(COUNTIF(INDIRECT(\"'Success Criteria'!\" & ADDRESS(124,A124+4)):INDIRECT(\"'Success Criteria'!\" & ADDRESS(178,A124+4)),\"PASS\"),COUNTIF(INDIRECT(\"'Success Criteria'!\" & ADDRESS(124,A124+4)):INDIRECT(\"'Success Criteria'!\" & ADDRESS(178,A124+4)),\"PASS with comments\"))","v":0},{"$f":"COUNTIF(INDIRECT(\"'Success Criteria'!\" & ADDRESS(124,A124+4)):INDIRECT(\"'Success Criteria'!\" & ADDRESS(178,A124+4)),\"NON conformant\")","v":0},{"$f":"COUNTIF(INDIRECT(\"'Success Criteria'!\" & ADDRESS(124,A124+4)):INDIRECT(\"'Success Criteria'!\" & ADDRESS(178,A124+4)),\"N/A\")","v":0},{"$f":"COUNTIF(INDIRECT(\"'Success Criteria'!\" & ADDRESS(124,A124+4)):INDIRECT(\"'Success Criteria'!\" & ADDRESS(178,A124+4)),\"not tested\")","v":28},2,0,0,28,null,0,"",2,"",28,1]
[111,"Page 111","URL 111","Please select",{"$f":"SUM(COUNTIF(INDIRECT(\"'Success Criteria'!\" & ADDRESS(10,A125+4)):INDIRECT(\"'Success Criteria'!\" & ADDRESS(72,A125+4)),\"PASS\"),COUNTIF(INDIRECT(\"'Success Criteria'!\" & ADDRESS(10,A125+4)):INDIRECT(\"'Success Criteria'!\" & ADDRESS(72,A125+4)),\"PASS with comments\"))","v":0},{"$f":"COUNTIF(INDIRECT(\"'Success Criteria'!\" & ADDRESS(10,A125+4)):INDIRECT(\"'Success Criteria'!\" & ADDRESS(72,A125+4)),\"NON conformant\")","v":0},{"$f":"COUNTIF(INDIRECT(\"'Success Criteria'!\" & ADDRESS(10,A125+4)):INDIRECT(\"'Success Criteria'!\" & ADDRESS(72,A125+4)),\"N/A\")","v":0},{"$f":"COUNTIF(INDIRECT(\"'Success Criteria'!\" & ADDRESS(10,A125+4)):INDIRECT(\"'Success Criteria'!\" & ADDRESS(72,A125+4)),\"not tested\")","v":0},{"$f":"SUM(COUNTIF(INDIRECT(\"'Success Criteria'!\" & ADDRESS(76,A125+4)):INDIRECT(\"'Success Criteria'!\" & ADDRESS(119,A125+4)),\"PASS\"),COUNTIF(INDIRECT(\"'Success Criteria'!\" & ADDRESS(76,A125+4)):INDIRECT(\"'Success Criteria'!\" & ADDRESS(119,A125+4)),\"PASS with comments\"))","v":2},{"$f":"COUNTIF(INDIRECT(\"'Success Criteria'!\" & ADDRESS(76,A125+4)):INDIRECT(\"'Success Criteria'!\" & ADDRESS(119,A125+4)),\"NON conformant\")","v":0},{"$f":"COUNTIF(INDIRECT(\"'Success Criteria'!\" & ADDRESS(76,A125+4)):INDIRECT(\"'Success Criteria'!\" & ADDRESS(119,A125+4)),\"N/A\")","v":0},{"$f":"COUNTIF(INDIRECT(\"'Success Criteria'!\" & ADDRESS(76,A125+4)):INDIRECT(\"'Success Criteria'!\" & ADDRESS(119,A125+4)),\"not tested\")","v":0},{"$f":"SUM(COUNTIF(INDIRECT(\"'Success Criteria'!\" & ADDRESS(124,A125+4)):INDIRECT(\"'Success Criteria'!\" & ADDRESS(178,A125+4)),\"PASS\"),COUNTIF(INDIRECT(\"'Success Criteria'!\" & ADDRESS(124,A125+4)):INDIRECT(\"'Success Criteria'!\" & ADDRESS(178,A125+4)),\"PASS with comments\"))","v":0},{"$f":"COUNTIF(INDIRECT(\"'Success Criteria'!\" & ADDRESS(124,A125+4)):INDIRECT(\"'Success Criteria'!\" & ADDRESS(178,A125+4)),\"NON conformant\")","v":0},{"$f":"COUNTIF(INDIRECT(\"'Success Criteria'!\" & ADDRESS(124,A125+4)):INDIRECT(\"'Success Criteria'!\" & ADDRESS(178,A125+4)),\"N/A\")","v":0},{"$f":"COUNTIF(INDIRECT(\"'Success Criteria'!\" & ADDRESS(124,A125+4)):INDIRECT(\"'Success Criteria'!\" & ADDRESS(178,A125+4)),\"not tested\")","v":28},2,0,0,28,null,0,"",2,"",28,1]
[112,"Page 112","URL 112","Please select",{"$f":"SUM(COUNTIF(INDIRECT(\"'Success Criteria'!\" & ADDRESS(10,A126+4)):INDIRECT(\"'Success Criteria'!\" & ADDRESS(72,A126+4)),\"PASS\"),COUNTIF(INDIRECT(\"'Success Criteria'!\" & ADDRESS(10,A126+4)):INDIRECT(\"'Success Criteria'!\" & ADDRESS(72,A126+4)),\"PASS with comments\"))","v":0},{"$f":"COUNTIF(INDIRECT(\"'Success Criteria'!\" & ADDRESS(10,A126+4)):INDIRECT(\"'Success Criteria'!\" & ADDRESS(72,A126+4)),\"NON conformant\")","v":0},{"$f":"COUNTIF(INDIRECT(\"'Success Criteria'!\" & ADDRESS(10,A126+4)):INDIRECT(\"'Success Criteria'!\" & ADDRESS(72,A126+4)),\"N/A\")","v":0},{"$f":"COUNTIF(INDIRECT(\"'Success Criteria'!\" & ADDRESS(10,A126+4)):INDIRECT(\"'Success Criteria'!\" & ADDRESS(72,A126+4)),\"not tested\")","v":0},{"$f":"SUM(COUNTIF(INDIRECT(\"'Success Criteria'!\" & ADDRESS(76,A126+4)):INDIRECT(\"'Success Criteria'!\" & ADDRESS(119,A126+4)),\"PASS\"),COUNTIF(INDIRECT(\"'Success Criteria'!\" & ADDRESS(76,A126+4)):INDIRECT(\"'Success Criteria'!\" & ADDRESS(119,A126+4)),\"PASS with comments\"))","v":2},{"$f":"COUNTIF(INDIRECT(\"'Success Criteria'!\" & ADDRESS(76,A126+4)):INDIRECT(\"'Success Criteria'!\" & ADDRESS(119,A126+4)),\"NON conformant\")","v":0},{"$f":"COUNTIF(INDIRECT(\"'Success Criteria'!\" & ADDRESS(76,A126+4)):INDIRECT(\"'Success Criteria'!\" & ADDRESS(119,A126+4)),\"N/A\")","v":0},{"$f":"COUNTIF(INDIRECT(\"'Success Criteria'!\" & ADDRESS(76,A126+4)):INDIRECT(\"'Success Criteria'!\" & ADDRESS(119,A126+4)),\"not tested\")","v":0},{"$f":"SUM(COUNTIF(INDIRECT(\"'Success Criteria'!\" & ADDRESS(124,A126+4)):INDIRECT(\"'Success Criteria'!\" & ADDRESS(178,A126+4)),\"PASS\"),COUNTIF(INDIRECT(\"'Success Criteria'!\" & ADDRESS(124,A126+4)):INDIRECT(\"'Success Criteria'!\" & ADDRESS(178,A126+4)),\"PASS with comments\"))","v":0},{"$f":"COUNTIF(INDIRECT(\"'Success Criteria'!\" & ADDRESS(124,A126+4)):INDIRECT(\"'Success Criteria'!\" & ADDRESS(178,A126+4)),\"NON conformant\")","v":0},{"$f":"COUNTIF(INDIRECT(\"'Success Criteria'!\" & ADDRESS(124,A126+4)):INDIRECT(\"'Success Criteria'!\" & ADDRESS(178,A126+4)),\"N/A\")","v":0},{"$f":"COUNTIF(INDIRECT(\"'Success Criteria'!\" & ADDRESS(124,A126+4)):INDIRECT(\"'Success Criteria'!\" & ADDRESS(178,A126+4)),\"not tested\")","v":28},2,0,0,28,null,0,"",2,"",28,1]
[113,"Page 113","URL 113","Please select",{"$f":"SUM(COUNTIF(INDIRECT(\"'Success Criteria'!\" & ADDRESS(10,A127+4)):INDIRECT(\"'Success Criteria'!\" & ADDRESS(72,A127+4)),\"PASS\"),COUNTIF(INDIRECT(\"'Success Criteria'!\" & ADDRESS(10,A127+4)):INDIRECT(\"'Success Criteria'!\" & ADDRESS(72,A127+4)),\"PASS with comments\"))","v":0},{"$f":"COUNTIF(INDIRECT(\"'Success Criteria'!\" & ADDRESS(10,A127+4)):INDIRECT(\"'Success Criteria'!\" & ADDRESS(72,A127+4)),\"NON conformant\")","v":0},{"$f":"COUNTIF(INDIRECT(\"'Success Criteria'!\" & ADDRESS(10,A127+4)):INDIRECT(\"'Success Criteria'!\" & ADDRESS(72,A127+4)),\"N/A\")","v":0},{"$f":"COUNTIF(INDIRECT(\"'Success Criteria'!\" & ADDRESS(10,A127+4)):INDIRECT(\"'Success Criteria'!\" & ADDRESS(72,A127+4)),\"not tested\")","v":0},{"$f":"SUM(COUNTIF(INDIRECT(\"'Success Criteria'!\" & ADDRESS(76,A127+4)):INDIRECT(\"'Success Criteria'!\" & ADDRESS(119,A127+4)),\"PASS\"),COUNTIF(INDIRECT(\"'Success Criteria'!\" & ADDRESS(76,A127+4)):INDIRECT(\"'Success Criteria'!\" & ADDRESS(119,A127+4)),\"PASS with comments\"))","v":2},{"$f":"COUNTIF(INDIRECT(\"'Success Criteria'!\" & ADDRESS(76,A127+4)):INDIRECT(\"'Success Criteria'!\" & ADDRESS(119,A127+4)),\"NON conformant\")","v":0},{"$f":"COUNTIF(INDIRECT(\"'Success Criteria'!\" & ADDRESS(76,A127+4)):INDIRECT(\"'Success Criteria'!\" & ADDRESS(119,A127+4)),\"N/A\")","v":0},{"$f":"COUNTIF(INDIRECT(\"'Success Criteria'!\" & ADDRESS(76,A127+4)):INDIRECT(\"'Success Criteria'!\" & ADDRESS(119,A127+4)),\"not tested\")","v":0},{"$f":"SUM(COUNTIF(INDIRECT(\"'Success Criteria'!\" & ADDRESS(124,A127+4)):INDIRECT(\"'Success Criteria'!\" & ADDRESS(178,A127+4)),\"PASS\"),COUNTIF(INDIRECT(\"'Success Criteria'!\" & ADDRESS(124,A127+4)):INDIRECT(\"'Success Criteria'!\" & ADDRESS(178,A127+4)),\"PASS with comments\"))","v":0},{"$f":"COUNTIF(INDIRECT(\"'Success Criteria'!\" & ADDRESS(124,A127+4)):INDIRECT(\"'Success Criteria'!\" & ADDRESS(178,A127+4)),\"NON conformant\")","v":0},{"$f":"COUNTIF(INDIRECT(\"'Success Criteria'!\" & ADDRESS(124,A127+4)):INDIRECT(\"'Success Criteria'!\" & ADDRESS(178,A127+4)),\"N/A\")","v":0},{"$f":"COUNTIF(INDIRECT(\"'Success Criteria'!\" & ADDRESS(124,A127+4)):INDIRECT(\"'Success Criteria'!\" & ADDRESS(178,A127+4)),\"not tested\")","v":28},2,0,0,28,null,0,"",2,"",28,1]
[114,"Page 114","URL 114","Please select",{"$f":"SUM(COUNTIF(INDIRECT(\"'Success Criteria'!\" & ADDRESS(10,A128+4)):INDIRECT(\"'Success Criteria'!\" & ADDRESS(72,A128+4)),\"PASS\"),COUNTIF(INDIRECT(\"'Success Criteria'!\" & ADDRESS(10,A128+4)):INDIRECT(\"'Success Criteria'!\" & ADDRESS(72,A128+4)),\"PASS with comments\"))","v":0},{"$f":"COUNTIF(INDIRECT(\"'Success Criteria'!\" & ADDRESS(10,A128+4)):INDIRECT(\"'Success Criteria'!\" & ADDRESS(72,A128+4)),\"NON conformant\")","v":0},{"$f":"COUNTIF(INDIRECT(\"'Success Criteria'!\" & ADDRESS(10,A128+4)):INDIRECT(\"'Success Criteria'!\" & ADDRESS(72,A128+4)),\"N/A\")","v":0},{"$f":"COUNTIF(INDIRECT(\"'Success Criteria'!\" & ADDRESS(10,A128+4)):INDIRECT(\"'Success Criteria'!\" & ADDRESS(72,A128+4)),\"not tested\")","v":0},{"$f":"SUM(COUNTIF(INDIRECT(\"'Success Criteria'!\" & ADDRESS(76,A128+4)):INDIRECT(\"'Success Criteria'!\" & ADDRESS(119,A128+4)),\"PASS\"),COUNTIF(INDIRECT(\"'Success Criteria'!\" & ADDRESS(76,A128+4)):INDIRECT(\"'Success Criteria'!\" & ADDRESS(119,A128+4)),\"PASS with comments\"))","v":2},{"$f":"COUNTIF(INDIRECT(\"'Success Criteria'!\" & ADDRESS(76,A128+4)):INDIRECT(\"'Success Criteria'!\" & ADDRESS(119,A128+4)),\"NON conformant\")","v":0},{"$f":"COUNTIF(INDIRECT(\"'Success Criteria'!\" & ADDRESS(76,A128+4)):INDIRECT(\"'Success Criteria'!\" & ADDRESS(119,A128+4)),\"N/A\")","v":0},{"$f":"COUNTIF(INDIRECT(\"'Success Criteria'!\" & ADDRESS(76,A128+4)):INDIRECT(\"'Success Criteria'!\" & ADDRESS(119,A128+4)),\"not tested\")","v":0},{"$f":"SUM(COUNTIF(INDIRECT(\"'Success Criteria'!\" & ADDRESS(124,A128+4)):INDIRECT(\"'Success Criteria'!\" & ADDRESS(178,A128+4)),\"PASS\"),COUNTIF(INDIRECT(\"'Success Criteria'!\" & ADDRESS(124,A128+4)):INDIRECT(\"'Success Criteria'!\" & ADDRESS(178,A128+4)),\"PASS with comments\"))","v":0},{"$f":"COUNTIF(INDIRECT(\"'Success Criteria'!\" & ADDRESS(124,A128+4)):INDIRECT(\"'Success Criteria'!\" & ADDRESS(178,A128+4)),\"NON conformant\")","v":0},{"$f":"COUNTIF(INDIRECT(\"'Success Criteria'!\" & ADDRESS(124,A128+4)):INDIRECT(\"'Success Criteria'!\" & ADDRESS(178,A128+4)),\"N/A\")","v":0},{"$f":"COUNTIF(INDIRECT(\"'Success Criteria'!\" & ADDRESS(124,A128+4)):INDIRECT(\"'Success Criteria'!\" & ADDRESS(178,A128+4)),\"not tested\")","v":28},2,0,0,28,null,0,"",2,"",28,1]
[115,"Page 115","URL 115","Please select",{"$f":"SUM(COUNTIF(INDIRECT(\"'Success Criteria'!\" & ADDRESS(10,A129+4)):INDIRECT(\"'Success Criteria'!\" & ADDRESS(72,A129+4)),\"PASS\"),COUNTIF(INDIRECT(\"'Success Criteria'!\" & ADDRESS(10,A129+4)):INDIRECT(\"'Success Criteria'!\" & ADDRESS(72,A129+4)),\"PASS with comments\"))","v":0},{"$f":"COUNTIF(INDIRECT(\"'Success Criteria'!\" & ADDRESS(10,A129+4)):INDIRECT(\"'Success Criteria'!\" & ADDRESS(72,A129+4)),\"NON conformant\")","v":0},{"$f":"COUNTIF(INDIRECT(\"'Success Criteria'!\" & ADDRESS(10,A129+4)):INDIRECT(\"'Success Criteria'!\" & ADDRESS(72,A129+4)),\"N/A\")","v":0},{"$f":"COUNTIF(INDIRECT(\"'Success Criteria'!\" & ADDRESS(10,A129+4)):INDIRECT(\"'Success Criteria'!\" & ADDRESS(72,A129+4)),\"not tested\")","v":0},{"$f":"SUM(COUNTIF(INDIRECT(\"'Success Criteria'!\" & ADDRESS(76,A129+4)):INDIRECT(\"'Success Criteria'!\" & ADDRESS(119,A129+4)),\"PASS\"),COUNTIF(INDIRECT(\"'Success Criteria'!\" & ADDRESS(76,A129+4)):INDIRECT(\"'Success Criteria'!\" & ADDRESS(119,A129+4)),\"PASS with comments\"))","v":2},{"$f":"COUNTIF(INDIRECT(\"'Success Criteria'!\" & ADDRESS(76,A129+4)):INDIRECT(\"'Success Criteria'!\" & ADDRESS(119,A129+4)),\"NON conformant\")","v":0},{"$f":"COUNTIF(INDIRECT(\"'Success Criteria'!\" & ADDRESS(76,A129+4)):INDIRECT(\"'Success Criteria'!\" & ADDRESS(119,A129+4)),\"N/A\")","v":0},{"$f":"COUNTIF(INDIRECT(\"'Success Criteria'!\" & ADDRESS(76,A129+4)):INDIRECT(\"'Success Criteria'!\" & ADDRESS(119,A129+4)),\"not tested\")","v":0},{"$f":"SUM(COUNTIF(INDIRECT(\"'Success Criteria'!\" & ADDRESS(124,A129+4)):INDIRECT(\"'Success Criteria'!\" & ADDRESS(178,A129+4)),\"PASS\"),COUNTIF(INDIRECT(\"'Success Criteria'!\" & ADDRESS(124,A129+4)):INDIRECT(\"'Success Criteria'!\" & ADDRESS(178,A129+4)),\"PASS with comments\"))","v":0},{"$f":"COUNTIF(INDIRECT(\"'Success Criteria'!\" & ADDRESS(124,A129+4)):INDIRECT(\"'Success Criteria'!\" & ADDRESS(178,A129+4)),\"NON conformant\")","v":0},{"$f":"COUNTIF(INDIRECT(\"'Success Criteria'!\" & ADDRESS(124,A129+4)):INDIRECT(\"'Success Criteria'!\" & ADDRESS(178,A129+4)),\"N/A\")","v":0},{"$f":"COUNTIF(INDIRECT(\"'Success Criteria'!\" & ADDRESS(124,A129+4)):INDIRECT(\"'Success Criteria'!\" & ADDRESS(178,A129+4)),\"not tested\")","v":28},2,0,0,28,null,{"$f":"SUM(E129:H129)","v":0},{"$f":"IF(V129=30,1,\"\")","v":""},2,{"$f":"IF(X129=20,1,\"\")","v":""},28,{"$f":"IF(Z129=28,1,\"\")","v":1}]
[116,"Page 116","URL 116","Please select",{"$f":"SUM(COUNTIF(INDIRECT(\"'Success Criteria'!\" & ADDRESS(10,A130+4)):INDIRECT(\"'Success Criteria'!\" & ADDRESS(72,A130+4)),\"PASS\"),COUNTIF(INDIRECT(\"'Success Criteria'!\" & ADDRESS(10,A130+4)):INDIRECT(\"'Success Criteria'!\" & ADDRESS(72,A130+4)),\"PASS with comments\"))","v":0},{"$f":"COUNTIF(INDIRECT(\"'Success Criteria'!\" & ADDRESS(10,A130+4)):INDIRECT(\"'Success Criteria'!\" & ADDRESS(72,A130+4)),\"NON conformant\")","v":0},{"$f":"COUNTIF(INDIRECT(\"'Success Criteria'!\" & ADDRESS(10,A130+4)):INDIRECT(\"'Success Criteria'!\" & ADDRESS(72,A130+4)),\"N/A\")","v":0},{"$f":"COUNTIF(INDIRECT(\"'Success Criteria'!\" & ADDRESS(10,A130+4)):INDIRECT(\"'Success Criteria'!\" & ADDRESS(72,A130+4)),\"not tested\")","v":0},{"$f":"SUM(COUNTIF(INDIRECT(\"'Success Criteria'!\" & ADDRESS(76,A130+4)):INDIRECT(\"'Success Criteria'!\" & ADDRESS(119,A130+4)),\"PASS\"),COUNTIF(INDIRECT(\"'Success Criteria'!\" & ADDRESS(76,A130+4)):INDIRECT(\"'Success Criteria'!\" & ADDRESS(119,A130+4)),\"PASS with comments\"))","v":2},{"$f":"COUNTIF(INDIRECT(\"'Success Criteria'!\" & ADDRESS(76,A130+4)):INDIRECT(\"'Success Criteria'!\" & ADDRESS(119,A130+4)),\"NON conformant\")","v":0},{"$f":"COUNTIF(INDIRECT(\"'Success Criteria'!\" & ADDRESS(76,A130+4)):INDIRECT(\"'Success Criteria'!\" & ADDRESS(119,A130+4)),\"N/A\")","v":0},{"$f":"COUNTIF(INDIRECT(\"'Success Criteria'!\" & ADDRESS(76,A130+4)):INDIRECT(\"'Success Criteria'!\" & ADDRESS(119,A130+4)),\"not tested\")","v":0},{"$f":"SUM(COUNTIF(INDIRECT(\"'Success Criteria'!\" & ADDRESS(124,A130+4)):INDIRECT(\"'Success Criteria'!\" & ADDRESS(178,A130+4)),\"PASS\"),COUNTIF(INDIRECT(\"'Success Criteria'!\" & ADDRESS(124,A130+4)):INDIRECT(\"'Success Criteria'!\" & ADDRESS(178,A130+4)),\"PASS with comments\"))","v":0},{"$f":"COUNTIF(INDIRECT(\"'Success Criteria'!\" & ADDRESS(124,A130+4)):INDIRECT(\"'Success Criteria'!\" & ADDRESS(178,A130+4)),\"NON conformant\")","v":0},{"$f":"COUNTIF(INDIRECT(\"'Success Criteria'!\" & ADDRESS(124,A130+4)):INDIRECT(\"'Success Criteria'!\" & ADDRESS(178,A130+4)),\"N/A\")","v":0},{"$f":"COUNTIF(INDIRECT(\"'Success Criteria'!\" & ADDRESS(124,A130+4)):INDIRECT(\"'Success Criteria'!\" & ADDRESS(178,A130+4)),\"not tested\")","v":28},2,{"$f":"SUM(F130+J130+N130)","v":0},0,28,null,0,"",2,"",28,1]
[117,"Page 117","URL 117","Please select",{"$f":"SUM(COUNTIF(INDIRECT(\"'Success Criteria'!\" & ADDRESS(10,A131+4)):INDIRECT(\"'Success Criteria'!\" & ADDRESS(72,A131+4)),\"PASS\"),COUNTIF(INDIRECT(\"'Success Criteria'!\" & ADDRESS(10,A131+4)):INDIRECT(\"'Success Criteria'!\" & ADDRESS(72,A131+4)),\"PASS with comments\"))","v":0},{"$f":"COUNTIF(INDIRECT(\"'Success Criteria'!\" & ADDRESS(10,A131+4)):INDIRECT(\"'Success Criteria'!\" & ADDRESS(72,A131+4)),\"NON conformant\")","v":0},{"$f":"COUNTIF(INDIRECT(\"'Success Criteria'!\" & ADDRESS(10,A131+4)):INDIRECT(\"'Success Criteria'!\" & ADDRESS(72,A131+4)),\"N/A\")","v":0},{"$f":"COUNTIF(INDIRECT(\"'Success Criteria'!\" & ADDRESS(10,A131+4)):INDIRECT(\"'Success Criteria'!\" & ADDRESS(72,A131+4)),\"not tested\")","v":0},{"$f":"SUM(COUNTIF(INDIRECT(\"'Success Criteria'!\" & ADDRESS(76,A131+4)):INDIRECT(\"'Success Criteria'!\" & ADDRESS(119,A131+4)),\"PASS\"),COUNTIF(INDIRECT(\"'Success Criteria'!\" & ADDRESS(76,A131+4)):INDIRECT(\"'Success Criteria'!\" & ADDRESS(119,A131+4)),\"PASS with comments\"))","v":2},{"$f":"COUNTIF(INDIRECT(\"'Success Criteria'!\" & ADDRESS(76,A131+4)):INDIRECT(\"'Success Criteria'!\" & ADDRESS(119,A131+4)),\"NON conformant\")","v":0},{"$f":"COUNTIF(INDIRECT(\"'Success Criteria'!\" & ADDRESS(76,A131+4)):INDIRECT(\"'Success Criteria'!\" & ADDRESS(119,A131+4)),\"N/A\")","v":0},{"$f":"COUNTIF(INDIRECT(\"'Success Criteria'!\" & ADDRESS(76,A131+4)):INDIRECT(\"'Success Criteria'!\" & ADDRESS(119,A131+4)),\"not tested\")","v":0},{"$f":"SUM(COUNTIF(INDIRECT(\"'Success Criteria'!\" & ADDRESS(124,A131+4)):INDIRECT(\"'Success Criteria'!\" & ADDRESS(178,A131+4)),\"PASS\"),COUNTIF(INDIRECT(\"'Success Criteria'!\" & ADDRESS(124,A131+4)):INDIRECT(\"'Success Criteria'!\" & ADDRESS(178,A131+4)),\"PASS with comments\"))","v":0},{"$f":"COUNTIF(INDIRECT(\"'Success Criteria'!\" & ADDRESS(124,A131+4)):INDIRECT(\"'Success Criteria'!\" & ADDRESS(178,A131+4)),\"NON conformant\")","v":0},{"$f":"COUNTIF(INDIRECT(\"'Success Criteria'!\" & ADDRESS(124,A131+4)):INDIRECT(\"'Success Criteria'!\" & ADDRESS(178,A131+4)),\"N/A\")","v":0},{"$f":"COUNTIF(INDIRECT(\"'Success Criteria'!\" & ADDRESS(124,A131+4)):INDIRECT(\"'Success Criteria'!\" & ADDRESS(178,A131+4)),\"not tested\")","v":28},2,0,0,28,null,0,"",2,"",28,1]
[118,"Page 118","URL 118","Please select",{"$f":"SUM(COUNTIF(INDIRECT(\"'Success Criteria'!\" & ADDRESS(10,A132+4)):INDIRECT(\"'Success Criteria'!\" & ADDRESS(72,A132+4)),\"PASS\"),COUNTIF(INDIRECT(\"'Success Criteria'!\" & ADDRESS(10,A132+4)):INDIRECT(\"'Success Criteria'!\" & ADDRESS(72,A132+4)),\"PASS with comments\"))","v":0},{"$f":"COUNTIF(INDIRECT(\"'Success Criteria'!\" & ADDRESS(10,A132+4)):INDIRECT(\"'Success Criteria'!\" & ADDRESS(72,A132+4)),\"NON conformant\")","v":0},{"$f":"COUNTIF(INDIRECT(\"'Success Criteria'!\" & ADDRESS(10,A132+4)):INDIRECT(\"'Success Criteria'!\" & ADDRESS(72,A132+4)),\"N/A\")","v":0},{"$f":"COUNTIF(INDIRECT(\"'Success Criteria'!\" & ADDRESS(10,A132+4)):INDIRECT(\"'Success Criteria'!\" & ADDRESS(72,A132+4)),\"not tested\")","v":0},{"$f":"SUM(COUNTIF(INDIRECT(\"'Success Criteria'!\" & ADDRESS(76,A132+4)):INDIRECT(\"'Success Criteria'!\" & ADDRESS(119,A132+4)),\"PASS\"),COUNTIF(INDIRECT(\"'Success Criteria'!\" & ADDRESS(76,A132+4)):INDIRECT(\"'Success Criteria'!\" & ADDRESS(119,A132+4)),\"PASS with comments\"))","v":2},{"$f":"COUNTIF(INDIRECT(\"'Success Criteria'!\" & ADDRESS(76,A132+4)):INDIRECT(\"'Success Criteria'!\" & ADDRESS(119,A132+4)),\"NON conformant\")","v":0},{"$f":"COUNTIF(INDIRECT(\"'Success Criteria'!\" & ADDRESS(76,A132+4)):INDIRECT(\"'Success Criteria'!\" & ADDRESS(119,A132+4)),\"N/A\")","v":0},{"$f":"COUNTIF(INDIRECT(\"'Success Criteria'!\" & ADDRESS(76,A132+4)):INDIRECT(\"'Success Criteria'!\" & ADDRESS(119,A132+4)),\"not tested\")","v":0},{"$f":"SUM(COUNTIF(INDIRECT(\"'Success Criteria'!\" & ADDRESS(124,A132+4)):INDIRECT(\"'Success Criteria'!\" & ADDRESS(178,A132+4)),\"PASS\"),COUNTIF(INDIRECT(\"'Success Criteria'!\" & ADDRESS(124,A132+4)):INDIRECT(\"'Success Criteria'!\" & ADDRESS(178,A132+4)),\"PASS with comments\"))","v":0},{"$f":"COUNTIF(INDIRECT(\"'Success Criteria'!\" & ADDRESS(124,A132+4)):INDIRECT(\"'Success Criteria'!\" & ADDRESS(178,A132+4)),\"NON conformant\")","v":0},{"$f":"COUNTIF(INDIRECT(\"'Success Criteria'!\" & ADDRESS(124,A132+4)):INDIRECT(\"'Success Criteria'!\" & ADDRESS(178,A132+4)),\"N/A\")","v":0},{"$f":"COUNTIF(INDIRECT(\"'Success Criteria'!\" & ADDRESS(124,A132+4)):INDIRECT(\"'Success Criteria'!\" & ADDRESS(178,A132+4)),\"not tested\")","v":28},2,0,0,28,null,0,"",2,"",28,1]
[119,"Page 119","URL 119","Please select",{"$f":"SUM(COUNTIF(INDIRECT(\"'Success Criteria'!\" & ADDRESS(10,A133+4)):INDIRECT(\"'Success Criteria'!\" & ADDRESS(72,A133+4)),\"PASS\"),COUNTIF(INDIRECT(\"'Success Criteria'!\" & ADDRESS(10,A133+4)):INDIRECT(\"'Success Criteria'!\" & ADDRESS(72,A133+4)),\"PASS with comments\"))","v":0},{"$f":"COUNTIF(INDIRECT(\"'Success Criteria'!\" & ADDRESS(10,A133+4)):INDIRECT(\"'Success Criteria'!\" & ADDRESS(72,A133+4)),\"NON conformant\")","v":0},{"$f":"COUNTIF(INDIRECT(\"'Success Criteria'!\" & ADDRESS(10,A133+4)):INDIRECT(\"'Success Criteria'!\" & ADDRESS(72,A133+4)),\"N/A\")","v":0},{"$f":"COUNTIF(INDIRECT(\"'Success Criteria'!\" & ADDRESS(10,A133+4)):INDIRECT(\"'Success Criteria'!\" & ADDRESS(72,A133+4)),\"not tested\")","v":0},{"$f":"SUM(COUNTIF(INDIRECT(\"'Success Criteria'!\" & ADDRESS(76,A133+4)):INDIRECT(\"'Success Criteria'!\" & ADDRESS(119,A133+4)),\"PASS\"),COUNTIF(INDIRECT(\"'Success Criteria'!\" & ADDRESS(76,A133+4)):INDIRECT(\"'Success Criteria'!\" & ADDRESS(119,A133+4)),\"PASS with comments\"))","v":2},{"$f":"COUNTIF(INDIRECT(\"'Success Criteria'!\" & ADDRESS(76,A133+4)):INDIRECT(\"'Success Criteria'!\" & ADDRESS(119,A133+4)),\"NON conformant\")","v":0},{"$f":"COUNTIF(INDIRECT(\"'Success Criteria'!\" & ADDRESS(76,A133+4)):INDIRECT(\"'Success Criteria'!\" & ADDRESS(119,A133+4)),\"N/A\")","v":0},{"$f":"COUNTIF(INDIRECT(\"'Success Criteria'!\" & ADDRESS(76,A133+4)):INDIRECT(\"'Success Criteria'!\" & ADDRESS(119,A133+4)),\"not tested\")","v":0},{"$f":"SUM(COUNTIF(INDIRECT(\"'Success Criteria'!\" & ADDRESS(124,A133+4)):INDIRECT(\"'Success Criteria'!\" & ADDRESS(178,A133+4)),\"PASS\"),COUNTIF(INDIRECT(\"'Success Criteria'!\" & ADDRESS(124,A133+4)):INDIRECT(\"'Success Criteria'!\" & ADDRESS(178,A133+4)),\"PASS with comments\"))","v":0},{"$f":"COUNTIF(INDIRECT(\"'Success Criteria'!\" & ADDRESS(124,A133+4)):INDIRECT(\"'Success Criteria'!\" & ADDRESS(178,A133+4)),\"NON conformant\")","v":0},{"$f":"COUNTIF(INDIRECT(\"'Success Criteria'!\" & ADDRESS(124,A133+4)):INDIRECT(\"'Success Criteria'!\" & ADDRESS(178,A133+4)),\"N/A\")","v":0},{"$f":"COUNTIF(INDIRECT(\"'Success Criteria'!\" & ADDRESS(124,A133+4)):INDIRECT(\"'Success Criteria'!\" & ADDRESS(178,A133+4)),\"not tested\")","v":28},2,0,0,28,null,0,"",2,"",28,1]
[120,"Page 120","URL 120","Please select",{"$f":"SUM(COUNTIF(INDIRECT(\"'Success Criteria'!\" & ADDRESS(10,A134+4)):INDIRECT(\"'Success Criteria'!\" & ADDRESS(72,A134+4)),\"PASS\"),COUNTIF(INDIRECT(\"'Success Criteria'!\" & ADDRESS(10,A134+4)):INDIRECT(\"'Success Criteria'!\" & ADDRESS(72,A134+4)),\"PASS with comments\"))","v":0},{"$f":"COUNTIF(INDIRECT(\"'Success Criteria'!\" & ADDRESS(10,A134+4)):INDIRECT(\"'Success Criteria'!\" & ADDRESS(72,A134+4)),\"NON conformant\")","v":0},{"$f":"COUNTIF(INDIRECT(\"'Success Criteria'!\" & ADDRESS(10,A134+4)):INDIRECT(\"'Success Criteria'!\" & ADDRESS(72,A134+4)),\"N/A\")","v":0},{"$f":"COUNTIF(INDIRECT(\"'Success Criteria'!\" & ADDRESS(10,A134+4)):INDIRECT(\"'Success Criteria'!\" & ADDRESS(72,A134+4)),\"not tested\")","v":0},{"$f":"SUM(COUNTIF(INDIRECT(\"'Success Criteria'!\" & ADDRESS(76,A134+4)):INDIRECT(\"'Success Criteria'!\" & ADDRESS(119,A134+4)),\"PASS\"),COUNTIF(INDIRECT(\"'Success Criteria'!\" & ADDRESS(76,A134+4)):INDIRECT(\"'Success Criteria'!\" & ADDRESS(119,A134+4)),\"PASS with comments\"))","v":2},{"$f":"COUNTIF(INDIRECT(\"'Success Criteria'!\" & ADDRESS(76,A134+4)):INDIRECT(\"'Success Criteria'!\" & ADDRESS(119,A134+4)),\"NON conformant\")","v":0},{"$f":"COUNTIF(INDIRECT(\"'Success Criteria'!\" & ADDRESS(76,A134+4)):INDIRECT(\"'Success Criteria'!\" & ADDRESS(119,A134+4)),\"N/A\")","v":0},{"$f":"COUNTIF(INDIRECT(\"'Success Criteria'!\" & ADDRESS(76,A134+4)):INDIRECT(\"'Success Criteria'!\" & ADDRESS(119,A134+4)),\"not tested\")","v":0},{"$f":"SUM(COUNTIF(INDIRECT(\"'Success Criteria'!\" & ADDRESS(124,A134+4)):INDIRECT(\"'Success Criteria'!\" & ADDRESS(178,A134+4)),\"PASS\"),COUNTIF(INDIRECT(\"'Success Criteria'!\" & ADDRESS(124,A134+4)):INDIRECT(\"'Success Criteria'!\" & ADDRESS(178,A134+4)),\"PASS with comments\"))","v":0},{"$f":"COUNTIF(INDIRECT(\"'Success Criteria'!\" & ADDRESS(124,A134+4)):INDIRECT(\"'Success Criteria'!\" & ADDRESS(178,A134+4)),\"NON conformant\")","v":0},{"$f":"COUNTIF(INDIRECT(\"'Success Criteria'!\" & ADDRESS(124,A134+4)):INDIRECT(\"'Success Criteria'!\" & ADDRESS(178,A134+4)),\"N/A\")","v":0},{"$f":"COUNTIF(INDIRECT(\"'Success Criteria'!\" & ADDRESS(124,A134+4)):INDIRECT(\"'Success Criteria'!\" & ADDRESS(178,A134+4)),\"not tested\")","v":28},2,0,0,28,null,0,"",2,"",28,1]
[121,"Page 121","URL 121","Please select",{"$f":"SUM(COUNTIF(INDIRECT(\"'Success Criteria'!\" & ADDRESS(10,A135+4)):INDIRECT(\"'Success Criteria'!\" & ADDRESS(72,A135+4)),\"PASS\"),COUNTIF(INDIRECT(\"'Success Criteria'!\" & ADDRESS(10,A135+4)):INDIRECT(\"'Success Criteria'!\" & ADDRESS(72,A135+4)),\"PASS with comments\"))","v":0},{"$f":"COUNTIF(INDIRECT(\"'Success Criteria'!\" & ADDRESS(10,A135+4)):INDIRECT(\"'Success Criteria'!\" & ADDRESS(72,A135+4)),\"NON conformant\")","v":0},{"$f":"COUNTIF(INDIRECT(\"'Success Criteria'!\" & ADDRESS(10,A135+4)):INDIRECT(\"'Success Criteria'!\" & ADDRESS(72,A135+4)),\"N/A\")","v":0},{"$f":"COUNTIF(INDIRECT(\"'Success Criteria'!\" & ADDRESS(10,A135+4)):INDIRECT(\"'Success Criteria'!\" & ADDRESS(72,A135+4)),\"not tested\")","v":0},{"$f":"SUM(COUNTIF(INDIRECT(\"'Success Criteria'!\" & ADDRESS(76,A135+4)):INDIRECT(\"'Success Criteria'!\" & ADDRESS(119,A135+4)),\"PASS\"),COUNTIF(INDIRECT(\"'Success Criteria'!\" & ADDRESS(76,A135+4)):INDIRECT(\"'Success Criteria'!\" & ADDRESS(119,A135+4)),\"PASS with comments\"))","v":2},{"$f":"COUNTIF(INDIRECT(\"'Success Criteria'!\" & ADDRESS(76,A135+4)):INDIRECT(\"'Success Criteria'!\" & ADDRESS(119,A135+4)),\"NON conformant\")","v":0},{"$f":"COUNTIF(INDIRECT(\"'Success Criteria'!\" & ADDRESS(76,A135+4)):INDIRECT(\"'Success Criteria'!\" & ADDRESS(119,A135+4)),\"N/A\")","v":0},{"$f":"COUNTIF(INDIRECT(\"'Success Criteria'!\" & ADDRESS(76,A135+4)):INDIRECT(\"'Success Criteria'!\" & ADDRESS(119,A135+4)),\"not tested\")","v":0},{"$f":"SUM(COUNTIF(INDIRECT(\"'Success Criteria'!\" & ADDRESS(124,A135+4)):INDIRECT(\"'Success Criteria'!\" & ADDRESS(178,A135+4)),\"PASS\"),COUNTIF(INDIRECT(\"'Success Criteria'!\" & ADDRESS(124,A135+4)):INDIRECT(\"'Success Criteria'!\" & ADDRESS(178,A135+4)),\"PASS with comments\"))","v":0},{"$f":"COUNTIF(INDIRECT(\"'Success Criteria'!\" & ADDRESS(124,A135+4)):INDIRECT(\"'Success Criteria'!\" & ADDRESS(178,A135+4)),\"NON conformant\")","v":0},{"$f":"COUNTIF(INDIRECT(\"'Success Criteria'!\" & ADDRESS(124,A135+4)):INDIRECT(\"'Success Criteria'!\" & ADDRESS(178,A135+4)),\"N/A\")","v":0},{"$f":"COUNTIF(INDIRECT(\"'Success Criteria'!\" & ADDRESS(124,A135+4)):INDIRECT(\"'Success Criteria'!\" & ADDRESS(178,A135+4)),\"not tested\")","v":28},2,0,0,28,null,0,"",2,"",28,1]
[122,"Page 122","URL 122","Please select",{"$f":"SUM(COUNTIF(INDIRECT(\"'Success Criteria'!\" & ADDRESS(10,A136+4)):INDIRECT(\"'Success Criteria'!\" & ADDRESS(72,A136+4)),\"PASS\"),COUNTIF(INDIRECT(\"'Success Criteria'!\" & ADDRESS(10,A136+4)):INDIRECT(\"'Success Criteria'!\" & ADDRESS(72,A136+4)),\"PASS with comments\"))","v":0},{"$f":"COUNTIF(INDIRECT(\"'Success Criteria'!\" & ADDRESS(10,A136+4)):INDIRECT(\"'Success Criteria'!\" & ADDRESS(72,A136+4)),\"NON conformant\")","v":0},{"$f":"COUNTIF(INDIRECT(\"'Success Criteria'!\" & ADDRESS(10,A136+4)):INDIRECT(\"'Success Criteria'!\" & ADDRESS(72,A136+4)),\"N/A\")","v":0},{"$f":"COUNTIF(INDIRECT(\"'Success Criteria'!\" & ADDRESS(10,A136+4)):INDIRECT(\"'Success Criteria'!\" & ADDRESS(72,A136+4)),\"not tested\")","v":0},{"$f":"SUM(COUNTIF(INDIRECT(\"'Success Criteria'!\" & ADDRESS(76,A136+4)):INDIRECT(\"'Success Criteria'!\" & ADDRESS(119,A136+4)),\"PASS\"),COUNTIF(INDIRECT(\"'Success Criteria'!\" & ADDRESS(76,A136+4)):INDIRECT(\"'Success Criteria'!\" & ADDRESS(119,A136+4)),\"PASS with comments\"))","v":2},{"$f":"COUNTIF(INDIRECT(\"'Success Criteria'!\" & ADDRESS(76,A136+4)):INDIRECT(\"'Success Criteria'!\" & ADDRESS(119,A136+4)),\"NON conformant\")","v":0},{"$f":"COUNTIF(INDIRECT(\"'Success Criteria'!\" & ADDRESS(76,A136+4)):INDIRECT(\"'Success Criteria'!\" & ADDRESS(119,A136+4)),\"N/A\")","v":0},{"$f":"COUNTIF(INDIRECT(\"'Success Criteria'!\" & ADDRESS(76,A136+4)):INDIRECT(\"'Success Criteria'!\" & ADDRESS(119,A136+4)),\"not tested\")","v":0},{"$f":"SUM(COUNTIF(INDIRECT(\"'Success Criteria'!\" & ADDRESS(124,A136+4)):INDIRECT(\"'Success Criteria'!\" & ADDRESS(178,A136+4)),\"PASS\"),COUNTIF(INDIRECT(\"'Success Criteria'!\" & ADDRESS(124,A136+4)):INDIRECT(\"'Success Criteria'!\" & ADDRESS(178,A136+4)),\"PASS with comments\"))","v":0},{"$f":"COUNTIF(INDIRECT(\"'Success Criteria'!\" & ADDRESS(124,A136+4)):INDIRECT(\"'Success Criteria'!\" & ADDRESS(178,A136+4)),\"NON conformant\")","v":0},{"$f":"COUNTIF(INDIRECT(\"'Success Criteria'!\" & ADDRESS(124,A136+4)):INDIRECT(\"'Success Criteria'!\" & ADDRESS(178,A136+4)),\"N/A\")","v":0},{"$f":"COUNTIF(INDIRECT(\"'Success Criteria'!\" & ADDRESS(124,A136+4)):INDIRECT(\"'Success Criteria'!\" & ADDRESS(178,A136+4)),\"not tested\")","v":28},2,0,0,28,null,0,"",2,"",28,1]
[123,"Page 123","URL 123","Please select",{"$f":"SUM(COUNTIF(INDIRECT(\"'Success Criteria'!\" & ADDRESS(10,A137+4)):INDIRECT(\"'Success Criteria'!\" & ADDRESS(72,A137+4)),\"PASS\"),COUNTIF(INDIRECT(\"'Success Criteria'!\" & ADDRESS(10,A137+4)):INDIRECT(\"'Success Criteria'!\" & ADDRESS(72,A137+4)),\"PASS with comments\"))","v":0},{"$f":"COUNTIF(INDIRECT(\"'Success Criteria'!\" & ADDRESS(10,A137+4)):INDIRECT(\"'Success Criteria'!\" & ADDRESS(72,A137+4)),\"NON conformant\")","v":0},{"$f":"COUNTIF(INDIRECT(\"'Success Criteria'!\" & ADDRESS(10,A137+4)):INDIRECT(\"'Success Criteria'!\" & ADDRESS(72,A137+4)),\"N/A\")","v":0},{"$f":"COUNTIF(INDIRECT(\"'Success Criteria'!\" & ADDRESS(10,A137+4)):INDIRECT(\"'Success Criteria'!\" & ADDRESS(72,A137+4)),\"not tested\")","v":0},{"$f":"SUM(COUNTIF(INDIRECT(\"'Success Criteria'!\" & ADDRESS(76,A137+4)):INDIRECT(\"'Success Criteria'!\" & ADDRESS(119,A137+4)),\"PASS\"),COUNTIF(INDIRECT(\"'Success Criteria'!\" & ADDRESS(76,A137+4)):INDIRECT(\"'Success Criteria'!\" & ADDRESS(119,A137+4)),\"PASS with comments\"))","v":2},{"$f":"COUNTIF(INDIRECT(\"'Success Criteria'!\" & ADDRESS(76,A137+4)):INDIRECT(\"'Success Criteria'!\" & ADDRESS(119,A137+4)),\"NON conformant\")","v":0},{"$f":"COUNTIF(INDIRECT(\"'Success Criteria'!\" & ADDRESS(76,A137+4)):INDIRECT(\"'Success Criteria'!\" & ADDRESS(119,A137+4)),\"N/A\")","v":0},{"$f":"COUNTIF(INDIRECT(\"'Success Criteria'!\" & ADDRESS(76,A137+4)):INDIRECT(\"'Success Criteria'!\" & ADDRESS(119,A137+4)),\"not tested\")","v":0},{"$f":"SUM(COUNTIF(INDIRECT(\"'Success Criteria'!\" & ADDRESS(124,A137+4)):INDIRECT(\"'Success Criteria'!\" & ADDRESS(178,A137+4)),\"PASS\"),COUNTIF(INDIRECT(\"'Success Criteria'!\" & ADDRESS(124,A137+4)):INDIRECT(\"'Success Criteria'!\" & ADDRESS(178,A137+4)),\"PASS with comments\"))","v":0},{"$f":"COUNTIF(INDIRECT(\"'Success Criteria'!\" & ADDRESS(124,A137+4)):INDIRECT(\"'Success Criteria'!\" & ADDRESS(178,A137+4)),\"NON conformant\")","v":0},{"$f":"COUNTIF(INDIRECT(\"'Success Criteria'!\" & ADDRESS(124,A137+4)):INDIRECT(\"'Success Criteria'!\" & ADDRESS(178,A137+4)),\"N/A\")","v":0},{"$f":"COUNTIF(INDIRECT(\"'Success Criteria'!\" & ADDRESS(124,A137+4)):INDIRECT(\"'Success Criteria'!\" & ADDRESS(178,A137+4)),\"not tested\")","v":28},2,0,0,28,null,0,"",2,"",28,1]
[124,"Page 124","URL 124","Please select",{"$f":"SUM(COUNTIF(INDIRECT(\"'Success Criteria'!\" & ADDRESS(10,A138+4)):INDIRECT(\"'Success Criteria'!\" & ADDRESS(72,A138+4)),\"PASS\"),COUNTIF(INDIRECT(\"'Success Criteria'!\" & ADDRESS(10,A138+4)):INDIRECT(\"'Success Criteria'!\" & ADDRESS(72,A138+4)),\"PASS with comments\"))","v":0},{"$f":"COUNTIF(INDIRECT(\"'Success Criteria'!\" & ADDRESS(10,A138+4)):INDIRECT(\"'Success Criteria'!\" & ADDRESS(72,A138+4)),\"NON conformant\")","v":0},{"$f":"COUNTIF(INDIRECT(\"'Success Criteria'!\" & ADDRESS(10,A138+4)):INDIRECT(\"'Success Criteria'!\" & ADDRESS(72,A138+4)),\"N/A\")","v":0},{"$f":"COUNTIF(INDIRECT(\"'Success Criteria'!\" & ADDRESS(10,A138+4)):INDIRECT(\"'Success Criteria'!\" & ADDRESS(72,A138+4)),\"not tested\")","v":0},{"$f":"SUM(COUNTIF(INDIRECT(\"'Success Criteria'!\" & ADDRESS(76,A138+4)):INDIRECT(\"'Success Criteria'!\" & ADDRESS(119,A138+4)),\"PASS\"),COUNTIF(INDIRECT(\"'Success Criteria'!\" & ADDRESS(76,A138+4)):INDIRECT(\"'Success Criteria'!\" & ADDRESS(119,A138+4)),\"PASS with comments\"))","v":2},{"$f":"COUNTIF(INDIRECT(\"'Success Criteria'!\" & ADDRESS(76,A138+4)):INDIRECT(\"'Success Criteria'!\" & ADDRESS(119,A138+4)),\"NON conformant\")","v":0},{"$f":"COUNTIF(INDIRECT(\"'Success Criteria'!\" & ADDRESS(76,A138+4)):INDIRECT(\"'Success Criteria'!\" & ADDRESS(119,A138+4)),\"N/A\")","v":0},{"$f":"COUNTIF(INDIRECT(\"'Success Criteria'!\" & ADDRESS(76,A138+4)):INDIRECT(\"'Success Criteria'!\" & ADDRESS(119,A138+4)),\"not tested\")","v":0},{"$f":"SUM(COUNTIF(INDIRECT(\"'Success Criteria'!\" & ADDRESS(124,A138+4)):INDIRECT(\"'Success Criteria'!\" & ADDRESS(178,A138+4)),\"PASS\"),COUNTIF(INDIRECT(\"'Success Criteria'!\" & ADDRESS(124,A138+4)):INDIRECT(\"'Success Criteria'!\" & ADDRESS(178,A138+4)),\"PASS with comments\"))","v":0},{"$f":"COUNTIF(INDIRECT(\"'Success Criteria'!\" & ADDRESS(124,A138+4)):INDIRECT(\"'Success Criteria'!\" & ADDRESS(178,A138+4)),\"NON conformant\")","v":0},{"$f":"COUNTIF(INDIRECT(\"'Success Criteria'!\" & ADDRESS(124,A138+4)):INDIRECT(\"'Success Criteria'!\" & ADDRESS(178,A138+4)),\"N/A\")","v":0},{"$f":"COUNTIF(INDIRECT(\"'Success Criteria'!\" & ADDRESS(124,A138+4)):INDIRECT(\"'Success Criteria'!\" & ADDRESS(178,A138+4)),\"not tested\")","v":28},2,0,0,28,null,0,"",2,"",28,1]
[125,"Page 125","URL 125","Please select",{"$f":"SUM(COUNTIF(INDIRECT(\"'Success Criteria'!\" & ADDRESS(10,A139+4)):INDIRECT(\"'Success Criteria'!\" & ADDRESS(72,A139+4)),\"PASS\"),COUNTIF(INDIRECT(\"'Success Criteria'!\" & ADDRESS(10,A139+4)):INDIRECT(\"'Success Criteria'!\" & ADDRESS(72,A139+4)),\"PASS with comments\"))","v":0},{"$f":"COUNTIF(INDIRECT(\"'Success Criteria'!\" & ADDRESS(10,A139+4)):INDIRECT(\"'Success Criteria'!\" & ADDRESS(72,A139+4)),\"NON conformant\")","v":0},{"$f":"COUNTIF(INDIRECT(\"'Success Criteria'!\" & ADDRESS(10,A139+4)):INDIRECT(\"'Success Criteria'!\" & ADDRESS(72,A139+4)),\"N/A\")","v":0},{"$f":"COUNTIF(INDIRECT(\"'Success Criteria'!\" & ADDRESS(10,A139+4)):INDIRECT(\"'Success Criteria'!\" & ADDRESS(72,A139+4)),\"not tested\")","v":0},{"$f":"SUM(COUNTIF(INDIRECT(\"'Success Criteria'!\" & ADDRESS(76,A139+4)):INDIRECT(\"'Success Criteria'!\" & ADDRESS(119,A139+4)),\"PASS\"),COUNTIF(INDIRECT(\"'Success Criteria'!\" & ADDRESS(76,A139+4)):INDIRECT(\"'Success Criteria'!\" & ADDRESS(119,A139+4)),\"PASS with comments\"))","v":2},{"$f":"COUNTIF(INDIRECT(\"'Success Criteria'!\" & ADDRESS(76,A139+4)):INDIRECT(\"'Success Criteria'!\" & ADDRESS(119,A139+4)),\"NON conformant\")","v":0},{"$f":"COUNTIF(INDIRECT(\"'Success Criteria'!\" & ADDRESS(76,A139+4)):INDIRECT(\"'Success Criteria'!\" & ADDRESS(119,A139+4)),\"N/A\")","v":0},{"$f":"COUNTIF(INDIRECT(\"'Success Criteria'!\" & ADDRESS(76,A139+4)):INDIRECT(\"'Success Criteria'!\" & ADDRESS(119,A139+4)),\"not tested\")","v":0},{"$f":"SUM(COUNTIF(INDIRECT(\"'Success Criteria'!\" & ADDRESS(124,A139+4)):INDIRECT(\"'Success Criteria'!\" & ADDRESS(178,A139+4)),\"PASS\"),COUNTIF(INDIRECT(\"'Success Criteria'!\" & ADDRESS(124,A139+4)):INDIRECT(\"'Success Criteria'!\" & ADDRESS(178,A139+4)),\"PASS with comments\"))","v":0},{"$f":"COUNTIF(INDIRECT(\"'Success Criteria'!\" & ADDRESS(124,A139+4)):INDIRECT(\"'Success Criteria'!\" & ADDRESS(178,A139+4)),\"NON conformant\")","v":0},{"$f":"COUNTIF(INDIRECT(\"'Success Criteria'!\" & ADDRESS(124,A139+4)):INDIRECT(\"'Success Criteria'!\" & ADDRESS(178,A139+4)),\"N/A\")","v":0},{"$f":"COUNTIF(INDIRECT(\"'Success Criteria'!\" & ADDRESS(124,A139+4)):INDIRECT(\"'Success Criteria'!\" & ADDRESS(178,A139+4)),\"not tested\")","v":28},2,0,0,28,null,0,"",2,"",28,1]
[126,"Page 126","URL 126","Please select",{"$f":"SUM(COUNTIF(INDIRECT(\"'Success Criteria'!\" & ADDRESS(10,A140+4)):INDIRECT(\"'Success Criteria'!\" & ADDRESS(72,A140+4)),\"PASS\"),COUNTIF(INDIRECT(\"'Success Criteria'!\" & ADDRESS(10,A140+4)):INDIRECT(\"'Success Criteria'!\" & ADDRESS(72,A140+4)),\"PASS with comments\"))","v":0},{"$f":"COUNTIF(INDIRECT(\"'Success Criteria'!\" & ADDRESS(10,A140+4)):INDIRECT(\"'Success Criteria'!\" & ADDRESS(72,A140+4)),\"NON conformant\")","v":0},{"$f":"COUNTIF(INDIRECT(\"'Success Criteria'!\" & ADDRESS(10,A140+4)):INDIRECT(\"'Success Criteria'!\" & ADDRESS(72,A140+4)),\"N/A\")","v":0},{"$f":"COUNTIF(INDIRECT(\"'Success Criteria'!\" & ADDRESS(10,A140+4)):INDIRECT(\"'Success Criteria'!\" & ADDRESS(72,A140+4)),\"not tested\")","v":0},{"$f":"SUM(COUNTIF(INDIRECT(\"'Success Criteria'!\" & ADDRESS(76,A140+4)):INDIRECT(\"'Success Criteria'!\" & ADDRESS(119,A140+4)),\"PASS\"),COUNTIF(INDIRECT(\"'Success Criteria'!\" & ADDRESS(76,A140+4)):INDIRECT(\"'Success Criteria'!\" & ADDRESS(119,A140+4)),\"PASS with comments\"))","v":2},{"$f":"COUNTIF(INDIRECT(\"'Success Criteria'!\" & ADDRESS(76,A140+4)):INDIRECT(\"'Success Criteria'!\" & ADDRESS(119,A140+4)),\"NON conformant\")","v":0},{"$f":"COUNTIF(INDIRECT(\"'Success Criteria'!\" & ADDRESS(76,A140+4)):INDIRECT(\"'Success Criteria'!\" & ADDRESS(119,A140+4)),\"N/A\")","v":0},{"$f":"COUNTIF(INDIRECT(\"'Success Criteria'!\" & ADDRESS(76,A140+4)):INDIRECT(\"'Success Criteria'!\" & ADDRESS(119,A140+4)),\"not tested\")","v":0},{"$f":"SUM(COUNTIF(INDIRECT(\"'Success Criteria'!\" & ADDRESS(124,A140+4)):INDIRECT(\"'Success Criteria'!\" & ADDRESS(178,A140+4)),\"PASS\"),COUNTIF(INDIRECT(\"'Success Criteria'!\" & ADDRESS(124,A140+4)):INDIRECT(\"'Success Criteria'!\" & ADDRESS(178,A140+4)),\"PASS with comments\"))","v":0},{"$f":"COUNTIF(INDIRECT(\"'Success Criteria'!\" & ADDRESS(124,A140+4)):INDIRECT(\"'Success Criteria'!\" & ADDRESS(178,A140+4)),\"NON conformant\")","v":0},{"$f":"COUNTIF(INDIRECT(\"'Success Criteria'!\" & ADDRESS(124,A140+4)):INDIRECT(\"'Success Criteria'!\" & ADDRESS(178,A140+4)),\"N/A\")","v":0},{"$f":"COUNTIF(INDIRECT(\"'Success Criteria'!\" & ADDRESS(124,A140+4)):INDIRECT(\"'Success Criteria'!\" & ADDRESS(178,A140+4)),\"not tested\")","v":28},2,0,0,28,null,0,"",2,"",28,1]
[127,"Page 127","URL 127","Please select",{"$f":"SUM(COUNTIF(INDIRECT(\"'Success Criteria'!\" & ADDRESS(10,A141+4)):INDIRECT(\"'Success Criteria'!\" & ADDRESS(72,A141+4)),\"PASS\"),COUNTIF(INDIRECT(\"'Success Criteria'!\" & ADDRESS(10,A141+4)):INDIRECT(\"'Success Criteria'!\" & ADDRESS(72,A141+4)),\"PASS with comments\"))","v":0},{"$f":"COUNTIF(INDIRECT(\"'Success Criteria'!\" & ADDRESS(10,A141+4)):INDIRECT(\"'Success Criteria'!\" & ADDRESS(72,A141+4)),\"NON conformant\")","v":0},{"$f":"COUNTIF(INDIRECT(\"'Success Criteria'!\" & ADDRESS(10,A141+4)):INDIRECT(\"'Success Criteria'!\" & ADDRESS(72,A141+4)),\"N/A\")","v":0},{"$f":"COUNTIF(INDIRECT(\"'Success Criteria'!\" & ADDRESS(10,A141+4)):INDIRECT(\"'Success Criteria'!\" & ADDRESS(72,A141+4)),\"not tested\")","v":0},{"$f":"SUM(COUNTIF(INDIRECT(\"'Success Criteria'!\" & ADDRESS(76,A141+4)):INDIRECT(\"'Success Criteria'!\" & ADDRESS(119,A141+4)),\"PASS\"),COUNTIF(INDIRECT(\"'Success Criteria'!\" & ADDRESS(76,A141+4)):INDIRECT(\"'Success Criteria'!\" & ADDRESS(119,A141+4)),\"PASS with comments\"))","v":2},{"$f":"COUNTIF(INDIRECT(\"'Success Criteria'!\" & ADDRESS(76,A141+4)):INDIRECT(\"'Success Criteria'!\" & ADDRESS(119,A141+4)),\"NON conformant\")","v":0},{"$f":"COUNTIF(INDIRECT(\"'Success Criteria'!\" & ADDRESS(76,A141+4)):INDIRECT(\"'Success Criteria'!\" & ADDRESS(119,A141+4)),\"N/A\")","v":0},{"$f":"COUNTIF(INDIRECT(\"'Success Criteria'!\" & ADDRESS(76,A141+4)):INDIRECT(\"'Success Criteria'!\" & ADDRESS(119,A141+4)),\"not tested\")","v":0},{"$f":"SUM(COUNTIF(INDIRECT(\"'Success Criteria'!\" & ADDRESS(124,A141+4)):INDIRECT(\"'Success Criteria'!\" & ADDRESS(178,A141+4)),\"PASS\"),COUNTIF(INDIRECT(\"'Success Criteria'!\" & ADDRESS(124,A141+4)):INDIRECT(\"'Success Criteria'!\" & ADDRESS(178,A141+4)),\"PASS with comments\"))","v":0},{"$f":"COUNTIF(INDIRECT(\"'Success Criteria'!\" & ADDRESS(124,A141+4)):INDIRECT(\"'Success Criteria'!\" & ADDRESS(178,A141+4)),\"NON conformant\")","v":0},{"$f":"COUNTIF(INDIRECT(\"'Success Criteria'!\" & ADDRESS(124,A141+4)):INDIRECT(\"'Success Criteria'!\" & ADDRESS(178,A141+4)),\"N/A\")","v":0},{"$f":"COUNTIF(INDIRECT(\"'Success Criteria'!\" & ADDRESS(124,A141+4)):INDIRECT(\"'Success Criteria'!\" & ADDRESS(178,A141+4)),\"not tested\")","v":28},2,0,0,28,null,0,"",2,"",28,1]
[128,"Page 128","URL 128","Please select",{"$f":"SUM(COUNTIF(INDIRECT(\"'Success Criteria'!\" & ADDRESS(10,A142+4)):INDIRECT(\"'Success Criteria'!\" & ADDRESS(72,A142+4)),\"PASS\"),COUNTIF(INDIRECT(\"'Success Criteria'!\" & ADDRESS(10,A142+4)):INDIRECT(\"'Success Criteria'!\" & ADDRESS(72,A142+4)),\"PASS with comments\"))","v":0},{"$f":"COUNTIF(INDIRECT(\"'Success Criteria'!\" & ADDRESS(10,A142+4)):INDIRECT(\"'Success Criteria'!\" & ADDRESS(72,A142+4)),\"NON conformant\")","v":0},{"$f":"COUNTIF(INDIRECT(\"'Success Criteria'!\" & ADDRESS(10,A142+4)):INDIRECT(\"'Success Criteria'!\" & ADDRESS(72,A142+4)),\"N/A\")","v":0},{"$f":"COUNTIF(INDIRECT(\"'Success Criteria'!\" & ADDRESS(10,A142+4)):INDIRECT(\"'Success Criteria'!\" & ADDRESS(72,A142+4)),\"not tested\")","v":0},{"$f":"SUM(COUNTIF(INDIRECT(\"'Success Criteria'!\" & ADDRESS(76,A142+4)):INDIRECT(\"'Success Criteria'!\" & ADDRESS(119,A142+4)),\"PASS\"),COUNTIF(INDIRECT(\"'Success Criteria'!\" & ADDRESS(76,A142+4)):INDIRECT(\"'Success Criteria'!\" & ADDRESS(119,A142+4)),\"PASS with comments\"))","v":2},{"$f":"COUNTIF(INDIRECT(\"'Success Criteria'!\" & ADDRESS(76,A142+4)):INDIRECT(\"'Success Criteria'!\" & ADDRESS(119,A142+4)),\"NON conformant\")","v":0},{"$f":"COUNTIF(INDIRECT(\"'Success Criteria'!\" & ADDRESS(76,A142+4)):INDIRECT(\"'Success Criteria'!\" & ADDRESS(119,A142+4)),\"N/A\")","v":0},{"$f":"COUNTIF(INDIRECT(\"'Success Criteria'!\" & ADDRESS(76,A142+4)):INDIRECT(\"'Success Criteria'!\" & ADDRESS(119,A142+4)),\"not tested\")","v":0},{"$f":"SUM(COUNTIF(INDIRECT(\"'Success Criteria'!\" & ADDRESS(124,A142+4)):INDIRECT(\"'Success Criteria'!\" & ADDRESS(178,A142+4)),\"PASS\"),COUNTIF(INDIRECT(\"'Success Criteria'!\" & ADDRESS(124,A142+4)):INDIRECT(\"'Success Criteria'!\" & ADDRESS(178,A142+4)),\"PASS with comments\"))","v":0},{"$f":"COUNTIF(INDIRECT(\"'Success Criteria'!\" & ADDRESS(124,A142+4)):INDIRECT(\"'Success Criteria'!\" & ADDRESS(178,A142+4)),\"NON conformant\")","v":0},{"$f":"COUNTIF(INDIRECT(\"'Success Criteria'!\" & ADDRESS(124,A142+4)):INDIRECT(\"'Success Criteria'!\" & ADDRESS(178,A142+4)),\"N/A\")","v":0},{"$f":"COUNTIF(INDIRECT(\"'Success Criteria'!\" & ADDRESS(124,A142+4)):INDIRECT(\"'Success Criteria'!\" & ADDRESS(178,A142+4)),\"not tested\")","v":28},2,0,0,28,null,0,"",2,"",28,1]
[129,"Page 129","URL 129","Please select",{"$f":"SUM(COUNTIF(INDIRECT(\"'Success Criteria'!\" & ADDRESS(10,A143+4)):INDIRECT(\"'Success Criteria'!\" & ADDRESS(72,A143+4)),\"PASS\"),COUNTIF(INDIRECT(\"'Success Criteria'!\" & ADDRESS(10,A143+4)):INDIRECT(\"'Success Criteria'!\" & ADDRESS(72,A143+4)),\"PASS with comments\"))","v":0},{"$f":"COUNTIF(INDIRECT(\"'Success Criteria'!\" & ADDRESS(10,A143+4)):INDIRECT(\"'Success Criteria'!\" & ADDRESS(72,A143+4)),\"NON conformant\")","v":0},{"$f":"COUNTIF(INDIRECT(\"'Success Criteria'!\" & ADDRESS(10,A143+4)):INDIRECT(\"'Success Criteria'!\" & ADDRESS(72,A143+4)),\"N/A\")","v":0},{"$f":"COUNTIF(INDIRECT(\"'Success Criteria'!\" & ADDRESS(10,A143+4)):INDIRECT(\"'Success Criteria'!\" & ADDRESS(72,A143+4)),\"not tested\")","v":0},{"$f":"SUM(COUNTIF(INDIRECT(\"'Success Criteria'!\" & ADDRESS(76,A143+4)):INDIRECT(\"'Success Criteria'!\" & ADDRESS(119,A143+4)),\"PASS\"),COUNTIF(INDIRECT(\"'Success Criteria'!\" & ADDRESS(76,A143+4)):INDIRECT(\"'Success Criteria'!\" & ADDRESS(119,A143+4)),\"PASS with comments\"))","v":2},{"$f":"COUNTIF(INDIRECT(\"'Success Criteria'!\" & ADDRESS(76,A143+4)):INDIRECT(\"'Success Criteria'!\" & ADDRESS(119,A143+4)),\"NON conformant\")","v":0},{"$f":"COUNTIF(INDIRECT(\"'Success Criteria'!\" & ADDRESS(76,A143+4)):INDIRECT(\"'Success Criteria'!\" & ADDRESS(119,A143+4)),\"N/A\")","v":0},{"$f":"COUNTIF(INDIRECT(\"'Success Criteria'!\" & ADDRESS(76,A143+4)):INDIRECT(\"'Success Criteria'!\" & ADDRESS(119,A143+4)),\"not tested\")","v":0},{"$f":"SUM(COUNTIF(INDIRECT(\"'Success Criteria'!\" & ADDRESS(124,A143+4)):INDIRECT(\"'Success Criteria'!\" & ADDRESS(178,A143+4)),\"PASS\"),COUNTIF(INDIRECT(\"'Success Criteria'!\" & ADDRESS(124,A143+4)):INDIRECT(\"'Success Criteria'!\" & ADDRESS(178,A143+4)),\"PASS with comments\"))","v":0},{"$f":"COUNTIF(INDIRECT(\"'Success Criteria'!\" & ADDRESS(124,A143+4)):INDIRECT(\"'Success Criteria'!\" & ADDRESS(178,A143+4)),\"NON conformant\")","v":0},{"$f":"COUNTIF(INDIRECT(\"'Success Criteria'!\" & ADDRESS(124,A143+4)):INDIRECT(\"'Success Criteria'!\" & ADDRESS(178,A143+4)),\"N/A\")","v":0},{"$f":"COUNTIF(INDIRECT(\"'Success Criteria'!\" & ADDRESS(124,A143+4)):INDIRECT(\"'Success Criteria'!\" & ADDRESS(178,A143+4)),\"not tested\")","v":28},2,0,0,28,null,0,"",2,"",28,1]
[{"$f":"HYPERLINK(\"#'Success Criteria'!\"&ADDRESS(1,ROW()-10,4),ROW()-14)","v":130},"Page 130","URL 130","Please select",{"$f":"SUM(COUNTIF(INDIRECT(\"'Success Criteria'!\" & ADDRESS(10,A144+4)):INDIRECT(\"'Success Criteria'!\" & ADDRESS(72,A144+4)),\"PASS\"),COUNTIF(INDIRECT(\"'Success Criteria'!\" & ADDRESS(10,A144+4)):INDIRECT(\"'Success Criteria'!\" & ADDRESS(72,A144+4)),\"PASS with comments\"))","v":0},{"$f":"COUNTIF(INDIRECT(\"'Success Criteria'!\" & ADDRESS(10,A144+4)):INDIRECT(\"'Success Criteria'!\" & ADDRESS(72,A144+4)),\"NON conformant\")","v":0},{"$f":"COUNTIF(INDIRECT(\"'Success Criteria'!\" & ADDRESS(10,A144+4)):INDIRECT(\"'Success Criteria'!\" & ADDRESS(72,A144+4)),\"N/A\")","v":0},{"$f":"COUNTIF(INDIRECT(\"'Success Criteria'!\" & ADDRESS(10,A144+4)):INDIRECT(\"'Success Criteria'!\" & ADDRESS(72,A144+4)),\"not tested\")","v":0},{"$f":"SUM(COUNTIF(INDIRECT(\"'Success Criteria'!\" & ADDRESS(76,A144+4)):INDIRECT(\"'Success Criteria'!\" & ADDRESS(119,A144+4)),\"PASS\"),COUNTIF(INDIRECT(\"'Success Criteria'!\" & ADDRESS(76,A144+4)):INDIRECT(\"'Success Criteria'!\" & ADDRESS(119,A144+4)),\"PASS with comments\"))","v":2},{"$f":"COUNTIF(INDIRECT(\"'Success Criteria'!\" & ADDRESS(76,A144+4)):INDIRECT(\"'Success Criteria'!\" & ADDRESS(119,A144+4)),\"NON conformant\")","v":0},{"$f":"COUNTIF(INDIRECT(\"'Success Criteria'!\" & ADDRESS(76,A144+4)):INDIRECT(\"'Success Criteria'!\" & ADDRESS(119,A144+4)),\"N/A\")","v":0},{"$f":"COUNTIF(INDIRECT(\"'Success Criteria'!\" & ADDRESS(76,A144+4)):INDIRECT(\"'Success Criteria'!\" & ADDRESS(119,A144+4)),\"not tested\")","v":0},{"$f":"SUM(COUNTIF(INDIRECT(\"'Success Criteria'!\" & ADDRESS(124,A144+4)):INDIRECT(\"'Success Criteria'!\" & ADDRESS(178,A144+4)),\"PASS\"),COUNTIF(INDIRECT(\"'Success Criteria'!\" & ADDRESS(124,A144+4)):INDIRECT(\"'Success Criteria'!\" & ADDRESS(178,A144+4)),\"PASS with comments\"))","v":0},{"$f":"COUNTIF(INDIRECT(\"'Success Criteria'!\" & ADDRESS(124,A144+4)):INDIRECT(\"'Success Criteria'!\" & ADDRESS(178,A144+4)),\"NON conformant\")","v":0},{"$f":"COUNTIF(INDIRECT(\"'Success Criteria'!\" & ADDRESS(124,A144+4)):INDIRECT(\"'Success Criteria'!\" & ADDRESS(178,A144+4)),\"N/A\")","v":0},{"$f":"COUNTIF(INDIRECT(\"'Success Criteria'!\" & ADDRESS(124,A144+4)):INDIRECT(\"'Success Criteria'!\" & ADDRESS(178,A144+4)),\"not tested\")","v":28},{"$f":"SUM(E144+I144+M144)","v":2},0,0,28,null,0,"",{"$f":"SUM($I144:$L144)","v":2},"",{"$f":"SUM($M144:$P144)","v":28},1]
[131,"Page 131","URL 131","Please select",{"$f":"SUM(COUNTIF(INDIRECT(\"'Success Criteria'!\" & ADDRESS(10,A145+4)):INDIRECT(\"'Success Criteria'!\" & ADDRESS(72,A145+4)),\"PASS\"),COUNTIF(INDIRECT(\"'Success Criteria'!\" & ADDRESS(10,A145+4)):INDIRECT(\"'Success Criteria'!\" & ADDRESS(72,A145+4)),\"PASS with comments\"))","v":0},{"$f":"COUNTIF(INDIRECT(\"'Success Criteria'!\" & ADDRESS(10,A145+4)):INDIRECT(\"'Success Criteria'!\" & ADDRESS(72,A145+4)),\"NON conformant\")","v":0},{"$f":"COUNTIF(INDIRECT(\"'Success Criteria'!\" & ADDRESS(10,A145+4)):INDIRECT(\"'Success Criteria'!\" & ADDRESS(72,A145+4)),\"N/A\")","v":0},{"$f":"COUNTIF(INDIRECT(\"'Success Criteria'!\" & ADDRESS(10,A145+4)):INDIRECT(\"'Success Criteria'!\" & ADDRESS(72,A145+4)),\"not tested\")","v":0},{"$f":"SUM(COUNTIF(INDIRECT(\"'Success Criteria'!\" & ADDRESS(76,A145+4)):INDIRECT(\"'Success Criteria'!\" & ADDRESS(119,A145+4)),\"PASS\"),COUNTIF(INDIRECT(\"'Success Criteria'!\" & ADDRESS(76,A145+4)):INDIRECT(\"'Success Criteria'!\" & ADDRESS(119,A145+4)),\"PASS with comments\"))","v":2},{"$f":"COUNTIF(INDIRECT(\"'Success Criteria'!\" & ADDRESS(76,A145+4)):INDIRECT(\"'Success Criteria'!\" & ADDRESS(119,A145+4)),\"NON conformant\")","v":0},{"$f":"COUNTIF(INDIRECT(\"'Success Criteria'!\" & ADDRESS(76,A145+4)):INDIRECT(\"'Success Criteria'!\" & ADDRESS(119,A145+4)),\"N/A\")","v":0},{"$f":"COUNTIF(INDIRECT(\"'Success Criteria'!\" & ADDRESS(76,A145+4)):INDIRECT(\"'Success Criteria'!\" & ADDRESS(119,A145+4)),\"not tested\")","v":0},{"$f":"SUM(COUNTIF(INDIRECT(\"'Success Criteria'!\" & ADDRESS(124,A145+4)):INDIRECT(\"'Success Criteria'!\" & ADDRESS(178,A145+4)),\"PASS\"),COUNTIF(INDIRECT(\"'Success Criteria'!\" & ADDRESS(124,A145+4)):INDIRECT(\"'Success Criteria'!\" & ADDRESS(178,A145+4)),\"PASS with comments\"))","v":0},{"$f":"COUNTIF(INDIRECT(\"'Success Criteria'!\" & ADDRESS(124,A145+4)):INDIRECT(\"'Success Criteria'!\" & ADDRESS(178,A145+4)),\"NON conformant\")","v":0},{"$f":"COUNTIF(INDIRECT(\"'Success Criteria'!\" & ADDRESS(124,A145+4)):INDIRECT(\"'Success Criteria'!\" & ADDRESS(178,A145+4)),\"N/A\")","v":0},{"$f":"COUNTIF(INDIRECT(\"'Success Criteria'!\" & ADDRESS(124,A145+4)):INDIRECT(\"'Success Criteria'!\" & ADDRESS(178,A145+4)),\"not tested\")","v":28},2,0,0,28,null,0,"",2,"",28,1]
[132,"Page 132","URL 132","Please select",{"$f":"SUM(COUNTIF(INDIRECT(\"'Success Criteria'!\" & ADDRESS(10,A146+4)):INDIRECT(\"'Success Criteria'!\" & ADDRESS(72,A146+4)),\"PASS\"),COUNTIF(INDIRECT(\"'Success Criteria'!\" & ADDRESS(10,A146+4)):INDIRECT(\"'Success Criteria'!\" & ADDRESS(72,A146+4)),\"PASS with comments\"))","v":0},{"$f":"COUNTIF(INDIRECT(\"'Success Criteria'!\" & ADDRESS(10,A146+4)):INDIRECT(\"'Success Criteria'!\" & ADDRESS(72,A146+4)),\"NON conformant\")","v":0},{"$f":"COUNTIF(INDIRECT(\"'Success Criteria'!\" & ADDRESS(10,A146+4)):INDIRECT(\"'Success Criteria'!\" & ADDRESS(72,A146+4)),\"N/A\")","v":0},{"$f":"COUNTIF(INDIRECT(\"'Success Criteria'!\" & ADDRESS(10,A146+4)):INDIRECT(\"'Success Criteria'!\" & ADDRESS(72,A146+4)),\"not tested\")","v":0},{"$f":"SUM(COUNTIF(INDIRECT(\"'Success Criteria'!\" & ADDRESS(76,A146+4)):INDIRECT(\"'Success Criteria'!\" & ADDRESS(119,A146+4)),\"PASS\"),COUNTIF(INDIRECT(\"'Success Criteria'!\" & ADDRESS(76,A146+4)):INDIRECT(\"'Success Criteria'!\" & ADDRESS(119,A146+4)),\"PASS with comments\"))","v":2},{"$f":"COUNTIF(INDIRECT(\"'Success Criteria'!\" & ADDRESS(76,A146+4)):INDIRECT(\"'Success Criteria'!\" & ADDRESS(119,A146+4)),\"NON conformant\")","v":0},{"$f":"COUNTIF(INDIRECT(\"'Success Criteria'!\" & ADDRESS(76,A146+4)):INDIRECT(\"'Success Criteria'!\" & ADDRESS(119,A146+4)),\"N/A\")","v":0},{"$f":"COUNTIF(INDIRECT(\"'Success Criteria'!\" & ADDRESS(76,A146+4)):INDIRECT(\"'Success Criteria'!\" & ADDRESS(119,A146+4)),\"not tested\")","v":0},{"$f":"SUM(COUNTIF(INDIRECT(\"'Success Criteria'!\" & ADDRESS(124,A146+4)):INDIRECT(\"'Success Criteria'!\" & ADDRESS(178,A146+4)),\"PASS\"),COUNTIF(INDIRECT(\"'Success Criteria'!\" & ADDRESS(124,A146+4)):INDIRECT(\"'Success Criteria'!\" & ADDRESS(178,A146+4)),\"PASS with comments\"))","v":0},{"$f":"COUNTIF(INDIRECT(\"'Success Criteria'!\" & ADDRESS(124,A146+4)):INDIRECT(\"'Success Criteria'!\" & ADDRESS(178,A146+4)),\"NON conformant\")","v":0},{"$f":"COUNTIF(INDIRECT(\"'Success Criteria'!\" & ADDRESS(124,A146+4)):INDIRECT(\"'Success Criteria'!\" & ADDRESS(178,A146+4)),\"N/A\")","v":0},{"$f":"COUNTIF(INDIRECT(\"'Success Criteria'!\" & ADDRESS(124,A146+4)):INDIRECT(\"'Success Criteria'!\" & ADDRESS(178,A146+4)),\"not tested\")","v":28},2,0,0,28,null,0,"",2,"",28,1]
[133,"Page 133","URL 133","Please select",{"$f":"SUM(COUNTIF(INDIRECT(\"'Success Criteria'!\" & ADDRESS(10,A147+4)):INDIRECT(\"'Success Criteria'!\" & ADDRESS(72,A147+4)),\"PASS\"),COUNTIF(INDIRECT(\"'Success Criteria'!\" & ADDRESS(10,A147+4)):INDIRECT(\"'Success Criteria'!\" & ADDRESS(72,A147+4)),\"PASS with comments\"))","v":0},{"$f":"COUNTIF(INDIRECT(\"'Success Criteria'!\" & ADDRESS(10,A147+4)):INDIRECT(\"'Success Criteria'!\" & ADDRESS(72,A147+4)),\"NON conformant\")","v":0},{"$f":"COUNTIF(INDIRECT(\"'Success Criteria'!\" & ADDRESS(10,A147+4)):INDIRECT(\"'Success Criteria'!\" & ADDRESS(72,A147+4)),\"N/A\")","v":0},{"$f":"COUNTIF(INDIRECT(\"'Success Criteria'!\" & ADDRESS(10,A147+4)):INDIRECT(\"'Success Criteria'!\" & ADDRESS(72,A147+4)),\"not tested\")","v":0},{"$f":"SUM(COUNTIF(INDIRECT(\"'Success Criteria'!\" & ADDRESS(76,A147+4)):INDIRECT(\"'Success Criteria'!\" & ADDRESS(119,A147+4)),\"PASS\"),COUNTIF(INDIRECT(\"'Success Criteria'!\" & ADDRESS(76,A147+4)):INDIRECT(\"'Success Criteria'!\" & ADDRESS(119,A147+4)),\"PASS with comments\"))","v":2},{"$f":"COUNTIF(INDIRECT(\"'Success Criteria'!\" & ADDRESS(76,A147+4)):INDIRECT(\"'Success Criteria'!\" & ADDRESS(119,A147+4)),\"NON conformant\")","v":0},{"$f":"COUNTIF(INDIRECT(\"'Success Criteria'!\" & ADDRESS(76,A147+4)):INDIRECT(\"'Success Criteria'!\" & ADDRESS(119,A147+4)),\"N/A\")","v":0},{"$f":"COUNTIF(INDIRECT(\"'Success Criteria'!\" & ADDRESS(76,A147+4)):INDIRECT(\"'Success Criteria'!\" & ADDRESS(119,A147+4)),\"not tested\")","v":0},{"$f":"SUM(COUNTIF(INDIRECT(\"'Success Criteria'!\" & ADDRESS(124,A147+4)):INDIRECT(\"'Success Criteria'!\" & ADDRESS(178,A147+4)),\"PASS\"),COUNTIF(INDIRECT(\"'Success Criteria'!\" & ADDRESS(124,A147+4)):INDIRECT(\"'Success Criteria'!\" & ADDRESS(178,A147+4)),\"PASS with comments\"))","v":0},{"$f":"COUNTIF(INDIRECT(\"'Success Criteria'!\" & ADDRESS(124,A147+4)):INDIRECT(\"'Success Criteria'!\" & ADDRESS(178,A147+4)),\"NON conformant\")","v":0},{"$f":"COUNTIF(INDIRECT(\"'Success Criteria'!\" & ADDRESS(124,A147+4)):INDIRECT(\"'Success Criteria'!\" & ADDRESS(178,A147+4)),\"N/A\")","v":0},{"$f":"COUNTIF(INDIRECT(\"'Success Criteria'!\" & ADDRESS(124,A147+4)):INDIRECT(\"'Success Criteria'!\" & ADDRESS(178,A147+4)),\"not tested\")","v":28},2,0,0,28,null,0,"",2,"",28,1]
[134,"Page 134","URL 134","Please select",{"$f":"SUM(COUNTIF(INDIRECT(\"'Success Criteria'!\" & ADDRESS(10,A148+4)):INDIRECT(\"'Success Criteria'!\" & ADDRESS(72,A148+4)),\"PASS\"),COUNTIF(INDIRECT(\"'Success Criteria'!\" & ADDRESS(10,A148+4)):INDIRECT(\"'Success Criteria'!\" & ADDRESS(72,A148+4)),\"PASS with comments\"))","v":0},{"$f":"COUNTIF(INDIRECT(\"'Success Criteria'!\" & ADDRESS(10,A148+4)):INDIRECT(\"'Success Criteria'!\" & ADDRESS(72,A148+4)),\"NON conformant\")","v":0},{"$f":"COUNTIF(INDIRECT(\"'Success Criteria'!\" & ADDRESS(10,A148+4)):INDIRECT(\"'Success Criteria'!\" & ADDRESS(72,A148+4)),\"N/A\")","v":0},{"$f":"COUNTIF(INDIRECT(\"'Success Criteria'!\" & ADDRESS(10,A148+4)):INDIRECT(\"'Success Criteria'!\" & ADDRESS(72,A148+4)),\"not tested\")","v":0},{"$f":"SUM(COUNTIF(INDIRECT(\"'Success Criteria'!\" & ADDRESS(76,A148+4)):INDIRECT(\"'Success Criteria'!\" & ADDRESS(119,A148+4)),\"PASS\"),COUNTIF(INDIRECT(\"'Success Criteria'!\" & ADDRESS(76,A148+4)):INDIRECT(\"'Success Criteria'!\" & ADDRESS(119,A148+4)),\"PASS with comments\"))","v":2},{"$f":"COUNTIF(INDIRECT(\"'Success Criteria'!\" & ADDRESS(76,A148+4)):INDIRECT(\"'Success Criteria'!\" & ADDRESS(119,A148+4)),\"NON conformant\")","v":0},{"$f":"COUNTIF(INDIRECT(\"'Success Criteria'!\" & ADDRESS(76,A148+4)):INDIRECT(\"'Success Criteria'!\" & ADDRESS(119,A148+4)),\"N/A\")","v":0},{"$f":"COUNTIF(INDIRECT(\"'Success Criteria'!\" & ADDRESS(76,A148+4)):INDIRECT(\"'Success Criteria'!\" & ADDRESS(119,A148+4)),\"not tested\")","v":0},{"$f":"SUM(COUNTIF(INDIRECT(\"'Success Criteria'!\" & ADDRESS(124,A148+4)):INDIRECT(\"'Success Criteria'!\" & ADDRESS(178,A148+4)),\"PASS\"),COUNTIF(INDIRECT(\"'Success Criteria'!\" & ADDRESS(124,A148+4)):INDIRECT(\"'Success Criteria'!\" & ADDRESS(178,A148+4)),\"PASS with comments\"))","v":0},{"$f":"COUNTIF(INDIRECT(\"'Success Criteria'!\" & ADDRESS(124,A148+4)):INDIRECT(\"'Success Criteria'!\" & ADDRESS(178,A148+4)),\"NON conformant\")","v":0},{"$f":"COUNTIF(INDIRECT(\"'Success Criteria'!\" & ADDRESS(124,A148+4)):INDIRECT(\"'Success Criteria'!\" & ADDRESS(178,A148+4)),\"N/A\")","v":0},{"$f":"COUNTIF(INDIRECT(\"'Success Criteria'!\" & ADDRESS(124,A148+4)):INDIRECT(\"'Success Criteria'!\" & ADDRESS(178,A148+4)),\"not tested\")","v":28},2,0,0,28,null,0,"",2,"",28,1]
[135,"Page 135","URL 135","Please select",{"$f":"SUM(COUNTIF(INDIRECT(\"'Success Criteria'!\" & ADDRESS(10,A149+4)):INDIRECT(\"'Success Criteria'!\" & ADDRESS(72,A149+4)),\"PASS\"),COUNTIF(INDIRECT(\"'Success Criteria'!\" & ADDRESS(10,A149+4)):INDIRECT(\"'Success Criteria'!\" & ADDRESS(72,A149+4)),\"PASS with comments\"))","v":0},{"$f":"COUNTIF(INDIRECT(\"'Success Criteria'!\" & ADDRESS(10,A149+4)):INDIRECT(\"'Success Criteria'!\" & ADDRESS(72,A149+4)),\"NON conformant\")","v":0},{"$f":"COUNTIF(INDIRECT(\"'Success Criteria'!\" & ADDRESS(10,A149+4)):INDIRECT(\"'Success Criteria'!\" & ADDRESS(72,A149+4)),\"N/A\")","v":0},{"$f":"COUNTIF(INDIRECT(\"'Success Criteria'!\" & ADDRESS(10,A149+4)):INDIRECT(\"'Success Criteria'!\" & ADDRESS(72,A149+4)),\"not tested\")","v":0},{"$f":"SUM(COUNTIF(INDIRECT(\"'Success Criteria'!\" & ADDRESS(76,A149+4)):INDIRECT(\"'Success Criteria'!\" & ADDRESS(119,A149+4)),\"PASS\"),COUNTIF(INDIRECT(\"'Success Criteria'!\" & ADDRESS(76,A149+4)):INDIRECT(\"'Success Criteria'!\" & ADDRESS(119,A149+4)),\"PASS with comments\"))","v":2},{"$f":"COUNTIF(INDIRECT(\"'Success Criteria'!\" & ADDRESS(76,A149+4)):INDIRECT(\"'Success Criteria'!\" & ADDRESS(119,A149+4)),\"NON conformant\")","v":0},{"$f":"COUNTIF(INDIRECT(\"'Success Criteria'!\" & ADDRESS(76,A149+4)):INDIRECT(\"'Success Criteria'!\" & ADDRESS(119,A149+4)),\"N/A\")","v":0},{"$f":"COUNTIF(INDIRECT(\"'Success Criteria'!\" & ADDRESS(76,A149+4)):INDIRECT(\"'Success Criteria'!\" & ADDRESS(119,A149+4)),\"not tested\")","v":0},{"$f":"SUM(COUNTIF(INDIRECT(\"'Success Criteria'!\" & ADDRESS(124,A149+4)):INDIRECT(\"'Success Criteria'!\" & ADDRESS(178,A149+4)),\"PASS\"),COUNTIF(INDIRECT(\"'Success Criteria'!\" & ADDRESS(124,A149+4)):INDIRECT(\"'Success Criteria'!\" & ADDRESS(178,A149+4)),\"PASS with comments\"))","v":0},{"$f":"COUNTIF(INDIRECT(\"'Success Criteria'!\" & ADDRESS(124,A149+4)):INDIRECT(\"'Success Criteria'!\" & ADDRESS(178,A149+4)),\"NON conformant\")","v":0},{"$f":"COUNTIF(INDIRECT(\"'Success Criteria'!\" & ADDRESS(124,A149+4)):INDIRECT(\"'Success Criteria'!\" & ADDRESS(178,A149+4)),\"N/A\")","v":0},{"$f":"COUNTIF(INDIRECT(\"'Success Criteria'!\" & ADDRESS(124,A149+4)):INDIRECT(\"'Success Criteria'!\" & ADDRESS(178,A149+4)),\"not tested\")","v":28},2,0,0,28,null,0,"",2,"",28,1]
[136,"Page 136","URL 136","Please select",{"$f":"SUM(COUNTIF(INDIRECT(\"'Success Criteria'!\" & ADDRESS(10,A150+4)):INDIRECT(\"'Success Criteria'!\" & ADDRESS(72,A150+4)),\"PASS\"),COUNTIF(INDIRECT(\"'Success Criteria'!\" & ADDRESS(10,A150+4)):INDIRECT(\"'Success Criteria'!\" & ADDRESS(72,A150+4)),\"PASS with comments\"))","v":0},{"$f":"COUNTIF(INDIRECT(\"'Success Criteria'!\" & ADDRESS(10,A150+4)):INDIRECT(\"'Success Criteria'!\" & ADDRESS(72,A150+4)),\"NON conformant\")","v":0},{"$f":"COUNTIF(INDIRECT(\"'Success Criteria'!\" & ADDRESS(10,A150+4)):INDIRECT(\"'Success Criteria'!\" & ADDRESS(72,A150+4)),\"N/A\")","v":0},{"$f":"COUNTIF(INDIRECT(\"'Success Criteria'!\" & ADDRESS(10,A150+4)):INDIRECT(\"'Success Criteria'!\" & ADDRESS(72,A150+4)),\"not tested\")","v":0},{"$f":"SUM(COUNTIF(INDIRECT(\"'Success Criteria'!\" & ADDRESS(76,A150+4)):INDIRECT(\"'Success Criteria'!\" & ADDRESS(119,A150+4)),\"PASS\"),COUNTIF(INDIRECT(\"'Success Criteria'!\" & ADDRESS(76,A150+4)):INDIRECT(\"'Success Criteria'!\" & ADDRESS(119,A150+4)),\"PASS with comments\"))","v":2},{"$f":"COUNTIF(INDIRECT(\"'Success Criteria'!\" & ADDRESS(76,A150+4)):INDIRECT(\"'Success Criteria'!\" & ADDRESS(119,A150+4)),\"NON conformant\")","v":0},{"$f":"COUNTIF(INDIRECT(\"'Success Criteria'!\" & ADDRESS(76,A150+4)):INDIRECT(\"'Success Criteria'!\" & ADDRESS(119,A150+4)),\"N/A\")","v":0},{"$f":"COUNTIF(INDIRECT(\"'Success Criteria'!\" & ADDRESS(76,A150+4)):INDIRECT(\"'Success Criteria'!\" & ADDRESS(119,A150+4)),\"not tested\")","v":0},{"$f":"SUM(COUNTIF(INDIRECT(\"'Success Criteria'!\" & ADDRESS(124,A150+4)):INDIRECT(\"'Success Criteria'!\" & ADDRESS(178,A150+4)),\"PASS\"),COUNTIF(INDIRECT(\"'Success Criteria'!\" & ADDRESS(124,A150+4)):INDIRECT(\"'Success Criteria'!\" & ADDRESS(178,A150+4)),\"PASS with comments\"))","v":0},{"$f":"COUNTIF(INDIRECT(\"'Success Criteria'!\" & ADDRESS(124,A150+4)):INDIRECT(\"'Success Criteria'!\" & ADDRESS(178,A150+4)),\"NON conformant\")","v":0},{"$f":"COUNTIF(INDIRECT(\"'Success Criteria'!\" & ADDRESS(124,A150+4)):INDIRECT(\"'Success Criteria'!\" & ADDRESS(178,A150+4)),\"N/A\")","v":0},{"$f":"COUNTIF(INDIRECT(\"'Success Criteria'!\" & ADDRESS(124,A150+4)):INDIRECT(\"'Success Criteria'!\" & ADDRESS(178,A150+4)),\"not tested\")","v":28},2,0,0,28,null,0,"",2,"",28,1]
[137,"Page 137","URL 137","Please select",{"$f":"SUM(COUNTIF(INDIRECT(\"'Success Criteria'!\" & ADDRESS(10,A151+4)):INDIRECT(\"'Success Criteria'!\" & ADDRESS(72,A151+4)),\"PASS\"),COUNTIF(INDIRECT(\"'Success Criteria'!\" & ADDRESS(10,A151+4)):INDIRECT(\"'Success Criteria'!\" & ADDRESS(72,A151+4)),\"PASS with comments\"))","v":0},{"$f":"COUNTIF(INDIRECT(\"'Success Criteria'!\" & ADDRESS(10,A151+4)):INDIRECT(\"'Success Criteria'!\" & ADDRESS(72,A151+4)),\"NON conformant\")","v":0},{"$f":"COUNTIF(INDIRECT(\"'Success Criteria'!\" & ADDRESS(10,A151+4)):INDIRECT(\"'Success Criteria'!\" & ADDRESS(72,A151+4)),\"N/A\")","v":0},{"$f":"COUNTIF(INDIRECT(\"'Success Criteria'!\" & ADDRESS(10,A151+4)):INDIRECT(\"'Success Criteria'!\" & ADDRESS(72,A151+4)),\"not tested\")","v":0},{"$f":"SUM(COUNTIF(INDIRECT(\"'Success Criteria'!\" & ADDRESS(76,A151+4)):INDIRECT(\"'Success Criteria'!\" & ADDRESS(119,A151+4)),\"PASS\"),COUNTIF(INDIRECT(\"'Success Criteria'!\" & ADDRESS(76,A151+4)):INDIRECT(\"'Success Criteria'!\" & ADDRESS(119,A151+4)),\"PASS with comments\"))","v":2},{"$f":"COUNTIF(INDIRECT(\"'Success Criteria'!\" & ADDRESS(76,A151+4)):INDIRECT(\"'Success Criteria'!\" & ADDRESS(119,A151+4)),\"NON conformant\")","v":0},{"$f":"COUNTIF(INDIRECT(\"'Success Criteria'!\" & ADDRESS(76,A151+4)):INDIRECT(\"'Success Criteria'!\" & ADDRESS(119,A151+4)),\"N/A\")","v":0},{"$f":"COUNTIF(INDIRECT(\"'Success Criteria'!\" & ADDRESS(76,A151+4)):INDIRECT(\"'Success Criteria'!\" & ADDRESS(119,A151+4)),\"not tested\")","v":0},{"$f":"SUM(COUNTIF(INDIRECT(\"'Success Criteria'!\" & ADDRESS(124,A151+4)):INDIRECT(\"'Success Criteria'!\" & ADDRESS(178,A151+4)),\"PASS\"),COUNTIF(INDIRECT(\"'Success Criteria'!\" & ADDRESS(124,A151+4)):INDIRECT(\"'Success Criteria'!\" & ADDRESS(178,A151+4)),\"PASS with comments\"))","v":0},{"$f":"COUNTIF(INDIRECT(\"'Success Criteria'!\" & ADDRESS(124,A151+4)):INDIRECT(\"'Success Criteria'!\" & ADDRESS(178,A151+4)),\"NON conformant\")","v":0},{"$f":"COUNTIF(INDIRECT(\"'Success Criteria'!\" & ADDRESS(124,A151+4)):INDIRECT(\"'Success Criteria'!\" & ADDRESS(178,A151+4)),\"N/A\")","v":0},{"$f":"COUNTIF(INDIRECT(\"'Success Criteria'!\" & ADDRESS(124,A151+4)):INDIRECT(\"'Success Criteria'!\" & ADDRESS(178,A151+4)),\"not tested\")","v":28},2,0,0,28,null,0,"",2,"",28,1]
[138,"Page 138","URL 138","Please select",{"$f":"SUM(COUNTIF(INDIRECT(\"'Success Criteria'!\" & ADDRESS(10,A152+4)):INDIRECT(\"'Success Criteria'!\" & ADDRESS(72,A152+4)),\"PASS\"),COUNTIF(INDIRECT(\"'Success Criteria'!\" & ADDRESS(10,A152+4)):INDIRECT(\"'Success Criteria'!\" & ADDRESS(72,A152+4)),\"PASS with comments\"))","v":0},{"$f":"COUNTIF(INDIRECT(\"'Success Criteria'!\" & ADDRESS(10,A152+4)):INDIRECT(\"'Success Criteria'!\" & ADDRESS(72,A152+4)),\"NON conformant\")","v":0},{"$f":"COUNTIF(INDIRECT(\"'Success Criteria'!\" & ADDRESS(10,A152+4)):INDIRECT(\"'Success Criteria'!\" & ADDRESS(72,A152+4)),\"N/A\")","v":0},{"$f":"COUNTIF(INDIRECT(\"'Success Criteria'!\" & ADDRESS(10,A152+4)):INDIRECT(\"'Success Criteria'!\" & ADDRESS(72,A152+4)),\"not tested\")","v":0},{"$f":"SUM(COUNTIF(INDIRECT(\"'Success Criteria'!\" & ADDRESS(76,A152+4)):INDIRECT(\"'Success Criteria'!\" & ADDRESS(119,A152+4)),\"PASS\"),COUNTIF(INDIRECT(\"'Success Criteria'!\" & ADDRESS(76,A152+4)):INDIRECT(\"'Success Criteria'!\" & ADDRESS(119,A152+4)),\"PASS with comments\"))","v":2},{"$f":"COUNTIF(INDIRECT(\"'Success Criteria'!\" & ADDRESS(76,A152+4)):INDIRECT(\"'Success Criteria'!\" & ADDRESS(119,A152+4)),\"NON conformant\")","v":0},{"$f":"COUNTIF(INDIRECT(\"'Success Criteria'!\" & ADDRESS(76,A152+4)):INDIRECT(\"'Success Criteria'!\" & ADDRESS(119,A152+4)),\"N/A\")","v":0},{"$f":"COUNTIF(INDIRECT(\"'Success Criteria'!\" & ADDRESS(76,A152+4)):INDIRECT(\"'Success Criteria'!\" & ADDRESS(119,A152+4)),\"not tested\")","v":0},{"$f":"SUM(COUNTIF(INDIRECT(\"'Success Criteria'!\" & ADDRESS(124,A152+4)):INDIRECT(\"'Success Criteria'!\" & ADDRESS(178,A152+4)),\"PASS\"),COUNTIF(INDIRECT(\"'Success Criteria'!\" & ADDRESS(124,A152+4)):INDIRECT(\"'Success Criteria'!\" & ADDRESS(178,A152+4)),\"PASS with comments\"))","v":0},{"$f":"COUNTIF(INDIRECT(\"'Success Criteria'!\" & ADDRESS(124,A152+4)):INDIRECT(\"'Success Criteria'!\" & ADDRESS(178,A152+4)),\"NON conformant\")","v":0},{"$f":"COUNTIF(INDIRECT(\"'Success Criteria'!\" & ADDRESS(124,A152+4)):INDIRECT(\"'Success Criteria'!\" & ADDRESS(178,A152+4)),\"N/A\")","v":0},{"$f":"COUNTIF(INDIRECT(\"'Success Criteria'!\" & ADDRESS(124,A152+4)):INDIRECT(\"'Success Criteria'!\" & ADDRESS(178,A152+4)),\"not tested\")","v":28},2,0,0,28,null,0,"",2,"",28,1]
[139,"Page 139","URL 139","Please select",{"$f":"SUM(COUNTIF(INDIRECT(\"'Success Criteria'!\" & ADDRESS(10,A153+4)):INDIRECT(\"'Success Criteria'!\" & ADDRESS(72,A153+4)),\"PASS\"),COUNTIF(INDIRECT(\"'Success Criteria'!\" & ADDRESS(10,A153+4)):INDIRECT(\"'Success Criteria'!\" & ADDRESS(72,A153+4)),\"PASS with comments\"))","v":0},{"$f":"COUNTIF(INDIRECT(\"'Success Criteria'!\" & ADDRESS(10,A153+4)):INDIRECT(\"'Success Criteria'!\" & ADDRESS(72,A153+4)),\"NON conformant\")","v":0},{"$f":"COUNTIF(INDIRECT(\"'Success Criteria'!\" & ADDRESS(10,A153+4)):INDIRECT(\"'Success Criteria'!\" & ADDRESS(72,A153+4)),\"N/A\")","v":0},{"$f":"COUNTIF(INDIRECT(\"'Success Criteria'!\" & ADDRESS(10,A153+4)):INDIRECT(\"'Success Criteria'!\" & ADDRESS(72,A153+4)),\"not tested\")","v":0},{"$f":"SUM(COUNTIF(INDIRECT(\"'Success Criteria'!\" & ADDRESS(76,A153+4)):INDIRECT(\"'Success Criteria'!\" & ADDRESS(119,A153+4)),\"PASS\"),COUNTIF(INDIRECT(\"'Success Criteria'!\" & ADDRESS(76,A153+4)):INDIRECT(\"'Success Criteria'!\" & ADDRESS(119,A153+4)),\"PASS with comments\"))","v":2},{"$f":"COUNTIF(INDIRECT(\"'Success Criteria'!\" & ADDRESS(76,A153+4)):INDIRECT(\"'Success Criteria'!\" & ADDRESS(119,A153+4)),\"NON conformant\")","v":0},{"$f":"COUNTIF(INDIRECT(\"'Success Criteria'!\" & ADDRESS(76,A153+4)):INDIRECT(\"'Success Criteria'!\" & ADDRESS(119,A153+4)),\"N/A\")","v":0},{"$f":"COUNTIF(INDIRECT(\"'Success Criteria'!\" & ADDRESS(76,A153+4)):INDIRECT(\"'Success Criteria'!\" & ADDRESS(119,A153+4)),\"not tested\")","v":0},{"$f":"SUM(COUNTIF(INDIRECT(\"'Success Criteria'!\" & ADDRESS(124,A153+4)):INDIRECT(\"'Success Criteria'!\" & ADDRESS(178,A153+4)),\"PASS\"),COUNTIF(INDIRECT(\"'Success Criteria'!\" & ADDRESS(124,A153+4)):INDIRECT(\"'Success Criteria'!\" & ADDRESS(178,A153+4)),\"PASS with comments\"))","v":0},{"$f":"COUNTIF(INDIRECT(\"'Success Criteria'!\" & ADDRESS(124,A153+4)):INDIRECT(\"'Success Criteria'!\" & ADDRESS(178,A153+4)),\"NON conformant\")","v":0},{"$f":"COUNTIF(INDIRECT(\"'Success Criteria'!\" & ADDRESS(124,A153+4)):INDIRECT(\"'Success Criteria'!\" & ADDRESS(178,A153+4)),\"N/A\")","v":0},{"$f":"COUNTIF(INDIRECT(\"'Success Criteria'!\" & ADDRESS(124,A153+4)):INDIRECT(\"'Success Criteria'!\" & ADDRESS(178,A153+4)),\"not tested\")","v":28},2,0,0,28,null,0,"",2,"",28,1]
[140,"Page 140","URL 140","Please select",{"$f":"SUM(COUNTIF(INDIRECT(\"'Success Criteria'!\" & ADDRESS(10,A154+4)):INDIRECT(\"'Success Criteria'!\" & ADDRESS(72,A154+4)),\"PASS\"),COUNTIF(INDIRECT(\"'Success Criteria'!\" & ADDRESS(10,A154+4)):INDIRECT(\"'Success Criteria'!\" & ADDRESS(72,A154+4)),\"PASS with comments\"))","v":0},{"$f":"COUNTIF(INDIRECT(\"'Success Criteria'!\" & ADDRESS(10,A154+4)):INDIRECT(\"'Success Criteria'!\" & ADDRESS(72,A154+4)),\"NON conformant\")","v":0},{"$f":"COUNTIF(INDIRECT(\"'Success Criteria'!\" & ADDRESS(10,A154+4)):INDIRECT(\"'Success Criteria'!\" & ADDRESS(72,A154+4)),\"N/A\")","v":0},{"$f":"COUNTIF(INDIRECT(\"'Success Criteria'!\" & ADDRESS(10,A154+4)):INDIRECT(\"'Success Criteria'!\" & ADDRESS(72,A154+4)),\"not tested\")","v":0},{"$f":"SUM(COUNTIF(INDIRECT(\"'Success Criteria'!\" & ADDRESS(76,A154+4)):INDIRECT(\"'Success Criteria'!\" & ADDRESS(119,A154+4)),\"PASS\"),COUNTIF(INDIRECT(\"'Success Criteria'!\" & ADDRESS(76,A154+4)):INDIRECT(\"'Success Criteria'!\" & ADDRESS(119,A154+4)),\"PASS with comments\"))","v":2},{"$f":"COUNTIF(INDIRECT(\"'Success Criteria'!\" & ADDRESS(76,A154+4)):INDIRECT(\"'Success Criteria'!\" & ADDRESS(119,A154+4)),\"NON conformant\")","v":0},{"$f":"COUNTIF(INDIRECT(\"'Success Criteria'!\" & ADDRESS(76,A154+4)):INDIRECT(\"'Success Criteria'!\" & ADDRESS(119,A154+4)),\"N/A\")","v":0},{"$f":"COUNTIF(INDIRECT(\"'Success Criteria'!\" & ADDRESS(76,A154+4)):INDIRECT(\"'Success Criteria'!\" & ADDRESS(119,A154+4)),\"not tested\")","v":0},{"$f":"SUM(COUNTIF(INDIRECT(\"'Success Criteria'!\" & ADDRESS(124,A154+4)):INDIRECT(\"'Success Criteria'!\" & ADDRESS(178,A154+4)),\"PASS\"),COUNTIF(INDIRECT(\"'Success Criteria'!\" & ADDRESS(124,A154+4)):INDIRECT(\"'Success Criteria'!\" & ADDRESS(178,A154+4)),\"PASS with comments\"))","v":0},{"$f":"COUNTIF(INDIRECT(\"'Success Criteria'!\" & ADDRESS(124,A154+4)):INDIRECT(\"'Success Criteria'!\" & ADDRESS(178,A154+4)),\"NON conformant\")","v":0},{"$f":"COUNTIF(INDIRECT(\"'Success Criteria'!\" & ADDRESS(124,A154+4)):INDIRECT(\"'Success Criteria'!\" & ADDRESS(178,A154+4)),\"N/A\")","v":0},{"$f":"COUNTIF(INDIRECT(\"'Success Criteria'!\" & ADDRESS(124,A154+4)):INDIRECT(\"'Success Criteria'!\" & ADDRESS(178,A154+4)),\"not tested\")","v":28},2,0,0,28,null,0,"",2,"",28,1]
[141,"Page 141","URL 141","Please select",{"$f":"SUM(COUNTIF(INDIRECT(\"'Success Criteria'!\" & ADDRESS(10,A155+4)):INDIRECT(\"'Success Criteria'!\" & ADDRESS(72,A155+4)),\"PASS\"),COUNTIF(INDIRECT(\"'Success Criteria'!\" & ADDRESS(10,A155+4)):INDIRECT(\"'Success Criteria'!\" & ADDRESS(72,A155+4)),\"PASS with comments\"))","v":0},{"$f":"COUNTIF(INDIRECT(\"'Success Criteria'!\" & ADDRESS(10,A155+4)):INDIRECT(\"'Success Criteria'!\" & ADDRESS(72,A155+4)),\"NON conformant\")","v":0},{"$f":"COUNTIF(INDIRECT(\"'Success Criteria'!\" & ADDRESS(10,A155+4)):INDIRECT(\"'Success Criteria'!\" & ADDRESS(72,A155+4)),\"N/A\")","v":0},{"$f":"COUNTIF(INDIRECT(\"'Success Criteria'!\" & ADDRESS(10,A155+4)):INDIRECT(\"'Success Criteria'!\" & ADDRESS(72,A155+4)),\"not tested\")","v":0},{"$f":"SUM(COUNTIF(INDIRECT(\"'Success Criteria'!\" & ADDRESS(76,A155+4)):INDIRECT(\"'Success Criteria'!\" & ADDRESS(119,A155+4)),\"PASS\"),COUNTIF(INDIRECT(\"'Success Criteria'!\" & ADDRESS(76,A155+4)):INDIRECT(\"'Success Criteria'!\" & ADDRESS(119,A155+4)),\"PASS with comments\"))","v":2},{"$f":"COUNTIF(INDIRECT(\"'Success Criteria'!\" & ADDRESS(76,A155+4)):INDIRECT(\"'Success Criteria'!\" & ADDRESS(119,A155+4)),\"NON conformant\")","v":0},{"$f":"COUNTIF(INDIRECT(\"'Success Criteria'!\" & ADDRESS(76,A155+4)):INDIRECT(\"'Success Criteria'!\" & ADDRESS(119,A155+4)),\"N/A\")","v":0},{"$f":"COUNTIF(INDIRECT(\"'Success Criteria'!\" & ADDRESS(76,A155+4)):INDIRECT(\"'Success Criteria'!\" & ADDRESS(119,A155+4)),\"not tested\")","v":0},{"$f":"SUM(COUNTIF(INDIRECT(\"'Success Criteria'!\" & ADDRESS(124,A155+4)):INDIRECT(\"'Success Criteria'!\" & ADDRESS(178,A155+4)),\"PASS\"),COUNTIF(INDIRECT(\"'Success Criteria'!\" & ADDRESS(124,A155+4)):INDIRECT(\"'Success Criteria'!\" & ADDRESS(178,A155+4)),\"PASS with comments\"))","v":0},{"$f":"COUNTIF(INDIRECT(\"'Success Criteria'!\" & ADDRESS(124,A155+4)):INDIRECT(\"'Success Criteria'!\" & ADDRESS(178,A155+4)),\"NON conformant\")","v":0},{"$f":"COUNTIF(INDIRECT(\"'Success Criteria'!\" & ADDRESS(124,A155+4)):INDIRECT(\"'Success Criteria'!\" & ADDRESS(178,A155+4)),\"N/A\")","v":0},{"$f":"COUNTIF(INDIRECT(\"'Success Criteria'!\" & ADDRESS(124,A155+4)):INDIRECT(\"'Success Criteria'!\" & ADDRESS(178,A155+4)),\"not tested\")","v":28},2,0,0,28,null,0,"",2,"",28,1]
[142,"Page 142","URL 142","Please select",{"$f":"SUM(COUNTIF(INDIRECT(\"'Success Criteria'!\" & ADDRESS(10,A156+4)):INDIRECT(\"'Success Criteria'!\" & ADDRESS(72,A156+4)),\"PASS\"),COUNTIF(INDIRECT(\"'Success Criteria'!\" & ADDRESS(10,A156+4)):INDIRECT(\"'Success Criteria'!\" & ADDRESS(72,A156+4)),\"PASS with comments\"))","v":0},{"$f":"COUNTIF(INDIRECT(\"'Success Criteria'!\" & ADDRESS(10,A156+4)):INDIRECT(\"'Success Criteria'!\" & ADDRESS(72,A156+4)),\"NON conformant\")","v":0},{"$f":"COUNTIF(INDIRECT(\"'Success Criteria'!\" & ADDRESS(10,A156+4)):INDIRECT(\"'Success Criteria'!\" & ADDRESS(72,A156+4)),\"N/A\")","v":0},{"$f":"COUNTIF(INDIRECT(\"'Success Criteria'!\" & ADDRESS(10,A156+4)):INDIRECT(\"'Success Criteria'!\" & ADDRESS(72,A156+4)),\"not tested\")","v":0},{"$f":"SUM(COUNTIF(INDIRECT(\"'Success Criteria'!\" & ADDRESS(76,A156+4)):INDIRECT(\"'Success Criteria'!\" & ADDRESS(119,A156+4)),\"PASS\"),COUNTIF(INDIRECT(\"'Success Criteria'!\" & ADDRESS(76,A156+4)):INDIRECT(\"'Success Criteria'!\" & ADDRESS(119,A156+4)),\"PASS with comments\"))","v":2},{"$f":"COUNTIF(INDIRECT(\"'Success Criteria'!\" & ADDRESS(76,A156+4)):INDIRECT(\"'Success Criteria'!\" & ADDRESS(119,A156+4)),\"NON conformant\")","v":0},{"$f":"COUNTIF(INDIRECT(\"'Success Criteria'!\" & ADDRESS(76,A156+4)):INDIRECT(\"'Success Criteria'!\" & ADDRESS(119,A156+4)),\"N/A\")","v":0},{"$f":"COUNTIF(INDIRECT(\"'Success Criteria'!\" & ADDRESS(76,A156+4)):INDIRECT(\"'Success Criteria'!\" & ADDRESS(119,A156+4)),\"not tested\")","v":0},{"$f":"SUM(COUNTIF(INDIRECT(\"'Success Criteria'!\" & ADDRESS(124,A156+4)):INDIRECT(\"'Success Criteria'!\" & ADDRESS(178,A156+4)),\"PASS\"),COUNTIF(INDIRECT(\"'Success Criteria'!\" & ADDRESS(124,A156+4)):INDIRECT(\"'Success Criteria'!\" & ADDRESS(178,A156+4)),\"PASS with comments\"))","v":0},{"$f":"COUNTIF(INDIRECT(\"'Success Criteria'!\" & ADDRESS(124,A156+4)):INDIRECT(\"'Success Criteria'!\" & ADDRESS(178,A156+4)),\"NON conformant\")","v":0},{"$f":"COUNTIF(INDIRECT(\"'Success Criteria'!\" & ADDRESS(124,A156+4)):INDIRECT(\"'Success Criteria'!\" & ADDRESS(178,A156+4)),\"N/A\")","v":0},{"$f":"COUNTIF(INDIRECT(\"'Success Criteria'!\" & ADDRESS(124,A156+4)):INDIRECT(\"'Success Criteria'!\" & ADDRESS(178,A156+4)),\"not tested\")","v":28},2,0,0,28,null,0,"",2,"",28,1]
[143,"Page 143","URL 143","Please select",{"$f":"SUM(COUNTIF(INDIRECT(\"'Success Criteria'!\" & ADDRESS(10,A157+4)):INDIRECT(\"'Success Criteria'!\" & ADDRESS(72,A157+4)),\"PASS\"),COUNTIF(INDIRECT(\"'Success Criteria'!\" & ADDRESS(10,A157+4)):INDIRECT(\"'Success Criteria'!\" & ADDRESS(72,A157+4)),\"PASS with comments\"))","v":0},{"$f":"COUNTIF(INDIRECT(\"'Success Criteria'!\" & ADDRESS(10,A157+4)):INDIRECT(\"'Success Criteria'!\" & ADDRESS(72,A157+4)),\"NON conformant\")","v":0},{"$f":"COUNTIF(INDIRECT(\"'Success Criteria'!\" & ADDRESS(10,A157+4)):INDIRECT(\"'Success Criteria'!\" & ADDRESS(72,A157+4)),\"N/A\")","v":0},{"$f":"COUNTIF(INDIRECT(\"'Success Criteria'!\" & ADDRESS(10,A157+4)):INDIRECT(\"'Success Criteria'!\" & ADDRESS(72,A157+4)),\"not tested\")","v":0},{"$f":"SUM(COUNTIF(INDIRECT(\"'Success Criteria'!\" & ADDRESS(76,A157+4)):INDIRECT(\"'Success Criteria'!\" & ADDRESS(119,A157+4)),\"PASS\"),COUNTIF(INDIRECT(\"'Success Criteria'!\" & ADDRESS(76,A157+4)):INDIRECT(\"'Success Criteria'!\" & ADDRESS(119,A157+4)),\"PASS with comments\"))","v":2},{"$f":"COUNTIF(INDIRECT(\"'Success Criteria'!\" & ADDRESS(76,A157+4)):INDIRECT(\"'Success Criteria'!\" & ADDRESS(119,A157+4)),\"NON conformant\")","v":0},{"$f":"COUNTIF(INDIRECT(\"'Success Criteria'!\" & ADDRESS(76,A157+4)):INDIRECT(\"'Success Criteria'!\" & ADDRESS(119,A157+4)),\"N/A\")","v":0},{"$f":"COUNTIF(INDIRECT(\"'Success Criteria'!\" & ADDRESS(76,A157+4)):INDIRECT(\"'Success Criteria'!\" & ADDRESS(119,A157+4)),\"not tested\")","v":0},{"$f":"SUM(COUNTIF(INDIRECT(\"'Success Criteria'!\" & ADDRESS(124,A157+4)):INDIRECT(\"'Success Criteria'!\" & ADDRESS(178,A157+4)),\"PASS\"),COUNTIF(INDIRECT(\"'Success Criteria'!\" & ADDRESS(124,A157+4)):INDIRECT(\"'Success Criteria'!\" & ADDRESS(178,A157+4)),\"PASS with comments\"))","v":0},{"$f":"COUNTIF(INDIRECT(\"'Success Criteria'!\" & ADDRESS(124,A157+4)):INDIRECT(\"'Success Criteria'!\" & ADDRESS(178,A157+4)),\"NON conformant\")","v":0},{"$f":"COUNTIF(INDIRECT(\"'Success Criteria'!\" & ADDRESS(124,A157+4)):INDIRECT(\"'Success Criteria'!\" & ADDRESS(178,A157+4)),\"N/A\")","v":0},{"$f":"COUNTIF(INDIRECT(\"'Success Criteria'!\" & ADDRESS(124,A157+4)):INDIRECT(\"'Success Criteria'!\" & ADDRESS(178,A157+4)),\"not tested\")","v":28},2,0,0,28,null,0,"",2,"",28,1]
[144,"Page 144","URL 144","Please select",{"$f":"SUM(COUNTIF(INDIRECT(\"'Success Criteria'!\" & ADDRESS(10,A158+4)):INDIRECT(\"'Success Criteria'!\" & ADDRESS(72,A158+4)),\"PASS\"),COUNTIF(INDIRECT(\"'Success Criteria'!\" & ADDRESS(10,A158+4)):INDIRECT(\"'Success Criteria'!\" & ADDRESS(72,A158+4)),\"PASS with comments\"))","v":0},{"$f":"COUNTIF(INDIRECT(\"'Success Criteria'!\" & ADDRESS(10,A158+4)):INDIRECT(\"'Success Criteria'!\" & ADDRESS(72,A158+4)),\"NON conformant\")","v":0},{"$f":"COUNTIF(INDIRECT(\"'Success Criteria'!\" & ADDRESS(10,A158+4)):INDIRECT(\"'Success Criteria'!\" & ADDRESS(72,A158+4)),\"N/A\")","v":0},{"$f":"COUNTIF(INDIRECT(\"'Success Criteria'!\" & ADDRESS(10,A158+4)):INDIRECT(\"'Success Criteria'!\" & ADDRESS(72,A158+4)),\"not tested\")","v":0},{"$f":"SUM(COUNTIF(INDIRECT(\"'Success Criteria'!\" & ADDRESS(76,A158+4)):INDIRECT(\"'Success Criteria'!\" & ADDRESS(119,A158+4)),\"PASS\"),COUNTIF(INDIRECT(\"'Success Criteria'!\" & ADDRESS(76,A158+4)):INDIRECT(\"'Success Criteria'!\" & ADDRESS(119,A158+4)),\"PASS with comments\"))","v":2},{"$f":"COUNTIF(INDIRECT(\"'Success Criteria'!\" & ADDRESS(76,A158+4)):INDIRECT(\"'Success Criteria'!\" & ADDRESS(119,A158+4)),\"NON conformant\")","v":0},{"$f":"COUNTIF(INDIRECT(\"'Success Criteria'!\" & ADDRESS(76,A158+4)):INDIRECT(\"'Success Criteria'!\" & ADDRESS(119,A158+4)),\"N/A\")","v":0},{"$f":"COUNTIF(INDIRECT(\"'Success Criteria'!\" & ADDRESS(76,A158+4)):INDIRECT(\"'Success Criteria'!\" & ADDRESS(119,A158+4)),\"not tested\")","v":0},{"$f":"SUM(COUNTIF(INDIRECT(\"'Success Criteria'!\" & ADDRESS(124,A158+4)):INDIRECT(\"'Success Criteria'!\" & ADDRESS(178,A158+4)),\"PASS\"),COUNTIF(INDIRECT(\"'Success Criteria'!\" & ADDRESS(124,A158+4)):INDIRECT(\"'Success Criteria'!\" & ADDRESS(178,A158+4)),\"PASS with comments\"))","v":0},{"$f":"COUNTIF(INDIRECT(\"'Success Criteria'!\" & ADDRESS(124,A158+4)):INDIRECT(\"'Success Criteria'!\" & ADDRESS(178,A158+4)),\"NON conformant\")","v":0},{"$f":"COUNTIF(INDIRECT(\"'Success Criteria'!\" & ADDRESS(124,A158+4)):INDIRECT(\"'Success Criteria'!\" & ADDRESS(178,A158+4)),\"N/A\")","v":0},{"$f":"COUNTIF(INDIRECT(\"'Success Criteria'!\" & ADDRESS(124,A158+4)):INDIRECT(\"'Success Criteria'!\" & ADDRESS(178,A158+4)),\"not tested\")","v":28},2,0,0,28,null,0,"",2,"",28,1]
[145,"Page 145","URL 145","Please select",{"$f":"SUM(COUNTIF(INDIRECT(\"'Success Criteria'!\" & ADDRESS(10,A159+4)):INDIRECT(\"'Success Criteria'!\" & ADDRESS(72,A159+4)),\"PASS\"),COUNTIF(INDIRECT(\"'Success Criteria'!\" & ADDRESS(10,A159+4)):INDIRECT(\"'Success Criteria'!\" & ADDRESS(72,A159+4)),\"PASS with comments\"))","v":0},{"$f":"COUNTIF(INDIRECT(\"'Success Criteria'!\" & ADDRESS(10,A159+4)):INDIRECT(\"'Success Criteria'!\" & ADDRESS(72,A159+4)),\"NON conformant\")","v":0},{"$f":"COUNTIF(INDIRECT(\"'Success Criteria'!\" & ADDRESS(10,A159+4)):INDIRECT(\"'Success Criteria'!\" & ADDRESS(72,A159+4)),\"N/A\")","v":0},{"$f":"COUNTIF(INDIRECT(\"'Success Criteria'!\" & ADDRESS(10,A159+4)):INDIRECT(\"'Success Criteria'!\" & ADDRESS(72,A159+4)),\"not tested\")","v":0},{"$f":"SUM(COUNTIF(INDIRECT(\"'Success Criteria'!\" & ADDRESS(76,A159+4)):INDIRECT(\"'Success Criteria'!\" & ADDRESS(119,A159+4)),\"PASS\"),COUNTIF(INDIRECT(\"'Success Criteria'!\" & ADDRESS(76,A159+4)):INDIRECT(\"'Success Criteria'!\" & ADDRESS(119,A159+4)),\"PASS with comments\"))","v":2},{"$f":"COUNTIF(INDIRECT(\"'Success Criteria'!\" & ADDRESS(76,A159+4)):INDIRECT(\"'Success Criteria'!\" & ADDRESS(119,A159+4)),\"NON conformant\")","v":0},{"$f":"COUNTIF(INDIRECT(\"'Success Criteria'!\" & ADDRESS(76,A159+4)):INDIRECT(\"'Success Criteria'!\" & ADDRESS(119,A159+4)),\"N/A\")","v":0},{"$f":"COUNTIF(INDIRECT(\"'Success Criteria'!\" & ADDRESS(76,A159+4)):INDIRECT(\"'Success Criteria'!\" & ADDRESS(119,A159+4)),\"not tested\")","v":0},{"$f":"SUM(COUNTIF(INDIRECT(\"'Success Criteria'!\" & ADDRESS(124,A159+4)):INDIRECT(\"'Success Criteria'!\" & ADDRESS(178,A159+4)),\"PASS\"),COUNTIF(INDIRECT(\"'Success Criteria'!\" & ADDRESS(124,A159+4)):INDIRECT(\"'Success Criteria'!\" & ADDRESS(178,A159+4)),\"PASS with comments\"))","v":0},{"$f":"COUNTIF(INDIRECT(\"'Success Criteria'!\" & ADDRESS(124,A159+4)):INDIRECT(\"'Success Criteria'!\" & ADDRESS(178,A159+4)),\"NON conformant\")","v":0},{"$f":"COUNTIF(INDIRECT(\"'Success Criteria'!\" & ADDRESS(124,A159+4)):INDIRECT(\"'Success Criteria'!\" & ADDRESS(178,A159+4)),\"N/A\")","v":0},{"$f":"COUNTIF(INDIRECT(\"'Success Criteria'!\" & ADDRESS(124,A159+4)):INDIRECT(\"'Success Criteria'!\" & ADDRESS(178,A159+4)),\"not tested\")","v":28},2,0,0,28,null,0,"",2,"",28,1]
[146,"Page 146","URL 146","Please select",{"$f":"SUM(COUNTIF(INDIRECT(\"'Success Criteria'!\" & ADDRESS(10,A160+4)):INDIRECT(\"'Success Criteria'!\" & ADDRESS(72,A160+4)),\"PASS\"),COUNTIF(INDIRECT(\"'Success Criteria'!\" & ADDRESS(10,A160+4)):INDIRECT(\"'Success Criteria'!\" & ADDRESS(72,A160+4)),\"PASS with comments\"))","v":0},{"$f":"COUNTIF(INDIRECT(\"'Success Criteria'!\" & ADDRESS(10,A160+4)):INDIRECT(\"'Success Criteria'!\" & ADDRESS(72,A160+4)),\"NON conformant\")","v":0},{"$f":"COUNTIF(INDIRECT(\"'Success Criteria'!\" & ADDRESS(10,A160+4)):INDIRECT(\"'Success Criteria'!\" & ADDRESS(72,A160+4)),\"N/A\")","v":0},{"$f":"COUNTIF(INDIRECT(\"'Success Criteria'!\" & ADDRESS(10,A160+4)):INDIRECT(\"'Success Criteria'!\" & ADDRESS(72,A160+4)),\"not tested\")","v":0},{"$f":"SUM(COUNTIF(INDIRECT(\"'Success Criteria'!\" & ADDRESS(76,A160+4)):INDIRECT(\"'Success Criteria'!\" & ADDRESS(119,A160+4)),\"PASS\"),COUNTIF(INDIRECT(\"'Success Criteria'!\" & ADDRESS(76,A160+4)):INDIRECT(\"'Success Criteria'!\" & ADDRESS(119,A160+4)),\"PASS with comments\"))","v":2},{"$f":"COUNTIF(INDIRECT(\"'Success Criteria'!\" & ADDRESS(76,A160+4)):INDIRECT(\"'Success Criteria'!\" & ADDRESS(119,A160+4)),\"NON conformant\")","v":0},{"$f":"COUNTIF(INDIRECT(\"'Success Criteria'!\" & ADDRESS(76,A160+4)):INDIRECT(\"'Success Criteria'!\" & ADDRESS(119,A160+4)),\"N/A\")","v":0},{"$f":"COUNTIF(INDIRECT(\"'Success Criteria'!\" & ADDRESS(76,A160+4)):INDIRECT(\"'Success Criteria'!\" & ADDRESS(119,A160+4)),\"not tested\")","v":0},{"$f":"SUM(COUNTIF(INDIRECT(\"'Success Criteria'!\" & ADDRESS(124,A160+4)):INDIRECT(\"'Success Criteria'!\" & ADDRESS(178,A160+4)),\"PASS\"),COUNTIF(INDIRECT(\"'Success Criteria'!\" & ADDRESS(124,A160+4)):INDIRECT(\"'Success Criteria'!\" & ADDRESS(178,A160+4)),\"PASS with comments\"))","v":0},{"$f":"COUNTIF(INDIRECT(\"'Success Criteria'!\" & ADDRESS(124,A160+4)):INDIRECT(\"'Success Criteria'!\" & ADDRESS(178,A160+4)),\"NON conformant\")","v":0},{"$f":"COUNTIF(INDIRECT(\"'Success Criteria'!\" & ADDRESS(124,A160+4)):INDIRECT(\"'Success Criteria'!\" & ADDRESS(178,A160+4)),\"N/A\")","v":0},{"$f":"COUNTIF(INDIRECT(\"'Success Criteria'!\" & ADDRESS(124,A160+4)):INDIRECT(\"'Success Criteria'!\" & ADDRESS(178,A160+4)),\"not tested\")","v":28},2,0,0,28,null,0,"",2,"",28,1]
[147,"Page 147","URL 147","Please select",{"$f":"SUM(COUNTIF(INDIRECT(\"'Success Criteria'!\" & ADDRESS(10,A161+4)):INDIRECT(\"'Success Criteria'!\" & ADDRESS(72,A161+4)),\"PASS\"),COUNTIF(INDIRECT(\"'Success Criteria'!\" & ADDRESS(10,A161+4)):INDIRECT(\"'Success Criteria'!\" & ADDRESS(72,A161+4)),\"PASS with comments\"))","v":0},{"$f":"COUNTIF(INDIRECT(\"'Success Criteria'!\" & ADDRESS(10,A161+4)):INDIRECT(\"'Success Criteria'!\" & ADDRESS(72,A161+4)),\"NON conformant\")","v":0},{"$f":"COUNTIF(INDIRECT(\"'Success Criteria'!\" & ADDRESS(10,A161+4)):INDIRECT(\"'Success Criteria'!\" & ADDRESS(72,A161+4)),\"N/A\")","v":0},{"$f":"COUNTIF(INDIRECT(\"'Success Criteria'!\" & ADDRESS(10,A161+4)):INDIRECT(\"'Success Criteria'!\" & ADDRESS(72,A161+4)),\"not tested\")","v":0},{"$f":"SUM(COUNTIF(INDIRECT(\"'Success Criteria'!\" & ADDRESS(76,A161+4)):INDIRECT(\"'Success Criteria'!\" & ADDRESS(119,A161+4)),\"PASS\"),COUNTIF(INDIRECT(\"'Success Criteria'!\" & ADDRESS(76,A161+4)):INDIRECT(\"'Success Criteria'!\" & ADDRESS(119,A161+4)),\"PASS with comments\"))","v":2},{"$f":"COUNTIF(INDIRECT(\"'Success Criteria'!\" & ADDRESS(76,A161+4)):INDIRECT(\"'Success Criteria'!\" & ADDRESS(119,A161+4)),\"NON conformant\")","v":0},{"$f":"COUNTIF(INDIRECT(\"'Success Criteria'!\" & ADDRESS(76,A161+4)):INDIRECT(\"'Success Criteria'!\" & ADDRESS(119,A161+4)),\"N/A\")","v":0},{"$f":"COUNTIF(INDIRECT(\"'Success Criteria'!\" & ADDRESS(76,A161+4)):INDIRECT(\"'Success Criteria'!\" & ADDRESS(119,A161+4)),\"not tested\")","v":0},{"$f":"SUM(COUNTIF(INDIRECT(\"'Success Criteria'!\" & ADDRESS(124,A161+4)):INDIRECT(\"'Success Criteria'!\" & ADDRESS(178,A161+4)),\"PASS\"),COUNTIF(INDIRECT(\"'Success Criteria'!\" & ADDRESS(124,A161+4)):INDIRECT(\"'Success Criteria'!\" & ADDRESS(178,A161+4)),\"PASS with comments\"))","v":0},{"$f":"COUNTIF(INDIRECT(\"'Success Criteria'!\" & ADDRESS(124,A161+4)):INDIRECT(\"'Success Criteria'!\" & ADDRESS(178,A161+4)),\"NON conformant\")","v":0},{"$f":"COUNTIF(INDIRECT(\"'Success Criteria'!\" & ADDRESS(124,A161+4)):INDIRECT(\"'Success Criteria'!\" & ADDRESS(178,A161+4)),\"N/A\")","v":0},{"$f":"COUNTIF(INDIRECT(\"'Success Criteria'!\" & ADDRESS(124,A161+4)):INDIRECT(\"'Success Criteria'!\" & ADDRESS(178,A161+4)),\"not tested\")","v":28},2,0,0,28,null,0,"",2,"",28,1]
[148,"Page 148","URL 148","Please select",{"$f":"SUM(COUNTIF(INDIRECT(\"'Success Criteria'!\" & ADDRESS(10,A162+4)):INDIRECT(\"'Success Criteria'!\" & ADDRESS(72,A162+4)),\"PASS\"),COUNTIF(INDIRECT(\"'Success Criteria'!\" & ADDRESS(10,A162+4)):INDIRECT(\"'Success Criteria'!\" & ADDRESS(72,A162+4)),\"PASS with comments\"))","v":0},{"$f":"COUNTIF(INDIRECT(\"'Success Criteria'!\" & ADDRESS(10,A162+4)):INDIRECT(\"'Success Criteria'!\" & ADDRESS(72,A162+4)),\"NON conformant\")","v":0},{"$f":"COUNTIF(INDIRECT(\"'Success Criteria'!\" & ADDRESS(10,A162+4)):INDIRECT(\"'Success Criteria'!\" & ADDRESS(72,A162+4)),\"N/A\")","v":0},{"$f":"COUNTIF(INDIRECT(\"'Success Criteria'!\" & ADDRESS(10,A162+4)):INDIRECT(\"'Success Criteria'!\" & ADDRESS(72,A162+4)),\"not tested\")","v":0},{"$f":"SUM(COUNTIF(INDIRECT(\"'Success Criteria'!\" & ADDRESS(76,A162+4)):INDIRECT(\"'Success Criteria'!\" & ADDRESS(119,A162+4)),\"PASS\"),COUNTIF(INDIRECT(\"'Success Criteria'!\" & ADDRESS(76,A162+4)):INDIRECT(\"'Success Criteria'!\" & ADDRESS(119,A162+4)),\"PASS with comments\"))","v":2},{"$f":"COUNTIF(INDIRECT(\"'Success Criteria'!\" & ADDRESS(76,A162+4)):INDIRECT(\"'Success Criteria'!\" & ADDRESS(119,A162+4)),\"NON conformant\")","v":0},{"$f":"COUNTIF(INDIRECT(\"'Success Criteria'!\" & ADDRESS(76,A162+4)):INDIRECT(\"'Success Criteria'!\" & ADDRESS(119,A162+4)),\"N/A\")","v":0},{"$f":"COUNTIF(INDIRECT(\"'Success Criteria'!\" & ADDRESS(76,A162+4)):INDIRECT(\"'Success Criteria'!\" & ADDRESS(119,A162+4)),\"not tested\")","v":0},{"$f":"SUM(COUNTIF(INDIRECT(\"'Success Criteria'!\" & ADDRESS(124,A162+4)):INDIRECT(\"'Success Criteria'!\" & ADDRESS(178,A162+4)),\"PASS\"),COUNTIF(INDIRECT(\"'Success Criteria'!\" & ADDRESS(124,A162+4)):INDIRECT(\"'Success Criteria'!\" & ADDRESS(178,A162+4)),\"PASS with comments\"))","v":0},{"$f":"COUNTIF(INDIRECT(\"'Success Criteria'!\" & ADDRESS(124,A162+4)):INDIRECT(\"'Success Criteria'!\" & ADDRESS(178,A162+4)),\"NON conformant\")","v":0},{"$f":"COUNTIF(INDIRECT(\"'Success Criteria'!\" & ADDRESS(124,A162+4)):INDIRECT(\"'Success Criteria'!\" & ADDRESS(178,A162+4)),\"N/A\")","v":0},{"$f":"COUNTIF(INDIRECT(\"'Success Criteria'!\" & ADDRESS(124,A162+4)):INDIRECT(\"'Success Criteria'!\" & ADDRESS(178,A162+4)),\"not tested\")","v":28},2,0,0,28,null,0,"",2,"",28,1]
[149,"Page 149","URL 149","Please select",{"$f":"SUM(COUNTIF(INDIRECT(\"'Success Criteria'!\" & ADDRESS(10,A163+4)):INDIRECT(\"'Success Criteria'!\" & ADDRESS(72,A163+4)),\"PASS\"),COUNTIF(INDIRECT(\"'Success Criteria'!\" & ADDRESS(10,A163+4)):INDIRECT(\"'Success Criteria'!\" & ADDRESS(72,A163+4)),\"PASS with comments\"))","v":0},{"$f":"COUNTIF(INDIRECT(\"'Success Criteria'!\" & ADDRESS(10,A163+4)):INDIRECT(\"'Success Criteria'!\" & ADDRESS(72,A163+4)),\"NON conformant\")","v":0},{"$f":"COUNTIF(INDIRECT(\"'Success Criteria'!\" & ADDRESS(10,A163+4)):INDIRECT(\"'Success Criteria'!\" & ADDRESS(72,A163+4)),\"N/A\")","v":0},{"$f":"COUNTIF(INDIRECT(\"'Success Criteria'!\" & ADDRESS(10,A163+4)):INDIRECT(\"'Success Criteria'!\" & ADDRESS(72,A163+4)),\"not tested\")","v":0},{"$f":"SUM(COUNTIF(INDIRECT(\"'Success Criteria'!\" & ADDRESS(76,A163+4)):INDIRECT(\"'Success Criteria'!\" & ADDRESS(119,A163+4)),\"PASS\"),COUNTIF(INDIRECT(\"'Success Criteria'!\" & ADDRESS(76,A163+4)):INDIRECT(\"'Success Criteria'!\" & ADDRESS(119,A163+4)),\"PASS with comments\"))","v":2},{"$f":"COUNTIF(INDIRECT(\"'Success Criteria'!\" & ADDRESS(76,A163+4)):INDIRECT(\"'Success Criteria'!\" & ADDRESS(119,A163+4)),\"NON conformant\")","v":0},{"$f":"COUNTIF(INDIRECT(\"'Success Criteria'!\" & ADDRESS(76,A163+4)):INDIRECT(\"'Success Criteria'!\" & ADDRESS(119,A163+4)),\"N/A\")","v":0},{"$f":"COUNTIF(INDIRECT(\"'Success Criteria'!\" & ADDRESS(76,A163+4)):INDIRECT(\"'Success Criteria'!\" & ADDRESS(119,A163+4)),\"not tested\")","v":0},{"$f":"SUM(COUNTIF(INDIRECT(\"'Success Criteria'!\" & ADDRESS(124,A163+4)):INDIRECT(\"'Success Criteria'!\" & ADDRESS(178,A163+4)),\"PASS\"),COUNTIF(INDIRECT(\"'Success Criteria'!\" & ADDRESS(124,A163+4)):INDIRECT(\"'Success Criteria'!\" & ADDRESS(178,A163+4)),\"PASS with comments\"))","v":0},{"$f":"COUNTIF(INDIRECT(\"'Success Criteria'!\" & ADDRESS(124,A163+4)):INDIRECT(\"'Success Criteria'!\" & ADDRESS(178,A163+4)),\"NON conformant\")","v":0},{"$f":"COUNTIF(INDIRECT(\"'Success Criteria'!\" & ADDRESS(124,A163+4)):INDIRECT(\"'Success Criteria'!\" & ADDRESS(178,A163+4)),\"N/A\")","v":0},{"$f":"COUNTIF(INDIRECT(\"'Success Criteria'!\" & ADDRESS(124,A163+4)):INDIRECT(\"'Success Criteria'!\" & ADDRESS(178,A163+4)),\"not tested\")","v":28},2,0,0,28,null,0,"",2,"",28,1]
[150,"Page 150","URL 150","Please select",{"$f":"SUM(COUNTIF(INDIRECT(\"'Success Criteria'!\" & ADDRESS(10,A164+4)):INDIRECT(\"'Success Criteria'!\" & ADDRESS(72,A164+4)),\"PASS\"),COUNTIF(INDIRECT(\"'Success Criteria'!\" & ADDRESS(10,A164+4)):INDIRECT(\"'Success Criteria'!\" & ADDRESS(72,A164+4)),\"PASS with comments\"))","v":0},{"$f":"COUNTIF(INDIRECT(\"'Success Criteria'!\" & ADDRESS(10,A164+4)):INDIRECT(\"'Success Criteria'!\" & ADDRESS(72,A164+4)),\"NON conformant\")","v":0},{"$f":"COUNTIF(INDIRECT(\"'Success Criteria'!\" & ADDRESS(10,A164+4)):INDIRECT(\"'Success Criteria'!\" & ADDRESS(72,A164+4)),\"N/A\")","v":0},{"$f":"COUNTIF(INDIRECT(\"'Success Criteria'!\" & ADDRESS(10,A164+4)):INDIRECT(\"'Success Criteria'!\" & ADDRESS(72,A164+4)),\"not tested\")","v":0},{"$f":"SUM(COUNTIF(INDIRECT(\"'Success Criteria'!\" & ADDRESS(76,A164+4)):INDIRECT(\"'Success Criteria'!\" & ADDRESS(119,A164+4)),\"PASS\"),COUNTIF(INDIRECT(\"'Success Criteria'!\" & ADDRESS(76,A164+4)):INDIRECT(\"'Success Criteria'!\" & ADDRESS(119,A164+4)),\"PASS with comments\"))","v":2},{"$f":"COUNTIF(INDIRECT(\"'Success Criteria'!\" & ADDRESS(76,A164+4)):INDIRECT(\"'Success Criteria'!\" & ADDRESS(119,A164+4)),\"NON conformant\")","v":0},{"$f":"COUNTIF(INDIRECT(\"'Success Criteria'!\" & ADDRESS(76,A164+4)):INDIRECT(\"'Success Criteria'!\" & ADDRESS(119,A164+4)),\"N/A\")","v":0},{"$f":"COUNTIF(INDIRECT(\"'Success Criteria'!\" & ADDRESS(76,A164+4)):INDIRECT(\"'Success Criteria'!\" & ADDRESS(119,A164+4)),\"not tested\")","v":0},{"$f":"SUM(COUNTIF(INDIRECT(\"'Success Criteria'!\" & ADDRESS(124,A164+4)):INDIRECT(\"'Success Criteria'!\" & ADDRESS(178,A164+4)),\"PASS\"),COUNTIF(INDIRECT(\"'Success Criteria'!\" & ADDRESS(124,A164+4)):INDIRECT(\"'Success Criteria'!\" & ADDRESS(178,A164+4)),\"PASS with comments\"))","v":0},{"$f":"COUNTIF(INDIRECT(\"'Success Criteria'!\" & ADDRESS(124,A164+4)):INDIRECT(\"'Success Criteria'!\" & ADDRESS(178,A164+4)),\"NON conformant\")","v":0},{"$f":"COUNTIF(INDIRECT(\"'Success Criteria'!\" & ADDRESS(124,A164+4)):INDIRECT(\"'Success Criteria'!\" & ADDRESS(178,A164+4)),\"N/A\")","v":0},{"$f":"COUNTIF(INDIRECT(\"'Success Criteria'!\" & ADDRESS(124,A164+4)):INDIRECT(\"'Success Criteria'!\" & ADDRESS(178,A164+4)),\"not tested\")","v":28},2,0,0,28,null,0,"",2,"",28,1]
[null,null,null,null,null,null,null,null,null,null,null,null,null,null,null,null,null,null,null,null,null,null,"Total",null,"Total",null,"Total"]
[null,null,null,null,"Level A",null,null,null,"Level AA",null,null,null,"Level AAA",null,null,null,"Total",null,null,null,null,null,{"$f":"SUM(W15:W165)","v":27},null,{"$f":"SUM(Y15:Y165)","v":20},null,{"$f":"SUM(AA15:AA165)","v":150}]
[null,null,null,null,"Pass","Fail","N/A","Not tested","Pass","Fail","N/A ","Not tested","Pass","Fail","N/A ","Not tested","Pass","Fail","N/A ","Not tested"]
["Total",null,null,null,{"$f":"SUM(E15:E164)","v":252},39,309,210,434,11,201,147,0,0,0,4200,686,50,510,4557]
["Average per page",null,null,null,{"$f":"E168/$W$166","v":9.3333333333333339},{"$f":"F168/$W$166","v":1.4444444444444444},{"$f":"G168/$W$166","v":11.444444444444445},{"$f":"H168/$W$166","v":7.7777777777777777},{"$f":"I168/$Y$166","v":21.7},{"$f":"J168/$Y$166","v":0.55000000000000004},{"$f":"K168/$Y$166","v":10.050000000000001},{"$f":"L168/$Y$166","v":7.35},{"$f":"M168/$AA$166","v":0},{"$f":"N168/$AA$166","v":0},{"$f":"O168/$AA$166","v":0},{"$f":"P168/$AA$166","v":28},{"$f":"E169+I169+M169","v":31.033333333333331},{"$f":"F169+J169+N169","v":1.9944444444444445},{"$f":"G169+K169+O169","v":21.494444444444447},{"$f":"H169+L169+P169","v":43.12777777777778}]
["End of content"]

{"sheet":"Conformance Statement","index":4,"n_rows":35,"n_cols":3,"rows_kept":35,"cut":false,"hidden":true,"merged":[]}
["\nAccessibility Conformance Statement",null,"To create a conformance statement PDF:\n1. Copy cells A3 and below, then paste them as text into a template I have not created yet.\n2. Set the headings, delete empty rows, turn the list of technologies into a list and save as PDF.\n3. Remediate in Acrobat until it is fully PDF/UA and WCAG 2.1 conformant."]
[]
["Organisation Name"]
[{"$f":"IF(Statistics!C2=\"\",\"Populated automatically from the Statistics worksheet\",Statistics!C2)","v":"Greater London Authority"}]
[]
["Website or Mobile App Name"]
[{"$f":"IF(Statistics!C3=\"\",\"Populated automatically from the Statistics worksheet\",Statistics!C3)","v":"Rogue Landlord and Agent Checker (RLAC)"}]
[]
["Scope"]
["Describe what was in and out of scope, including subdomains and content types. This ought to be specified in the proposal."]
[]
["Accessibility standards applied"]
[{"$f":"\"WCAG 2.1 level \" & IF(Statistics!S4=\"Yes\",\"A\",\"\") & IF(Statistics!S5=\"Yes\",\"A\",\"\") & IF(Statistics!S6=\"Yes\",\"A\",\"\")","v":"WCAG 2.1 level AA"}]
[]
["Conformance status"]
["Please select"]
[]
["Additional accessibility considerations"]
["Provide details of any accessibility features beyond  those specified in the accessibility standard stated above, such as the provision of sign language videos or context-sensitive help for functionality."]
[]
["Date of publication"]
[{"$f":"IF(Statistics!C10<>\"\",Statistics!C10,IF(Statistics!C8<>\"\",Statistics!C8,\"Populated automatically from the Statistics worksheet\"))","v":"2023-10-12"}]
[]
["Accessibility limitations"]
["Provide a high level list of accessibility limitations from a user's perspective including whether there are any workarounds.\n\nIf there are a lot of non-conformances, this can be quite generic. If there are not many, it can be more specific."]
[]
["Compatibility with user environment"]
["Describe the environments (combinations of web browsers, assistive technologies, and operating systems) that the content is known or not expected to work with."]
[]
["Technologies used"]
["The following technologies are relied upon for conformance. The content would not conform if that technology is turned off or is not supported."]
["HTML\nCSS\nJavaScript\nGIF\nJPG\nPNG\nSVG\nWAI-ARIA\nPDF\nAdd or delete as appropriate and convert to a list in Word."]
[]
["Assessment approach"]
["Manual and automated evaluation of a representative subset of pages and components by Test Partners Ltd"]

{"sheet":"Success Criteria","index":5,"n_rows":180,"n_cols":155,"rows_kept":180,"cut":false,"hidden":false,"merged":[[2,0,5,0],[0,0,1,3],[2,2,5,2]]}
["\nWCAG 2.1 website accessibility audit\nSuccess Criteria",null,null,null,{"$f":"IF(INDIRECT(\"'Statistics'!\" & ADDRESS(COLUMN()+10,2))=\"\",\"\",INDIRECT(\"'Statistics'!\" & ADDRESS(COLUMN()+10,2)))","v":"page 1"},"page 2","page 3","page 4","page 5","page 6","page 7","Header (Pre-login) (Admin)","Footer (Pre-login) (Admin)","Login (Admin)","Header (Post-login) (Admin)","Footer (Post-login) (Admin)","Menu (Admin)","View record (Admin)","Edit record (Admin)","Step 1: Enforcement Action Type ","Step 1: Postal Address","Step 3: Enforcement Action - Details","My Records","Users","Search","decision-1692365159.pdf","Edit user","Letter Template: Letters Decision Amend","Suspend Enforcement Actions (Public) (Checkbox only)","Suspend Enforcement Actions (Public) - are you sure?","Decision Letter Entities (Table only)","Page 28","Page 29","Page 30","Page 31","Page 32",{"$f":"IF(INDIRECT(\"'Statistics'!\" & ADDRESS(COLUMN()+10,2))=\"\",\"\",INDIRECT(\"'Statistics'!\" & ADDRESS(COLUMN()+10,2)))","v":"Page 33"},"Page 34","Page 35","Page 36","Page 37","Page 38","Page 39","Page 40","Page 41","Page 42","Page 43","Page 44","Page 45","Page 46","Page 47","Page 48","Page 49","Page 50","Page 51","Page 52","Page 53","Page 54","Page 55","Page 56","Page 57","Page 58","Page 59","Page 60","Page 61","Page 62","Page 63","Page 64",{"$f":"IF(INDIRECT(\"'Statistics'!\" & ADDRESS(COLUMN()+10,2))=\"\",\"\",INDIRECT(\"'Statistics'!\" & ADDRESS(COLUMN()+10,2)))","v":"Page 65"},"Page 66","Page 67","Page 68","Page 69","Page 70","Page 71","Page 72","Page 73","Page 74","Page 75","Page 76","Page 77","Page 78","Page 79","Page 80","Page 81","Page 82","Page 83","Page 84","Page 85","Page 86","Page 87","Page 88","Page 89","Page 90","Page 91","Page 92","Page 93","Page 94","Page 95","Page 96",{"$f":"IF(INDIRECT(\"'Statistics'!\" & ADDRESS(COLUMN()+10,2))=\"\",\"\",INDIRECT(\"'Statistics'!\" & ADDRESS(COLUMN()+10,2)))","v":"Page 97"},"Page 98","Page 99","Page 100","Page 101","Page 102","Page 103","Page 104","Page 105","Page 106","Page 107","Page 108","Page 109","Page 110","Page 111","Page 112","Page 113","Page 114","Page 115","Page 116","Page 117","Page 118","Page 119","Page 120","Page 121","Page 122","Page 123","Page 124","Page 125","Page 126","Page 127","Page 128",{"$f":"IF(INDIRECT(\"'Statistics'!\" & ADDRESS(COLUMN()+10,2))=\"\",\"\",INDIRECT(\"'Statistics'!\" & ADDRESS(COLUMN()+10,2)))","v":"Page 129"},"Page 130","Page 131","Page 132","Page 133","Page 134","Page 135","Page 136","Page 137","Page 138","Page 139","Page 140","Page 141","Page 142","Page 143","Page 144","Page 145","Page 146","Page 147","Page 148","Page 149","Page 150","End of content."]
[null,null,null,null,{"$f":"IF(INDIRECT(\"'Statistics'!\" & ADDRESS(COLUMN()+10,3))=\"\",\"\",INDIRECT(\"'Statistics'!\" & ADDRESS(COLUMN()+10,3)))","v":""},"","","","","","","https://rlac-test.glatest.org.uk/login","https://rlac-test.glatest.org.uk/login","https://rlac-test.glatest.org.uk/login","https://rlac-test.glatest.org.uk/login","https://rlac-test.glatest.org.uk/login","https://rlac-test.glatest.org.uk/login","https://rlac-test.glatest.org.uk/app/records/entity?id=952","https://rlac-test.glatest.org.uk/app/records/entity?id=952","https://rlac-test.glatest.org.uk/app/records/create","https://rlac-test.glatest.org.uk/app/records/create","https://rlac-test.glatest.org.uk/app/records/create","URL 30","https://rlac-test.glatest.org.uk/app/users","https://rlac-test.glatest.org.uk/app/records/search","N/A","https://rlac-test.glatest.org.uk/app/users/entity?id=251","https://rlac-test.glatest.org.uk/app/configure/letters-decision-amend","https://rlac-test.glatest.org.uk/app/workflow/suspend-records/public","https://rlac-test.glatest.org.uk/app/workflow/suspend-records/public","https://rlac-test.glatest.org.uk/app/manage/decision-letters","URL 30","URL 30","URL 30","URL 31","URL 32","URL 33","URL 34","URL 35","URL 36","URL 37","URL 38","URL 39","URL 40","URL 41","URL 42","URL 43","URL 44","URL 45","URL 46","URL 47","URL 48","URL 49","URL 50","URL 51","URL 52","URL 53","URL 54","URL 55","URL 56","URL 57","URL 58","URL 59","URL 60","URL 61","URL 62","URL 63","URL 64",{"$f":"IF(INDIRECT(\"'Statistics'!\" & ADDRESS(COLUMN()+10,3))=\"\",\"\",INDIRECT(\"'Statistics'!\" & ADDRESS(COLUMN()+10,3)))","v":"URL 65"},"URL 66","URL 67","URL 68","URL 69","URL 70","URL 71","URL 72","URL 73","URL 74","URL 75","URL 76","URL 77","URL 78","URL 79","URL 80","URL 81","URL 82","URL 83","URL 84","URL 85","URL 86","URL 87","URL 88","URL 89","URL 90","URL 91","URL 92","URL 93","URL 94","URL 95","URL 96","URL 97","URL 98","URL 99","URL 100","URL 101","URL 102","URL 103","URL 104","URL 105","URL 106","URL 107","URL 108","URL 109","URL 110","URL 111","URL 112","URL 113","URL 114","URL 115","URL 116","URL 117","URL 118","URL 119","URL 120","URL 121","URL 122","URL 123","URL 124","URL 125","URL 126","URL 127","URL 128",{"$f":"IF(INDIRECT(\"'Statistics'!\" & ADDRESS(COLUMN()+10,3))=\"\",\"\",INDIRECT(\"'Statistics'!\" & ADDRESS(COLUMN()+10,3)))","v":"URL 129"},"URL 130","URL 131","URL 132","URL 133","URL 134","URL 135","URL 136","URL 137","URL 138","URL 139","URL 140","URL 141","URL 142","URL 143","URL 144","URL 145","URL 146","URL 147","URL 148","URL 149","URL 150"]
[null,null,null,"Key",{"$f":"IF(INDIRECT(\"'Statistics'!\" & ADDRESS(COLUMN()+10,4))=\"\",\"\",INDIRECT(\"'Statistics'!\" & ADDRESS(COLUMN()+10,4)))","v":""},{"$f":"IF(INDIRECT(\"'Statistics'!\" & ADDRESS(COLUMN()+10,4))=\"\",\"\",INDIRECT(\"'Statistics'!\" & ADDRESS(COLUMN()+10,4)))","v":""},{"$f":"IF(INDIRECT(\"'Statistics'!\" & ADDRESS(COLUMN()+10,4))=\"\",\"\",INDIRECT(\"'Statistics'!\" & ADDRESS(COLUMN()+10,4)))","v":""},"","","","","HTML Page (excluding components)","HTML Page (excluding components)","HTML Page (excluding components)","HTML Page (excluding components)","HTML Page (excluding components)","HTML Page (excluding components)","HTML Page (excluding components)","HTML Page (excluding components)","HTML Page (excluding components)","HTML Page (excluding components)","HTML Page (excluding components)","Please select","HTML Page (excluding components)","HTML Page (excluding components)","PDF","HTML Page (excluding components)","HTML Page (excluding components)","HTML Component","HTML Page (excluding components)","HTML Component","Please select","Please select","Please select","Please select","Please select","Please select","Please select","Please select","Please select","Please select","Please select","Please select","Please select","Please select","Please select","Please select","Please select","Please select","Please select","Please select","Please select","Please select","Please select","Please select","Please select","Please select","Please select","Please select","Please select","Please select","Please select","Please select","Please select","Please select","Please select","Please select","Please select","Please select","Please select",{"$f":"IF(INDIRECT(\"'Statistics'!\" & ADDRESS(COLUMN()+10,4))=\"\",\"\",INDIRECT(\"'Statistics'!\" & ADDRESS(COLUMN()+10,4)))","v":"Please select"},"Please select","Please select","Please select","Please select","Please select","Please select","Please select","Please select","Please select","Please select","Please select","Please select","Please select","Please select","Please select","Please select","Please select","Please select","Please select","Please select","Please select","Please select","Please select","Please select","Please select","Please select","Please select","Please select","Please select","Please select","Please select","Please select","Please select","Please select","Please select","Please select","Please select","Please select","Please select","Please select","Please select","Please select","Please select","Please select","Please select","Please select","Please select","Please select","Please select","Please select","Please select","Please select","Please select","Please select","Please select","Please select","Please select","Please select","Please select","Please select","Please select","Please select","Please select",{"$f":"IF(INDIRECT(\"'Statistics'!\" & ADDRESS(COLUMN()+10,4))=\"\",\"\",INDIRECT(\"'Statistics'!\" & ADDRESS(COLUMN()+10,4)))","v":"Please select"},"Please select","Please select","Please select","Please select","Please select","Please select","Please select","Please select","Please select","Please select","Please select","Please select","Please select","Please select","Please select","Please select","Please select","Please select","Please select"]
[null,null,null,"Cells highlighted in pink indicate non-conformances.",{"$f":"HYPERLINK(\"#Screenshots!\"&ADDRESS(1,COLUMN()-4,4),\"View screenshot\")","v":"View screenshot"},{"$f":"HYPERLINK(\"#Screenshots!\"&ADDRESS(1,COLUMN()-4,4),\"View screenshot\")","v":"View screenshot"},"View screenshot","View screenshot","View screenshot","View screenshot","View screenshot","View screenshot","View screenshot","View screenshot","View screenshot","View screenshot","View screenshot","View screenshot","View screenshot","View screenshot","View screenshot","View screenshot","View screenshot","View screenshot","View screenshot","View screenshot","View screenshot","View screenshot","View screenshot","View screenshot","View screenshot","View screenshot","View screenshot","View screenshot","View screenshot","View screenshot","View screenshot","View screenshot","View screenshot","View screenshot","View screenshot","View screenshot","View screenshot","View screenshot","View screenshot","View screenshot","View screenshot","View screenshot","View screenshot","View screenshot","View screenshot","View screenshot","View screenshot","View screenshot","View screenshot","View screenshot","View screenshot","View screenshot","View screenshot","View screenshot","View screenshot","View screenshot","View screenshot","View screenshot","View screenshot","View screenshot","View screenshot","View screenshot","View screenshot",{"$f":"HYPERLINK(\"#Screenshots!\"&ADDRESS(1,COLUMN()-4,4),\"View screenshot\")","v":"View screenshot"},"View screenshot","View screenshot","View screenshot","View screenshot","View screenshot","View screenshot","View screenshot","View screenshot","View screenshot","View screenshot","View screenshot","View screenshot","View screenshot","View screenshot","View screenshot","View screenshot","View screenshot","View screenshot","View screenshot","View screenshot","View screenshot","View screenshot","View screenshot","View screenshot","View screenshot","View screenshot","View screenshot","View screenshot","View screenshot","View screenshot","View screenshot","View screenshot","View screenshot","View screenshot","View screenshot","View screenshot","View screenshot","View screenshot","View screenshot","View screenshot","View screenshot","View screenshot","View screenshot","View screenshot","View screenshot","View screenshot","View screenshot","View screenshot","View screenshot","View screenshot","View screenshot","View screenshot","View screenshot","View screenshot","View screenshot","View screenshot","View screenshot","View screenshot","View screenshot","View screenshot","View screenshot","View screenshot","View screenshot",{"$f":"HYPERLINK(\"#Screenshots!\"&ADDRESS(1,COLUMN()-4,4),\"View screenshot\")","v":"View screenshot"},"View screenshot","View screenshot","View screenshot","View screenshot","View screenshot","View screenshot","View screenshot","View screenshot","View screenshot","View screenshot","View screenshot","View screenshot","View screenshot","View screenshot","View screenshot","View screenshot","View screenshot","View screenshot","View screenshot","View screenshot"]
[null,null,null,"Cells highlighted in tan indicate that the criteria are technically met with caveats or recommendations.","Page #1\nInitially tested on","Page #2\nInitially tested on","Page #3\nInitially tested on","Page #4\nInitially tested on","Page #5\nInitially tested on","Page #6\nInitially tested on","Page #7\nInitially tested on","Page #8\nInitially tested on","Page #9\nInitially tested on","Page #10\nInitially tested on","Page #11\nInitially tested on","Page #12\nInitially tested on","Page #13\nInitially tested on","Page #14\nInitially tested on","Page #15\nInitially tested on","Page #16\nInitially tested on","Page #17\nInitially tested on","Page #18\nInitially tested on","Page #19\nInitially tested on","Page #20\nInitially tested on","Page #21\nInitially tested on","Page #22\nInitially tested on","Page #23\nInitially tested on","Page #24\nInitially tested on","Page #25\nInitially tested on","Page #26\nInitially tested on","Page #27\nInitially tested on","Page #28\nInitially tested on","Page #29\nInitially tested on","Page #30\nInitially tested on","Page #31\nInitially tested on","Page #32\nInitially tested on","Page #33\nInitially tested on","Page #34\nInitially tested on","Page #35\nInitially tested on","Page #36\nInitially tested on","Page #37\nInitially tested on","Page #38\nInitially tested on","Page #39\nInitially tested on","Page #40\nInitially tested on","Page #41\nInitially tested on","Page #42\nInitially tested on","Page #43\nInitially tested on","Page #44\nInitially tested on","Page #45\nInitially tested on","Page #46\nInitially tested on","Page #47\nInitially tested on","Page #48\nInitially tested on","Page #49\nInitially tested on","Page #50\nInitially tested on","Page #51\nInitially tested on","Page #52\nInitially tested on","Page #53\nInitially tested on","Page #54\nInitially tested on","Page #55\nInitially tested on","Page #56\nInitially tested on","Page #57\nInitially tested on","Page #58\nInitially tested on","Page #59\nInitially tested on","Page #60\nInitially tested on","Page #61\nInitially tested on","Page #62\nInitially tested on","Page #63\nInitially tested on","Page #64\nInitially tested on","Page #65\nInitially tested on","Page #66\nInitially tested on","Page #67\nInitially tested on","Page #68\nInitially tested on","Page #69\nInitially tested on","Page #70\nInitially tested on","Page #71\nInitially tested on","Page #72\nInitially tested on","Page #73\nInitially tested on","Page #74\nInitially tested on","Page #75\nInitially tested on","Page #76\nInitially tested on","Page #77\nInitially tested on","Page #78\nInitially tested on","Page #79\nInitially tested on","Page #80\nInitially tested on","Page #81\nInitially tested on","Page #82\nInitially tested on","Page #83\nInitially tested on","Page #84\nInitially tested on","Page #85\nInitially tested on","Page #86\nInitially tested on","Page #87\nInitially tested on","Page #88\nInitially tested on","Page #89\nInitially tested on","Page #90\nInitially tested on","Page #91\nInitially tested on","Page #92\nInitially tested on","Page #93\nInitially tested on","Page #94\nInitially tested on","Page #95\nInitially tested on","Page #96\nInitially tested on","Page #97\nInitially tested on","Page #98\nInitially tested on","Page #99\nInitially tested on","Page #100\nInitially tested on","Page #101\nInitially tested on","Page #102\nInitially tested on","Page #103\nInitially tested on","Page #104\nInitially tested on","Page #105\nInitially tested on","Page #106\nInitially tested on","Page #107\nInitially tested on","Page #108\nInitially tested on","Page #109\nInitially tested on","Page #110\nInitially tested on","Page #111\nInitially tested on","Page #112\nInitially tested on","Page #113\nInitially tested on","Page #114\nInitially tested on","Page #115\nInitially tested on","Page #116\nInitially tested on","Page #117\nInitially tested on","Page #118\nInitially tested on","Page #119\nInitially tested on","Page #120\nInitially tested on","Page #121\nInitially tested on","Page #122\nInitially tested on","Page #123\nInitially tested on","Page #124\nInitially tested on","Page #125\nInitially tested on","Page #126\nInitially tested on","Page #127\nInitially tested on","Page #128\nInitially tested on","Page #129\nInitially tested on","Page #130\nInitially tested on","Page #131\nInitially tested on","Page #132\nInitially tested on","Page #133\nInitially tested on","Page #134\nInitially tested on","Page #135\nInitially tested on","Page #136\nInitially tested on","Page #137\nInitially tested on","Page #138\nInitially tested on","Page #139\nInitially tested on","Page #140\nInitially tested on","Page #141\nInitially tested on","Page #142\nInitially tested on","Page #143\nInitially tested on","Page #144\nInitially tested on","Page #145\nInitially tested on","Page #146\nInitially tested on","Page #147\nInitially tested on","Page #148\nInitially tested on","Page #149\nInitially tested on","Page #150\nInitially tested on"]
[null,null,null,null,"Press Ctrl+Colon to enter today's date","Press Ctrl+Colon to enter today's date","Press Ctrl+Colon to enter today's date","Press Ctrl+Colon to enter today's date","Press Ctrl+Colon to enter today's date","Press Ctrl+Colon to enter today's date","Press Ctrl+Colon to enter today's date","2023-10-04","2023-10-04","2023-10-04","2023-10-05","2023-10-05","2023-10-04","2023-10-05","2023-10-06","2023-10-06","2023-10-06","2023-10-09","2023-10-09","2023-10-09","2023-10-09","2023-10-09","2023-10-09","2023-10-09","2023-10-09","2023-10-09","2023-10-09","Press Ctrl+Colon to enter today's date","Press Ctrl+Colon to enter today's date","Press Ctrl+Colon to enter today's date","Press Ctrl+Colon to enter today's date","Press Ctrl+Colon to enter today's date","Press Ctrl+Colon to enter today's date","Press Ctrl+Colon to enter today's date","Press Ctrl+Colon to enter today's date","Press Ctrl+Colon to enter today's date","Press Ctrl+Colon to enter today's date","Press Ctrl+Colon to enter today's date","Press Ctrl+Colon to enter today's date","Press Ctrl+Colon to enter today's date","Press Ctrl+Colon to enter today's date","Press Ctrl+Colon to enter today's date","Press Ctrl+Colon to enter today's date","Press Ctrl+Colon to enter today's date","Press Ctrl+Colon to enter today's date","Press Ctrl+Colon to enter today's date","Press Ctrl+Colon to enter today's date","Press Ctrl+Colon to enter today's date","Press Ctrl+Colon to enter today's date","Press Ctrl+Colon to enter today's date","Press Ctrl+Colon to enter today's date","Press Ctrl+Colon to enter today's date","Press Ctrl+Colon to enter today's date","Press Ctrl+Colon to enter today's date","Press Ctrl+Colon to enter today's date","Press Ctrl+Colon to enter today's date","Press Ctrl+Colon to enter today's date","Press Ctrl+Colon to enter today's date","Press Ctrl+Colon to enter today's date","Press Ctrl+Colon to enter today's date","Press Ctrl+Colon to enter today's date","Press Ctrl+Colon to enter today's date","Press Ctrl+Colon to enter today's date","Press Ctrl+Colon to enter today's date","Press Ctrl+Colon to enter today's date","Press Ctrl+Colon to enter today's date","Press Ctrl+Colon to enter today's date","Press Ctrl+Colon to enter today's date","Press Ctrl+Colon to enter today's date","Press Ctrl+Colon to enter today's date","Press Ctrl+Colon to enter today's date","Press Ctrl+Colon to enter today's date","Press Ctrl+Colon to enter today's date","Press Ctrl+Colon to enter today's date","Press Ctrl+Colon to enter today's date","Press Ctrl+Colon to enter today's date","Press Ctrl+Colon to enter today's date","Press Ctrl+Colon to enter today's date","Press Ctrl+Colon to enter today's date","Press Ctrl+Colon to enter today's date","Press Ctrl+Colon to enter today's date","Press Ctrl+Colon to enter today's date","Press Ctrl+Colon to enter today's date","Press Ctrl+Colon to enter today's date","Press Ctrl+Colon to enter today's date","Press Ctrl+Colon to enter today's date","Press Ctrl+Colon to enter today's date","Press Ctrl+Colon to enter today's date","Press Ctrl+Colon to enter today's date","Press Ctrl+Colon to enter today's date","Press Ctrl+Colon to enter today's date","Press Ctrl+Colon to enter today's date","Press Ctrl+Colon to enter today's date","Press Ctrl+Colon to enter today's date","Press Ctrl+Colon to enter today's date","Press Ctrl+Colon to enter today's date","Press Ctrl+Colon to enter today's date","Press Ctrl+Colon to enter today's date","Press Ctrl+Colon to enter today's date","Press Ctrl+Colon to enter today's date","Press Ctrl+Colon to enter today's date","Press Ctrl+Colon to enter today's date","Press Ctrl+Colon to enter today's date","Press Ctrl+Colon to enter today's date","Press Ctrl+Colon to enter today's date","Press Ctrl+Colon to enter today's date","Press Ctrl+Colon to enter today's date","Press Ctrl+Colon to enter today's date","Press Ctrl+Colon to enter today's date","Press Ctrl+Colon to enter today's date","Press Ctrl+Colon to enter today's date","Press Ctrl+Colon to enter today's date","Press Ctrl+Colon to enter today's date","Press Ctrl+Colon to enter today's date","Press Ctrl+Colon to enter today's date","Press Ctrl+Colon to enter today's date","Press Ctrl+Colon to enter today's date","Press Ctrl+Colon to enter today's date","Press Ctrl+Colon to enter today's date","Press Ctrl+Colon to enter today's date","Press Ctrl+Colon to enter today's date","Press Ctrl+Colon to enter today's date","Press Ctrl+Colon to enter today's date","Press Ctrl+Colon to enter today's date","Press Ctrl+Colon to enter today's date","Press Ctrl+Colon to enter today's date","Press Ctrl+Colon to enter today's date","Press Ctrl+Colon to enter today's date","Press Ctrl+Colon to enter today's date","Press Ctrl+Colon to enter today's date","Press Ctrl+Colon to enter today's date","Press Ctrl+Colon to enter today's date","Press Ctrl+Colon to enter today's date","Press Ctrl+Colon to enter today's date","Press Ctrl+Colon to enter today's date","Press Ctrl+Colon to enter today's date","Press Ctrl+Colon to enter today's date","Press Ctrl+Colon to enter today's date","Press Ctrl+Colon to enter today's date","Press Ctrl+Colon to enter today's date","Press Ctrl+Colon to enter today's date","Press Ctrl+Colon to enter today's date","Press Ctrl+Colon to enter today's date","Press Ctrl+Colon to enter today's date","Press Ctrl+Colon to enter today's date","Press Ctrl+Colon to enter today's date","Press Ctrl+Colon to enter today's date","Press Ctrl+Colon to enter today's date","Press Ctrl+Colon to enter today's date","Press Ctrl+Colon to enter today's date"]
[null,null,null,null,{"$f":"IF(Statistics!$S4=\"Yes\",COUNTIF(E10:E71,\"NON CONFORMANT\") & \" Level A Non-conformance\" & IF(COUNTIF(E10:E71,\"NON CONFORMANT\")=1,\"\",\"s\"),\"\") & IF(Statistics!$S5=\"Yes\",\"\n\" & COUNTIF(E76:E119,\"NON CONFORMANT\") & \" Level AA Non-conformance\" & IF(COUNTIF(E76:E119,\"NON CONFORMANT\")=1,\"\",\"s\"),\"\") & IF(Statistics!$S6=\"Yes\",\"\n\" & COUNTIF(E124:E178,\"NON CONFORMANT\") & \" Level AAA Non-conformance\" & IF(COUNTIF(E124:E178,\"NON CONFORMANT\")=1,\"\",\"s\"),\"\")","v":"0 Level A Non-conformances\n0 Level AA Non-conformances"},{"$f":"IF(Statistics!$S4=\"Yes\",COUNTIF(F10:F71,\"NON CONFORMANT\") & \" Level A Non-conformance\" & IF(COUNTIF(F10:F71,\"NON CONFORMANT\")=1,\"\",\"s\"),\"\") & IF(Statistics!$S5=\"Yes\",\"\n\" & COUNTIF(F76:F119,\"NON CONFORMANT\") & \" Level AA Non-conformance\" & IF(COUNTIF(F76:F119,\"NON CONFORMANT\")=1,\"\",\"s\"),\"\") & IF(Statistics!$S6=\"Yes\",\"\n\" & COUNTIF(F124:F178,\"NON CONFORMANT\") & \" Level AAA Non-conformance\" & IF(COUNTIF(F124:F178,\"NON CONFORMANT\")=1,\"\",\"s\"),\"\")","v":"0 Level A Non-conformances\n0 Level AA Non-conformances"},{"$f":"IF(Statistics!$S4=\"Yes\",COUNTIF(G10:G71,\"NON CONFORMANT\") & \" Level A Non-conformance\" & IF(COUNTIF(G10:G71,\"NON CONFORMANT\")=1,\"\",\"s\"),\"\") & IF(Statistics!$S5=\"Yes\",\"\n\" & COUNTIF(G76:G119,\"NON CONFORMANT\") & \" Level AA Non-conformance\" & IF(COUNTIF(G76:G119,\"NON CONFORMANT\")=1,\"\",\"s\"),\"\") & IF(Statistics!$S6=\"Yes\",\"\n\" & COUNTIF(G124:G178,\"NON CONFORMANT\") & \" Level AAA Non-conformance\" & IF(COUNTIF(G124:G178,\"NON CONFORMANT\")=1,\"\",\"s\"),\"\")","v":"0 Level A Non-conformances\n0 Level AA Non-conformances"},{"$f":"IF(Statistics!$S4=\"Yes\",COUNTIF(H10:H71,\"NON CONFORMANT\") & \" Level A Non-conformance\" & IF(COUNTIF(H10:H71,\"NON CONFORMANT\")=1,\"\",\"s\"),\"\") & IF(Statistics!$S5=\"Yes\",\"\n\" & COUNTIF(H76:H119,\"NON CONFORMANT\") & \" Level AA Non-conformance\" & IF(COUNTIF(H76:H119,\"NON CONFORMANT\")=1,\"\",\"s\"),\"\") & IF(Statistics!$S6=\"Yes\",\"\n\" & COUNTIF(H124:H178,\"NON CONFORMANT\") & \" Level AAA Non-conformance\" & IF(COUNTIF(H124:H178,\"NON CONFORMANT\")=1,\"\",\"s\"),\"\")","v":"0 Level A Non-conformances\n0 Level AA Non-conformances"},{"$f":"IF(Statistics!$S4=\"Yes\",COUNTIF(I10:I71,\"NON CONFORMANT\") & \" Level A Non-conformance\" & IF(COUNTIF(I10:I71,\"NON CONFORMANT\")=1,\"\",\"s\"),\"\") & IF(Statistics!$S5=\"Yes\",\"\n\" & COUNTIF(I76:I119,\"NON CONFORMANT\") & \" Level AA Non-conformance\" & IF(COUNTIF(I76:I119,\"NON CONFORMANT\")=1,\"\",\"s\"),\"\") & IF(Statistics!$S6=\"Yes\",\"\n\" & COUNTIF(I124:I178,\"NON CONFORMANT\") & \" Level AAA Non-conformance\" & IF(COUNTIF(I124:I178,\"NON CONFORMANT\")=1,\"\",\"s\"),\"\")","v":"0 Level A Non-conformances\n0 Level AA Non-conformances"},{"$f":"IF(Statistics!$S4=\"Yes\",COUNTIF(J10:J71,\"NON CONFORMANT\") & \" Level A Non-conformance\" & IF(COUNTIF(J10:J71,\"NON CONFORMANT\")=1,\"\",\"s\"),\"\") & IF(Statistics!$S5=\"Yes\",\"\n\" & COUNTIF(J76:J119,\"NON CONFORMANT\") & \" Level AA Non-conformance\" & IF(COUNTIF(J76:J119,\"NON CONFORMANT\")=1,\"\",\"s\"),\"\") & IF(Statistics!$S6=\"Yes\",\"\n\" & COUNTIF(J124:J178,\"NON CONFORMANT\") & \" Level AAA Non-conformance\" & IF(COUNTIF(J124:J178,\"NON CONFORMANT\")=1,\"\",\"s\"),\"\")","v":"0 Level A Non-conformances\n0 Level AA Non-conformances"},{"$f":"IF(Statistics!$S4=\"Yes\",COUNTIF(K10:K71,\"NON CONFORMANT\") & \" Level A Non-conformance\" & IF(COUNTIF(K10:K71,\"NON CONFORMANT\")=1,\"\",\"s\"),\"\") & IF(Statistics!$S5=\"Yes\",\"\n\" & COUNTIF(K76:K119,\"NON CONFORMANT\") & \" Level AA Non-conformance\" & IF(COUNTIF(K76:K119,\"NON CONFORMANT\")=1,\"\",\"s\"),\"\") & IF(Statistics!$S6=\"Yes\",\"\n\" & COUNTIF(K124:K178,\"NON CONFORMANT\") & \" Level AAA Non-conformance\" & IF(COUNTIF(K124:K178,\"NON CONFORMANT\")=1,\"\",\"s\"),\"\")","v":"0 Level A Non-conformances\n0 Level AA Non-conformances"},{"$f":"IF(Statistics!$S4=\"Yes\",COUNTIF(L10:L71,\"NON CONFORMANT\") & \" Level A Non-conformance\" & IF(COUNTIF(L10:L71,\"NON CONFORMANT\")=1,\"\",\"s\"),\"\") & IF(Statistics!$S5=\"Yes\",\"\n\" & COUNTIF(L76:L119,\"NON CONFORMANT\") & \" Level AA Non-conformance\" & IF(COUNTIF(L76:L119,\"NON CONFORMANT\")=1,\"\",\"s\"),\"\") & IF(Statistics!$S6=\"Yes\",\"\n\" & COUNTIF(L124:L178,\"NON CONFORMANT\") & \" Level AAA Non-conformance\" & IF(COUNTIF(L124:L178,\"NON CONFORMANT\")=1,\"\",\"s\"),\"\")","v":"0 Level A Non-conformances\n0 Level AA Non-conformances"},{"$f":"IF(Statistics!$S4=\"Yes\",COUNTIF(M10:M71,\"NON CONFORMANT\") & \" Level A Non-conformance\" & IF(COUNTIF(M10:M71,\"NON CONFORMANT\")=1,\"\",\"s\"),\"\") & IF(Statistics!$S5=\"Yes\",\"\n\" & COUNTIF(M76:M119,\"NON CONFORMANT\") & \" Level AA Non-conformance\" & IF(COUNTIF(M76:M119,\"NON CONFORMANT\")=1,\"\",\"s\"),\"\") & IF(Statistics!$S6=\"Yes\",\"\n\" & COUNTIF(M124:M178,\"NON CONFORMANT\") & \" Level AAA Non-conformance\" & IF(COUNTIF(M124:M178,\"NON CONFORMANT\")=1,\"\",\"s\"),\"\")","v":"0 Level A Non-conformances\n0 Level AA Non-conformances"},{"$f":"IF(Statistics!$S4=\"Yes\",COUNTIF(N10:N71,\"NON CONFORMANT\") & \" Level A Non-conformance\" & IF(COUNTIF(N10:N71,\"NON CONFORMANT\")=1,\"\",\"s\"),\"\") & IF(Statistics!$S5=\"Yes\",\"\n\" & COUNTIF(N76:N119,\"NON CONFORMANT\") & \" Level AA Non-conformance\" & IF(COUNTIF(N76:N119,\"NON CONFORMANT\")=1,\"\",\"s\"),\"\") & IF(Statistics!$S6=\"Yes\",\"\n\" & COUNTIF(N124:N178,\"NON CONFORMANT\") & \" Level AAA Non-conformance\" & IF(COUNTIF(N124:N178,\"NON CONFORMANT\")=1,\"\",\"s\"),\"\")","v":"0 Level A Non-conformances\n1 Level AA Non-conformance"},{"$f":"IF(Statistics!$S4=\"Yes\",COUNTIF(O10:O71,\"NON CONFORMANT\") & \" Level A Non-conformance\" & IF(COUNTIF(O10:O71,\"NON CONFORMANT\")=1,\"\",\"s\"),\"\") & IF(Statistics!$S5=\"Yes\",\"\n\" & COUNTIF(O76:O119,\"NON CONFORMANT\") & \" Level AA Non-conformance\" & IF(COUNTIF(O76:O119,\"NON CONFORMANT\")=1,\"\",\"s\"),\"\") & IF(Statistics!$S6=\"Yes\",\"\n\" & COUNTIF(O124:O178,\"NON CONFORMANT\") & \" Level AAA Non-conformance\" & IF(COUNTIF(O124:O178,\"NON CONFORMANT\")=1,\"\",\"s\"),\"\")","v":"1 Level A Non-conformance\n0 Level AA Non-conformances"},{"$f":"IF(Statistics!$S4=\"Yes\",COUNTIF(P10:P71,\"NON CONFORMANT\") & \" Level A Non-conformance\" & IF(COUNTIF(P10:P71,\"NON CONFORMANT\")=1,\"\",\"s\"),\"\") & IF(Statistics!$S5=\"Yes\",\"\n\" & COUNTIF(P76:P119,\"NON CONFORMANT\") & \" Level AA Non-conformance\" & IF(COUNTIF(P76:P119,\"NON CONFORMANT\")=1,\"\",\"s\"),\"\") & IF(Statistics!$S6=\"Yes\",\"\n\" & COUNTIF(P124:P178,\"NON CONFORMANT\") & \" Level AAA Non-conformance\" & IF(COUNTIF(P124:P178,\"NON CONFORMANT\")=1,\"\",\"s\"),\"\")","v":"0 Level A Non-conformances\n0 Level AA Non-conformances"},{"$f":"IF(Statistics!$S4=\"Yes\",COUNTIF(Q10:Q71,\"NON CONFORMANT\") & \" Level A Non-conformance\" & IF(COUNTIF(Q10:Q71,\"NON CONFORMANT\")=1,\"\",\"s\"),\"\") & IF(Statistics!$S5=\"Yes\",\"\n\" & COUNTIF(Q76:Q119,\"NON CONFORMANT\") & \" Level AA Non-conformance\" & IF(COUNTIF(Q76:Q119,\"NON CONFORMANT\")=1,\"\",\"s\"),\"\") & IF(Statistics!$S6=\"Yes\",\"\n\" & COUNTIF(Q124:Q178,\"NON CONFORMANT\") & \" Level AAA Non-conformance\" & IF(COUNTIF(Q124:Q178,\"NON CONFORMANT\")=1,\"\",\"s\"),\"\")","v":"1 Level A Non-conformance\n2 Level AA Non-conformances"},{"$f":"IF(Statistics!$S4=\"Yes\",COUNTIF(R10:R71,\"NON CONFORMANT\") & \" Level A Non-conformance\" & IF(COUNTIF(R10:R71,\"NON CONFORMANT\")=1,\"\",\"s\"),\"\") & IF(Statistics!$S5=\"Yes\",\"\n\" & COUNTIF(R76:R119,\"NON CONFORMANT\") & \" Level AA Non-conformance\" & IF(COUNTIF(R76:R119,\"NON CONFORMANT\")=1,\"\",\"s\"),\"\") & IF(Statistics!$S6=\"Yes\",\"\n\" & COUNTIF(R124:R178,\"NON CONFORMANT\") & \" Level AAA Non-conformance\" & IF(COUNTIF(R124:R178,\"NON CONFORMANT\")=1,\"\",\"s\"),\"\")","v":"2 Level A Non-conformances\n1 Level AA Non-conformance"},{"$f":"IF(Statistics!$S4=\"Yes\",COUNTIF(S10:S71,\"NON CONFORMANT\") & \" Level A Non-conformance\" & IF(COUNTIF(S10:S71,\"NON CONFORMANT\")=1,\"\",\"s\"),\"\") & IF(Statistics!$S5=\"Yes\",\"\n\" & COUNTIF(S76:S119,\"NON CONFORMANT\") & \" Level AA Non-conformance\" & IF(COUNTIF(S76:S119,\"NON CONFORMANT\")=1,\"\",\"s\"),\"\") & IF(Statistics!$S6=\"Yes\",\"\n\" & COUNTIF(S124:S178,\"NON CONFORMANT\") & \" Level AAA Non-conformance\" & IF(COUNTIF(S124:S178,\"NON CONFORMANT\")=1,\"\",\"s\"),\"\")","v":"3 Level A Non-conformances\n1 Level AA Non-conformance"},{"$f":"IF(Statistics!$S4=\"Yes\",COUNTIF(T10:T71,\"NON CONFORMANT\") & \" Level A Non-conformance\" & IF(COUNTIF(T10:T71,\"NON CONFORMANT\")=1,\"\",\"s\"),\"\") & IF(Statistics!$S5=\"Yes\",\"\n\" & COUNTIF(T76:T119,\"NON CONFORMANT\") & \" Level AA Non-conformance\" & IF(COUNTIF(T76:T119,\"NON CONFORMANT\")=1,\"\",\"s\"),\"\") & IF(Statistics!$S6=\"Yes\",\"\n\" & COUNTIF(T124:T178,\"NON CONFORMANT\") & \" Level AAA Non-conformance\" & IF(COUNTIF(T124:T178,\"NON CONFORMANT\")=1,\"\",\"s\"),\"\")","v":"3 Level A Non-conformances\n1 Level AA Non-conformance"},{"$f":"IF(Statistics!$S4=\"Yes\",COUNTIF(U10:U71,\"NON CONFORMANT\") & \" Level A Non-conformance\" & IF(COUNTIF(U10:U71,\"NON CONFORMANT\")=1,\"\",\"s\"),\"\") & IF(Statistics!$S5=\"Yes\",\"\n\" & COUNTIF(U76:U119,\"NON CONFORMANT\") & \" Level AA Non-conformance\" & IF(COUNTIF(U76:U119,\"NON CONFORMANT\")=1,\"\",\"s\"),\"\") & IF(Statistics!$S6=\"Yes\",\"\n\" & COUNTIF(U124:U178,\"NON CONFORMANT\") & \" Level AAA Non-conformance\" & IF(COUNTIF(U124:U178,\"NON CONFORMANT\")=1,\"\",\"s\"),\"\")","v":"3 Level A Non-conformances\n1 Level AA Non-conformance"},{"$f":"IF(Statistics!$S4=\"Yes\",COUNTIF(V10:V71,\"NON CONFORMANT\") & \" Level A Non-conformance\" & IF(COUNTIF(V10:V71,\"NON CONFORMANT\")=1,\"\",\"s\"),\"\") & IF(Statistics!$S5=\"Yes\",\"\n\" & COUNTIF(V76:V119,\"NON CONFORMANT\") & \" Level AA Non-conformance\" & IF(COUNTIF(V76:V119,\"NON CONFORMANT\")=1,\"\",\"s\"),\"\") & IF(Statistics!$S6=\"Yes\",\"\n\" & COUNTIF(V124:V178,\"NON CONFORMANT\") & \" Level AAA Non-conformance\" & IF(COUNTIF(V124:V178,\"NON CONFORMANT\")=1,\"\",\"s\"),\"\")","v":"4 Level A Non-conformances\n1 Level AA Non-conformance"},{"$f":"IF(Statistics!$S4=\"Yes\",COUNTIF(W10:W71,\"NON CONFORMANT\") & \" Level A Non-conformance\" & IF(COUNTIF(W10:W71,\"NON CONFORMANT\")=1,\"\",\"s\"),\"\") & IF(Statistics!$S5=\"Yes\",\"\n\" & COUNTIF(W76:W119,\"NON CONFORMANT\") & \" Level AA Non-conformance\" & IF(COUNTIF(W76:W119,\"NON CONFORMANT\")=1,\"\",\"s\"),\"\") & IF(Statistics!$S6=\"Yes\",\"\n\" & COUNTIF(W124:W178,\"NON CONFORMANT\") & \" Level AAA Non-conformance\" & IF(COUNTIF(W124:W178,\"NON CONFORMANT\")=1,\"\",\"s\"),\"\")","v":"4 Level A Non-conformances\n1 Level AA Non-conformance"},{"$f":"IF(Statistics!$S4=\"Yes\",COUNTIF(X10:X71,\"NON CONFORMANT\") & \" Level A Non-conformance\" & IF(COUNTIF(X10:X71,\"NON CONFORMANT\")=1,\"\",\"s\"),\"\") & IF(Statistics!$S5=\"Yes\",\"\n\" & COUNTIF(X76:X119,\"NON CONFORMANT\") & \" Level AA Non-conformance\" & IF(COUNTIF(X76:X119,\"NON CONFORMANT\")=1,\"\",\"s\"),\"\") & IF(Statistics!$S6=\"Yes\",\"\n\" & COUNTIF(X124:X178,\"NON CONFORMANT\") & \" Level AAA Non-conformance\" & IF(COUNTIF(X124:X178,\"NON CONFORMANT\")=1,\"\",\"s\"),\"\")","v":"5 Level A Non-conformances\n1 Level AA Non-conformance"},{"$f":"IF(Statistics!$S4=\"Yes\",COUNTIF(Y10:Y71,\"NON CONFORMANT\") & \" Level A Non-conformance\" & IF(COUNTIF(Y10:Y71,\"NON CONFORMANT\")=1,\"\",\"s\"),\"\") & IF(Statistics!$S5=\"Yes\",\"\n\" & COUNTIF(Y76:Y119,\"NON CONFORMANT\") & \" Level AA Non-conformance\" & IF(COUNTIF(Y76:Y119,\"NON CONFORMANT\")=1,\"\",\"s\"),\"\") & IF(Statistics!$S6=\"Yes\",\"\n\" & COUNTIF(Y124:Y178,\"NON CONFORMANT\") & \" Level AAA Non-conformance\" & IF(COUNTIF(Y124:Y178,\"NON CONFORMANT\")=1,\"\",\"s\"),\"\")","v":"4 Level A Non-conformances\n1 Level AA Non-conformance"},{"$f":"IF(Statistics!$S4=\"Yes\",COUNTIF(Z10:Z71,\"NON CONFORMANT\") & \" Level A Non-conformance\" & IF(COUNTIF(Z10:Z71,\"NON CONFORMANT\")=1,\"\",\"s\"),\"\") & IF(Statistics!$S5=\"Yes\",\"\n\" & COUNTIF(Z76:Z119,\"NON CONFORMANT\") & \" Level AA Non-conformance\" & IF(COUNTIF(Z76:Z119,\"NON CONFORMANT\")=1,\"\",\"s\"),\"\") & IF(Statistics!$S6=\"Yes\",\"\n\" & COUNTIF(Z124:Z178,\"NON CONFORMANT\") & \" Level AAA Non-conformance\" & IF(COUNTIF(Z124:Z178,\"NON CONFORMANT\")=1,\"\",\"s\"),\"\")","v":"1 Level A Non-conformance\n0 Level AA Non-conformances"},{"$f":"IF(Statistics!$S4=\"Yes\",COUNTIF(AA10:AA71,\"NON CONFORMANT\") & \" Level A Non-conformance\" & IF(COUNTIF(AA10:AA71,\"NON CONFORMANT\")=1,\"\",\"s\"),\"\") & IF(Statistics!$S5=\"Yes\",\"\n\" & COUNTIF(AA76:AA119,\"NON CONFORMANT\") & \" Level AA Non-conformance\" & IF(COUNTIF(AA76:AA119,\"NON CONFORMANT\")=1,\"\",\"s\"),\"\") & IF(Statistics!$S6=\"Yes\",\"\n\" & COUNTIF(AA124:AA178,\"NON CONFORMANT\") & \" Level AAA Non-conformance\" & IF(COUNTIF(AA124:AA178,\"NON CONFORMANT\")=1,\"\",\"s\"),\"\")","v":"3 Level A Non-conformances\n0 Level AA Non-conformances"},{"$f":"IF(Statistics!$S4=\"Yes\",COUNTIF(AB10:AB71,\"NON CONFORMANT\") & \" Level A Non-conformance\" & IF(COUNTIF(AB10:AB71,\"NON CONFORMANT\")=1,\"\",\"s\"),\"\") & IF(Statistics!$S5=\"Yes\",\"\n\" & COUNTIF(AB76:AB119,\"NON CONFORMANT\") & \" Level AA Non-conformance\" & IF(COUNTIF(AB76:AB119,\"NON CONFORMANT\")=1,\"\",\"s\"),\"\") & IF(Statistics!$S6=\"Yes\",\"\n\" & COUNTIF(AB124:AB178,\"NON CONFORMANT\") & \" Level AAA Non-conformance\" & IF(COUNTIF(AB124:AB178,\"NON CONFORMANT\")=1,\"\",\"s\"),\"\")","v":"3 Level A Non-conformances\n0 Level AA Non-conformances"},{"$f":"IF(Statistics!$S4=\"Yes\",COUNTIF(AC10:AC71,\"NON CONFORMANT\") & \" Level A Non-conformance\" & IF(COUNTIF(AC10:AC71,\"NON CONFORMANT\")=1,\"\",\"s\"),\"\") & IF(Statistics!$S5=\"Yes\",\"\n\" & COUNTIF(AC76:AC119,\"NON CONFORMANT\") & \" Level AA Non-conformance\" & IF(COUNTIF(AC76:AC119,\"NON CONFORMANT\")=1,\"\",\"s\"),\"\") & IF(Statistics!$S6=\"Yes\",\"\n\" & COUNTIF(AC124:AC178,\"NON CONFORMANT\") & \" Level AAA Non-conformance\" & IF(COUNTIF(AC124:AC178,\"NON CONFORMANT\")=1,\"\",\"s\"),\"\")","v":"1 Level A Non-conformance\n0 Level AA Non-conformances"},{"$f":"IF(Statistics!$S4=\"Yes\",COUNTIF(AD10:AD71,\"NON CONFORMANT\") & \" Level A Non-conformance\" & IF(COUNTIF(AD10:AD71,\"NON CONFORMANT\")=1,\"\",\"s\"),\"\") & IF(Statistics!$S5=\"Yes\",\"\n\" & COUNTIF(AD76:AD119,\"NON CONFORMANT\") & \" Level AA Non-conformance\" & IF(COUNTIF(AD76:AD119,\"NON CONFORMANT\")=1,\"\",\"s\"),\"\") & IF(Statistics!$S6=\"Yes\",\"\n\" & COUNTIF(AD124:AD178,\"NON CONFORMANT\") & \" Level AAA Non-conformance\" & IF(COUNTIF(AD124:AD178,\"NON CONFORMANT\")=1,\"\",\"s\"),\"\")","v":"1 Level A Non-conformance\n0 Level AA Non-conformances"},{"$f":"IF(Statistics!$S4=\"Yes\",COUNTIF(AE10:AE71,\"NON CONFORMANT\") & \" Level A Non-conformance\" & IF(COUNTIF(AE10:AE71,\"NON CONFORMANT\")=1,\"\",\"s\"),\"\") & IF(Statistics!$S5=\"Yes\",\"\n\" & COUNTIF(AE76:AE119,\"NON CONFORMANT\") & \" Level AA Non-conformance\" & IF(COUNTIF(AE76:AE119,\"NON CONFORMANT\")=1,\"\",\"s\"),\"\") & IF(Statistics!$S6=\"Yes\",\"\n\" & COUNTIF(AE124:AE178,\"NON CONFORMANT\") & \" Level AAA Non-conformance\" & IF(COUNTIF(AE124:AE178,\"NON CONFORMANT\")=1,\"\",\"s\"),\"\")","v":"0 Level A Non-conformances\n0 Level AA Non-conformances"},{"$f":"IF(Statistics!$S4=\"Yes\",COUNTIF(AF10:AF71,\"NON CONFORMANT\") & \" Level A Non-conformance\" & IF(COUNTIF(AF10:AF71,\"NON CONFORMANT\")=1,\"\",\"s\"),\"\") & IF(Statistics!$S5=\"Yes\",\"\n\" & COUNTIF(AF76:AF119,\"NON CONFORMANT\") & \" Level AA Non-conformance\" & IF(COUNTIF(AF76:AF119,\"NON CONFORMANT\")=1,\"\",\"s\"),\"\") & IF(Statistics!$S6=\"Yes\",\"\n\" & COUNTIF(AF124:AF178,\"NON CONFORMANT\") & \" Level AAA Non-conformance\" & IF(COUNTIF(AF124:AF178,\"NON CONFORMANT\")=1,\"\",\"s\"),\"\")","v":"0 Level A Non-conformances\n0 Level AA Non-conformances"},{"$f":"IF(Statistics!$S4=\"Yes\",COUNTIF(AG10:AG71,\"NON CONFORMANT\") & \" Level A Non-conformance\" & IF(COUNTIF(AG10:AG71,\"NON CONFORMANT\")=1,\"\",\"s\"),\"\") & IF(Statistics!$S5=\"Yes\",\"\n\" & COUNTIF(AG76:AG119,\"NON CONFORMANT\") & \" Level AA Non-conformance\" & IF(COUNTIF(AG76:AG119,\"NON CONFORMANT\")=1,\"\",\"s\"),\"\") & IF(Statistics!$S6=\"Yes\",\"\n\" & COUNTIF(AG124:AG178,\"NON CONFORMANT\") & \" Level AAA Non-conformance\" & IF(COUNTIF(AG124:AG178,\"NON CONFORMANT\")=1,\"\",\"s\"),\"\")","v":"0 Level A Non-conformances\n0 Level AA Non-conformances"},{"$f":"IF(Statistics!$S4=\"Yes\",COUNTIF(AH10:AH71,\"NON CONFORMANT\") & \" Level A Non-conformance\" & IF(COUNTIF(AH10:AH71,\"NON CONFORMANT\")=1,\"\",\"s\"),\"\") & IF(Statistics!$S5=\"Yes\",\"\n\" & COUNTIF(AH76:AH119,\"NON CONFORMANT\") & \" Level AA Non-conformance\" & IF(COUNTIF(AH76:AH119,\"NON CONFORMANT\")=1,\"\",\"s\"),\"\") & IF(Statistics!$S6=\"Yes\",\"\n\" & COUNTIF(AH124:AH178,\"NON CONFORMANT\") & \" Level AAA Non-conformance\" & IF(COUNTIF(AH124:AH178,\"NON CONFORMANT\")=1,\"\",\"s\"),\"\")","v":"0 Level A Non-conformances\n0 Level AA Non-conformances"},{"$f":"IF(Statistics!$S4=\"Yes\",COUNTIF(AI10:AI71,\"NON CONFORMANT\") & \" Level A Non-conformance\" & IF(COUNTIF(AI10:AI71,\"NON CONFORMANT\")=1,\"\",\"s\"),\"\") & IF(Statistics!$S5=\"Yes\",\"\n\" & COUNTIF(AI76:AI119,\"NON CONFORMANT\") & \" Level AA Non-conformance\" & IF(COUNTIF(AI76:AI119,\"NON CONFORMANT\")=1,\"\",\"s\"),\"\") & IF(Statistics!$S6=\"Yes\",\"\n\" & COUNTIF(AI124:AI178,\"NON CONFORMANT\") & \" Level AAA Non-conformance\" & IF(COUNTIF(AI124:AI178,\"NON CONFORMANT\")=1,\"\",\"s\"),\"\")","v":"0 Level A Non-conformances\n0 Level AA Non-conformances"},{"$f":"IF(Statistics!$S4=\"Yes\",COUNTIF(AJ10:AJ71,\"NON CONFORMANT\") & \" Level A Non-conformance\" & IF(COUNTIF(AJ10:AJ71,\"NON CONFORMANT\")=1,\"\",\"s\"),\"\") & IF(Statistics!$S5=\"Yes\",\"\n\" & COUNTIF(AJ76:AJ119,\"NON CONFORMANT\") & \" Level AA Non-conformance\" & IF(COUNTIF(AJ76:AJ119,\"NON CONFORMANT\")=1,\"\",\"s\"),\"\") & IF(Statistics!$S6=\"Yes\",\"\n\" & COUNTIF(AJ124:AJ178,\"NON CONFORMANT\") & \" Level AAA Non-conformance\" & IF(COUNTIF(AJ124:AJ178,\"NON CONFORMANT\")=1,\"\",\"s\"),\"\")","v":"0 Level A Non-conformances\n0 Level AA Non-conformances"},{"$f":"IF(Statistics!$S4=\"Yes\",COUNTIF(AK10:AK71,\"NON CONFORMANT\") & \" Level A Non-conformance\" & IF(COUNTIF(AK10:AK71,\"NON CONFORMANT\")=1,\"\",\"s\"),\"\") & IF(Statistics!$S5=\"Yes\",\"\n\" & COUNTIF(AK76:AK119,\"NON CONFORMANT\") & \" Level AA Non-conformance\" & IF(COUNTIF(AK76:AK119,\"NON CONFORMANT\")=1,\"\",\"s\"),\"\") & IF(Statistics!$S6=\"Yes\",\"\n\" & COUNTIF(AK124:AK178,\"NON CONFORMANT\") & \" Level AAA Non-conformance\" & IF(COUNTIF(AK124:AK178,\"NON CONFORMANT\")=1,\"\",\"s\"),\"\")","v":"0 Level A Non-conformances\n0 Level AA Non-conformances"},{"$f":"IF(Statistics!$S4=\"Yes\",COUNTIF(AL10:AL71,\"NON CONFORMANT\") & \" Level A Non-conformance\" & IF(COUNTIF(AL10:AL71,\"NON CONFORMANT\")=1,\"\",\"s\"),\"\") & IF(Statistics!$S5=\"Yes\",\"\n\" & COUNTIF(AL76:AL119,\"NON CONFORMANT\") & \" Level AA Non-conformance\" & IF(COUNTIF(AL76:AL119,\"NON CONFORMANT\")=1,\"\",\"s\"),\"\") & IF(Statistics!$S6=\"Yes\",\"\n\" & COUNTIF(AL124:AL178,\"NON CONFORMANT\") & \" Level AAA Non-conformance\" & IF(COUNTIF(AL124:AL178,\"NON CONFORMANT\")=1,\"\",\"s\"),\"\")","v":"0 Level A Non-conformances\n0 Level AA Non-conformances"},{"$f":"IF(Statistics!$S4=\"Yes\",COUNTIF(AM10:AM71,\"NON CONFORMANT\") & \" Level A Non-conformance\" & IF(COUNTIF(AM10:AM71,\"NON CONFORMANT\")=1,\"\",\"s\"),\"\") & IF(Statistics!$S5=\"Yes\",\"\n\" & COUNTIF(AM76:AM119,\"NON CONFORMANT\") & \" Level AA Non-conformance\" & IF(COUNTIF(AM76:AM119,\"NON CONFORMANT\")=1,\"\",\"s\"),\"\") & IF(Statistics!$S6=\"Yes\",\"\n\" & COUNTIF(AM124:AM178,\"NON CONFORMANT\") & \" Level AAA Non-conformance\" & IF(COUNTIF(AM124:AM178,\"NON CONFORMANT\")=1,\"\",\"s\"),\"\")","v":"0 Level A Non-conformances\n0 Level AA Non-conformances"},{"$f":"IF(Statistics!$S4=\"Yes\",COUNTIF(AN10:AN71,\"NON CONFORMANT\") & \" Level A Non-conformance\" & IF(COUNTIF(AN10:AN71,\"NON CONFORMANT\")=1,\"\",\"s\"),\"\") & IF(Statistics!$S5=\"Yes\",\"\n\" & COUNTIF(AN76:AN119,\"NON CONFORMANT\") & \" Level AA Non-conformance\" & IF(COUNTIF(AN76:AN119,\"NON CONFORMANT\")=1,\"\",\"s\"),\"\") & IF(Statistics!$S6=\"Yes\",\"\n\" & COUNTIF(AN124:AN178,\"NON CONFORMANT\") & \" Level AAA Non-conformance\" & IF(COUNTIF(AN124:AN178,\"NON CONFORMANT\")=1,\"\",\"s\"),\"\")","v":"0 Level A Non-conformances\n0 Level AA Non-conformances"},{"$f":"IF(Statistics!$S4=\"Yes\",COUNTIF(AO10:AO71,\"NON CONFORMANT\") & \" Level A Non-conformance\" & IF(COUNTIF(AO10:AO71,\"NON CONFORMANT\")=1,\"\",\"s\"),\"\") & IF(Statistics!$S5=\"Yes\",\"\n\" & COUNTIF(AO76:AO119,\"NON CONFORMANT\") & \" Level AA Non-conformance\" & IF(COUNTIF(AO76:AO119,\"NON CONFORMANT\")=1,\"\",\"s\"),\"\") & IF(Statistics!$S6=\"Yes\",\"\n\" & COUNTIF(AO124:AO178,\"NON CONFORMANT\") & \" Level AAA Non-conformance\" & IF(COUNTIF(AO124:AO178,\"NON CONFORMANT\")=1,\"\",\"s\"),\"\")","v":"0 Level A Non-conformances\n0 Level AA Non-conformances"},{"$f":"IF(Statistics!$S4=\"Yes\",COUNTIF(AP10:AP71,\"NON CONFORMANT\") & \" Level A Non-conformance\" & IF(COUNTIF(AP10:AP71,\"NON CONFORMANT\")=1,\"\",\"s\"),\"\") & IF(Statistics!$S5=\"Yes\",\"\n\" & COUNTIF(AP76:AP119,\"NON CONFORMANT\") & \" Level AA Non-conformance\" & IF(COUNTIF(AP76:AP119,\"NON CONFORMANT\")=1,\"\",\"s\"),\"\") & IF(Statistics!$S6=\"Yes\",\"\n\" & COUNTIF(AP124:AP178,\"NON CONFORMANT\") & \" Level AAA Non-conformance\" & IF(COUNTIF(AP124:AP178,\"NON CONFORMANT\")=1,\"\",\"s\"),\"\")","v":"0 Level A Non-conformances\n0 Level AA Non-conformances"},{"$f":"IF(Statistics!$S4=\"Yes\",COUNTIF(AQ10:AQ71,\"NON CONFORMANT\") & \" Level A Non-conformance\" & IF(COUNTIF(AQ10:AQ71,\"NON CONFORMANT\")=1,\"\",\"s\"),\"\") & IF(Statistics!$S5=\"Yes\",\"\n\" & COUNTIF(AQ76:AQ119,\"NON CONFORMANT\") & \" Level AA Non-conformance\" & IF(COUNTIF(AQ76:AQ119,\"NON CONFORMANT\")=1,\"\",\"s\"),\"\") & IF(Statistics!$S6=\"Yes\",\"\n\" & COUNTIF(AQ124:AQ178,\"NON CONFORMANT\") & \" Level AAA Non-conformance\" & IF(COUNTIF(AQ124:AQ178,\"NON CONFORMANT\")=1,\"\",\"s\"),\"\")","v":"0 Level A Non-conformances\n0 Level AA Non-conformances"},{"$f":"IF(Statistics!$S4=\"Yes\",COUNTIF(AR10:AR71,\"NON CONFORMANT\") & \" Level A Non-conformance\" & IF(COUNTIF(AR10:AR71,\"NON CONFORMANT\")=1,\"\",\"s\"),\"\") & IF(Statistics!$S5=\"Yes\",\"\n\" & COUNTIF(AR76:AR119,\"NON CONFORMANT\") & \" Level AA Non-conformance\" & IF(COUNTIF(AR76:AR119,\"NON CONFORMANT\")=1,\"\",\"s\"),\"\") & IF(Statistics!$S6=\"Yes\",\"\n\" & COUNTIF(AR124:AR178,\"NON CONFORMANT\") & \" Level AAA Non-conformance\" & IF(COUNTIF(AR124:AR178,\"NON CONFORMANT\")=1,\"\",\"s\"),\"\")","v":"0 Level A Non-conformances\n0 Level AA Non-conformances"},{"$f":"IF(Statistics!$S4=\"Yes\",COUNTIF(AS10:AS71,\"NON CONFORMANT\") & \" Level A Non-conformance\" & IF(COUNTIF(AS10:AS71,\"NON CONFORMANT\")=1,\"\",\"s\"),\"\") & IF(Statistics!$S5=\"Yes\",\"\n\" & COUNTIF(AS76:AS119,\"NON CONFORMANT\") & \" Level AA Non-conformance\" & IF(COUNTIF(AS76:AS119,\"NON CONFORMANT\")=1,\"\",\"s\"),\"\") & IF(Statistics!$S6=\"Yes\",\"\n\" & COUNTIF(AS124:AS178,\"NON CONFORMANT\") & \" Level AAA Non-conformance\" & IF(COUNTIF(AS124:AS178,\"NON CONFORMANT\")=1,\"\",\"s\"),\"\")","v":"0 Level A Non-conformances\n0 Level AA Non-conformances"},{"$f":"IF(Statistics!$S4=\"Yes\",COUNTIF(AT10:AT71,\"NON CONFORMANT\") & \" Level A Non-conformance\" & IF(COUNTIF(AT10:AT71,\"NON CONFORMANT\")=1,\"\",\"s\"),\"\") & IF(Statistics!$S5=\"Yes\",\"\n\" & COUNTIF(AT76:AT119,\"NON CONFORMANT\") & \" Level AA Non-conformance\" & IF(COUNTIF(AT76:AT119,\"NON CONFORMANT\")=1,\"\",\"s\"),\"\") & IF(Statistics!$S6=\"Yes\",\"\n\" & COUNTIF(AT124:AT178,\"NON CONFORMANT\") & \" Level AAA Non-conformance\" & IF(COUNTIF(AT124:AT178,\"NON CONFORMANT\")=1,\"\",\"s\"),\"\")","v":"0 Level A Non-conformances\n0 Level AA Non-conformances"},{"$f":"IF(Statistics!$S4=\"Yes\",COUNTIF(AU10:AU71,\"NON CONFORMANT\") & \" Level A Non-conformance\" & IF(COUNTIF(AU10:AU71,\"NON CONFORMANT\")=1,\"\",\"s\"),\"\") & IF(Statistics!$S5=\"Yes\",\"\n\" & COUNTIF(AU76:AU119,\"NON CONFORMANT\") & \" Level AA Non-conformance\" & IF(COUNTIF(AU76:AU119,\"NON CONFORMANT\")=1,\"\",\"s\"),\"\") & IF(Statistics!$S6=\"Yes\",\"\n\" & COUNTIF(AU124:AU178,\"NON CONFORMANT\") & \" Level AAA Non-conformance\" & IF(COUNTIF(AU124:AU178,\"NON CONFORMANT\")=1,\"\",\"s\"),\"\")","v":"0 Level A Non-conformances\n0 Level AA Non-conformances"},{"$f":"IF(Statistics!$S4=\"Yes\",COUNTIF(AV10:AV71,\"NON CONFORMANT\") & \" Level A Non-conformance\" & IF(COUNTIF(AV10:AV71,\"NON CONFORMANT\")=1,\"\",\"s\"),\"\") & IF(Statistics!$S5=\"Yes\",\"\n\" & COUNTIF(AV76:AV119,\"NON CONFORMANT\") & \" Level AA Non-conformance\" & IF(COUNTIF(AV76:AV119,\"NON CONFORMANT\")=1,\"\",\"s\"),\"\") & IF(Statistics!$S6=\"Yes\",\"\n\" & COUNTIF(AV124:AV178,\"NON CONFORMANT\") & \" Level AAA Non-conformance\" & IF(COUNTIF(AV124:AV178,\"NON CONFORMANT\")=1,\"\",\"s\"),\"\")","v":"0 Level A Non-conformances\n0 Level AA Non-conformances"},{"$f":"IF(Statistics!$S4=\"Yes\",COUNTIF(AW10:AW71,\"NON CONFORMANT\") & \" Level A Non-conformance\" & IF(COUNTIF(AW10:AW71,\"NON CONFORMANT\")=1,\"\",\"s\"),\"\") & IF(Statistics!$S5=\"Yes\",\"\n\" & COUNTIF(AW76:AW119,\"NON CONFORMANT\") & \" Level AA Non-conformance\" & IF(COUNTIF(AW76:AW119,\"NON CONFORMANT\")=1,\"\",\"s\"),\"\") & IF(Statistics!$S6=\"Yes\",\"\n\" & COUNTIF(AW124:AW178,\"NON CONFORMANT\") & \" Level AAA Non-conformance\" & IF(COUNTIF(AW124:AW178,\"NON CONFORMANT\")=1,\"\",\"s\"),\"\")","v":"0 Level A Non-conformances\n0 Level AA Non-conformances"},{"$f":"IF(Statistics!$S4=\"Yes\",COUNTIF(AX10:AX71,\"NON CONFORMANT\") & \" Level A Non-conformance\" & IF(COUNTIF(AX10:AX71,\"NON CONFORMANT\")=1,\"\",\"s\"),\"\") & IF(Statistics!$S5=\"Yes\",\"\n\" & COUNTIF(AX76:AX119,\"NON CONFORMANT\") & \" Level AA Non-conformance\" & IF(COUNTIF(AX76:AX119,\"NON CONFORMANT\")=1,\"\",\"s\"),\"\") & IF(Statistics!$S6=\"Yes\",\"\n\" & COUNTIF(AX124:AX178,\"NON CONFORMANT\") & \" Level AAA Non-conformance\" & IF(COUNTIF(AX124:AX178,\"NON CONFORMANT\")=1,\"\",\"s\"),\"\")","v":"0 Level A Non-conformances\n0 Level AA Non-conformances"},{"$f":"IF(Statistics!$S4=\"Yes\",COUNTIF(AY10:AY71,\"NON CONFORMANT\") & \" Level A Non-conformance\" & IF(COUNTIF(AY10:AY71,\"NON CONFORMANT\")=1,\"\",\"s\"),\"\") & IF(Statistics!$S5=\"Yes\",\"\n\" & COUNTIF(AY76:AY119,\"NON CONFORMANT\") & \" Level AA Non-conformance\" & IF(COUNTIF(AY76:AY119,\"NON CONFORMANT\")=1,\"\",\"s\"),\"\") & IF(Statistics!$S6=\"Yes\",\"\n\" & COUNTIF(AY124:AY178,\"NON CONFORMANT\") & \" Level AAA Non-conformance\" & IF(COUNTIF(AY124:AY178,\"NON CONFORMANT\")=1,\"\",\"s\"),\"\")","v":"0 Level A Non-conformances\n0 Level AA Non-conformances"},{"$f":"IF(Statistics!$S4=\"Yes\",COUNTIF(AZ10:AZ71,\"NON CONFORMANT\") & \" Level A Non-conformance\" & IF(COUNTIF(AZ10:AZ71,\"NON CONFORMANT\")=1,\"\",\"s\"),\"\") & IF(Statistics!$S5=\"Yes\",\"\n\" & COUNTIF(AZ76:AZ119,\"NON CONFORMANT\") & \" Level AA Non-conformance\" & IF(COUNTIF(AZ76:AZ119,\"NON CONFORMANT\")=1,\"\",\"s\"),\"\") & IF(Statistics!$S6=\"Yes\",\"\n\" & COUNTIF(AZ124:AZ178,\"NON CONFORMANT\") & \" Level AAA Non-conformance\" & IF(COUNTIF(AZ124:AZ178,\"NON CONFORMANT\")=1,\"\",\"s\"),\"\")","v":"0 Level A Non-conformances\n0 Level AA Non-conformances"},{"$f":"IF(Statistics!$S4=\"Yes\",COUNTIF(BA10:BA71,\"NON CONFORMANT\") & \" Level A Non-conformance\" & IF(COUNTIF(BA10:BA71,\"NON CONFORMANT\")=1,\"\",\"s\"),\"\") & IF(Statistics!$S5=\"Yes\",\"\n\" & COUNTIF(BA76:BA119,\"NON CONFORMANT\") & \" Level AA Non-conformance\" & IF(COUNTIF(BA76:BA119,\"NON CONFORMANT\")=1,\"\",\"s\"),\"\") & IF(Statistics!$S6=\"Yes\",\"\n\" & COUNTIF(BA124:BA178,\"NON CONFORMANT\") & \" Level AAA Non-conformance\" & IF(COUNTIF(BA124:BA178,\"NON CONFORMANT\")=1,\"\",\"s\"),\"\")","v":"0 Level A Non-conformances\n0 Level AA Non-conformances"},{"$f":"IF(Statistics!$S4=\"Yes\",COUNTIF(BB10:BB71,\"NON CONFORMANT\") & \" Level A Non-conformance\" & IF(COUNTIF(BB10:BB71,\"NON CONFORMANT\")=1,\"\",\"s\"),\"\") & IF(Statistics!$S5=\"Yes\",\"\n\" & COUNTIF(BB76:BB119,\"NON CONFORMANT\") & \" Level AA Non-conformance\" & IF(COUNTIF(BB76:BB119,\"NON CONFORMANT\")=1,\"\",\"s\"),\"\") & IF(Statistics!$S6=\"Yes\",\"\n\" & COUNTIF(BB124:BB178,\"NON CONFORMANT\") & \" Level AAA Non-conformance\" & IF(COUNTIF(BB124:BB178,\"NON CONFORMANT\")=1,\"\",\"s\"),\"\")","v":"0 Level A Non-conformances\n0 Level AA Non-conformances"},{"$f":"IF(Statistics!$S4=\"Yes\",COUNTIF(BC10:BC71,\"NON CONFORMANT\") & \" Level A Non-conformance\" & IF(COUNTIF(BC10:BC71,\"NON CONFORMANT\")=1,\"\",\"s\"),\"\") & IF(Statistics!$S5=\"Yes\",\"\n\" & COUNTIF(BC76:BC119,\"NON CONFORMANT\") & \" Level AA Non-conformance\" & IF(COUNTIF(BC76:BC119,\"NON CONFORMANT\")=1,\"\",\"s\"),\"\") & IF(Statistics!$S6=\"Yes\",\"\n\" & COUNTIF(BC124:BC178,\"NON CONFORMANT\") & \" Level AAA Non-conformance\" & IF(COUNTIF(BC124:BC178,\"NON CONFORMANT\")=1,\"\",\"s\"),\"\")","v":"0 Level A Non-conformances\n0 Level AA Non-conformances"},{"$f":"IF(Statistics!$S4=\"Yes\",COUNTIF(BD10:BD71,\"NON CONFORMANT\") & \" Level A Non-conformance\" & IF(COUNTIF(BD10:BD71,\"NON CONFORMANT\")=1,\"\",\"s\"),\"\") & IF(Statistics!$S5=\"Yes\",\"\n\" & COUNTIF(BD76:BD119,\"NON CONFORMANT\") & \" Level AA Non-conformance\" & IF(COUNTIF(BD76:BD119,\"NON CONFORMANT\")=1,\"\",\"s\"),\"\") & IF(Statistics!$S6=\"Yes\",\"\n\" & COUNTIF(BD124:BD178,\"NON CONFORMANT\") & \" Level AAA Non-conformance\" & IF(COUNTIF(BD124:BD178,\"NON CONFORMANT\")=1,\"\",\"s\"),\"\")","v":"0 Level A Non-conformances\n0 Level AA Non-conformances"},{"$f":"IF(Statistics!$S4=\"Yes\",COUNTIF(BE10:BE71,\"NON CONFORMANT\") & \" Level A Non-conformance\" & IF(COUNTIF(BE10:BE71,\"NON CONFORMANT\")=1,\"\",\"s\"),\"\") & IF(Statistics!$S5=\"Yes\",\"\n\" & COUNTIF(BE76:BE119,\"NON CONFORMANT\") & \" Level AA Non-conformance\" & IF(COUNTIF(BE76:BE119,\"NON CONFORMANT\")=1,\"\",\"s\"),\"\") & IF(Statistics!$S6=\"Yes\",\"\n\" & COUNTIF(BE124:BE178,\"NON CONFORMANT\") & \" Level AAA Non-conformance\" & IF(COUNTIF(BE124:BE178,\"NON CONFORMANT\")=1,\"\",\"s\"),\"\")","v":"0 Level A Non-conformances\n0 Level AA Non-conformances"},{"$f":"IF(Statistics!$S4=\"Yes\",COUNTIF(BF10:BF71,\"NON CONFORMANT\") & \" Level A Non-conformance\" & IF(COUNTIF(BF10:BF71,\"NON CONFORMANT\")=1,\"\",\"s\"),\"\") & IF(Statistics!$S5=\"Yes\",\"\n\" & COUNTIF(BF76:BF119,\"NON CONFORMANT\") & \" Level AA Non-conformance\" & IF(COUNTIF(BF76:BF119,\"NON CONFORMANT\")=1,\"\",\"s\"),\"\") & IF(Statistics!$S6=\"Yes\",\"\n\" & COUNTIF(BF124:BF178,\"NON CONFORMANT\") & \" Level AAA Non-conformance\" & IF(COUNTIF(BF124:BF178,\"NON CONFORMANT\")=1,\"\",\"s\"),\"\")","v":"0 Level A Non-conformances\n0 Level AA Non-conformances"},{"$f":"IF(Statistics!$S4=\"Yes\",COUNTIF(BG10:BG71,\"NON CONFORMANT\") & \" Level A Non-conformance\" & IF(COUNTIF(BG10:BG71,\"NON CONFORMANT\")=1,\"\",\"s\"),\"\") & IF(Statistics!$S5=\"Yes\",\"\n\" & COUNTIF(BG76:BG119,\"NON CONFORMANT\") & \" Level AA Non-conformance\" & IF(COUNTIF(BG76:BG119,\"NON CONFORMANT\")=1,\"\",\"s\"),\"\") & IF(Statistics!$S6=\"Yes\",\"\n\" & COUNTIF(BG124:BG178,\"NON CONFORMANT\") & \" Level AAA Non-conformance\" & IF(COUNTIF(BG124:BG178,\"NON CONFORMANT\")=1,\"\",\"s\"),\"\")","v":"0 Level A Non-conformances\n0 Level AA Non-conformances"},{"$f":"IF(Statistics!$S4=\"Yes\",COUNTIF(BH10:BH71,\"NON CONFORMANT\") & \" Level A Non-conformance\" & IF(COUNTIF(BH10:BH71,\"NON CONFORMANT\")=1,\"\",\"s\"),\"\") & IF(Statistics!$S5=\"Yes\",\"\n\" & COUNTIF(BH76:BH119,\"NON CONFORMANT\") & \" Level AA Non-conformance\" & IF(COUNTIF(BH76:BH119,\"NON CONFORMANT\")=1,\"\",\"s\"),\"\") & IF(Statistics!$S6=\"Yes\",\"\n\" & COUNTIF(BH124:BH178,\"NON CONFORMANT\") & \" Level AAA Non-conformance\" & IF(COUNTIF(BH124:BH178,\"NON CONFORMANT\")=1,\"\",\"s\"),\"\")","v":"0 Level A Non-conformances\n0 Level AA Non-conformances"},{"$f":"IF(Statistics!$S4=\"Yes\",COUNTIF(BI10:BI71,\"NON CONFORMANT\") & \" Level A Non-conformance\" & IF(COUNTIF(BI10:BI71,\"NON CONFORMANT\")=1,\"\",\"s\"),\"\") & IF(Statistics!$S5=\"Yes\",\"\n\" & COUNTIF(BI76:BI119,\"NON CONFORMANT\") & \" Level AA Non-conformance\" & IF(COUNTIF(BI76:BI119,\"NON CONFORMANT\")=1,\"\",\"s\"),\"\") & IF(Statistics!$S6=\"Yes\",\"\n\" & COUNTIF(BI124:BI178,\"NON CONFORMANT\") & \" Level AAA Non-conformance\" & IF(COUNTIF(BI124:BI178,\"NON CONFORMANT\")=1,\"\",\"s\"),\"\")","v":"0 Level A Non-conformances\n0 Level AA Non-conformances"},{"$f":"IF(Statistics!$S4=\"Yes\",COUNTIF(BJ10:BJ71,\"NON CONFORMANT\") & \" Level A Non-conformance\" & IF(COUNTIF(BJ10:BJ71,\"NON CONFORMANT\")=1,\"\",\"s\"),\"\") & IF(Statistics!$S5=\"Yes\",\"\n\" & COUNTIF(BJ76:BJ119,\"NON CONFORMANT\") & \" Level AA Non-conformance\" & IF(COUNTIF(BJ76:BJ119,\"NON CONFORMANT\")=1,\"\",\"s\"),\"\") & IF(Statistics!$S6=\"Yes\",\"\n\" & COUNTIF(BJ124:BJ178,\"NON CONFORMANT\") & \" Level AAA Non-conformance\" & IF(COUNTIF(BJ124:BJ178,\"NON CONFORMANT\")=1,\"\",\"s\"),\"\")","v":"0 Level A Non-conformances\n0 Level AA Non-conformances"},{"$f":"IF(Statistics!$S4=\"Yes\",COUNTIF(BK10:BK71,\"NON CONFORMANT\") & \" Level A Non-conformance\" & IF(COUNTIF(BK10:BK71,\"NON CONFORMANT\")=1,\"\",\"s\"),\"\") & IF(Statistics!$S5=\"Yes\",\"\n\" & COUNTIF(BK76:BK119,\"NON CONFORMANT\") & \" Level AA Non-conformance\" & IF(COUNTIF(BK76:BK119,\"NON CONFORMANT\")=1,\"\",\"s\"),\"\") & IF(Statistics!$S6=\"Yes\",\"\n\" & COUNTIF(BK124:BK178,\"NON CONFORMANT\") & \" Level AAA Non-conformance\" & IF(COUNTIF(BK124:BK178,\"NON CONFORMANT\")=1,\"\",\"s\"),\"\")","v":"0 Level A Non-conformances\n0 Level AA Non-conformances"},{"$f":"IF(Statistics!$S4=\"Yes\",COUNTIF(BL10:BL71,\"NON CONFORMANT\") & \" Level A Non-conformance\" & IF(COUNTIF(BL10:BL71,\"NON CONFORMANT\")=1,\"\",\"s\"),\"\") & IF(Statistics!$S5=\"Yes\",\"\n\" & COUNTIF(BL76:BL119,\"NON CONFORMANT\") & \" Level AA Non-conformance\" & IF(COUNTIF(BL76:BL119,\"NON CONFORMANT\")=1,\"\",\"s\"),\"\") & IF(Statistics!$S6=\"Yes\",\"\n\" & COUNTIF(BL124:BL178,\"NON CONFORMANT\") & \" Level AAA Non-conformance\" & IF(COUNTIF(BL124:BL178,\"NON CONFORMANT\")=1,\"\",\"s\"),\"\")","v":"0 Level A Non-conformances\n0 Level AA Non-conformances"},{"$f":"IF(Statistics!$S4=\"Yes\",COUNTIF(BM10:BM71,\"NON CONFORMANT\") & \" Level A Non-conformance\" & IF(COUNTIF(BM10:BM71,\"NON CONFORMANT\")=1,\"\",\"s\"),\"\") & IF(Statistics!$S5=\"Yes\",\"\n\" & COUNTIF(BM76:BM119,\"NON CONFORMANT\") & \" Level AA Non-conformance\" & IF(COUNTIF(BM76:BM119,\"NON CONFORMANT\")=1,\"\",\"s\"),\"\") & IF(Statistics!$S6=\"Yes\",\"\n\" & COUNTIF(BM124:BM178,\"NON CONFORMANT\") & \" Level AAA Non-conformance\" & IF(COUNTIF(BM124:BM178,\"NON CONFORMANT\")=1,\"\",\"s\"),\"\")","v":"0 Level A Non-conformances\n0 Level AA Non-conformances"},{"$f":"IF(Statistics!$S4=\"Yes\",COUNTIF(BN10:BN71,\"NON CONFORMANT\") & \" Level A Non-conformance\" & IF(COUNTIF(BN10:BN71,\"NON CONFORMANT\")=1,\"\",\"s\"),\"\") & IF(Statistics!$S5=\"Yes\",\"\n\" & COUNTIF(BN76:BN119,\"NON CONFORMANT\") & \" Level AA Non-conformance\" & IF(COUNTIF(BN76:BN119,\"NON CONFORMANT\")=1,\"\",\"s\"),\"\") & IF(Statistics!$S6=\"Yes\",\"\n\" & COUNTIF(BN124:BN178,\"NON CONFORMANT\") & \" Level AAA Non-conformance\" & IF(COUNTIF(BN124:BN178,\"NON CONFORMANT\")=1,\"\",\"s\"),\"\")","v":"0 Level A Non-conformances\n0 Level AA Non-conformances"},{"$f":"IF(Statistics!$S4=\"Yes\",COUNTIF(BO10:BO71,\"NON CONFORMANT\") & \" Level A Non-conformance\" & IF(COUNTIF(BO10:BO71,\"NON CONFORMANT\")=1,\"\",\"s\"),\"\") & IF(Statistics!$S5=\"Yes\",\"\n\" & COUNTIF(BO76:BO119,\"NON CONFORMANT\") & \" Level AA Non-conformance\" & IF(COUNTIF(BO76:BO119,\"NON CONFORMANT\")=1,\"\",\"s\"),\"\") & IF(Statistics!$S6=\"Yes\",\"\n\" & COUNTIF(BO124:BO178,\"NON CONFORMANT\") & \" Level AAA Non-conformance\" & IF(COUNTIF(BO124:BO178,\"NON CONFORMANT\")=1,\"\",\"s\"),\"\")","v":"0 Level A Non-conformances\n0 Level AA Non-conformances"},{"$f":"IF(Statistics!$S4=\"Yes\",COUNTIF(BP10:BP71,\"NON CONFORMANT\") & \" Level A Non-conformance\" & IF(COUNTIF(BP10:BP71,\"NON CONFORMANT\")=1,\"\",\"s\"),\"\") & IF(Statistics!$S5=\"Yes\",\"\n\" & COUNTIF(BP76:BP119,\"NON CONFORMANT\") & \" Level AA Non-conformance\" & IF(COUNTIF(BP76:BP119,\"NON CONFORMANT\")=1,\"\",\"s\"),\"\") & IF(Statistics!$S6=\"Yes\",\"\n\" & COUNTIF(BP124:BP178,\"NON CONFORMANT\") & \" Level AAA Non-conformance\" & IF(COUNTIF(BP124:BP178,\"NON CONFORMANT\")=1,\"\",\"s\"),\"\")","v":"0 Level A Non-conformances\n0 Level AA Non-conformances"},{"$f":"IF(Statistics!$S4=\"Yes\",COUNTIF(BQ10:BQ71,\"NON CONFORMANT\") & \" Level A Non-conformance\" & IF(COUNTIF(BQ10:BQ71,\"NON CONFORMANT\")=1,\"\",\"s\"),\"\") & IF(Statistics!$S5=\"Yes\",\"\n\" & COUNTIF(BQ76:BQ119,\"NON CONFORMANT\") & \" Level AA Non-conformance\" & IF(COUNTIF(BQ76:BQ119,\"NON CONFORMANT\")=1,\"\",\"s\"),\"\") & IF(Statistics!$S6=\"Yes\",\"\n\" & COUNTIF(BQ124:BQ178,\"NON CONFORMANT\") & \" Level AAA Non-conformance\" & IF(COUNTIF(BQ124:BQ178,\"NON CONFORMANT\")=1,\"\",\"s\"),\"\")","v":"0 Level A Non-conformances\n0 Level AA Non-conformances"},{"$f":"IF(Statistics!$S4=\"Yes\",COUNTIF(BR10:BR71,\"NON CONFORMANT\") & \" Level A Non-conformance\" & IF(COUNTIF(BR10:BR71,\"NON CONFORMANT\")=1,\"\",\"s\"),\"\") & IF(Statistics!$S5=\"Yes\",\"\n\" & COUNTIF(BR76:BR119,\"NON CONFORMANT\") & \" Level AA Non-conformance\" & IF(COUNTIF(BR76:BR119,\"NON CONFORMANT\")=1,\"\",\"s\"),\"\") & IF(Statistics!$S6=\"Yes\",\"\n\" & COUNTIF(BR124:BR178,\"NON CONFORMANT\") & \" Level AAA Non-conformance\" & IF(COUNTIF(BR124:BR178,\"NON CONFORMANT\")=1,\"\",\"s\"),\"\")","v":"0 Level A Non-conformances\n0 Level AA Non-conformances"},{"$f":"IF(Statistics!$S4=\"Yes\",COUNTIF(BS10:BS71,\"NON CONFORMANT\") & \" Level A Non-conformance\" & IF(COUNTIF(BS10:BS71,\"NON CONFORMANT\")=1,\"\",\"s\"),\"\") & IF(Statistics!$S5=\"Yes\",\"\n\" & COUNTIF(BS76:BS119,\"NON CONFORMANT\") & \" Level AA Non-conformance\" & IF(COUNTIF(BS76:BS119,\"NON CONFORMANT\")=1,\"\",\"s\"),\"\") & IF(Statistics!$S6=\"Yes\",\"\n\" & COUNTIF(BS124:BS178,\"NON CONFORMANT\") & \" Level AAA Non-conformance\" & IF(COUNTIF(BS124:BS178,\"NON CONFORMANT\")=1,\"\",\"s\"),\"\")","v":"0 Level A Non-conformances\n0 Level AA Non-conformances"},{"$f":"IF(Statistics!$S4=\"Yes\",COUNTIF(BT10:BT71,\"NON CONFORMANT\") & \" Level A Non-conformance\" & IF(COUNTIF(BT10:BT71,\"NON CONFORMANT\")=1,\"\",\"s\"),\"\") & IF(Statistics!$S5=\"Yes\",\"\n\" & COUNTIF(BT76:BT119,\"NON CONFORMANT\") & \" Level AA Non-conformance\" & IF(COUNTIF(BT76:BT119,\"NON CONFORMANT\")=1,\"\",\"s\"),\"\") & IF(Statistics!$S6=\"Yes\",\"\n\" & COUNTIF(BT124:BT178,\"NON CONFORMANT\") & \" Level AAA Non-conformance\" & IF(COUNTIF(BT124:BT178,\"NON CONFORMANT\")=1,\"\",\"s\"),\"\")","v":"0 Level A Non-conformances\n0 Level AA Non-conformances"},{"$f":"IF(Statistics!$S4=\"Yes\",COUNTIF(BU10:BU71,\"NON CONFORMANT\") & \" Level A Non-conformance\" & IF(COUNTIF(BU10:BU71,\"NON CONFORMANT\")=1,\"\",\"s\"),\"\") & IF(Statistics!$S5=\"Yes\",\"\n\" & COUNTIF(BU76:BU119,\"NON CONFORMANT\") & \" Level AA Non-conformance\" & IF(COUNTIF(BU76:BU119,\"NON CONFORMANT\")=1,\"\",\"s\"),\"\") & IF(Statistics!$S6=\"Yes\",\"\n\" & COUNTIF(BU124:BU178,\"NON CONFORMANT\") & \" Level AAA Non-conformance\" & IF(COUNTIF(BU124:BU178,\"NON CONFORMANT\")=1,\"\",\"s\"),\"\")","v":"0 Level A Non-conformances\n0 Level AA Non-conformances"},{"$f":"IF(Statistics!$S4=\"Yes\",COUNTIF(BV10:BV71,\"NON CONFORMANT\") & \" Level A Non-conformance\" & IF(COUNTIF(BV10:BV71,\"NON CONFORMANT\")=1,\"\",\"s\"),\"\") & IF(Statistics!$S5=\"Yes\",\"\n\" & COUNTIF(BV76:BV119,\"NON CONFORMANT\") & \" Level AA Non-conformance\" & IF(COUNTIF(BV76:BV119,\"NON CONFORMANT\")=1,\"\",\"s\"),\"\") & IF(Statistics!$S6=\"Yes\",\"\n\" & COUNTIF(BV124:BV178,\"NON CONFORMANT\") & \" Level AAA Non-conformance\" & IF(COUNTIF(BV124:BV178,\"NON CONFORMANT\")=1,\"\",\"s\"),\"\")","v":"0 Level A Non-conformances\n0 Level AA Non-conformances"},{"$f":"IF(Statistics!$S4=\"Yes\",COUNTIF(BW10:BW71,\"NON CONFORMANT\") & \" Level A Non-conformance\" & IF(COUNTIF(BW10:BW71,\"NON CONFORMANT\")=1,\"\",\"s\"),\"\") & IF(Statistics!$S5=\"Yes\",\"\n\" & COUNTIF(BW76:BW119,\"NON CONFORMANT\") & \" Level AA Non-conformance\" & IF(COUNTIF(BW76:BW119,\"NON CONFORMANT\")=1,\"\",\"s\"),\"\") & IF(Statistics!$S6=\"Yes\",\"\n\" & COUNTIF(BW124:BW178,\"NON CONFORMANT\") & \" Level AAA Non-conformance\" & IF(COUNTIF(BW124:BW178,\"NON CONFORMANT\")=1,\"\",\"s\"),\"\")","v":"0 Level A Non-conformances\n0 Level AA Non-conformances"},{"$f":"IF(Statistics!$S4=\"Yes\",COUNTIF(BX10:BX71,\"NON CONFORMANT\") & \" Level A Non-conformance\" & IF(COUNTIF(BX10:BX71,\"NON CONFORMANT\")=1,\"\",\"s\"),\"\") & IF(Statistics!$S5=\"Yes\",\"\n\" & COUNTIF(BX76:BX119,\"NON CONFORMANT\") & \" Level AA Non-conformance\" & IF(COUNTIF(BX76:BX119,\"NON CONFORMANT\")=1,\"\",\"s\"),\"\") & IF(Statistics!$S6=\"Yes\",\"\n\" & COUNTIF(BX124:BX178,\"NON CONFORMANT\") & \" Level AAA Non-conformance\" & IF(COUNTIF(BX124:BX178,\"NON CONFORMANT\")=1,\"\",\"s\"),\"\")","v":"0 Level A Non-conformances\n0 Level AA Non-conformances"},{"$f":"IF(Statistics!$S4=\"Yes\",COUNTIF(BY10:BY71,\"NON CONFORMANT\") & \" Level A Non-conformance\" & IF(COUNTIF(BY10:BY71,\"NON CONFORMANT\")=1,\"\",\"s\"),\"\") & IF(Statistics!$S5=\"Yes\",\"\n\" & COUNTIF(BY76:BY119,\"NON CONFORMANT\") & \" Level AA Non-conformance\" & IF(COUNTIF(BY76:BY119,\"NON CONFORMANT\")=1,\"\",\"s\"),\"\") & IF(Statistics!$S6=\"Yes\",\"\n\" & COUNTIF(BY124:BY178,\"NON CONFORMANT\") & \" Level AAA Non-conformance\" & IF(COUNTIF(BY124:BY178,\"NON CONFORMANT\")=1,\"\",\"s\"),\"\")","v":"0 Level A Non-conformances\n0 Level AA Non-conformances"},{"$f":"IF(Statistics!$S4=\"Yes\",COUNTIF(BZ10:BZ71,\"NON CONFORMANT\") & \" Level A Non-conformance\" & IF(COUNTIF(BZ10:BZ71,\"NON CONFORMANT\")=1,\"\",\"s\"),\"\") & IF(Statistics!$S5=\"Yes\",\"\n\" & COUNTIF(BZ76:BZ119,\"NON CONFORMANT\") & \" Level AA Non-conformance\" & IF(COUNTIF(BZ76:BZ119,\"NON CONFORMANT\")=1,\"\",\"s\"),\"\") & IF(Statistics!$S6=\"Yes\",\"\n\" & COUNTIF(BZ124:BZ178,\"NON CONFORMANT\") & \" Level AAA Non-conformance\" & IF(COUNTIF(BZ124:BZ178,\"NON CONFORMANT\")=1,\"\",\"s\"),\"\")","v":"0 Level A Non-conformances\n0 Level AA Non-conformances"},{"$f":"IF(Statistics!$S4=\"Yes\",COUNTIF(CA10:CA71,\"NON CONFORMANT\") & \" Level A Non-conformance\" & IF(COUNTIF(CA10:CA71,\"NON CONFORMANT\")=1,\"\",\"s\"),\"\") & IF(Statistics!$S5=\"Yes\",\"\n\" & COUNTIF(CA76:CA119,\"NON CONFORMANT\") & \" Level AA Non-conformance\" & IF(COUNTIF(CA76:CA119,\"NON CONFORMANT\")=1,\"\",\"s\"),\"\") & IF(Statistics!$S6=\"Yes\",\"\n\" & COUNTIF(CA124:CA178,\"NON CONFORMANT\") & \" Level AAA Non-conformance\" & IF(COUNTIF(CA124:CA178,\"NON CONFORMANT\")=1,\"\",\"s\"),\"\")","v":"0 Level A Non-conformances\n0 Level AA Non-conformances"},{"$f":"IF(Statistics!$S4=\"Yes\",COUNTIF(CB10:CB71,\"NON CONFORMANT\") & \" Level A Non-conformance\" & IF(COUNTIF(CB10:CB71,\"NON CONFORMANT\")=1,\"\",\"s\"),\"\") & IF(Statistics!$S5=\"Yes\",\"\n\" & COUNTIF(CB76:CB119,\"NON CONFORMANT\") & \" Level AA Non-conformance\" & IF(COUNTIF(CB76:CB119,\"NON CONFORMANT\")=1,\"\",\"s\"),\"\") & IF(Statistics!$S6=\"Yes\",\"\n\" & COUNTIF(CB124:CB178,\"NON CONFORMANT\") & \" Level AAA Non-conformance\" & IF(COUNTIF(CB124:CB178,\"NON CONFORMANT\")=1,\"\",\"s\"),\"\")","v":"0 Level A Non-conformances\n0 Level AA Non-conformances"},{"$f":"IF(Statistics!$S4=\"Yes\",COUNTIF(CC10:CC71,\"NON CONFORMANT\") & \" Level A Non-conformance\" & IF(COUNTIF(CC10:CC71,\"NON CONFORMANT\")=1,\"\",\"s\"),\"\") & IF(Statistics!$S5=\"Yes\",\"\n\" & COUNTIF(CC76:CC119,\"NON CONFORMANT\") & \" Level AA Non-conformance\" & IF(COUNTIF(CC76:CC119,\"NON CONFORMANT\")=1,\"\",\"s\"),\"\") & IF(Statistics!$S6=\"Yes\",\"\n\" & COUNTIF(CC124:CC178,\"NON CONFORMANT\") & \" Level AAA Non-conformance\" & IF(COUNTIF(CC124:CC178,\"NON CONFORMANT\")=1,\"\",\"s\"),\"\")","v":"0 Level A Non-conformances\n0 Level AA Non-conformances"},{"$f":"IF(Statistics!$S4=\"Yes\",COUNTIF(CD10:CD71,\"NON CONFORMANT\") & \" Level A Non-conformance\" & IF(COUNTIF(CD10:CD71,\"NON CONFORMANT\")=1,\"\",\"s\"),\"\") & IF(Statistics!$S5=\"Yes\",\"\n\" & COUNTIF(CD76:CD119,\"NON CONFORMANT\") & \" Level AA Non-conformance\" & IF(COUNTIF(CD76:CD119,\"NON CONFORMANT\")=1,\"\",\"s\"),\"\") & IF(Statistics!$S6=\"Yes\",\"\n\" & COUNTIF(CD124:CD178,\"NON CONFORMANT\") & \" Level AAA Non-conformance\" & IF(COUNTIF(CD124:CD178,\"NON CONFORMANT\")=1,\"\",\"s\"),\"\")","v":"0 Level A Non-conformances\n0 Level AA Non-conformances"},{"$f":"IF(Statistics!$S4=\"Yes\",COUNTIF(CE10:CE71,\"NON CONFORMANT\") & \" Level A Non-conformance\" & IF(COUNTIF(CE10:CE71,\"NON CONFORMANT\")=1,\"\",\"s\"),\"\") & IF(Statistics!$S5=\"Yes\",\"\n\" & COUNTIF(CE76:CE119,\"NON CONFORMANT\") & \" Level AA Non-conformance\" & IF(COUNTIF(CE76:CE119,\"NON CONFORMANT\")=1,\"\",\"s\"),\"\") & IF(Statistics!$S6=\"Yes\",\"\n\" & COUNTIF(CE124:CE178,\"NON CONFORMANT\") & \" Level AAA Non-conformance\" & IF(COUNTIF(CE124:CE178,\"NON CONFORMANT\")=1,\"\",\"s\"),\"\")","v":"0 Level A Non-conformances\n0 Level AA Non-conformances"},{"$f":"IF(Statistics!$S4=\"Yes\",COUNTIF(CF10:CF71,\"NON CONFORMANT\") & \" Level A Non-conformance\" & IF(COUNTIF(CF10:CF71,\"NON CONFORMANT\")=1,\"\",\"s\"),\"\") & IF(Statistics!$S5=\"Yes\",\"\n\" & COUNTIF(CF76:CF119,\"NON CONFORMANT\") & \" Level AA Non-conformance\" & IF(COUNTIF(CF76:CF119,\"NON CONFORMANT\")=1,\"\",\"s\"),\"\") & IF(Statistics!$S6=\"Yes\",\"\n\" & COUNTIF(CF124:CF178,\"NON CONFORMANT\") & \" Level AAA Non-conformance\" & IF(COUNTIF(CF124:CF178,\"NON CONFORMANT\")=1,\"\",\"s\"),\"\")","v":"0 Level A Non-conformances\n0 Level AA Non-conformances"},{"$f":"IF(Statistics!$S4=\"Yes\",COUNTIF(CG10:CG71,\"NON CONFORMANT\") & \" Level A Non-conformance\" & IF(COUNTIF(CG10:CG71,\"NON CONFORMANT\")=1,\"\",\"s\"),\"\") & IF(Statistics!$S5=\"Yes\",\"\n\" & COUNTIF(CG76:CG119,\"NON CONFORMANT\") & \" Level AA Non-conformance\" & IF(COUNTIF(CG76:CG119,\"NON CONFORMANT\")=1,\"\",\"s\"),\"\") & IF(Statistics!$S6=\"Yes\",\"\n\" & COUNTIF(CG124:CG178,\"NON CONFORMANT\") & \" Level AAA Non-conformance\" & IF(COUNTIF(CG124:CG178,\"NON CONFORMANT\")=1,\"\",\"s\"),\"\")","v":"0 Level A Non-conformances\n0 Level AA Non-conformances"},{"$f":"IF(Statistics!$S4=\"Yes\",COUNTIF(CH10:CH71,\"NON CONFORMANT\") & \" Level A Non-conformance\" & IF(COUNTIF(CH10:CH71,\"NON CONFORMANT\")=1,\"\",\"s\"),\"\") & IF(Statistics!$S5=\"Yes\",\"\n\" & COUNTIF(CH76:CH119,\"NON CONFORMANT\") & \" Level AA Non-conformance\" & IF(COUNTIF(CH76:CH119,\"NON CONFORMANT\")=1,\"\",\"s\"),\"\") & IF(Statistics!$S6=\"Yes\",\"\n\" & COUNTIF(CH124:CH178,\"NON CONFORMANT\") & \" Level AAA Non-conformance\" & IF(COUNTIF(CH124:CH178,\"NON CONFORMANT\")=1,\"\",\"s\"),\"\")","v":"0 Level A Non-conformances\n0 Level AA Non-conformances"},{"$f":"IF(Statistics!$S4=\"Yes\",COUNTIF(CI10:CI71,\"NON CONFORMANT\") & \" Level A Non-conformance\" & IF(COUNTIF(CI10:CI71,\"NON CONFORMANT\")=1,\"\",\"s\"),\"\") & IF(Statistics!$S5=\"Yes\",\"\n\" & COUNTIF(CI76:CI119,\"NON CONFORMANT\") & \" Level AA Non-conformance\" & IF(COUNTIF(CI76:CI119,\"NON CONFORMANT\")=1,\"\",\"s\"),\"\") & IF(Statistics!$S6=\"Yes\",\"\n\" & COUNTIF(CI124:CI178,\"NON CONFORMANT\") & \" Level AAA Non-conformance\" & IF(COUNTIF(CI124:CI178,\"NON CONFORMANT\")=1,\"\",\"s\"),\"\")","v":"0 Level A Non-conformances\n0 Level AA Non-conformances"},{"$f":"IF(Statistics!$S4=\"Yes\",COUNTIF(CJ10:CJ71,\"NON CONFORMANT\") & \" Level A Non-conformance\" & IF(COUNTIF(CJ10:CJ71,\"NON CONFORMANT\")=1,\"\",\"s\"),\"\") & IF(Statistics!$S5=\"Yes\",\"\n\" & COUNTIF(CJ76:CJ119,\"NON CONFORMANT\") & \" Level AA Non-conformance\" & IF(COUNTIF(CJ76:CJ119,\"NON CONFORMANT\")=1,\"\",\"s\"),\"\") & IF(Statistics!$S6=\"Yes\",\"\n\" & COUNTIF(CJ124:CJ178,\"NON CONFORMANT\") & \" Level AAA Non-conformance\" & IF(COUNTIF(CJ124:CJ178,\"NON CONFORMANT\")=1,\"\",\"s\"),\"\")","v":"0 Level A Non-conformances\n0 Level AA Non-conformances"},{"$f":"IF(Statistics!$S4=\"Yes\",COUNTIF(CK10:CK71,\"NON CONFORMANT\") & \" Level A Non-conformance\" & IF(COUNTIF(CK10:CK71,\"NON CONFORMANT\")=1,\"\",\"s\"),\"\") & IF(Statistics!$S5=\"Yes\",\"\n\" & COUNTIF(CK76:CK119,\"NON CONFORMANT\") & \" Level AA Non-conformance\" & IF(COUNTIF(CK76:CK119,\"NON CONFORMANT\")=1,\"\",\"s\"),\"\") & IF(Statistics!$S6=\"Yes\",\"\n\" & COUNTIF(CK124:CK178,\"NON CONFORMANT\") & \" Level AAA Non-conformance\" & IF(COUNTIF(CK124:CK178,\"NON CONFORMANT\")=1,\"\",\"s\"),\"\")","v":"0 Level A Non-conformances\n0 Level AA Non-conformances"},{"$f":"IF(Statistics!$S4=\"Yes\",COUNTIF(CL10:CL71,\"NON CONFORMANT\") & \" Level A Non-conformance\" & IF(COUNTIF(CL10:CL71,\"NON CONFORMANT\")=1,\"\",\"s\"),\"\") & IF(Statistics!$S5=\"Yes\",\"\n\" & COUNTIF(CL76:CL119,\"NON CONFORMANT\") & \" Level AA Non-conformance\" & IF(COUNTIF(CL76:CL119,\"NON CONFORMANT\")=1,\"\",\"s\"),\"\") & IF(Statistics!$S6=\"Yes\",\"\n\" & COUNTIF(CL124:CL178,\"NON CONFORMANT\") & \" Level AAA Non-conformance\" & IF(COUNTIF(CL124:CL178,\"NON CONFORMANT\")=1,\"\",\"s\"),\"\")","v":"0 Level A Non-conformances\n0 Level AA Non-conformances"},{"$f":"IF(Statistics!$S4=\"Yes\",COUNTIF(CM10:CM71,\"NON CONFORMANT\") & \" Level A Non-conformance\" & IF(COUNTIF(CM10:CM71,\"NON CONFORMANT\")=1,\"\",\"s\"),\"\") & IF(Statistics!$S5=\"Yes\",\"\n\" & COUNTIF(CM76:CM119,\"NON CONFORMANT\") & \" Level AA Non-conformance\" & IF(COUNTIF(CM76:CM119,\"NON CONFORMANT\")=1,\"\",\"s\"),\"\") & IF(Statistics!$S6=\"Yes\",\"\n\" & COUNTIF(CM124:CM178,\"NON CONFORMANT\") & \" Level AAA Non-conformance\" & IF(COUNTIF(CM124:CM178,\"NON CONFORMANT\")=1,\"\",\"s\"),\"\")","v":"0 Level A Non-conformances\n0 Level AA Non-conformances"},{"$f":"IF(Statistics!$S4=\"Yes\",COUNTIF(CN10:CN71,\"NON CONFORMANT\") & \" Level A Non-conformance\" & IF(COUNTIF(CN10:CN71,\"NON CONFORMANT\")=1,\"\",\"s\"),\"\") & IF(Statistics!$S5=\"Yes\",\"\n\" & COUNTIF(CN76:CN119,\"NON CONFORMANT\") & \" Level AA Non-conformance\" & IF(COUNTIF(CN76:CN119,\"NON CONFORMANT\")=1,\"\",\"s\"),\"\") & IF(Statistics!$S6=\"Yes\",\"\n\" & COUNTIF(CN124:CN178,\"NON CONFORMANT\") & \" Level AAA Non-conformance\" & IF(COUNTIF(CN124:CN178,\"NON CONFORMANT\")=1,\"\",\"s\"),\"\")","v":"0 Level A Non-conformances\n0 Level AA Non-conformances"},{"$f":"IF(Statistics!$S4=\"Yes\",COUNTIF(CO10:CO71,\"NON CONFORMANT\") & \" Level A Non-conformance\" & IF(COUNTIF(CO10:CO71,\"NON CONFORMANT\")=1,\"\",\"s\"),\"\") & IF(Statistics!$S5=\"Yes\",\"\n\" & COUNTIF(CO76:CO119,\"NON CONFORMANT\") & \" Level AA Non-conformance\" & IF(COUNTIF(CO76:CO119,\"NON CONFORMANT\")=1,\"\",\"s\"),\"\") & IF(Statistics!$S6=\"Yes\",\"\n\" & COUNTIF(CO124:CO178,\"NON CONFORMANT\") & \" Level AAA Non-conformance\" & IF(COUNTIF(CO124:CO178,\"NON CONFORMANT\")=1,\"\",\"s\"),\"\")","v":"0 Level A Non-conformances\n0 Level AA Non-conformances"},{"$f":"IF(Statistics!$S4=\"Yes\",COUNTIF(CP10:CP71,\"NON CONFORMANT\") & \" Level A Non-conformance\" & IF(COUNTIF(CP10:CP71,\"NON CONFORMANT\")=1,\"\",\"s\"),\"\") & IF(Statistics!$S5=\"Yes\",\"\n\" & COUNTIF(CP76:CP119,\"NON CONFORMANT\") & \" Level AA Non-conformance\" & IF(COUNTIF(CP76:CP119,\"NON CONFORMANT\")=1,\"\",\"s\"),\"\") & IF(Statistics!$S6=\"Yes\",\"\n\" & COUNTIF(CP124:CP178,\"NON CONFORMANT\") & \" Level AAA Non-conformance\" & IF(COUNTIF(CP124:CP178,\"NON CONFORMANT\")=1,\"\",\"s\"),\"\")","v":"0 Level A Non-conformances\n0 Level AA Non-conformances"},{"$f":"IF(Statistics!$S4=\"Yes\",COUNTIF(CQ10:CQ71,\"NON CONFORMANT\") & \" Level A Non-conformance\" & IF(COUNTIF(CQ10:CQ71,\"NON CONFORMANT\")=1,\"\",\"s\"),\"\") & IF(Statistics!$S5=\"Yes\",\"\n\" & COUNTIF(CQ76:CQ119,\"NON CONFORMANT\") & \" Level AA Non-conformance\" & IF(COUNTIF(CQ76:CQ119,\"NON CONFORMANT\")=1,\"\",\"s\"),\"\") & IF(Statistics!$S6=\"Yes\",\"\n\" & COUNTIF(CQ124:CQ178,\"NON CONFORMANT\") & \" Level AAA Non-conformance\" & IF(COUNTIF(CQ124:CQ178,\"NON CONFORMANT\")=1,\"\",\"s\"),\"\")","v":"0 Level A Non-conformances\n0 Level AA Non-conformances"},{"$f":"IF(Statistics!$S4=\"Yes\",COUNTIF(CR10:CR71,\"NON CONFORMANT\") & \" Level A Non-conformance\" & IF(COUNTIF(CR10:CR71,\"NON CONFORMANT\")=1,\"\",\"s\"),\"\") & IF(Statistics!$S5=\"Yes\",\"\n\" & COUNTIF(CR76:CR119,\"NON CONFORMANT\") & \" Level AA Non-conformance\" & IF(COUNTIF(CR76:CR119,\"NON CONFORMANT\")=1,\"\",\"s\"),\"\") & IF(Statistics!$S6=\"Yes\",\"\n\" & COUNTIF(CR124:CR178,\"NON CONFORMANT\") & \" Level AAA Non-conformance\" & IF(COUNTIF(CR124:CR178,\"NON CONFORMANT\")=1,\"\",\"s\"),\"\")","v":"0 Level A Non-conformances\n0 Level AA Non-conformances"},{"$f":"IF(Statistics!$S4=\"Yes\",COUNTIF(CS10:CS71,\"NON CONFORMANT\") & \" Level A Non-conformance\" & IF(COUNTIF(CS10:CS71,\"NON CONFORMANT\")=1,\"\",\"s\"),\"\") & IF(Statistics!$S5=\"Yes\",\"\n\" & COUNTIF(CS76:CS119,\"NON CONFORMANT\") & \" Level AA Non-conformance\" & IF(COUNTIF(CS76:CS119,\"NON CONFORMANT\")=1,\"\",\"s\"),\"\") & IF(Statistics!$S6=\"Yes\",\"\n\" & COUNTIF(CS124:CS178,\"NON CONFORMANT\") & \" Level AAA Non-conformance\" & IF(COUNTIF(CS124:CS178,\"NON CONFORMANT\")=1,\"\",\"s\"),\"\")","v":"0 Level A Non-conformances\n0 Level AA Non-conformances"},{"$f":"IF(Statistics!$S4=\"Yes\",COUNTIF(CT10:CT71,\"NON CONFORMANT\") & \" Level A Non-conformance\" & IF(COUNTIF(CT10:CT71,\"NON CONFORMANT\")=1,\"\",\"s\"),\"\") & IF(Statistics!$S5=\"Yes\",\"\n\" & COUNTIF(CT76:CT119,\"NON CONFORMANT\") & \" Level AA Non-conformance\" & IF(COUNTIF(CT76:CT119,\"NON CONFORMANT\")=1,\"\",\"s\"),\"\") & IF(Statistics!$S6=\"Yes\",\"\n\" & COUNTIF(CT124:CT178,\"NON CONFORMANT\") & \" Level AAA Non-conformance\" & IF(COUNTIF(CT124:CT178,\"NON CONFORMANT\")=1,\"\",\"s\"),\"\")","v":"0 Level A Non-conformances\n0 Level AA Non-conformances"},{"$f":"IF(Statistics!$S4=\"Yes\",COUNTIF(CU10:CU71,\"NON CONFORMANT\") & \" Level A Non-conformance\" & IF(COUNTIF(CU10:CU71,\"NON CONFORMANT\")=1,\"\",\"s\"),\"\") & IF(Statistics!$S5=\"Yes\",\"\n\" & COUNTIF(CU76:CU119,\"NON CONFORMANT\") & \" Level AA Non-conformance\" & IF(COUNTIF(CU76:CU119,\"NON CONFORMANT\")=1,\"\",\"s\"),\"\") & IF(Statistics!$S6=\"Yes\",\"\n\" & COUNTIF(CU124:CU178,\"NON CONFORMANT\") & \" Level AAA Non-conformance\" & IF(COUNTIF(CU124:CU178,\"NON CONFORMANT\")=1,\"\",\"s\"),\"\")","v":"0 Level A Non-conformances\n0 Level AA Non-conformances"},{"$f":"IF(Statistics!$S4=\"Yes\",COUNTIF(CV10:CV71,\"NON CONFORMANT\") & \" Level A Non-conformance\" & IF(COUNTIF(CV10:CV71,\"NON CONFORMANT\")=1,\"\",\"s\"),\"\") & IF(Statistics!$S5=\"Yes\",\"\n\" & COUNTIF(CV76:CV119,\"NON CONFORMANT\") & \" Level AA Non-conformance\" & IF(COUNTIF(CV76:CV119,\"NON CONFORMANT\")=1,\"\",\"s\"),\"\") & IF(Statistics!$S6=\"Yes\",\"\n\" & COUNTIF(CV124:CV178,\"NON CONFORMANT\") & \" Level AAA Non-conformance\" & IF(COUNTIF(CV124:CV178,\"NON CONFORMANT\")=1,\"\",\"s\"),\"\")","v":"0 Level A Non-conformances\n0 Level AA Non-conformances"},{"$f":"IF(Statistics!$S4=\"Yes\",COUNTIF(CW10:CW71,\"NON CONFORMANT\") & \" Level A Non-conformance\" & IF(COUNTIF(CW10:CW71,\"NON CONFORMANT\")=1,\"\",\"s\"),\"\") & IF(Statistics!$S5=\"Yes\",\"\n\" & COUNTIF(CW76:CW119,\"NON CONFORMANT\") & \" Level AA Non-conformance\" & IF(COUNTIF(CW76:CW119,\"NON CONFORMANT\")=1,\"\",\"s\"),\"\") & IF(Statistics!$S6=\"Yes\",\"\n\" & COUNTIF(CW124:CW178,\"NON CONFORMANT\") & \" Level AAA Non-conformance\" & IF(COUNTIF(CW124:CW178,\"NON CONFORMANT\")=1,\"\",\"s\"),\"\")","v":"0 Level A Non-conformances\n0 Level AA Non-conformances"},{"$f":"IF(Statistics!$S4=\"Yes\",COUNTIF(CX10:CX71,\"NON CONFORMANT\") & \" Level A Non-conformance\" & IF(COUNTIF(CX10:CX71,\"NON CONFORMANT\")=1,\"\",\"s\"),\"\") & IF(Statistics!$S5=\"Yes\",\"\n\" & COUNTIF(CX76:CX119,\"NON CONFORMANT\") & \" Level AA Non-conformance\" & IF(COUNTIF(CX76:CX119,\"NON CONFORMANT\")=1,\"\",\"s\"),\"\") & IF(Statistics!$S6=\"Yes\",\"\n\" & COUNTIF(CX124:CX178,\"NON CONFORMANT\") & \" Level AAA Non-conformance\" & IF(COUNTIF(CX124:CX178,\"NON CONFORMANT\")=1,\"\",\"s\"),\"\")","v":"0 Level A Non-conformances\n0 Level AA Non-conformances"},{"$f":"IF(Statistics!$S4=\"Yes\",COUNTIF(CY10:CY71,\"NON CONFORMANT\") & \" Level A Non-conformance\" & IF(COUNTIF(CY10:CY71,\"NON CONFORMANT\")=1,\"\",\"s\"),\"\") & IF(Statistics!$S5=\"Yes\",\"\n\" & COUNTIF(CY76:CY119,\"NON CONFORMANT\") & \" Level AA Non-conformance\" & IF(COUNTIF(CY76:CY119,\"NON CONFORMANT\")=1,\"\",\"s\"),\"\") & IF(Statistics!$S6=\"Yes\",\"\n\" & COUNTIF(CY124:CY178,\"NON CONFORMANT\") & \" Level AAA Non-conformance\" & IF(COUNTIF(CY124:CY178,\"NON CONFORMANT\")=1,\"\",\"s\"),\"\")","v":"0 Level A Non-conformances\n0 Level AA Non-conformances"},{"$f":"IF(Statistics!$S4=\"Yes\",COUNTIF(CZ10:CZ71,\"NON CONFORMANT\") & \" Level A Non-conformance\" & IF(COUNTIF(CZ10:CZ71,\"NON CONFORMANT\")=1,\"\",\"s\"),\"\") & IF(Statistics!$S5=\"Yes\",\"\n\" & COUNTIF(CZ76:CZ119,\"NON CONFORMANT\") & \" Level AA Non-conformance\" & IF(COUNTIF(CZ76:CZ119,\"NON CONFORMANT\")=1,\"\",\"s\"),\"\") & IF(Statistics!$S6=\"Yes\",\"\n\" & COUNTIF(CZ124:CZ178,\"NON CONFORMANT\") & \" Level AAA Non-conformance\" & IF(COUNTIF(CZ124:CZ178,\"NON CONFORMANT\")=1,\"\",\"s\"),\"\")","v":"0 Level A Non-conformances\n0 Level AA Non-conformances"},{"$f":"IF(Statistics!$S4=\"Yes\",COUNTIF(DA10:DA71,\"NON CONFORMANT\") & \" Level A Non-conformance\" & IF(COUNTIF(DA10:DA71,\"NON CONFORMANT\")=1,\"\",\"s\"),\"\") & IF(Statistics!$S5=\"Yes\",\"\n\" & COUNTIF(DA76:DA119,\"NON CONFORMANT\") & \" Level AA Non-conformance\" & IF(COUNTIF(DA76:DA119,\"NON CONFORMANT\")=1,\"\",\"s\"),\"\") & IF(Statistics!$S6=\"Yes\",\"\n\" & COUNTIF(DA124:DA178,\"NON CONFORMANT\") & \" Level AAA Non-conformance\" & IF(COUNTIF(DA124:DA178,\"NON CONFORMANT\")=1,\"\",\"s\"),\"\")","v":"0 Level A Non-conformances\n0 Level AA Non-conformances"},{"$f":"IF(Statistics!$S4=\"Yes\",COUNTIF(DB10:DB71,\"NON CONFORMANT\") & \" Level A Non-conformance\" & IF(COUNTIF(DB10:DB71,\"NON CONFORMANT\")=1,\"\",\"s\"),\"\") & IF(Statistics!$S5=\"Yes\",\"\n\" & COUNTIF(DB76:DB119,\"NON CONFORMANT\") & \" Level AA Non-conformance\" & IF(COUNTIF(DB76:DB119,\"NON CONFORMANT\")=1,\"\",\"s\"),\"\") & IF(Statistics!$S6=\"Yes\",\"\n\" & COUNTIF(DB124:DB178,\"NON CONFORMANT\") & \" Level AAA Non-conformance\" & IF(COUNTIF(DB124:DB178,\"NON CONFORMANT\")=1,\"\",\"s\"),\"\")","v":"0 Level A Non-conformances\n0 Level AA Non-conformances"},{"$f":"IF(Statistics!$S4=\"Yes\",COUNTIF(DC10:DC71,\"NON CONFORMANT\") & \" Level A Non-conformance\" & IF(COUNTIF(DC10:DC71,\"NON CONFORMANT\")=1,\"\",\"s\"),\"\") & IF(Statistics!$S5=\"Yes\",\"\n\" & COUNTIF(DC76:DC119,\"NON CONFORMANT\") & \" Level AA Non-conformance\" & IF(COUNTIF(DC76:DC119,\"NON CONFORMANT\")=1,\"\",\"s\"),\"\") & IF(Statistics!$S6=\"Yes\",\"\n\" & COUNTIF(DC124:DC178,\"NON CONFORMANT\") & \" Level AAA Non-conformance\" & IF(COUNTIF(DC124:DC178,\"NON CONFORMANT\")=1,\"\",\"s\"),\"\")","v":"0 Level A Non-conformances\n0 Level AA Non-conformances"},{"$f":"IF(Statistics!$S4=\"Yes\",COUNTIF(DD10:DD71,\"NON CONFORMANT\") & \" Level A Non-conformance\" & IF(COUNTIF(DD10:DD71,\"NON CONFORMANT\")=1,\"\",\"s\"),\"\") & IF(Statistics!$S5=\"Yes\",\"\n\" & COUNTIF(DD76:DD119,\"NON CONFORMANT\") & \" Level AA Non-conformance\" & IF(COUNTIF(DD76:DD119,\"NON CONFORMANT\")=1,\"\",\"s\"),\"\") & IF(Statistics!$S6=\"Yes\",\"\n\" & COUNTIF(DD124:DD178,\"NON CONFORMANT\") & \" Level AAA Non-conformance\" & IF(COUNTIF(DD124:DD178,\"NON CONFORMANT\")=1,\"\",\"s\"),\"\")","v":"0 Level A Non-conformances\n0 Level AA Non-conformances"},{"$f":"IF(Statistics!$S4=\"Yes\",COUNTIF(DE10:DE71,\"NON CONFORMANT\") & \" Level A Non-conformance\" & IF(COUNTIF(DE10:DE71,\"NON CONFORMANT\")=1,\"\",\"s\"),\"\") & IF(Statistics!$S5=\"Yes\",\"\n\" & COUNTIF(DE76:DE119,\"NON CONFORMANT\") & \" Level AA Non-conformance\" & IF(COUNTIF(DE76:DE119,\"NON CONFORMANT\")=1,\"\",\"s\"),\"\") & IF(Statistics!$S6=\"Yes\",\"\n\" & COUNTIF(DE124:DE178,\"NON CONFORMANT\") & \" Level AAA Non-conformance\" & IF(COUNTIF(DE124:DE178,\"NON CONFORMANT\")=1,\"\",\"s\"),\"\")","v":"0 Level A Non-conformances\n0 Level AA Non-conformances"},{"$f":"IF(Statistics!$S4=\"Yes\",COUNTIF(DF10:DF71,\"NON CONFORMANT\") & \" Level A Non-conformance\" & IF(COUNTIF(DF10:DF71,\"NON CONFORMANT\")=1,\"\",\"s\"),\"\") & IF(Statistics!$S5=\"Yes\",\"\n\" & COUNTIF(DF76:DF119,\"NON CONFORMANT\") & \" Level AA Non-conformance\" & IF(COUNTIF(DF76:DF119,\"NON CONFORMANT\")=1,\"\",\"s\"),\"\") & IF(Statistics!$S6=\"Yes\",\"\n\" & COUNTIF(DF124:DF178,\"NON CONFORMANT\") & \" Level AAA Non-conformance\" & IF(COUNTIF(DF124:DF178,\"NON CONFORMANT\")=1,\"\",\"s\"),\"\")","v":"0 Level A Non-conformances\n0 Level AA Non-conformances"},{"$f":"IF(Statistics!$S4=\"Yes\",COUNTIF(DG10:DG71,\"NON CONFORMANT\") & \" Level A Non-conformance\" & IF(COUNTIF(DG10:DG71,\"NON CONFORMANT\")=1,\"\",\"s\"),\"\") & IF(Statistics!$S5=\"Yes\",\"\n\" & COUNTIF(DG76:DG119,\"NON CONFORMANT\") & \" Level AA Non-conformance\" & IF(COUNTIF(DG76:DG119,\"NON CONFORMANT\")=1,\"\",\"s\"),\"\") & IF(Statistics!$S6=\"Yes\",\"\n\" & COUNTIF(DG124:DG178,\"NON CONFORMANT\") & \" Level AAA Non-conformance\" & IF(COUNTIF(DG124:DG178,\"NON CONFORMANT\")=1,\"\",\"s\"),\"\")","v":"0 Level A Non-conformances\n0 Level AA Non-conformances"},{"$f":"IF(Statistics!$S4=\"Yes\",COUNTIF(DH10:DH71,\"NON CONFORMANT\") & \" Level A Non-conformance\" & IF(COUNTIF(DH10:DH71,\"NON CONFORMANT\")=1,\"\",\"s\"),\"\") & IF(Statistics!$S5=\"Yes\",\"\n\" & COUNTIF(DH76:DH119,\"NON CONFORMANT\") & \" Level AA Non-conformance\" & IF(COUNTIF(DH76:DH119,\"NON CONFORMANT\")=1,\"\",\"s\"),\"\") & IF(Statistics!$S6=\"Yes\",\"\n\" & COUNTIF(DH124:DH178,\"NON CONFORMANT\") & \" Level AAA Non-conformance\" & IF(COUNTIF(DH124:DH178,\"NON CONFORMANT\")=1,\"\",\"s\"),\"\")","v":"0 Level A Non-conformances\n0 Level AA Non-conformances"},{"$f":"IF(Statistics!$S4=\"Yes\",COUNTIF(DI10:DI71,\"NON CONFORMANT\") & \" Level A Non-conformance\" & IF(COUNTIF(DI10:DI71,\"NON CONFORMANT\")=1,\"\",\"s\"),\"\") & IF(Statistics!$S5=\"Yes\",\"\n\" & COUNTIF(DI76:DI119,\"NON CONFORMANT\") & \" Level AA Non-conformance\" & IF(COUNTIF(DI76:DI119,\"NON CONFORMANT\")=1,\"\",\"s\"),\"\") & IF(Statistics!$S6=\"Yes\",\"\n\" & COUNTIF(DI124:DI178,\"NON CONFORMANT\") & \" Level AAA Non-conformance\" & IF(COUNTIF(DI124:DI178,\"NON CONFORMANT\")=1,\"\",\"s\"),\"\")","v":"0 Level A Non-conformances\n0 Level AA Non-conformances"},{"$f":"IF(Statistics!$S4=\"Yes\",COUNTIF(DJ10:DJ71,\"NON CONFORMANT\") & \" Level A Non-conformance\" & IF(COUNTIF(DJ10:DJ71,\"NON CONFORMANT\")=1,\"\",\"s\"),\"\") & IF(Statistics!$S5=\"Yes\",\"\n\" & COUNTIF(DJ76:DJ119,\"NON CONFORMANT\") & \" Level AA Non-conformance\" & IF(COUNTIF(DJ76:DJ119,\"NON CONFORMANT\")=1,\"\",\"s\"),\"\") & IF(Statistics!$S6=\"Yes\",\"\n\" & COUNTIF(DJ124:DJ178,\"NON CONFORMANT\") & \" Level AAA Non-conformance\" & IF(COUNTIF(DJ124:DJ178,\"NON CONFORMANT\")=1,\"\",\"s\"),\"\")","v":"0 Level A Non-conformances\n0 Level AA Non-conformances"},{"$f":"IF(Statistics!$S4=\"Yes\",COUNTIF(DK10:DK71,\"NON CONFORMANT\") & \" Level A Non-conformance\" & IF(COUNTIF(DK10:DK71,\"NON CONFORMANT\")=1,\"\",\"s\"),\"\") & IF(Statistics!$S5=\"Yes\",\"\n\" & COUNTIF(DK76:DK119,\"NON CONFORMANT\") & \" Level AA Non-conformance\" & IF(COUNTIF(DK76:DK119,\"NON CONFORMANT\")=1,\"\",\"s\"),\"\") & IF(Statistics!$S6=\"Yes\",\"\n\" & COUNTIF(DK124:DK178,\"NON CONFORMANT\") & \" Level AAA Non-conformance\" & IF(COUNTIF(DK124:DK178,\"NON CONFORMANT\")=1,\"\",\"s\"),\"\")","v":"0 Level A Non-conformances\n0 Level AA Non-conformances"},{"$f":"IF(Statistics!$S4=\"Yes\",COUNTIF(DL10:DL71,\"NON CONFORMANT\") & \" Level A Non-conformance\" & IF(COUNTIF(DL10:DL71,\"NON CONFORMANT\")=1,\"\",\"s\"),\"\") & IF(Statistics!$S5=\"Yes\",\"\n\" & COUNTIF(DL76:DL119,\"NON CONFORMANT\") & \" Level AA Non-conformance\" & IF(COUNTIF(DL76:DL119,\"NON CONFORMANT\")=1,\"\",\"s\"),\"\") & IF(Statistics!$S6=\"Yes\",\"\n\" & COUNTIF(DL124:DL178,\"NON CONFORMANT\") & \" Level AAA Non-conformance\" & IF(COUNTIF(DL124:DL178,\"NON CONFORMANT\")=1,\"\",\"s\"),\"\")","v":"0 Level A Non-conformances\n0 Level AA Non-conformances"},{"$f":"IF(Statistics!$S4=\"Yes\",COUNTIF(DM10:DM71,\"NON CONFORMANT\") & \" Level A Non-conformance\" & IF(COUNTIF(DM10:DM71,\"NON CONFORMANT\")=1,\"\",\"s\"),\"\") & IF(Statistics!$S5=\"Yes\",\"\n\" & COUNTIF(DM76:DM119,\"NON CONFORMANT\") & \" Level AA Non-conformance\" & IF(COUNTIF(DM76:DM119,\"NON CONFORMANT\")=1,\"\",\"s\"),\"\") & IF(Statistics!$S6=\"Yes\",\"\n\" & COUNTIF(DM124:DM178,\"NON CONFORMANT\") & \" Level AAA Non-conformance\" & IF(COUNTIF(DM124:DM178,\"NON CONFORMANT\")=1,\"\",\"s\"),\"\")","v":"0 Level A Non-conformances\n0 Level AA Non-conformances"},{"$f":"IF(Statistics!$S4=\"Yes\",COUNTIF(DN10:DN71,\"NON CONFORMANT\") & \" Level A Non-conformance\" & IF(COUNTIF(DN10:DN71,\"NON CONFORMANT\")=1,\"\",\"s\"),\"\") & IF(Statistics!$S5=\"Yes\",\"\n\" & COUNTIF(DN76:DN119,\"NON CONFORMANT\") & \" Level AA Non-conformance\" & IF(COUNTIF(DN76:DN119,\"NON CONFORMANT\")=1,\"\",\"s\"),\"\") & IF(Statistics!$S6=\"Yes\",\"\n\" & COUNTIF(DN124:DN178,\"NON CONFORMANT\") & \" Level AAA Non-conformance\" & IF(COUNTIF(DN124:DN178,\"NON CONFORMANT\")=1,\"\",\"s\"),\"\")","v":"0 Level A Non-conformances\n0 Level AA Non-conformances"},{"$f":"IF(Statistics!$S4=\"Yes\",COUNTIF(DO10:DO71,\"NON CONFORMANT\") & \" Level A Non-conformance\" & IF(COUNTIF(DO10:DO71,\"NON CONFORMANT\")=1,\"\",\"s\"),\"\") & IF(Statistics!$S5=\"Yes\",\"\n\" & COUNTIF(DO76:DO119,\"NON CONFORMANT\") & \" Level AA Non-conformance\" & IF(COUNTIF(DO76:DO119,\"NON CONFORMANT\")=1,\"\",\"s\"),\"\") & IF(Statistics!$S6=\"Yes\",\"\n\" & COUNTIF(DO124:DO178,\"NON CONFORMANT\") & \" Level AAA Non-conformance\" & IF(COUNTIF(DO124:DO178,\"NON CONFORMANT\")=1,\"\",\"s\"),\"\")","v":"0 Level A Non-conformances\n0 Level AA Non-conformances"},{"$f":"IF(Statistics!$S4=\"Yes\",COUNTIF(DP10:DP71,\"NON CONFORMANT\") & \" Level A Non-conformance\" & IF(COUNTIF(DP10:DP71,\"NON CONFORMANT\")=1,\"\",\"s\"),\"\") & IF(Statistics!$S5=\"Yes\",\"\n\" & COUNTIF(DP76:DP119,\"NON CONFORMANT\") & \" Level AA Non-conformance\" & IF(COUNTIF(DP76:DP119,\"NON CONFORMANT\")=1,\"\",\"s\"),\"\") & IF(Statistics!$S6=\"Yes\",\"\n\" & COUNTIF(DP124:DP178,\"NON CONFORMANT\") & \" Level AAA Non-conformance\" & IF(COUNTIF(DP124:DP178,\"NON CONFORMANT\")=1,\"\",\"s\"),\"\")","v":"0 Level A Non-conformances\n0 Level AA Non-conformances"},{"$f":"IF(Statistics!$S4=\"Yes\",COUNTIF(DQ10:DQ71,\"NON CONFORMANT\") & \" Level A Non-conformance\" & IF(COUNTIF(DQ10:DQ71,\"NON CONFORMANT\")=1,\"\",\"s\"),\"\") & IF(Statistics!$S5=\"Yes\",\"\n\" & COUNTIF(DQ76:DQ119,\"NON CONFORMANT\") & \" Level AA Non-conformance\" & IF(COUNTIF(DQ76:DQ119,\"NON CONFORMANT\")=1,\"\",\"s\"),\"\") & IF(Statistics!$S6=\"Yes\",\"\n\" & COUNTIF(DQ124:DQ178,\"NON CONFORMANT\") & \" Level AAA Non-conformance\" & IF(COUNTIF(DQ124:DQ178,\"NON CONFORMANT\")=1,\"\",\"s\"),\"\")","v":"0 Level A Non-conformances\n0 Level AA Non-conformances"},{"$f":"IF(Statistics!$S4=\"Yes\",COUNTIF(DR10:DR71,\"NON CONFORMANT\") & \" Level A Non-conformance\" & IF(COUNTIF(DR10:DR71,\"NON CONFORMANT\")=1,\"\",\"s\"),\"\") & IF(Statistics!$S5=\"Yes\",\"\n\" & COUNTIF(DR76:DR119,\"NON CONFORMANT\") & \" Level AA Non-conformance\" & IF(COUNTIF(DR76:DR119,\"NON CONFORMANT\")=1,\"\",\"s\"),\"\") & IF(Statistics!$S6=\"Yes\",\"\n\" & COUNTIF(DR124:DR178,\"NON CONFORMANT\") & \" Level AAA Non-conformance\" & IF(COUNTIF(DR124:DR178,\"NON CONFORMANT\")=1,\"\",\"s\"),\"\")","v":"0 Level A Non-conformances\n0 Level AA Non-conformances"},{"$f":"IF(Statistics!$S4=\"Yes\",COUNTIF(DS10:DS71,\"NON CONFORMANT\") & \" Level A Non-conformance\" & IF(COUNTIF(DS10:DS71,\"NON CONFORMANT\")=1,\"\",\"s\"),\"\") & IF(Statistics!$S5=\"Yes\",\"\n\" & COUNTIF(DS76:DS119,\"NON CONFORMANT\") & \" Level AA Non-conformance\" & IF(COUNTIF(DS76:DS119,\"NON CONFORMANT\")=1,\"\",\"s\"),\"\") & IF(Statistics!$S6=\"Yes\",\"\n\" & COUNTIF(DS124:DS178,\"NON CONFORMANT\") & \" Level AAA Non-conformance\" & IF(COUNTIF(DS124:DS178,\"NON CONFORMANT\")=1,\"\",\"s\"),\"\")","v":"0 Level A Non-conformances\n0 Level AA Non-conformances"},{"$f":"IF(Statistics!$S4=\"Yes\",COUNTIF(DT10:DT71,\"NON CONFORMANT\") & \" Level A Non-conformance\" & IF(COUNTIF(DT10:DT71,\"NON CONFORMANT\")=1,\"\",\"s\"),\"\") & IF(Statistics!$S5=\"Yes\",\"\n\" & COUNTIF(DT76:DT119,\"NON CONFORMANT\") & \" Level AA Non-conformance\" & IF(COUNTIF(DT76:DT119,\"NON CONFORMANT\")=1,\"\",\"s\"),\"\") & IF(Statistics!$S6=\"Yes\",\"\n\" & COUNTIF(DT124:DT178,\"NON CONFORMANT\") & \" Level AAA Non-conformance\" & IF(COUNTIF(DT124:DT178,\"NON CONFORMANT\")=1,\"\",\"s\"),\"\")","v":"0 Level A Non-conformances\n0 Level AA Non-conformances"},{"$f":"IF(Statistics!$S4=\"Yes\",COUNTIF(DU10:DU71,\"NON CONFORMANT\") & \" Level A Non-conformance\" & IF(COUNTIF(DU10:DU71,\"NON CONFORMANT\")=1,\"\",\"s\"),\"\") & IF(Statistics!$S5=\"Yes\",\"\n\" & COUNTIF(DU76:DU119,\"NON CONFORMANT\") & \" Level AA Non-conformance\" & IF(COUNTIF(DU76:DU119,\"NON CONFORMANT\")=1,\"\",\"s\"),\"\") & IF(Statistics!$S6=\"Yes\",\"\n\" & COUNTIF(DU124:DU178,\"NON CONFORMANT\") & \" Level AAA Non-conformance\" & IF(COUNTIF(DU124:DU178,\"NON CONFORMANT\")=1,\"\",\"s\"),\"\")","v":"0 Level A Non-conformances\n0 Level AA Non-conformances"},{"$f":"IF(Statistics!$S4=\"Yes\",COUNTIF(DV10:DV71,\"NON CONFORMANT\") & \" Level A Non-conformance\" & IF(COUNTIF(DV10:DV71,\"NON CONFORMANT\")=1,\"\",\"s\"),\"\") & IF(Statistics!$S5=\"Yes\",\"\n\" & COUNTIF(DV76:DV119,\"NON CONFORMANT\") & \" Level AA Non-conformance\" & IF(COUNTIF(DV76:DV119,\"NON CONFORMANT\")=1,\"\",\"s\"),\"\") & IF(Statistics!$S6=\"Yes\",\"\n\" & COUNTIF(DV124:DV178,\"NON CONFORMANT\") & \" Level AAA Non-conformance\" & IF(COUNTIF(DV124:DV178,\"NON CONFORMANT\")=1,\"\",\"s\"),\"\")","v":"0 Level A Non-conformances\n0 Level AA Non-conformances"},{"$f":"IF(Statistics!$S4=\"Yes\",COUNTIF(DW10:DW71,\"NON CONFORMANT\") & \" Level A Non-conformance\" & IF(COUNTIF(DW10:DW71,\"NON CONFORMANT\")=1,\"\",\"s\"),\"\") & IF(Statistics!$S5=\"Yes\",\"\n\" & COUNTIF(DW76:DW119,\"NON CONFORMANT\") & \" Level AA Non-conformance\" & IF(COUNTIF(DW76:DW119,\"NON CONFORMANT\")=1,\"\",\"s\"),\"\") & IF(Statistics!$S6=\"Yes\",\"\n\" & COUNTIF(DW124:DW178,\"NON CONFORMANT\") & \" Level AAA Non-conformance\" & IF(COUNTIF(DW124:DW178,\"NON CONFORMANT\")=1,\"\",\"s\"),\"\")","v":"0 Level A Non-conformances\n0 Level AA Non-conformances"},{"$f":"IF(Statistics!$S4=\"Yes\",COUNTIF(DX10:DX71,\"NON CONFORMANT\") & \" Level A Non-conformance\" & IF(COUNTIF(DX10:DX71,\"NON CONFORMANT\")=1,\"\",\"s\"),\"\") & IF(Statistics!$S5=\"Yes\",\"\n\" & COUNTIF(DX76:DX119,\"NON CONFORMANT\") & \" Level AA Non-conformance\" & IF(COUNTIF(DX76:DX119,\"NON CONFORMANT\")=1,\"\",\"s\"),\"\") & IF(Statistics!$S6=\"Yes\",\"\n\" & COUNTIF(DX124:DX178,\"NON CONFORMANT\") & \" Level AAA Non-conformance\" & IF(COUNTIF(DX124:DX178,\"NON CONFORMANT\")=1,\"\",\"s\"),\"\")","v":"0 Level A Non-conformances\n0 Level AA Non-conformances"},{"$f":"IF(Statistics!$S4=\"Yes\",COUNTIF(DY10:DY71,\"NON CONFORMANT\") & \" Level A Non-conformance\" & IF(COUNTIF(DY10:DY71,\"NON CONFORMANT\")=1,\"\",\"s\"),\"\") & IF(Statistics!$S5=\"Yes\",\"\n\" & COUNTIF(DY76:DY119,\"NON CONFORMANT\") & \" Level AA Non-conformance\" & IF(COUNTIF(DY76:DY119,\"NON CONFORMANT\")=1,\"\",\"s\"),\"\") & IF(Statistics!$S6=\"Yes\",\"\n\" & COUNTIF(DY124:DY178,\"NON CONFORMANT\") & \" Level AAA Non-conformance\" & IF(COUNTIF(DY124:DY178,\"NON CONFORMANT\")=1,\"\",\"s\"),\"\")","v":"0 Level A Non-conformances\n0 Level AA Non-conformances"},{"$f":"IF(Statistics!$S4=\"Yes\",COUNTIF(DZ10:DZ71,\"NON CONFORMANT\") & \" Level A Non-conformance\" & IF(COUNTIF(DZ10:DZ71,\"NON CONFORMANT\")=1,\"\",\"s\"),\"\") & IF(Statistics!$S5=\"Yes\",\"\n\" & COUNTIF(DZ76:DZ119,\"NON CONFORMANT\") & \" Level AA Non-conformance\" & IF(COUNTIF(DZ76:DZ119,\"NON CONFORMANT\")=1,\"\",\"s\"),\"\") & IF(Statistics!$S6=\"Yes\",\"\n\" & COUNTIF(DZ124:DZ178,\"NON CONFORMANT\") & \" Level AAA Non-conformance\" & IF(COUNTIF(DZ124:DZ178,\"NON CONFORMANT\")=1,\"\",\"s\"),\"\")","v":"0 Level A Non-conformances\n0 Level AA Non-conformances"},{"$f":"IF(Statistics!$S4=\"Yes\",COUNTIF(EA10:EA71,\"NON CONFORMANT\") & \" Level A Non-conformance\" & IF(COUNTIF(EA10:EA71,\"NON CONFORMANT\")=1,\"\",\"s\"),\"\") & IF(Statistics!$S5=\"Yes\",\"\n\" & COUNTIF(EA76:EA119,\"NON CONFORMANT\") & \" Level AA Non-conformance\" & IF(COUNTIF(EA76:EA119,\"NON CONFORMANT\")=1,\"\",\"s\"),\"\") & IF(Statistics!$S6=\"Yes\",\"\n\" & COUNTIF(EA124:EA178,\"NON CONFORMANT\") & \" Level AAA Non-conformance\" & IF(COUNTIF(EA124:EA178,\"NON CONFORMANT\")=1,\"\",\"s\"),\"\")","v":"0 Level A Non-conformances\n0 Level AA Non-conformances"},{"$f":"IF(Statistics!$S4=\"Yes\",COUNTIF(EB10:EB71,\"NON CONFORMANT\") & \" Level A Non-conformance\" & IF(COUNTIF(EB10:EB71,\"NON CONFORMANT\")=1,\"\",\"s\"),\"\") & IF(Statistics!$S5=\"Yes\",\"\n\" & COUNTIF(EB76:EB119,\"NON CONFORMANT\") & \" Level AA Non-conformance\" & IF(COUNTIF(EB76:EB119,\"NON CONFORMANT\")=1,\"\",\"s\"),\"\") & IF(Statistics!$S6=\"Yes\",\"\n\" & COUNTIF(EB124:EB178,\"NON CONFORMANT\") & \" Level AAA Non-conformance\" & IF(COUNTIF(EB124:EB178,\"NON CONFORMANT\")=1,\"\",\"s\"),\"\")","v":"0 Level A Non-conformances\n0 Level AA Non-conformances"},{"$f":"IF(Statistics!$S4=\"Yes\",COUNTIF(EC10:EC71,\"NON CONFORMANT\") & \" Level A Non-conformance\" & IF(COUNTIF(EC10:EC71,\"NON CONFORMANT\")=1,\"\",\"s\"),\"\") & IF(Statistics!$S5=\"Yes\",\"\n\" & COUNTIF(EC76:EC119,\"NON CONFORMANT\") & \" Level AA Non-conformance\" & IF(COUNTIF(EC76:EC119,\"NON CONFORMANT\")=1,\"\",\"s\"),\"\") & IF(Statistics!$S6=\"Yes\",\"\n\" & COUNTIF(EC124:EC178,\"NON CONFORMANT\") & \" Level AAA Non-conformance\" & IF(COUNTIF(EC124:EC178,\"NON CONFORMANT\")=1,\"\",\"s\"),\"\")","v":"0 Level A Non-conformances\n0 Level AA Non-conformances"},{"$f":"IF(Statistics!$S4=\"Yes\",COUNTIF(ED10:ED71,\"NON CONFORMANT\") & \" Level A Non-conformance\" & IF(COUNTIF(ED10:ED71,\"NON CONFORMANT\")=1,\"\",\"s\"),\"\") & IF(Statistics!$S5=\"Yes\",\"\n\" & COUNTIF(ED76:ED119,\"NON CONFORMANT\") & \" Level AA Non-conformance\" & IF(COUNTIF(ED76:ED119,\"NON CONFORMANT\")=1,\"\",\"s\"),\"\") & IF(Statistics!$S6=\"Yes\",\"\n\" & COUNTIF(ED124:ED178,\"NON CONFORMANT\") & \" Level AAA Non-conformance\" & IF(COUNTIF(ED124:ED178,\"NON CONFORMANT\")=1,\"\",\"s\"),\"\")","v":"0 Level A Non-conformances\n0 Level AA Non-conformances"},{"$f":"IF(Statistics!$S4=\"Yes\",COUNTIF(EE10:EE71,\"NON CONFORMANT\") & \" Level A Non-conformance\" & IF(COUNTIF(EE10:EE71,\"NON CONFORMANT\")=1,\"\",\"s\"),\"\") & IF(Statistics!$S5=\"Yes\",\"\n\" & COUNTIF(EE76:EE119,\"NON CONFORMANT\") & \" Level AA Non-conformance\" & IF(COUNTIF(EE76:EE119,\"NON CONFORMANT\")=1,\"\",\"s\"),\"\") & IF(Statistics!$S6=\"Yes\",\"\n\" & COUNTIF(EE124:EE178,\"NON CONFORMANT\") & \" Level AAA Non-conformance\" & IF(COUNTIF(EE124:EE178,\"NON CONFORMANT\")=1,\"\",\"s\"),\"\")","v":"0 Level A Non-conformances\n0 Level AA Non-conformances"},{"$f":"IF(Statistics!$S4=\"Yes\",COUNTIF(EF10:EF71,\"NON CONFORMANT\") & \" Level A Non-conformance\" & IF(COUNTIF(EF10:EF71,\"NON CONFORMANT\")=1,\"\",\"s\"),\"\") & IF(Statistics!$S5=\"Yes\",\"\n\" & COUNTIF(EF76:EF119,\"NON CONFORMANT\") & \" Level AA Non-conformance\" & IF(COUNTIF(EF76:EF119,\"NON CONFORMANT\")=1,\"\",\"s\"),\"\") & IF(Statistics!$S6=\"Yes\",\"\n\" & COUNTIF(EF124:EF178,\"NON CONFORMANT\") & \" Level AAA Non-conformance\" & IF(COUNTIF(EF124:EF178,\"NON CONFORMANT\")=1,\"\",\"s\"),\"\")","v":"0 Level A Non-conformances\n0 Level AA Non-conformances"},{"$f":"IF(Statistics!$S4=\"Yes\",COUNTIF(EG10:EG71,\"NON CONFORMANT\") & \" Level A Non-conformance\" & IF(COUNTIF(EG10:EG71,\"NON CONFORMANT\")=1,\"\",\"s\"),\"\") & IF(Statistics!$S5=\"Yes\",\"\n\" & COUNTIF(EG76:EG119,\"NON CONFORMANT\") & \" Level AA Non-conformance\" & IF(COUNTIF(EG76:EG119,\"NON CONFORMANT\")=1,\"\",\"s\"),\"\") & IF(Statistics!$S6=\"Yes\",\"\n\" & COUNTIF(EG124:EG178,\"NON CONFORMANT\") & \" Level AAA Non-conformance\" & IF(COUNTIF(EG124:EG178,\"NON CONFORMANT\")=1,\"\",\"s\"),\"\")","v":"0 Level A Non-conformances\n0 Level AA Non-conformances"},{"$f":"IF(Statistics!$S4=\"Yes\",COUNTIF(EH10:EH71,\"NON CONFORMANT\") & \" Level A Non-conformance\" & IF(COUNTIF(EH10:EH71,\"NON CONFORMANT\")=1,\"\",\"s\"),\"\") & IF(Statistics!$S5=\"Yes\",\"\n\" & COUNTIF(EH76:EH119,\"NON CONFORMANT\") & \" Level AA Non-conformance\" & IF(COUNTIF(EH76:EH119,\"NON CONFORMANT\")=1,\"\",\"s\"),\"\") & IF(Statistics!$S6=\"Yes\",\"\n\" & COUNTIF(EH124:EH178,\"NON CONFORMANT\") & \" Level AAA Non-conformance\" & IF(COUNTIF(EH124:EH178,\"NON CONFORMANT\")=1,\"\",\"s\"),\"\")","v":"0 Level A Non-conformances\n0 Level AA Non-conformances"},{"$f":"IF(Statistics!$S4=\"Yes\",COUNTIF(EI10:EI71,\"NON CONFORMANT\") & \" Level A Non-conformance\" & IF(COUNTIF(EI10:EI71,\"NON CONFORMANT\")=1,\"\",\"s\"),\"\") & IF(Statistics!$S5=\"Yes\",\"\n\" & COUNTIF(EI76:EI119,\"NON CONFORMANT\") & \" Level AA Non-conformance\" & IF(COUNTIF(EI76:EI119,\"NON CONFORMANT\")=1,\"\",\"s\"),\"\") & IF(Statistics!$S6=\"Yes\",\"\n\" & COUNTIF(EI124:EI178,\"NON CONFORMANT\") & \" Level AAA Non-conformance\" & IF(COUNTIF(EI124:EI178,\"NON CONFORMANT\")=1,\"\",\"s\"),\"\")","v":"0 Level A Non-conformances\n0 Level AA Non-conformances"},{"$f":"IF(Statistics!$S4=\"Yes\",COUNTIF(EJ10:EJ71,\"NON CONFORMANT\") & \" Level A Non-conformance\" & IF(COUNTIF(EJ10:EJ71,\"NON CONFORMANT\")=1,\"\",\"s\"),\"\") & IF(Statistics!$S5=\"Yes\",\"\n\" & COUNTIF(EJ76:EJ119,\"NON CONFORMANT\") & \" Level AA Non-conformance\" & IF(COUNTIF(EJ76:EJ119,\"NON CONFORMANT\")=1,\"\",\"s\"),\"\") & IF(Statistics!$S6=\"Yes\",\"\n\" & COUNTIF(EJ124:EJ178,\"NON CONFORMANT\") & \" Level AAA Non-conformance\" & IF(COUNTIF(EJ124:EJ178,\"NON CONFORMANT\")=1,\"\",\"s\"),\"\")","v":"0 Level A Non-conformances\n0 Level AA Non-conformances"},{"$f":"IF(Statistics!$S4=\"Yes\",COUNTIF(EK10:EK71,\"NON CONFORMANT\") & \" Level A Non-conformance\" & IF(COUNTIF(EK10:EK71,\"NON CONFORMANT\")=1,\"\",\"s\"),\"\") & IF(Statistics!$S5=\"Yes\",\"\n\" & COUNTIF(EK76:EK119,\"NON CONFORMANT\") & \" Level AA Non-conformance\" & IF(COUNTIF(EK76:EK119,\"NON CONFORMANT\")=1,\"\",\"s\"),\"\") & IF(Statistics!$S6=\"Yes\",\"\n\" & COUNTIF(EK124:EK178,\"NON CONFORMANT\") & \" Level AAA Non-conformance\" & IF(COUNTIF(EK124:EK178,\"NON CONFORMANT\")=1,\"\",\"s\"),\"\")","v":"0 Level A Non-conformances\n0 Level AA Non-conformances"},{"$f":"IF(Statistics!$S4=\"Yes\",COUNTIF(EL10:EL71,\"NON CONFORMANT\") & \" Level A Non-conformance\" & IF(COUNTIF(EL10:EL71,\"NON CONFORMANT\")=1,\"\",\"s\"),\"\") & IF(Statistics!$S5=\"Yes\",\"\n\" & COUNTIF(EL76:EL119,\"NON CONFORMANT\") & \" Level AA Non-conformance\" & IF(COUNTIF(EL76:EL119,\"NON CONFORMANT\")=1,\"\",\"s\"),\"\") & IF(Statistics!$S6=\"Yes\",\"\n\" & COUNTIF(EL124:EL178,\"NON CONFORMANT\") & \" Level AAA Non-conformance\" & IF(COUNTIF(EL124:EL178,\"NON CONFORMANT\")=1,\"\",\"s\"),\"\")","v":"0 Level A Non-conformances\n0 Level AA Non-conformances"},{"$f":"IF(Statistics!$S4=\"Yes\",COUNTIF(EM10:EM71,\"NON CONFORMANT\") & \" Level A Non-conformance\" & IF(COUNTIF(EM10:EM71,\"NON CONFORMANT\")=1,\"\",\"s\"),\"\") & IF(Statistics!$S5=\"Yes\",\"\n\" & COUNTIF(EM76:EM119,\"NON CONFORMANT\") & \" Level AA Non-conformance\" & IF(COUNTIF(EM76:EM119,\"NON CONFORMANT\")=1,\"\",\"s\"),\"\") & IF(Statistics!$S6=\"Yes\",\"\n\" & COUNTIF(EM124:EM178,\"NON CONFORMANT\") & \" Level AAA Non-conformance\" & IF(COUNTIF(EM124:EM178,\"NON CONFORMANT\")=1,\"\",\"s\"),\"\")","v":"0 Level A Non-conformances\n0 Level AA Non-conformances"},{"$f":"IF(Statistics!$S4=\"Yes\",COUNTIF(EN10:EN71,\"NON CONFORMANT\") & \" Level A Non-conformance\" & IF(COUNTIF(EN10:EN71,\"NON CONFORMANT\")=1,\"\",\"s\"),\"\") & IF(Statistics!$S5=\"Yes\",\"\n\" & COUNTIF(EN76:EN119,\"NON CONFORMANT\") & \" Level AA Non-conformance\" & IF(COUNTIF(EN76:EN119,\"NON CONFORMANT\")=1,\"\",\"s\"),\"\") & IF(Statistics!$S6=\"Yes\",\"\n\" & COUNTIF(EN124:EN178,\"NON CONFORMANT\") & \" Level AAA Non-conformance\" & IF(COUNTIF(EN124:EN178,\"NON CONFORMANT\")=1,\"\",\"s\"),\"\")","v":"0 Level A Non-conformances\n0 Level AA Non-conformances"},{"$f":"IF(Statistics!$S4=\"Yes\",COUNTIF(EO10:EO71,\"NON CONFORMANT\") & \" Level A Non-conformance\" & IF(COUNTIF(EO10:EO71,\"NON CONFORMANT\")=1,\"\",\"s\"),\"\") & IF(Statistics!$S5=\"Yes\",\"\n\" & COUNTIF(EO76:EO119,\"NON CONFORMANT\") & \" Level AA Non-conformance\" & IF(COUNTIF(EO76:EO119,\"NON CONFORMANT\")=1,\"\",\"s\"),\"\") & IF(Statistics!$S6=\"Yes\",\"\n\" & COUNTIF(EO124:EO178,\"NON CONFORMANT\") & \" Level AAA Non-conformance\" & IF(COUNTIF(EO124:EO178,\"NON CONFORMANT\")=1,\"\",\"s\"),\"\")","v":"0 Level A Non-conformances\n0 Level AA Non-conformances"},{"$f":"IF(Statistics!$S4=\"Yes\",COUNTIF(EP10:EP71,\"NON CONFORMANT\") & \" Level A Non-conformance\" & IF(COUNTIF(EP10:EP71,\"NON CONFORMANT\")=1,\"\",\"s\"),\"\") & IF(Statistics!$S5=\"Yes\",\"\n\" & COUNTIF(EP76:EP119,\"NON CONFORMANT\") & \" Level AA Non-conformance\" & IF(COUNTIF(EP76:EP119,\"NON CONFORMANT\")=1,\"\",\"s\"),\"\") & IF(Statistics!$S6=\"Yes\",\"\n\" & COUNTIF(EP124:EP178,\"NON CONFORMANT\") & \" Level AAA Non-conformance\" & IF(COUNTIF(EP124:EP178,\"NON CONFORMANT\")=1,\"\",\"s\"),\"\")","v":"0 Level A Non-conformances\n0 Level AA Non-conformances"},{"$f":"IF(Statistics!$S4=\"Yes\",COUNTIF(EQ10:EQ71,\"NON CONFORMANT\") & \" Level A Non-conformance\" & IF(COUNTIF(EQ10:EQ71,\"NON CONFORMANT\")=1,\"\",\"s\"),\"\") & IF(Statistics!$S5=\"Yes\",\"\n\" & COUNTIF(EQ76:EQ119,\"NON CONFORMANT\") & \" Level AA Non-conformance\" & IF(COUNTIF(EQ76:EQ119,\"NON CONFORMANT\")=1,\"\",\"s\"),\"\") & IF(Statistics!$S6=\"Yes\",\"\n\" & COUNTIF(EQ124:EQ178,\"NON CONFORMANT\") & \" Level AAA Non-conformance\" & IF(COUNTIF(EQ124:EQ178,\"NON CONFORMANT\")=1,\"\",\"s\"),\"\")","v":"0 Level A Non-conformances\n0 Level AA Non-conformances"},{"$f":"IF(Statistics!$S4=\"Yes\",COUNTIF(ER10:ER71,\"NON CONFORMANT\") & \" Level A Non-conformance\" & IF(COUNTIF(ER10:ER71,\"NON CONFORMANT\")=1,\"\",\"s\"),\"\") & IF(Statistics!$S5=\"Yes\",\"\n\" & COUNTIF(ER76:ER119,\"NON CONFORMANT\") & \" Level AA Non-conformance\" & IF(COUNTIF(ER76:ER119,\"NON CONFORMANT\")=1,\"\",\"s\"),\"\") & IF(Statistics!$S6=\"Yes\",\"\n\" & COUNTIF(ER124:ER178,\"NON CONFORMANT\") & \" Level AAA Non-conformance\" & IF(COUNTIF(ER124:ER178,\"NON CONFORMANT\")=1,\"\",\"s\"),\"\")","v":"0 Level A Non-conformances\n0 Level AA Non-conformances"},{"$f":"IF(Statistics!$S4=\"Yes\",COUNTIF(ES10:ES71,\"NON CONFORMANT\") & \" Level A Non-conformance\" & IF(COUNTIF(ES10:ES71,\"NON CONFORMANT\")=1,\"\",\"s\"),\"\") & IF(Statistics!$S5=\"Yes\",\"\n\" & COUNTIF(ES76:ES119,\"NON CONFORMANT\") & \" Level AA Non-conformance\" & IF(COUNTIF(ES76:ES119,\"NON CONFORMANT\")=1,\"\",\"s\"),\"\") & IF(Statistics!$S6=\"Yes\",\"\n\" & COUNTIF(ES124:ES178,\"NON CONFORMANT\") & \" Level AAA Non-conformance\" & IF(COUNTIF(ES124:ES178,\"NON CONFORMANT\")=1,\"\",\"s\"),\"\")","v":"0 Level A Non-conformances\n0 Level AA Non-conformances"},{"$f":"IF(Statistics!$S4=\"Yes\",COUNTIF(ET10:ET71,\"NON CONFORMANT\") & \" Level A Non-conformance\" & IF(COUNTIF(ET10:ET71,\"NON CONFORMANT\")=1,\"\",\"s\"),\"\") & IF(Statistics!$S5=\"Yes\",\"\n\" & COUNTIF(ET76:ET119,\"NON CONFORMANT\") & \" Level AA Non-conformance\" & IF(COUNTIF(ET76:ET119,\"NON CONFORMANT\")=1,\"\",\"s\"),\"\") & IF(Statistics!$S6=\"Yes\",\"\n\" & COUNTIF(ET124:ET178,\"NON CONFORMANT\") & \" Level AAA Non-conformance\" & IF(COUNTIF(ET124:ET178,\"NON CONFORMANT\")=1,\"\",\"s\"),\"\")","v":"0 Level A Non-conformances\n0 Level AA Non-conformances"},{"$f":"IF(Statistics!$S4=\"Yes\",COUNTIF(EU10:EU71,\"NON CONFORMANT\") & \" Level A Non-conformance\" & IF(COUNTIF(EU10:EU71,\"NON CONFORMANT\")=1,\"\",\"s\"),\"\") & IF(Statistics!$S5=\"Yes\",\"\n\" & COUNTIF(EU76:EU119,\"NON CONFORMANT\") & \" Level AA Non-conformance\" & IF(COUNTIF(EU76:EU119,\"NON CONFORMANT\")=1,\"\",\"s\"),\"\") & IF(Statistics!$S6=\"Yes\",\"\n\" & COUNTIF(EU124:EU178,\"NON CONFORMANT\") & \" Level AAA Non-conformance\" & IF(COUNTIF(EU124:EU178,\"NON CONFORMANT\")=1,\"\",\"s\"),\"\")","v":"0 Level A Non-conformances\n0 Level AA Non-conformances"},{"$f":"IF(Statistics!$S4=\"Yes\",COUNTIF(EV10:EV71,\"NON CONFORMANT\") & \" Level A Non-conformance\" & IF(COUNTIF(EV10:EV71,\"NON CONFORMANT\")=1,\"\",\"s\"),\"\") & IF(Statistics!$S5=\"Yes\",\"\n\" & COUNTIF(EV76:EV119,\"NON CONFORMANT\") & \" Level AA Non-conformance\" & IF(COUNTIF(EV76:EV119,\"NON CONFORMANT\")=1,\"\",\"s\"),\"\") & IF(Statistics!$S6=\"Yes\",\"\n\" & COUNTIF(EV124:EV178,\"NON CONFORMANT\") & \" Level AAA Non-conformance\" & IF(COUNTIF(EV124:EV178,\"NON CONFORMANT\")=1,\"\",\"s\"),\"\")","v":"0 Level A Non-conformances\n0 Level AA Non-conformances"},{"$f":"IF(Statistics!$S4=\"Yes\",COUNTIF(EW10:EW71,\"NON CONFORMANT\") & \" Level A Non-conformance\" & IF(COUNTIF(EW10:EW71,\"NON CONFORMANT\")=1,\"\",\"s\"),\"\") & IF(Statistics!$S5=\"Yes\",\"\n\" & COUNTIF(EW76:EW119,\"NON CONFORMANT\") & \" Level AA Non-conformance\" & IF(COUNTIF(EW76:EW119,\"NON CONFORMANT\")=1,\"\",\"s\"),\"\") & IF(Statistics!$S6=\"Yes\",\"\n\" & COUNTIF(EW124:EW178,\"NON CONFORMANT\") & \" Level AAA Non-conformance\" & IF(COUNTIF(EW124:EW178,\"NON CONFORMANT\")=1,\"\",\"s\"),\"\")","v":"0 Level A Non-conformances\n0 Level AA Non-conformances"},{"$f":"IF(Statistics!$S4=\"Yes\",COUNTIF(EX10:EX71,\"NON CONFORMANT\") & \" Level A Non-conformance\" & IF(COUNTIF(EX10:EX71,\"NON CONFORMANT\")=1,\"\",\"s\"),\"\") & IF(Statistics!$S5=\"Yes\",\"\n\" & COUNTIF(EX76:EX119,\"NON CONFORMANT\") & \" Level AA Non-conformance\" & IF(COUNTIF(EX76:EX119,\"NON CONFORMANT\")=1,\"\",\"s\"),\"\") & IF(Statistics!$S6=\"Yes\",\"\n\" & COUNTIF(EX124:EX178,\"NON CONFORMANT\") & \" Level AAA Non-conformance\" & IF(COUNTIF(EX124:EX178,\"NON CONFORMANT\")=1,\"\",\"s\"),\"\")","v":"0 Level A Non-conformances\n0 Level AA Non-conformances"}]
["Level A Success Criteria"]
["W3C Ref.","Level.",null,"Principle 1: Perceivable - Information and user interface components must be presentable to users in ways they can perceive."]
["1.1.1","A","Non-text Content","All non-text content that is presented to the user has a text alternative that serves the equivalent purpose.","NOT TESTED","NOT TESTED","NOT TESTED","NOT TESTED","NOT TESTED","NOT TESTED","NOT TESTED","N/A","N/A","N/A","NON CONFORMANT","N/A","NON CONFORMANT","PASS with comments","PASS","PASS with comments","PASS with comments","PASS with comments","PASS","PASS","PASS","N/A","PASS","PASS","N/A","PASS","N/A"]
[null,null,null,null,"See front-end spreadsheet","See front-end spreadsheet","See front-end spreadsheet","See front-end spreadsheet","See front-end spreadsheet","See front-end spreadsheet","See front-end spreadsheet","No non text content displayed.","No non text content displayed.","No non text content displayed.","The SVG images used for the Home and menu icons should have an aria-hidden=\"true\" attributes.\nhttps://london.atlassian.net/browse/RLAC-271","No non text content displayed.","The SVG images used for the Menu and Close icons should have aria-hidden=\"true\" attributes.\nhttps://london.atlassian.net/browse/RLAC-273","The grey horizontal line below the 'Click here to enable editing' link is read out by NVDA screen readers as \"separator\".  An aria-hidden=\"true\" attribute should be added to the <hr> element to prevent it from being read out to the screen reader.\nhttps://london.atlassian.net/browse/RLAC-277",null,"The grey horizontal lines below the 'Step 4:Publishing' link is read out by NVDA screen readers as \"separator\".  An aria-hidden=\"true\" attribute should be added to the <hr> element to prevent it from being read out to the screen reader.\nhttps://london.atlassian.net/browse/RLAC-285","The grey horizontal lines below the 'Step 4:Publishing' link is read out by NVDA screen readers as \"separator\".  An aria-hidden=\"true\" attribute should be added to the <hr> element to prevent it from being read out to the screen reader.\nhttps://london.atlassian.net/browse/RLAC-285","The grey horizontal lines below the <h1> heading 'Add Enforcement Action' and below the 'Step 4:Publishing' link are read out by NVDA screen readers as \"separator\".  An aria-hidden=\"true\" attribute should be added to the <hr> element to prevent it from being read out to the screen reader.\nhttps://london.atlassian.net/browse/RLAC-285"]
["1.2.1","A","Audio-only and Video-only (Pre-recorded)","For pre-recorded audio-only and pre-recorded video-only media, an alternative for time-based media or an audio track is provided that presents equivalent information. ","NOT TESTED","NOT TESTED","NOT TESTED","NOT TESTED","NOT TESTED","NOT TESTED","NOT TESTED","N/A","N/A","N/A","N/A","N/A","N/A","N/A","N/A","N/A","N/A","N/A","N/A","N/A","N/A","N/A","N/A","N/A","N/A","N/A","N/A"]
[null,null,null,null,"See front-end spreadsheet","See front-end spreadsheet","See front-end spreadsheet","See front-end spreadsheet","See front-end spreadsheet","See front-end spreadsheet","See front-end spreadsheet","There is no pre-recorded audio-only or pre-recorded video-only media.","There is no pre-recorded audio-only or pre-recorded video-only media.","There is no pre-recorded audio-only or pre-recorded video-only media.","There is no pre-recorded audio-only or pre-recorded video-only media.","There is no pre-recorded audio-only or pre-recorded video-only media.","There is no pre-recorded audio-only or pre-recorded video-only media.","There is no pre-recorded audio-only or pre-recorded video-only media.","There is no pre-recorded audio-only or pre-recorded video-only media.","There is no pre-recorded audio-only or pre-recorded video-only media.","There is no pre-recorded audio-only or pre-recorded video-only media.","There is no pre-recorded audio-only or pre-recorded video-only media.","There is no pre-recorded audio-only or pre-recorded video-only media.","There is no pre-recorded audio-only or pre-recorded video-only media.","There is no pre-recorded audio-only or pre-recorded video-only media.",null,"There is no pre-recorded audio-only or pre-recorded video-only media.","There is no pre-recorded audio-only or pre-recorded video-only media.",null,"There is no pre-recorded audio-only or pre-recorded video-only media.","There is no pre-recorded audio-only or pre-recorded video-only media."]
["1.2.2","A","Captions (Pre-recorded)","Captions are provided for all pre-recorded audio content in synchronized media, except when the media is a media alternative for text and is clearly labelled as such. ","NOT TESTED","NOT TESTED","NOT TESTED","NOT TESTED","NOT TESTED","NOT TESTED","NOT TESTED","N/A","N/A","N/A","N/A","N/A","N/A","N/A","N/A","N/A","N/A","N/A","N/A","N/A","N/A","N/A","N/A","N/A","N/A","N/A","N/A"]
[null,null,null,null,"See front-end spreadsheet","See front-end spreadsheet","See front-end spreadsheet","See front-end spreadsheet","See front-end spreadsheet","See front-end spreadsheet","See front-end spreadsheet","There is no synchronised media.","There is no synchronised media.","There is no synchronised media.","There is no synchronised media.","There is no synchronised media.","There is no synchronised media.","There is no synchronised media.","There is no synchronised media.","There is no synchronised media.","There is no synchronised media.","There is no synchronised media.","There is no synchronised media.","There is no synchronised media.","There is no synchronised media.",null,"There is no synchronised media.","There is no synchronised media.",null,"There is no synchronised media.","There is no synchronised media."]
["1.2.3","A","Audio Description or Media Alternative (Pre-recorded)","An alternative for time-based media or audio description of the pre-recorded video content is provided for synchronized media, except when the media is a media alternative for text and is clearly labelled as such.","NOT TESTED","NOT TESTED","NOT TESTED","NOT TESTED","NOT TESTED","NOT TESTED","NOT TESTED","N/A","N/A","N/A","N/A","N/A","N/A","N/A","N/A","N/A","N/A","N/A","N/A","N/A","N/A","N/A","N/A","N/A","N/A","N/A","N/A"]
[null,null,null,null,"See front-end spreadsheet","See front-end spreadsheet","See front-end spreadsheet","See front-end spreadsheet","See front-end spreadsheet","See front-end spreadsheet","See front-end spreadsheet","There is no time-based media or synchronized media.","There is no time-based media or synchronized media.","There is no time-based media or synchronized media.","There is no time-based media or synchronized media.","There is no time-based media or synchronized media.","There is no time-based media or synchronized media.","There is no time-based media or synchronized media.","There is no time-based media or synchronized media.","There is no time-based media or synchronized media.","There is no time-based media or synchronized media.","There is no time-based media or synchronized media.","There is no time-based media or synchronized media.","There is no time-based media or synchronized media.","There is no time-based media or synchronized media.",null,"There is no time-based media or synchronized media.","There is no time-based media or synchronized media.",null,"There is no time-based media or synchronized media.","There is no time-based media or synchronized media."]
["1.3.1","A","Info and Relationships","Information, structure, and relationships conveyed through presentation can be programmatically determined or are available in text.","NOT TESTED","NOT TESTED","NOT TESTED","NOT TESTED","NOT TESTED","NOT TESTED","NOT TESTED","PASS","PASS","PASS","PASS with comments","PASS","PASS with comments","NON CONFORMANT","NON CONFORMANT","NON CONFORMANT","NON CONFORMANT","NON CONFORMANT","NON CONFORMANT","NON CONFORMANT","NON CONFORMANT","NON CONFORMANT","NON CONFORMANT","PASS with comments","NON CONFORMANT","PASS with comments","PASS with comments"]
[null,null,null,null,"See front-end spreadsheet","See front-end spreadsheet","See front-end spreadsheet","See front-end spreadsheet","See front-end spreadsheet","See front-end spreadsheet","See front-end spreadsheet",null,null,null,"Comment: The menu is in a <nav> tag, so the role=\"navigation\" attribute is redundant.\nhttps://london.atlassian.net/browse/RLAC-272",null,"Comment: The menu is in a <nav> tag, so the role=\"navigation\" attribute is redundant.\nhttps://london.atlassian.net/browse/RLAC-274","Assistive technologies do not receive programmatic notification that a new page has loaded. Fire an ARIA live region (<div role=”alert”>) to programmatically announce the new page to assistive technologies. https://london.atlassian.net/browse/RLAC-268\n\nLoading icon and message appears visually as a status message but is not coded as such. Use an aria-live region. https://london.atlassian.net/browse/RLAC-267\n\nComment: Ideally there should only be one <h1> heading as a best practice to convey the contents of the page. However, it is not a non conformance to have multiple <h1> headings.\nhttps://london.atlassian.net/browse/RLAC-278","Loading icon and message appears visually as a status message but is not coded as such. Use an aria-live region. https://london.atlassian.net/browse/RLAC-267\n\nThe last list item, which corresponds to the current page  must have the attribute aria-current=”page”.\nWe recommend the design pattern on the W3 website at \nhttps://www.w3.org/TR/wai-aria-practices/examples/breadcrumb/index.html\nhttps://london.atlassian.net/browse/RLAC-304\n\nComment: Ideally there should only be one <h1> heading as a best practice to convey the contents of the page. However, it is not a non conformance to have multiple <h1> headings.\nhttps://london.atlassian.net/browse/RLAC-278","\n\nThe last list item, which corresponds to the current page  must have the attribute aria-current=”page”.\nWe recommend the design pattern on the W3 website at \nhttps://www.w3.org/TR/wai-aria-practices/examples/breadcrumb/index.html\nhttps://london.atlassian.net/browse/RLAC-282\n\nAssistive technologies do not receive programmatic notification that a new page has loaded. Fire an ARIA live region (<div role=”alert”>) to programmatically announce the new page to assistive technologies. https://london.atlassian.net/browse/RLAC-268\n\nLoading icon and message appears visually as a status message but is not coded as such. Use an aria-live region.\nhttps://london.atlassian.net/browse/RLAC-289\n\nComment: Ideally there should only be one <h1> heading as a best practice to convey the contents of the page. However, it is not a non conformance to have multiple <h1> headings.\nhttps://london.atlassian.net/browse/RLAC-278","Assistive technologies do not receive programmatic notification that a new page has loaded. Fire an ARIA live region (<div role=”alert”>) to programmatically announce the new page to assistive technologies. https://london.atlassian.net/browse/RLAC-268\n\nLoading icon and message appears visually as a status message but is not coded as such. Use an aria-live region. https://london.atlassian.net/browse/RLAC-267\n\nComment: Ideally there should only be one <h1> heading as a best practice to convey the contents of the page. However, it is not a non conformance to have multiple <h1> headings.\nhttps://london.atlassian.net/browse/RLAC-278","Assistive technologies do not receive programmatic notification that a new page has loaded. Fire an ARIA live region (<div role=”alert”>) to programmatically announce the new page to assistive technologies. https://london.atlassian.net/browse/RLAC-268\n\nLoading icon and message appears visually as a status message but is not coded as such. Use an aria-live region. https://london.atlassian.net/browse/RLAC-267","Assistive technologies do not receive programmatic notification that a new page has loaded. Fire an ARIA live region (<div role=”alert”>) to programmatically announce the new page to assistive technologies. https://london.atlassian.net/browse/RLAC-268\n\nLoading icon and message appears visually as a status message but is not coded as such. Use an aria-live region\nhttps://london.atlassian.net/browse/RLAC-289\n\nThere is no markup to convey the relationship between header cells and data cells in the data table.\nAll the table headers, <th> elements, are missing the scope=\"col\" attribute. \nhttps://london.atlassian.net/browse/RLAC-290\n\nComment: Ideally there should only be one <h1> heading as a best practice to convey the contents of the page. However, it is not a non conformance to have multiple <h1> headings.\nhttps://london.atlassian.net/browse/RLAC-278","Assistive technologies do not receive programmatic notification that a new page has loaded. Fire an ARIA live region (<div role=”alert”>) to programmatically announce the new page to assistive technologies. https://london.atlassian.net/browse/RLAC-268\n\nLoading icon and message appears visually as a status message but is not coded as such. Use an aria-live region. https://london.atlassian.net/browse/RLAC-267\n\nComment: Ideally there should only be one <h1> heading as a best practice to convey the contents of the page. However, it is not a non conformance to have multiple <h1> headings.\nhttps://london.atlassian.net/browse/RLAC-278","Assistive technologies do not receive programmatic notification that a new page has loaded. Fire an ARIA live region (<div role=”alert”>) to programmatically announce the new page to assistive technologies. https://london.atlassian.net/browse/RLAC-268\n\nLoading icon and message appears visually as a status message but is not coded as such. Use an aria-live region. https://london.atlassian.net/browse/RLAC-267\n\nAll the <h3> headings e.g. '102-20230815 Banning Order (Case Details Reference: 2)' should be <h2> headings instead. Alternatively, an <h2> with a value of \"Search results\" (or similar) could be added just below the form where all the filters are.  This way all the <h3> headings can be left as-is. \nhttps://london.atlassian.net/browse/RLAC-291","The PDF is not tagged, but there is no semantic info in the letter, so that may not be a big deal","The radio buttons in the Roles <fieldset> cannot all have required attributes. Remove these from the individual radio buttons, and instead add role=\"radiogroup\" and aria-required=\"true\" attributes to the <fieldset> element. https://london.atlassian.net/browse/RLAC-262\n\nComment: Ideally there should only be one <h1> heading as a best practice to convey the contents of the page. However, it is not a non conformance to have multiple <h1> headings.","Comment: Ideally there should only be one <h1> heading as a best practice to convey the contents of the page. However, it is not a non conformance to have multiple <h1> headings.","The checkboxes in the first column do not have values. To make this meaningful, give each <label> a value of \"Suspend\". Then use an aria-labelledby attribute to associate a unique value that users will use to identify what is being suspended - this could be the 'ID' or 'Label' value of that row - or both. That does mean that they will need 'id' attributes. ","Comment: Ideally there should only be one <h1> heading as a best practice to convey the contents of the page. However, it is not a non conformance to have multiple <h1> headings.","Data table looks OK. No scope attributes, however. "]
["1.3.2","A","Meaningful Sequence","When the sequence in which content is presented affects its meaning, a correct reading sequence can be programmatically determined.","NOT TESTED","NOT TESTED","NOT TESTED","NOT TESTED","NOT TESTED","NOT TESTED","NOT TESTED","PASS","PASS","PASS","PASS","PASS","PASS","PASS","PASS","PASS","PASS","PASS","PASS","PASS","PASS","N/A","PASS","PASS with comments","N/A","PASS","PASS"]
[null,null,null,null,"See front-end spreadsheet","See front-end spreadsheet","See front-end spreadsheet","See front-end spreadsheet","See front-end spreadsheet","See front-end spreadsheet","See front-end spreadsheet",null,null,null,null,null,null,null,null,null,null,null,null,null,null,null,null,"Comment: the text, \"To preview new changes, please ensure the form is submitted successfully first.\" should come before the control in the reading order to make it easier to discover."]
["1.3.3","A","Sensory Characteristics","Instructions provided for understanding and operating content do not rely solely on sensory characteristics of components such as shape, size, visual location, orientation, or sound. ","NOT TESTED","NOT TESTED","NOT TESTED","NOT TESTED","NOT TESTED","NOT TESTED","NOT TESTED","PASS","PASS","PASS","PASS","PASS","PASS","PASS","PASS","PASS","PASS","PASS","PASS","PASS","PASS","N/A","PASS","PASS","N/A","PASS","PASS"]
[null,null,null,null,"See front-end spreadsheet","See front-end spreadsheet","See front-end spreadsheet","See front-end spreadsheet","See front-end spreadsheet","See front-end spreadsheet","See front-end spreadsheet"]
["1.4.1","A","Use of Colour","Colour is not used as the only visual means of conveying information, indicating an action, prompting a response, or distinguishing a visual element.","NOT TESTED","NOT TESTED","NOT TESTED","NOT TESTED","NOT TESTED","NOT TESTED","NOT TESTED","PASS","PASS","PASS","PASS","PASS","PASS","PASS","PASS","NON CONFORMANT","NON CONFORMANT","NON CONFORMANT","NON CONFORMANT","NON CONFORMANT","NON CONFORMANT","N/A","NON CONFORMANT","NON CONFORMANT","N/A","PASS","PASS"]
[null,null,null,null,"See front-end spreadsheet","See front-end spreadsheet","See front-end spreadsheet","See front-end spreadsheet","See front-end spreadsheet","See front-end spreadsheet","See front-end spreadsheet",null,null,null,null,null,null,null,null,"The 'Reset progress and start again'  button relies on the use of colour for focus indication,  We recommend applying either an underline to the button text e.g. black (#353D42) text or use an outline with the style \"outline: 2px solid #353D42; outline-offset: 2px\" on focus in addition to the change of background colour, or instead of it.\nhttps://london.atlassian.net/browse/RLAC-286","The 'Reset', 'Reset progress and start again' and 'Try Another Post Code Search'  buttons rely on the use of colour for focus indication. We recommend applying either an underline to the button text e.g. black (#353D42) text or use a contrasting coloured outline against its background instead. For example: a pink outline #E4035E against a white background #FFFFFF with an outline offset of 2px. \nhttps://london.atlassian.net/browse/RLAC-292","The ' 'Reset progress and start again' button relies on the use of colour for focus indication. We recommend applying either an underline to the button text e.g. black (#353D42) text or use a contrasting coloured outline against its background instead. For example: a pink outline #E4035E against a white background #FFFFFF with an outline offset of 2px.\nhttps://london.atlassian.net/browse/RLAC-286","The ' 'Reset' button relies on the use of colour for focus indication. We recommend applying either an underline to the button text e.g. black (#353D42) text or use a contrasting coloured outline against its background instead. For example: a pink outline #E4035E against a white background #FFFFFF with an outline offset of 2px.\nhttps://london.atlassian.net/browse/RLAC-286","The ' 'Reset' button relies on the use of colour for focus indication. We recommend applying either an underline to the button text e.g. black (#353D42) text or use a contrasting coloured outline against its background instead. For example: a pink outline #E4035E against a white background #FFFFFF with an outline offset of 2px.\nhttps://london.atlassian.net/browse/RLAC-286","The ' 'Reset' button relies on the use of colour for focus indication. We recommend applying either an underline to the button text e.g. black (#353D42) text or use a contrasting coloured outline against its background instead. For example: a pink outline #E4035E against a white background #FFFFFF with an outline offset of 2px.\nhttps://london.atlassian.net/browse/RLAC-286",null,"The 'Reset' button relies on the use of colour for focus indication. Add an underline, as has been done for the Update profile button.","The 'Reset' button relies on the use of colour for focus indication. Add an underline, as has been done for the Update profile button."]
["1.4.2","A","Audio Control","If any audio on a Web page plays automatically for more than 3 seconds, either a mechanism is available to pause or stop the audio, or a mechanism is available to control audio volume independently from the overall system volume level. ","NOT TESTED","NOT TESTED","NOT TESTED","NOT TESTED","NOT TESTED","NOT TESTED","NOT TESTED","N/A","N/A","N/A","N/A","N/A","N/A","N/A","N/A","N/A","N/A","N/A","N/A","N/A","N/A","N/A","N/A","N/A","N/A","N/A","N/A"]
[null,null,null,null,"See front-end spreadsheet","See front-end spreadsheet","See front-end spreadsheet","See front-end spreadsheet","See front-end spreadsheet","See front-end spreadsheet","See front-end spreadsheet","There is no audio that plays automatically for more than 3 seconds.","There is no audio that plays automatically for more than 3 seconds.","There is no audio that plays automatically for more than 3 seconds.","There is no audio that plays automatically for more than 3 seconds.","There is no audio that plays automatically for more than 3 seconds.","There is no audio that plays automatically for more than 3 seconds.","There is no audio that plays automatically for more than 3 seconds.","There is no audio that plays automatically for more than 3 seconds.","There is no audio that plays automatically for more than 3 seconds.","There is no audio that plays automatically for more than 3 seconds.","There is no audio that plays automatically for more than 3 seconds.","There is no audio that plays automatically for more than 3 seconds.","There is no audio that plays automatically for more than 3 seconds.","There is no audio that plays automatically for more than 3 seconds.",null,"There is no audio that plays automatically for more than 3 seconds.","There is no audio that plays automatically for more than 3 seconds.",null,"There is no audio that plays automatically for more than 3 seconds.","There is no audio that plays automatically for more than 3 seconds."]
["W3C Ref.","Level.",null,"Principle 2: Operable - User interface components and navigation must be operable."]
["2.1.1","A","Keyboard Navigation","All functionality of the content is operable through a keyboard interface without requiring specific timings for individual keystrokes, except where the underlying function requires input that depends on the path of the user's movement and not just the endpoints.","NOT TESTED","NOT TESTED","NOT TESTED","NOT TESTED","NOT TESTED","NOT TESTED","NOT TESTED","N/A","N/A","PASS","PASS","PASS","PASS","PASS","PASS","PASS with comments","PASS","PASS","PASS","PASS","PASS","N/A","PASS with comments","PASS with comments","PASS","PASS","PASS"]
[null,null,null,null,"See front-end spreadsheet","See front-end spreadsheet","See front-end spreadsheet","See front-end spreadsheet","See front-end spreadsheet","See front-end spreadsheet","See front-end spreadsheet","There is no functionality.","There is no functionality.",null,null,null,null,null,null,"Comment: You cannot use the arrow keys to go and down the radio buttons without having enter a tab key first for each radio button.\nhttps://london.atlassian.net/browse/RLAC-287",null,null,null,null,null,null,"Comment: You cannot use the arrow keys to go and down the radio buttons without having enter a tab key first for each radio button.\nhttps://london.atlassian.net/browse/RLAC-287","Comment: You cannot use the arrow keys to go and down the radio buttons without having enter a tab key first for each radio button.\nhttps://london.atlassian.net/browse/RLAC-287"]
["2.1.2","A","No Keyboard Trap","If keyboard focus can be moved to a component of the page using a keyboard interface, then focus can be moved away from that component using only a keyboard interface, and, if it requires more than unmodified arrow or tab keys or other standard exit methods, the user is advised of the method for moving focus away.","NOT TESTED","NOT TESTED","NOT TESTED","NOT TESTED","NOT TESTED","NOT TESTED","NOT TESTED","PASS","PASS","PASS","PASS","PASS","PASS","PASS","PASS","PASS","PASS","PASS","PASS","PASS","PASS","N/A","PASS","PASS","N/A","PASS","PASS"]
[null,null,null,null,"See front-end spreadsheet","See front-end spreadsheet","See front-end spreadsheet","See front-end spreadsheet","See front-end spreadsheet","See front-end spreadsheet","See front-end spreadsheet"]
["2.1.4","A","Character Key Shortcuts","If a keyboard shortcut is implemented in content using only letter (including upper- and lower-case letters), punctuation, number, or symbol characters, then at least one of the following is true:","NOT TESTED","NOT TESTED","NOT TESTED","NOT TESTED","NOT TESTED","NOT TESTED","NOT TESTED","N/A","N/A","N/A","N/A","N/A","N/A","N/A","N/A","N/A","N/A","N/A","N/A","N/A","N/A","N/A","N/A","N/A","N/A","N/A","N/A"]
[null,null,null,"\nTurn off: A mechanism is available to turn the shortcut off;\nRemap: A mechanism is available to remap the shortcut to use one or more non-printable keyboard characters (e.g. Ctrl, Alt, etc);\nActive only on focus: The keyboard shortcut for a user interface component is only active when that component has focus.","See front-end spreadsheet","See front-end spreadsheet","See front-end spreadsheet","See front-end spreadsheet","See front-end spreadsheet","See front-end spreadsheet","See front-end spreadsheet","No keyboard shortcuts have been implemented in content using only a single letter, punctuation, number, or symbol character.","No keyboard shortcuts have been implemented in content using only a single letter, punctuation, number, or symbol character.","No keyboard shortcuts have been implemented in content using only a single letter, punctuation, number, or symbol character.","No keyboard shortcuts have been implemented in content using only a single letter, punctuation, number, or symbol character.","No keyboard shortcuts have been implemented in content using only a single letter, punctuation, number, or symbol character.","No keyboard shortcuts have been implemented in content using only a single letter, punctuation, number, or symbol character.","No keyboard shortcuts have been implemented in content using only a single letter, punctuation, number, or symbol character.","No keyboard shortcuts have been implemented in content using only a single letter, punctuation, number, or symbol character.","No keyboard shortcuts have been implemented in content using only a single letter, punctuation, number, or symbol character.","No keyboard shortcuts have been implemented in content using only a single letter, punctuation, number, or symbol character.","No keyboard shortcuts have been implemented in content using only a single letter, punctuation, number, or symbol character.","No keyboard shortcuts have been implemented in content using only a single letter, punctuation, number, or symbol character.","No keyboard shortcuts have been implemented in content using only a single letter, punctuation, number, or symbol character.","No keyboard shortcuts have been implemented in content using only a single letter, punctuation, number, or symbol character.",null,"No keyboard shortcuts have been implemented in content using only a single letter, punctuation, number, or symbol character.","No keyboard shortcuts have been implemented in content using only a single letter, punctuation, number, or symbol character.",null,"No keyboard shortcuts have been implemented in content using only a single letter, punctuation, number, or symbol character.","No keyboard shortcuts have been implemented in content using only a single letter, punctuation, number, or symbol character."]
["2.2.1","A","Timing Adjustable","For each time limit that is set by the content, at least one of the following is true:","NOT TESTED","NOT TESTED","NOT TESTED","NOT TESTED","NOT TESTED","NOT TESTED","NOT TESTED","N/A","N/A","N/A","N/A","N/A","N/A","N/A","N/A","N/A","N/A","N/A","N/A","N/A","N/A","N/A","N/A","N/A","N/A","N/A","N/A"]
[null,null,null,"Turn off: The user is allowed to turn off the time limit before encountering it; or\n\nAdjust: The user is allowed to adjust the time limit before encountering it over a wide range that is at least ten times the length of the default setting; or\n\nExtend: The user is warned before time expires and given at least 20 seconds to extend the time limit with a simple action (for example, \"press the space bar\"), and the user is allowed to extend the time limit at least ten times; or\n\nReal-time Exception: The time limit is a required part of a real-time event (for example, an auction), and no alternative to the time limit is possible; or\n\nEssential Exception: The time limit is essential and extending it would invalidate the activity; or\n\n20 Hour Exception: The time limit is longer than 20 hours.","See front-end spreadsheet","See front-end spreadsheet","See front-end spreadsheet","See front-end spreadsheet","See front-end spreadsheet","See front-end spreadsheet","See front-end spreadsheet","There are no time limits.","There are no time limits.","There are no time limits.","There are no time limits.","There are no time limits.","There are no time limits.","There are no time limits.","There are no time limits.","There are no time limits.","There are no time limits.","There are no time limits.","There are no time limits.","There are no time limits.","There are no time limits.",null,"There are no time limits.","There are no time limits.",null,"There are no time limits.","There are no time limits."]
["2.2.2","A","Pause, Stop, Hide","For moving, blinking, scrolling, or auto-updating information, all of the following are true:\n","NOT TESTED","NOT TESTED","NOT TESTED","NOT TESTED","NOT TESTED","NOT TESTED","NOT TESTED","N/A","N/A","N/A","N/A","N/A","N/A","N/A","N/A","N/A","N/A","N/A","N/A","N/A","N/A","N/A","N/A","N/A","N/A","N/A","N/A"]
[null,null,null,"Moving, blinking, scrolling\nFor any moving, blinking or scrolling information that (1) starts automatically, (2) lasts more than five seconds, and (3) is presented in parallel with other content, there is a mechanism for the user to pause, stop, or hide it unless the movement, blinking, or scrolling is part of an activity where it is essential; and\n\nAuto-updating\nFor any auto-updating information that (1) starts automatically and (2) is presented in parallel with other content, there is a mechanism for the user to pause, stop, or hide it or to control the frequency of the update unless the auto-updating is part of an activity where it is essential.","See front-end spreadsheet","See front-end spreadsheet","See front-end spreadsheet","See front-end spreadsheet","See front-end spreadsheet","See front-end spreadsheet","See front-end spreadsheet","There is no moving, blinking, scrolling or auto updating information.","There is no moving, blinking, scrolling or auto updating information.","There is no moving, blinking, scrolling or auto updating information.","There is no moving, blinking, scrolling or auto updating information.","There is no moving, blinking, scrolling or auto updating information.","There is no moving, blinking, scrolling or auto updating information.","There is no moving, blinking, scrolling or auto updating information.","There is no moving, blinking, scrolling or auto updating information.","There is no moving, blinking, scrolling or auto updating information.","There is no moving, blinking, scrolling or auto updating information.","There is no moving, blinking, scrolling or auto updating information.","There is no moving, blinking, scrolling or auto updating information.","There is no moving, blinking, scrolling or auto updating information.","There is no moving, blinking, scrolling or auto updating information.",null,"There is no moving, blinking, scrolling or auto updating information.","There is no moving, blinking, scrolling or auto updating information.",null,"There is no moving, blinking, scrolling or auto updating information.","There is no moving, blinking, scrolling or auto updating information."]
["2.3.1","A","Three Flashes or Below Threshold","Web pages do not contain anything that flashes more than three times in any one second period, or the flash is below the general flash and red flash thresholds.","NOT TESTED","NOT TESTED","NOT TESTED","NOT TESTED","NOT TESTED","NOT TESTED","NOT TESTED","N/A","N/A","N/A","N/A","N/A","N/A","N/A","N/A","N/A","N/A","N/A","N/A","N/A","N/A","N/A","N/A","N/A","N/A","N/A","N/A"]
[null,null,null,null,"See front-end spreadsheet","See front-end spreadsheet","See front-end spreadsheet","See front-end spreadsheet","See front-end spreadsheet","See front-end spreadsheet","See front-end spreadsheet","Component does not contain anything that flashes.","Component does not contain anything that flashes.","Component does not contain anything that flashes.","Component does not contain anything that flashes.","Component does not contain anything that flashes.","Component does not contain anything that flashes.","Component does not contain anything that flashes.","Component does not contain anything that flashes.","Component does not contain anything that flashes.","Component does not contain anything that flashes.","Component does not contain anything that flashes.","Component does not contain anything that flashes.","Component does not contain anything that flashes.","Component does not contain anything that flashes.",null,"Component does not contain anything that flashes.","Component does not contain anything that flashes.",null,"Component does not contain anything that flashes.","Component does not contain anything that flashes."]
["2.4.1","A","Bypass Blocks","A mechanism is available to bypass blocks of content that are repeated on multiple Web pages.","NOT TESTED","NOT TESTED","NOT TESTED","NOT TESTED","NOT TESTED","NOT TESTED","NOT TESTED","PASS","PASS","PASS","PASS","PASS","N/A","PASS","PASS","PASS","PASS","PASS","PASS","PASS","PASS","N/A","N/A","N/A","N/A","N/A","N/A"]
[null,null,null,null,"See front-end spreadsheet","See front-end spreadsheet","See front-end spreadsheet","See front-end spreadsheet","See front-end spreadsheet","See front-end spreadsheet","See front-end spreadsheet"]
["2.4.2","A","Page Titled","Web pages have titles that describe topic or purpose.","NOT TESTED","NOT TESTED","NOT TESTED","NOT TESTED","NOT TESTED","NOT TESTED","NOT TESTED","N/A","N/A","N/A","N/A","N/A","N/A","NON CONFORMANT","NON CONFORMANT","NON CONFORMANT","NON CONFORMANT","NON CONFORMANT","NON CONFORMANT","NON CONFORMANT","NON CONFORMANT","PASS with comments","NON CONFORMANT","NON CONFORMANT","N/A","NON CONFORMANT","N/A"]
[null,null,null,null,"See front-end spreadsheet","See front-end spreadsheet","See front-end spreadsheet","See front-end spreadsheet","See front-end spreadsheet","See front-end spreadsheet","See front-end spreadsheet","Does not apply to components.","Does not apply to components.","Does not apply to components.","Does not apply to components.","Does not apply to components.","Does not apply to components.","The <title> element has the content \"Rogue Landlord and Agent Checker\", which is the same as all other pages. It must be changed to \"[page name - website name]\". The page name must be first because it is most specific. The website is a single-page application (SPA), so there are no page reloads. It is therefore necessary to use JavaScript to update the contents of the <title> element when navigating from page to page.\nhttps://london.atlassian.net/browse/RLAC-279","See comments in cell R44.\nhttps://london.atlassian.net/browse/RLAC-279","See comments in cell R44.\nhttps://london.atlassian.net/browse/RLAC-279","See comments in cell R44.\nhttps://london.atlassian.net/browse/RLAC-279","See comments in cell R44.\nhttps://london.atlassian.net/browse/RLAC-279","See comments in cell R44.\nhttps://london.atlassian.net/browse/RLAC-279","See comments in cell R44.\nhttps://london.atlassian.net/browse/RLAC-279","See comments in cell R44.\nhttps://london.atlassian.net/browse/RLAC-279","The title is GREATER LONDON AUTHORITY, which is a bit generic. ","See comments in cell R44.","See comments in cell R44.",null,"See comments in cell R44."]
["2.4.3","A","Focus Order","If a Web page can be navigated sequentially and the navigation sequences affect meaning or operation, focusable components receive focus in an order that preserves meaning and operability.","NOT TESTED","NOT TESTED","NOT TESTED","NOT TESTED","NOT TESTED","NOT TESTED","NOT TESTED","N/A","N/A","N/A","PASS","PASS","N/A","PASS","PASS","PASS","PASS","PASS","PASS","PASS","PASS","N/A","PASS","PASS","N/A","PASS","PASS"]
[null,null,null,null,"See front-end spreadsheet","See front-end spreadsheet","See front-end spreadsheet","See front-end spreadsheet","See front-end spreadsheet","See front-end spreadsheet","See front-end spreadsheet","There are no focusable components.","There are no focusable components.","There are no focusable components.",null,null,"There are no focusable components."]
["2.4.4","A","Link Purpose (In Context)","The purpose of each link can be determined from the link text alone or from the link text together with its programmatically determined link context, except where the purpose of the link would be ambiguous to users in general.","NOT TESTED","NOT TESTED","NOT TESTED","NOT TESTED","NOT TESTED","NOT TESTED","NOT TESTED","N/A","N/A","PASS","PASS","PASS","N/A","PASS","PASS","N/A","N/A","N/A","PASS","NON CONFORMANT","PASS","N/A","PASS","PASS","N/A","PASS","PASS"]
[null,null,null,null,"See front-end spreadsheet","See front-end spreadsheet","See front-end spreadsheet","See front-end spreadsheet","See front-end spreadsheet","See front-end spreadsheet","See front-end spreadsheet","There are no links.","There are no links.",null,null,null,"There are no links.",null,null,"There are no links.","There are no links.","There are no links.",null,"The 'edit' links do not have sufficient context to be meaningful and distinguished from each other. \nUse hidden text that can be read by screen reader but are not displayed to give further context. An example of this can be seen at: See https://design-system.service.gov.uk/patterns/check-answers/\nhttps://london.atlassian.net/browse/RLAC-293"]
["2.5.1","A","Pointer Gestures","All functionality that uses multipoint or path-based gestures for operation can be operated with a single pointer without a path-based gesture, unless a multipoint or path-based gesture is essential.","NOT TESTED","NOT TESTED","NOT TESTED","NOT TESTED","NOT TESTED","NOT TESTED","NOT TESTED","N/A","N/A","N/A","N/A","N/A","N/A","N/A","N/A","N/A","N/A","N/A","N/A","N/A","N/A","N/A","N/A","N/A","N/A","N/A","N/A"]
[null,null,null,null,"See front-end spreadsheet","See front-end spreadsheet","See front-end spreadsheet","See front-end spreadsheet","See front-end spreadsheet","See front-end spreadsheet","See front-end spreadsheet","There is no functionality that uses multipoint or path-based gestures for operation.","There is no functionality that uses multipoint or path-based gestures for operation.","There is no functionality that uses multipoint or path-based gestures for operation.","There is no functionality that uses multipoint or path-based gestures for operation.","There is no functionality that uses multipoint or path-based gestures for operation.","There is no functionality that uses multipoint or path-based gestures for operation.","There is no functionality that uses multipoint or path-based gestures for operation.","There is no functionality that uses multipoint or path-based gestures for operation.","There is no functionality that uses multipoint or path-based gestures for operation.","There is no functionality that uses multipoint or path-based gestures for operation.","There is no functionality that uses multipoint or path-based gestures for operation.","There is no functionality that uses multipoint or path-based gestures for operation.","There is no functionality that uses multipoint or path-based gestures for operation.","There is no functionality that uses multipoint or path-based gestures for operation.",null,"There is no functionality that uses multipoint or path-based gestures for operation.","There is no functionality that uses multipoint or path-based gestures for operation.",null,"There is no functionality that uses multipoint or path-based gestures for operation.","There is no functionality that uses multipoint or path-based gestures for operation."]
["2.5.2","A","Pointer Cancellation","For functionality that can be operated using a single pointer, at least one of the following is true:","NOT TESTED","NOT TESTED","NOT TESTED","NOT TESTED","NOT TESTED","NOT TESTED","NOT TESTED","N/A","N/A","PASS","PASS","PASS","N/A","N/A","N/A","N/A","N/A","N/A","N/A","N/A","N/A","N/A","N/A","N/A","N/A","N/A","N/A"]
[null,null,null,"\nNo Down-Event: The down-event of the pointer is not used to execute any part of the function;\nAbort or Undo: Completion of the function is on the up-event, and a mechanism is available to abort the function before completion or to undo the function after completion;\nUp Reversal: The up-event reverses any outcome of the preceding down-event;\nEssential: Completing the function on the down-event is essential.\n","See front-end spreadsheet","See front-end spreadsheet","See front-end spreadsheet","See front-end spreadsheet","See front-end spreadsheet","See front-end spreadsheet","See front-end spreadsheet","There is no functionality.","There is no functionality.",null,null,null,"There is no functionality.","There is no functionality.","There is no functionality.","There is no functionality.","There is no functionality.","There is no functionality.","There is no functionality.","There is no functionality.","There is no functionality.",null,"There is no functionality.","There is no functionality.",null,"There is no functionality.","There is no functionality."]
["2.5.3","A","Label in Name","For user interface components with labels that include text or images of text, the name contains the text that is presented visually.","NOT TESTED","NOT TESTED","NOT TESTED","NOT TESTED","NOT TESTED","NOT TESTED","NOT TESTED","N/A","N/A","PASS","PASS","PASS","PASS","PASS","PASS","PASS","PASS","PASS","PASS","PASS","PASS","N/A","PASS","PASS","N/A","PASS","PASS"]
[null,null,null,null,"See front-end spreadsheet","See front-end spreadsheet","See front-end spreadsheet","See front-end spreadsheet","See front-end spreadsheet","See front-end spreadsheet","See front-end spreadsheet","There are no user interface components.","There are no user interface components."]
["2.5.4","A","Motion Actuation","Functionality that can be operated by device motion or user motion can also be operated by user interface components and responding to the motion can be disabled to prevent accidental actuation, except when:","NOT TESTED","NOT TESTED","NOT TESTED","NOT TESTED","NOT TESTED","NOT TESTED","NOT TESTED","N/A","N/A","N/A","N/A","N/A","N/A","N/A","N/A","N/A","N/A","N/A","N/A","N/A","N/A","N/A","N/A","N/A","N/A","N/A","N/A"]
[null,null,null,"Supported Interface: The motion is used to operate functionality through an accessibility supported interface;\nEssential: The motion is essential for the function and doing so would invalidate the activity.\n","See front-end spreadsheet","See front-end spreadsheet","See front-end spreadsheet","See front-end spreadsheet","See front-end spreadsheet","See front-end spreadsheet","See front-end spreadsheet","There is no functionality that can be operated by device motion or user motion.","There is no functionality that can be operated by device motion or user motion.","There is no functionality that can be operated by device motion or user motion.","There is no functionality that can be operated by device motion or user motion.","There is no functionality that can be operated by device motion or user motion.","There is no functionality that can be operated by device motion or user motion.","There is no functionality that can be operated by device motion or user motion.","There is no functionality that can be operated by device motion or user motion.","There is no functionality that can be operated by device motion or user motion.","There is no functionality that can be operated by device motion or user motion.","There is no functionality that can be operated by device motion or user motion.","There is no functionality that can be operated by device motion or user motion.","There is no functionality that can be operated by device motion or user motion.","There is no functionality that can be operated by device motion or user motion.",null,"There is no functionality that can be operated by device motion or user motion.","There is no functionality that can be operated by device motion or user motion.",null,"There is no functionality that can be operated by device motion or user motion.","There is no functionality that can be operated by device motion or user motion."]
["W3C Ref.","Level.",null,"Principle 3: Understandable - Information and the operation of user interface must be understandable."]
["3.1.1","A","Language of Page","The default human language of each Web page can be programmatically determined. ","NOT TESTED","NOT TESTED","NOT TESTED","NOT TESTED","NOT TESTED","NOT TESTED","NOT TESTED","N/A","N/A","PASS with comments","N/A","N/A","N/A","PASS with comments","PASS with comments","PASS with comments","PASS with comments","PASS with comments","PASS with comments","PASS with comments","PASS with comments","PASS with comments","PASS with comments","PASS with comments","N/A","PASS with comments","N/A"]
[null,null,null,null,"See front-end spreadsheet","See front-end spreadsheet","See front-end spreadsheet","See front-end spreadsheet","See front-end spreadsheet","See front-end spreadsheet","See front-end spreadsheet","Does not apply to components.","Does not apply to components.","The <html> element has the attribute lang=\"en\". This is conformant, but we recommend changing it to \"en-GB\", which is British English, so screen readers use the appropriate accent.\nhttps://london.atlassian.net/browse/RLAC-270","Does not apply to components.","Does not apply to components.","Does not apply to components.","The <html> element has the attribute lang=\"en-\", which is International English. This is conformant, but we recommend changing it to \"en-GB\", which is British English, so screen readers use the appropriate accent.\nhttps://london.atlassian.net/browse/RLAC-280","See comments in cell R59.\nhttps://london.atlassian.net/browse/RLAC-280","See comments in cell R59.\nhttps://london.atlassian.net/browse/RLAC-280","See comments in cell R59.\nhttps://london.atlassian.net/browse/RLAC-280","See comments in cell R59.\nhttps://london.atlassian.net/browse/RLAC-280","See comments in cell R59.\nhttps://london.atlassian.net/browse/RLAC-280","See comments in cell R59.\nhttps://london.atlassian.net/browse/RLAC-280","See comments in cell R59.\nhttps://london.atlassian.net/browse/RLAC-280","The language is set to en.","See comments in cell R59.","See comments in cell R59.",null,"See comments in cell R59."]
["3.2.1","A","On Focus","When any component receives focus, it does not initiate a change of context.","NOT TESTED","NOT TESTED","NOT TESTED","NOT TESTED","NOT TESTED","NOT TESTED","NOT TESTED","N/A","N/A","PASS","PASS","PASS","PASS","PASS","PASS","PASS","PASS","PASS","PASS","PASS","PASS","N/A","PASS","PASS","N/A","PASS","PASS"]
[null,null,null,null,"See front-end spreadsheet","See front-end spreadsheet","See front-end spreadsheet","See front-end spreadsheet","See front-end spreadsheet","See front-end spreadsheet","See front-end spreadsheet","There is no provision for user input.","There is no provision for user input."]
["3.2.2","A","On Input","Changing the setting of any user interface component does not automatically cause a change of context unless the user has been advised of the behaviour before using the component","NOT TESTED","NOT TESTED","NOT TESTED","NOT TESTED","NOT TESTED","NOT TESTED","NOT TESTED","N/A","N/A","PASS","N/A","N/A","PASS","PASS","PASS","PASS","PASS","PASS","PASS","PASS","PASS","N/A","PASS","PASS","N/A","PASS","PASS"]
[null,null,null,null,"See front-end spreadsheet","See front-end spreadsheet","See front-end spreadsheet","See front-end spreadsheet","See front-end spreadsheet","See front-end spreadsheet","See front-end spreadsheet","There is no provision for user input.","There is no provision for user input.",null,"There is no provision for user input.","There is no provision for user input."]
["3.3.1","A","Error Identification","If an input error is automatically detected, the item that is in error is identified and the error is described to the user in text.","NOT TESTED","NOT TESTED","NOT TESTED","NOT TESTED","NOT TESTED","NOT TESTED","NOT TESTED","N/A","N/A","PASS","N/A","N/A","N/A","N/A","PASS","PASS","PASS","PASS","N/A","N/A","N/A","N/A","PASS","PASS","N/A","PASS","N/A"]
[null,null,null,null,"See front-end spreadsheet","See front-end spreadsheet","See front-end spreadsheet","See front-end spreadsheet","See front-end spreadsheet","See front-end spreadsheet","See front-end spreadsheet","There is no provision for user input.","There is no provision for user input.",null,"There is no provision for user input.","There is no provision for user input.","There is no provision for user input.","No input errors can occur.","No input errors can occur.","No input errors can occur.",null,null,"No input errors can occur.","No input errors can occur.","No input errors can occur."]
["3.3.2","A","Labels or Instructions","Labels or instructions are provided when content requires user input.","NOT TESTED","NOT TESTED","NOT TESTED","NOT TESTED","NOT TESTED","NOT TESTED","NOT TESTED","N/A","N/A","PASS with comments","N/A","N/A","N/A","PASS","PASS","PASS","PASS","PASS","PASS","PASS","PASS","N/A","PASS","NON CONFORMANT","N/A","PASS","N/A"]
[null,null,null,null,"See front-end spreadsheet","See front-end spreadsheet","See front-end spreadsheet","See front-end spreadsheet","See front-end spreadsheet","See front-end spreadsheet","See front-end spreadsheet","There is no provision for user input.","There is no provision for user input.","Comment: The asterisk adjacent to the <label> elements has an aria-hidden=\"true\" attribute so it is not announced. However, the input elements have required attributes, so this should not have an impact.","There is no provision for user input.","There is no provision for user input.","There is no provision for user input.",null,null,null,null,null,null,null,null,null,null,"The \"The ID of the enforcement action is optional. Leave blank to preview with dummy data\" instructions should be programmatically associated with the input element using an aria-describedby attribute. That way, when the input has focus, the instructions will automatically be read out by screen reader software.\n\nhttps://london.atlassian.net/browse/RLAC-265"]
["W3C Ref.","Level.",null,"Guideline 4.1 Compatible: Maximize compatibility with current and future user agents, including assistive technologies."]
["4.1.1","A","Parsing","In content implemented using mark-up languages, elements have complete start and end tags, elements are nested according to their specifications, elements do not contain duplicate attributes, and any IDs are unique, except where the specifications allow these features.","NOT TESTED","NOT TESTED","NOT TESTED","NOT TESTED","NOT TESTED","NOT TESTED","NOT TESTED","PASS","PASS","PASS","PASS","PASS","PASS","PASS","PASS","PASS","PASS with comments","PASS","PASS","PASS","PASS","N/A","PASS","PASS","N/A","PASS","PASS"]
[null,null,null,"\nThis is tested using the Nu Html Checker at https://validator.w3.org/nu/. The results are then filtered using the bookmarklet at https://github.com/stevefaulkner/wcagparsing/","See front-end spreadsheet","See front-end spreadsheet","See front-end spreadsheet","See front-end spreadsheet","See front-end spreadsheet","See front-end spreadsheet","See front-end spreadsheet",null,null,null,null,null,null,null,null,null,"In the DOM there is a  duplicate ID 'postcode'.\nhttps://london.atlassian.net/browse/RLAC-294"]
["4.1.2","A","Name, Role, Value","For all user interface components (including but not limited to: form elements, links and components generated by scripts), the name and role can be programmatically determined; states, properties, and values that can be set by the user can be programmatically set; and notification of changes to these items is available to user agents, including assistive technologies. ","NOT TESTED","NOT TESTED","NOT TESTED","NOT TESTED","NOT TESTED","NOT TESTED","NOT TESTED","PASS","PASS","PASS","PASS","PASS","PASS","PASS","NON CONFORMANT","PASS","PASS","NON CONFORMANT","NON CONFORMANT","NON CONFORMANT","NON CONFORMANT","N/A","PASS","PASS","N/A","PASS","PASS"]
[null,null,null,null,"See front-end spreadsheet","See front-end spreadsheet","See front-end spreadsheet","See front-end spreadsheet","See front-end spreadsheet","See front-end spreadsheet","See front-end spreadsheet",null,null,null,null,null,null,null,"The aria-activedescendant=\"false\" attribute used in the <input id=\"caseDetailsLabel\"> element is used incorrectly. A \"false\" value is not valid. The value should be adjusted to reflect the id attribute of the current child element. \nNOTE: aria-activedescendant attribute is not fully supported across browsers and it is recommended to use a <select> element rather than an <input role=\"combobox\"> element.\nhttps://london.atlassian.net/browse/RLAC-283",null,null,"The aria-activedescendant=\"false\" attribute used in the <input id=\"offence\"> element is used incorrectly. A \"false\" value is not valid. The value should be adjusted to reflect the id attribute of the current child element.  For example if the first item of the combobox is selected it is aria-activedescendant=\"offence__option--0\" that should be used as that is the id attribute  value used. NOTE: aria-activedescendant attribute is not fully supported across browsers and it is recommended to use a <select> element rather than an <input role=\"combobox\"> element.\nhttps://london.atlassian.net/browse/RLAC-295","The aria-activedescendant=\"false\" attribute used in the <input id=\"enforcementActionType\"> element is used incorrectly. A \"false\" value is not valid. The value should be adjusted to reflect the id attribute of the current child element. For example if the first item of the combobox is selected it is aria-activedescendant=\"enforcementActionType__option--0\" that should be used as that is the id attribute  value used. NOTE: aria-activedescendant attribute is not fully supported across browsers and it is recommended to use a <select> element rather than an <input role=\"combobox\"> element.\nhttps://london.atlassian.net/browse/RLAC-296","The aria-activedescendant=\"false\" attribute used in the <input id=\"username\"> element is used incorrectly. A \"false\" value is not valid. The value should be adjusted to reflect the id attribute of the current child element.  For example if the first item of the combobox is selected it is aria-activedescendant=\"username__option--0\" that should be used as that is the id attribute  value used. NOTE: aria-activedescendant attribute is not fully supported across browsers and it is recommended to use a <select> element rather than an <input role=\"combobox\"> element.\nhttps://london.atlassian.net/browse/RLAC-297","The aria-activedescendant=\"false\" attribute used in the <input id=\"organisation\"> element and the <input id=\"enforcementActionType\"> element are used incorrectly. A \"false\" value is not valid for either. The value should be adjusted to reflect the id attribute of the current child element. \nFor example if the first item of the Organisation combobox is selected it is aria-activedescendant=\"username__option--0\" that should be used as that is the id attribute  value used.  Also if the first item of the Enforcement Action Type combobox is selected it is aria-activedescendant=\"enforcementActionType__option--0\" that should be used as that is the id attribute  value used. \nNOTE: aria-activedescendant attribute is not fully supported across browsers and it is recommended to use a <select> element rather than an <input role=\"combobox\"> element\nhttps://london.atlassian.net/browse/RLAC-298"]
[null,null,null,null,null,null,null,null,null,null,null,null,null,null,null,null,null,null,null,null,null," "]
["Level AA Success Criteria"]
["W3C Ref.","Level.",null,"Principle 1: Perceivable - Information and user interface components must be presentable to users in ways they can perceive."]
["1.2.4","AA","Captions","Captions are provided for all live audio content in synchronized media. ","NOT TESTED","NOT TESTED","NOT TESTED","NOT TESTED","NOT TESTED","NOT TESTED","NOT TESTED","N/A","N/A","N/A","N/A","N/A","N/A","N/A","N/A","N/A","N/A","N/A","N/A","N/A","N/A","N/A","N/A","N/A","N/A","N/A","N/A"]
[null,null,null,null,"See front-end spreadsheet","See front-end spreadsheet","See front-end spreadsheet","See front-end spreadsheet","See front-end spreadsheet","See front-end spreadsheet","See front-end spreadsheet","There is no synchronised media.","There is no synchronised media.","There is no synchronised media.","There is no synchronised media.","There is no synchronised media.","There is no synchronised media.","There is no synchronised media.","There is no synchronised media.","There is no synchronised media.","There is no synchronised media.","There is no synchronised media.","There is no synchronised media.","There is no synchronised media.","There is no synchronised media.","There is no synchronised media.","There is no synchronised media.","There is no synchronised media.","There is no synchronised media.","There is no synchronised media.","There is no synchronised media."]
["1.2.5","AA","Audio Description (Pre-recorded)","Audio description is provided for all pre-recorded video content in synchronized media.","NOT TESTED","NOT TESTED","NOT TESTED","NOT TESTED","NOT TESTED","NOT TESTED","NOT TESTED","N/A","N/A","N/A","N/A","N/A","N/A","N/A","N/A","N/A","N/A","N/A","N/A","N/A","N/A","N/A","N/A","N/A","N/A","N/A","N/A"]
[null,null,null,null,"See front-end spreadsheet","See front-end spreadsheet","See front-end spreadsheet","See front-end spreadsheet","See front-end spreadsheet","See front-end spreadsheet","See front-end spreadsheet","There is no synchronised media.","There is no synchronised media.","There is no synchronised media.","There is no synchronised media.","There is no synchronised media.","There is no synchronised media.","There is no synchronised media.","There is no synchronised media.","There is no synchronised media.","There is no synchronised media.","There is no synchronised media.","There is no synchronised media.","There is no synchronised media.","There is no synchronised media.","There is no synchronised media.","There is no synchronised media.","There is no synchronised media.","There is no synchronised media.","There is no synchronised media.","There is no synchronised media."]
["1.3.4","AA","Orientation","Content does not restrict its view and operation to a single display orientation, such as portrait or landscape, unless a specific display orientation is essential.","NOT TESTED","NOT TESTED","NOT TESTED","NOT TESTED","NOT TESTED","NOT TESTED","NOT TESTED","PASS","PASS","PASS","PASS","PASS","PASS","PASS","PASS","PASS","PASS","PASS","PASS","PASS","PASS","PASS","PASS","PASS","PASS","PASS","PASS"]
[null,null,null,null,"See front-end spreadsheet","See front-end spreadsheet","See front-end spreadsheet","See front-end spreadsheet","See front-end spreadsheet","See front-end spreadsheet","See front-end spreadsheet"]
["1.3.5","AA"," Identify Input Purpose","The purpose of each input field collecting information about the user can be programmatically determined when:","NOT TESTED","NOT TESTED","NOT TESTED","NOT TESTED","NOT TESTED","NOT TESTED","NOT TESTED","N/A","N/A","NON CONFORMANT","N/A","N/A","N/A","N/A","N/A","N/A","N/A","N/A","N/A","N/A","N/A","N/A","N/A","N/A","N/A","N/A","N/A"]
[null,null,null,"\nThe input field serves a purpose identified in the Input Purposes for User Interface Components section; and\nThe content is implemented using technologies with support for identifying the expected meaning for form input data.","See front-end spreadsheet","See front-end spreadsheet","See front-end spreadsheet","See front-end spreadsheet","See front-end spreadsheet","See front-end spreadsheet","See front-end spreadsheet","There is no provision for user input.","There is no provision for user input.","The following \"autocomplete\" attribute must be added to the following textbox:\n<input id=\"username\" autocomplete=\"username\">\nSee https://www.w3.org/TR/WCAG21/#input-purposes\nhttps://london.atlassian.net/browse/RLAC-269","There is no provision for user input.","There is no provision for user input.","There is no provision for user input.","There is no provision for user input.","The input fields do not collect information about the user.","The input fields do not collect information about the user.","The input fields do not collect information about the user.","The input fields do not collect information about the user.","The input fields do not collect information about the user.","The input fields do not collect information about the user.","The input fields do not collect information about the user."]
["1.4.3","AA","Colour Contrast","The visual presentation of text and images of text has a contrast ratio of at least 4.5:1","NOT TESTED","NOT TESTED","NOT TESTED","NOT TESTED","NOT TESTED","NOT TESTED","NOT TESTED",{"$f":"IFERROR(IF(FIND(\"0 Faults\",'Colour Contrast Analysis'!AG4)=1,IFERROR(IF(FIND(\"0 Should\",'Colour Contrast Analysis'!AG4)>1,\"PASS\"),\"Pass with comments\")),\"NON CONFORMANT\")","v":"PASS"},{"$f":"IFERROR(IF(FIND(\"0 Faults\",'Colour Contrast Analysis'!AH4)=1,IFERROR(IF(FIND(\"0 Should\",'Colour Contrast Analysis'!AH4)>1,\"PASS\"),\"Pass with comments\")),\"NON CONFORMANT\")","v":"PASS"},{"$f":"IFERROR(IF(FIND(\"0 Faults\",'Colour Contrast Analysis'!AI4)=1,IFERROR(IF(FIND(\"0 Should\",'Colour Contrast Analysis'!AI4)>1,\"PASS\"),\"Pass with comments\")),\"NON CONFORMANT\")","v":"PASS"},{"$f":"IFERROR(IF(FIND(\"0 Faults\",'Colour Contrast Analysis'!AJ4)=1,IFERROR(IF(FIND(\"0 Should\",'Colour Contrast Analysis'!AJ4)>1,\"PASS\"),\"Pass with comments\")),\"NON CONFORMANT\")","v":"PASS"},{"$f":"IFERROR(IF(FIND(\"0 Faults\",'Colour Contrast Analysis'!AK4)=1,IFERROR(IF(FIND(\"0 Should\",'Colour Contrast Analysis'!AK4)>1,\"PASS\"),\"Pass with comments\")),\"NON CONFORMANT\")","v":"PASS"},{"$f":"IFERROR(IF(FIND(\"0 Faults\",'Colour Contrast Analysis'!AL4)=1,IFERROR(IF(FIND(\"0 Should\",'Colour Contrast Analysis'!AL4)>1,\"PASS\"),\"Pass with comments\")),\"NON CONFORMANT\")","v":"PASS"},{"$f":"IFERROR(IF(FIND(\"0 Faults\",'Colour Contrast Analysis'!AM4)=1,IFERROR(IF(FIND(\"0 Should\",'Colour Contrast Analysis'!AM4)>1,\"PASS\"),\"Pass with comments\")),\"NON CONFORMANT\")","v":"PASS"},{"$f":"IFERROR(IF(FIND(\"0 Faults\",'Colour Contrast Analysis'!AN4)=1,IFERROR(IF(FIND(\"0 Should\",'Colour Contrast Analysis'!AN4)>1,\"PASS\"),\"Pass with comments\")),\"NON CONFORMANT\")","v":"PASS"},{"$f":"IFERROR(IF(FIND(\"0 Faults\",'Colour Contrast Analysis'!AO4)=1,IFERROR(IF(FIND(\"0 Should\",'Colour Contrast Analysis'!AO4)>1,\"PASS\"),\"Pass with comments\")),\"NON CONFORMANT\")","v":"PASS"},{"$f":"IFERROR(IF(FIND(\"0 Faults\",'Colour Contrast Analysis'!AP4)=1,IFERROR(IF(FIND(\"0 Should\",'Colour Contrast Analysis'!AP4)>1,\"PASS\"),\"Pass with comments\")),\"NON CONFORMANT\")","v":"PASS"},{"$f":"IFERROR(IF(FIND(\"0 Faults\",'Colour Contrast Analysis'!AQ4)=1,IFERROR(IF(FIND(\"0 Should\",'Colour Contrast Analysis'!AQ4)>1,\"PASS\"),\"Pass with comments\")),\"NON CONFORMANT\")","v":"PASS"},{"$f":"IFERROR(IF(FIND(\"0 Faults\",'Colour Contrast Analysis'!AR4)=1,IFERROR(IF(FIND(\"0 Should\",'Colour Contrast Analysis'!AR4)>1,\"PASS\"),\"Pass with comments\")),\"NON CONFORMANT\")","v":"PASS"},{"$f":"IFERROR(IF(FIND(\"0 Faults\",'Colour Contrast Analysis'!AS4)=1,IFERROR(IF(FIND(\"0 Should\",'Colour Contrast Analysis'!AS4)>1,\"PASS\"),\"Pass with comments\")),\"NON CONFORMANT\")","v":"PASS"},{"$f":"IFERROR(IF(FIND(\"0 Faults\",'Colour Contrast Analysis'!AT4)=1,IFERROR(IF(FIND(\"0 Should\",'Colour Contrast Analysis'!AT4)>1,\"PASS\"),\"Pass with comments\")),\"NON CONFORMANT\")","v":"PASS"},{"$f":"IFERROR(IF(FIND(\"0 Faults\",'[2]Colour Contrast Analysis'!AU4)=1,IFERROR(IF(FIND(\"0 Should\",'[2]Colour Contrast Analysis'!AU4)>1,\"PASS\"),\"Pass with comments\")),\"NON CONFORMANT\")","v":"PASS"},{"$f":"IFERROR(IF(FIND(\"0 Faults\",'[2]Colour Contrast Analysis'!AV4)=1,IFERROR(IF(FIND(\"0 Should\",'[2]Colour Contrast Analysis'!AV4)>1,\"PASS\"),\"Pass with comments\")),\"NON CONFORMANT\")","v":"PASS"},{"$f":"IFERROR(IF(FIND(\"0 Faults\",'[2]Colour Contrast Analysis'!AW4)=1,IFERROR(IF(FIND(\"0 Should\",'[2]Colour Contrast Analysis'!AW4)>1,\"PASS\"),\"Pass with comments\")),\"NON CONFORMANT\")","v":"PASS"},{"$f":"IFERROR(IF(FIND(\"0 Faults\",'[2]Colour Contrast Analysis'!AX4)=1,IFERROR(IF(FIND(\"0 Should\",'[2]Colour Contrast Analysis'!AX4)>1,\"PASS\"),\"Pass with comments\")),\"NON CONFORMANT\")","v":"PASS"},{"$f":"IFERROR(IF(FIND(\"0 Faults\",'[2]Colour Contrast Analysis'!AY4)=1,IFERROR(IF(FIND(\"0 Should\",'[2]Colour Contrast Analysis'!AY4)>1,\"PASS\"),\"Pass with comments\")),\"NON CONFORMANT\")","v":"PASS"},{"$f":"IFERROR(IF(FIND(\"0 Faults\",'[2]Colour Contrast Analysis'!AZ4)=1,IFERROR(IF(FIND(\"0 Should\",'[2]Colour Contrast Analysis'!AZ4)>1,\"PASS\"),\"Pass with comments\")),\"NON CONFORMANT\")","v":"PASS"},{"$f":"IFERROR(IF(FIND(\"0 Faults\",'Colour Contrast Analysis'!BA4)=1,IFERROR(IF(FIND(\"0 Should\",'Colour Contrast Analysis'!BA4)>1,\"PASS\"),\"Pass with comments\")),\"NON CONFORMANT\")","v":"PASS"},{"$f":"IFERROR(IF(FIND(\"0 Faults\",'Colour Contrast Analysis'!BB4)=1,IFERROR(IF(FIND(\"0 Should\",'Colour Contrast Analysis'!BB4)>1,\"PASS\"),\"Pass with comments\")),\"NON CONFORMANT\")","v":"PASS"},{"$f":"IFERROR(IF(FIND(\"0 Faults\",'Colour Contrast Analysis'!BC4)=1,IFERROR(IF(FIND(\"0 Should\",'Colour Contrast Analysis'!BC4)>1,\"PASS\"),\"Pass with comments\")),\"NON CONFORMANT\")","v":"PASS"},{"$f":"IFERROR(IF(FIND(\"0 Faults\",'Colour Contrast Analysis'!BD4)=1,IFERROR(IF(FIND(\"0 Should\",'Colour Contrast Analysis'!BD4)>1,\"PASS\"),\"Pass with comments\")),\"NON CONFORMANT\")","v":"PASS"},{"$f":"IFERROR(IF(FIND(\"0 Faults\",'Colour Contrast Analysis'!BE4)=1,IFERROR(IF(FIND(\"0 Should\",'Colour Contrast Analysis'!BE4)>1,\"PASS\"),\"Pass with comments\")),\"NON CONFORMANT\")","v":"PASS"},{"$f":"IFERROR(IF(FIND(\"0 Faults\",'Colour Contrast Analysis'!BF4)=1,IFERROR(IF(FIND(\"0 Should\",'Colour Contrast Analysis'!BF4)>1,\"PASS\"),\"Pass with comments\")),\"NON CONFORMANT\")","v":"PASS"},{"$f":"IFERROR(IF(FIND(\"0 Faults\",'Colour Contrast Analysis'!BG4)=1,IFERROR(IF(FIND(\"0 Should\",'Colour Contrast Analysis'!BG4)>1,\"PASS\"),\"Pass with comments\")),\"NON CONFORMANT\")","v":"PASS"},{"$f":"IFERROR(IF(FIND(\"0 Faults\",'Colour Contrast Analysis'!BH4)=1,IFERROR(IF(FIND(\"0 Should\",'Colour Contrast Analysis'!BH4)>1,\"PASS\"),\"Pass with comments\")),\"NON CONFORMANT\")","v":"PASS"},{"$f":"IFERROR(IF(FIND(\"0 Faults\",'Colour Contrast Analysis'!BI4)=1,IFERROR(IF(FIND(\"0 Should\",'Colour Contrast Analysis'!BI4)>1,\"PASS\"),\"Pass with comments\")),\"NON CONFORMANT\")","v":"PASS"},{"$f":"IFERROR(IF(FIND(\"0 Faults\",'Colour Contrast Analysis'!BJ4)=1,IFERROR(IF(FIND(\"0 Should\",'Colour Contrast Analysis'!BJ4)>1,\"PASS\"),\"Pass with comments\")),\"NON CONFORMANT\")","v":"PASS"},{"$f":"IFERROR(IF(FIND(\"0 Faults\",'Colour Contrast Analysis'!BK4)=1,IFERROR(IF(FIND(\"0 Should\",'Colour Contrast Analysis'!BK4)>1,\"PASS\"),\"Pass with comments\")),\"NON CONFORMANT\")","v":"PASS"},{"$f":"IFERROR(IF(FIND(\"0 Faults\",'Colour Contrast Analysis'!BL4)=1,IFERROR(IF(FIND(\"0 Should\",'Colour Contrast Analysis'!BL4)>1,\"PASS\"),\"Pass with comments\")),\"NON CONFORMANT\")","v":"PASS"},{"$f":"IFERROR(IF(FIND(\"0 Faults\",'Colour Contrast Analysis'!BM4)=1,IFERROR(IF(FIND(\"0 Should\",'Colour Contrast Analysis'!BM4)>1,\"PASS\"),\"Pass with comments\")),\"NON CONFORMANT\")","v":"PASS"},{"$f":"IFERROR(IF(FIND(\"0 Faults\",'Colour Contrast Analysis'!BN4)=1,IFERROR(IF(FIND(\"0 Should\",'Colour Contrast Analysis'!BN4)>1,\"PASS\"),\"Pass with comments\")),\"NON CONFORMANT\")","v":"PASS"},{"$f":"IFERROR(IF(FIND(\"0 Faults\",'Colour Contrast Analysis'!BO4)=1,IFERROR(IF(FIND(\"0 Should\",'Colour Contrast Analysis'!BO4)>1,\"PASS\"),\"Pass with comments\")),\"NON CONFORMANT\")","v":"PASS"},{"$f":"IFERROR(IF(FIND(\"0 Faults\",'Colour Contrast Analysis'!BP4)=1,IFERROR(IF(FIND(\"0 Should\",'Colour Contrast Analysis'!BP4)>1,\"PASS\"),\"Pass with comments\")),\"NON CONFORMANT\")","v":"PASS"},{"$f":"IFERROR(IF(FIND(\"0 Faults\",'Colour Contrast Analysis'!BQ4)=1,IFERROR(IF(FIND(\"0 Should\",'Colour Contrast Analysis'!BQ4)>1,\"PASS\"),\"Pass with comments\")),\"NON CONFORMANT\")","v":"PASS"},{"$f":"IFERROR(IF(FIND(\"0 Faults\",'Colour Contrast Analysis'!BR4)=1,IFERROR(IF(FIND(\"0 Should\",'Colour Contrast Analysis'!BR4)>1,\"PASS\"),\"Pass with comments\")),\"NON CONFORMANT\")","v":"PASS"},{"$f":"IFERROR(IF(FIND(\"0 Faults\",'Colour Contrast Analysis'!BS4)=1,IFERROR(IF(FIND(\"0 Should\",'Colour Contrast Analysis'!BS4)>1,\"PASS\"),\"Pass with comments\")),\"NON CONFORMANT\")","v":"PASS"},{"$f":"IFERROR(IF(FIND(\"0 Faults\",'Colour Contrast Analysis'!BT4)=1,IFERROR(IF(FIND(\"0 Should\",'Colour Contrast Analysis'!BT4)>1,\"PASS\"),\"Pass with comments\")),\"NON CONFORMANT\")","v":"PASS"},{"$f":"IFERROR(IF(FIND(\"0 Faults\",'Colour Contrast Analysis'!BU4)=1,IFERROR(IF(FIND(\"0 Should\",'Colour Contrast Analysis'!BU4)>1,\"PASS\"),\"Pass with comments\")),\"NON CONFORMANT\")","v":"PASS"},{"$f":"IFERROR(IF(FIND(\"0 Faults\",'Colour Contrast Analysis'!BV4)=1,IFERROR(IF(FIND(\"0 Should\",'Colour Contrast Analysis'!BV4)>1,\"PASS\"),\"Pass with comments\")),\"NON CONFORMANT\")","v":"PASS"},{"$f":"IFERROR(IF(FIND(\"0 Faults\",'Colour Contrast Analysis'!BW4)=1,IFERROR(IF(FIND(\"0 Should\",'Colour Contrast Analysis'!BW4)>1,\"PASS\"),\"Pass with comments\")),\"NON CONFORMANT\")","v":"PASS"},{"$f":"IFERROR(IF(FIND(\"0 Faults\",'Colour Contrast Analysis'!BX4)=1,IFERROR(IF(FIND(\"0 Should\",'Colour Contrast Analysis'!BX4)>1,\"PASS\"),\"Pass with comments\")),\"NON CONFORMANT\")","v":"PASS"},{"$f":"IFERROR(IF(FIND(\"0 Faults\",'Colour Contrast Analysis'!BY4)=1,IFERROR(IF(FIND(\"0 Should\",'Colour Contrast Analysis'!BY4)>1,\"PASS\"),\"Pass with comments\")),\"NON CONFORMANT\")","v":"PASS"},{"$f":"IFERROR(IF(FIND(\"0 Faults\",'Colour Contrast Analysis'!BZ4)=1,IFERROR(IF(FIND(\"0 Should\",'Colour Contrast Analysis'!BZ4)>1,\"PASS\"),\"Pass with comments\")),\"NON CONFORMANT\")","v":"PASS"},{"$f":"IFERROR(IF(FIND(\"0 Faults\",'Colour Contrast Analysis'!CA4)=1,IFERROR(IF(FIND(\"0 Should\",'Colour Contrast Analysis'!CA4)>1,\"PASS\"),\"Pass with comments\")),\"NON CONFORMANT\")","v":"PASS"},{"$f":"IFERROR(IF(FIND(\"0 Faults\",'Colour Contrast Analysis'!CB4)=1,IFERROR(IF(FIND(\"0 Should\",'Colour Contrast Analysis'!CB4)>1,\"PASS\"),\"Pass with comments\")),\"NON CONFORMANT\")","v":"PASS"},{"$f":"IFERROR(IF(FIND(\"0 Faults\",'Colour Contrast Analysis'!CC4)=1,IFERROR(IF(FIND(\"0 Should\",'Colour Contrast Analysis'!CC4)>1,\"PASS\"),\"Pass with comments\")),\"NON CONFORMANT\")","v":"PASS"},{"$f":"IFERROR(IF(FIND(\"0 Faults\",'Colour Contrast Analysis'!CD4)=1,IFERROR(IF(FIND(\"0 Should\",'Colour Contrast Analysis'!CD4)>1,\"PASS\"),\"Pass with comments\")),\"NON CONFORMANT\")","v":"PASS"},{"$f":"IFERROR(IF(FIND(\"0 Faults\",'Colour Contrast Analysis'!CE4)=1,IFERROR(IF(FIND(\"0 Should\",'Colour Contrast Analysis'!CE4)>1,\"PASS\"),\"Pass with comments\")),\"NON CONFORMANT\")","v":"PASS"},{"$f":"IFERROR(IF(FIND(\"0 Faults\",'Colour Contrast Analysis'!CF4)=1,IFERROR(IF(FIND(\"0 Should\",'Colour Contrast Analysis'!CF4)>1,\"PASS\"),\"Pass with comments\")),\"NON CONFORMANT\")","v":"PASS"},{"$f":"IFERROR(IF(FIND(\"0 Faults\",'Colour Contrast Analysis'!CG4)=1,IFERROR(IF(FIND(\"0 Should\",'Colour Contrast Analysis'!CG4)>1,\"PASS\"),\"Pass with comments\")),\"NON CONFORMANT\")","v":"PASS"},{"$f":"IFERROR(IF(FIND(\"0 Faults\",'Colour Contrast Analysis'!CH4)=1,IFERROR(IF(FIND(\"0 Should\",'Colour Contrast Analysis'!CH4)>1,\"PASS\"),\"Pass with comments\")),\"NON CONFORMANT\")","v":"PASS"},{"$f":"IFERROR(IF(FIND(\"0 Faults\",'Colour Contrast Analysis'!CI4)=1,IFERROR(IF(FIND(\"0 Should\",'Colour Contrast Analysis'!CI4)>1,\"PASS\"),\"Pass with comments\")),\"NON CONFORMANT\")","v":"PASS"},{"$f":"IFERROR(IF(FIND(\"0 Faults\",'Colour Contrast Analysis'!CJ4)=1,IFERROR(IF(FIND(\"0 Should\",'Colour Contrast Analysis'!CJ4)>1,\"PASS\"),\"Pass with comments\")),\"NON CONFORMANT\")","v":"PASS"},{"$f":"IFERROR(IF(FIND(\"0 Faults\",'Colour Contrast Analysis'!CK4)=1,IFERROR(IF(FIND(\"0 Should\",'Colour Contrast Analysis'!CK4)>1,\"PASS\"),\"Pass with comments\")),\"NON CONFORMANT\")","v":"PASS"},{"$f":"IFERROR(IF(FIND(\"0 Faults\",'Colour Contrast Analysis'!CL4)=1,IFERROR(IF(FIND(\"0 Should\",'Colour Contrast Analysis'!CL4)>1,\"PASS\"),\"Pass with comments\")),\"NON CONFORMANT\")","v":"PASS"},{"$f":"IFERROR(IF(FIND(\"0 Faults\",'Colour Contrast Analysis'!CM4)=1,IFERROR(IF(FIND(\"0 Should\",'Colour Contrast Analysis'!CM4)>1,\"PASS\"),\"Pass with comments\")),\"NON CONFORMANT\")","v":"PASS"},{"$f":"IFERROR(IF(FIND(\"0 Faults\",'Colour Contrast Analysis'!CN4)=1,IFERROR(IF(FIND(\"0 Should\",'Colour Contrast Analysis'!CN4)>1,\"PASS\"),\"Pass with comments\")),\"NON CONFORMANT\")","v":"PASS"},{"$f":"IFERROR(IF(FIND(\"0 Faults\",'Colour Contrast Analysis'!CO4)=1,IFERROR(IF(FIND(\"0 Should\",'Colour Contrast Analysis'!CO4)>1,\"PASS\"),\"Pass with comments\")),\"NON CONFORMANT\")","v":"PASS"},{"$f":"IFERROR(IF(FIND(\"0 Faults\",'Colour Contrast Analysis'!CP4)=1,IFERROR(IF(FIND(\"0 Should\",'Colour Contrast Analysis'!CP4)>1,\"PASS\"),\"Pass with comments\")),\"NON CONFORMANT\")","v":"PASS"},{"$f":"IFERROR(IF(FIND(\"0 Faults\",'Colour Contrast Analysis'!CQ4)=1,IFERROR(IF(FIND(\"0 Should\",'Colour Contrast Analysis'!CQ4)>1,\"PASS\"),\"Pass with comments\")),\"NON CONFORMANT\")","v":"PASS"},{"$f":"IFERROR(IF(FIND(\"0 Faults\",'Colour Contrast Analysis'!CR4)=1,IFERROR(IF(FIND(\"0 Should\",'Colour Contrast Analysis'!CR4)>1,\"PASS\"),\"Pass with comments\")),\"NON CONFORMANT\")","v":"PASS"},{"$f":"IFERROR(IF(FIND(\"0 Faults\",'Colour Contrast Analysis'!CS4)=1,IFERROR(IF(FIND(\"0 Should\",'Colour Contrast Analysis'!CS4)>1,\"PASS\"),\"Pass with comments\")),\"NON CONFORMANT\")","v":"PASS"},{"$f":"IFERROR(IF(FIND(\"0 Faults\",'Colour Contrast Analysis'!CT4)=1,IFERROR(IF(FIND(\"0 Should\",'Colour Contrast Analysis'!CT4)>1,\"PASS\"),\"Pass with comments\")),\"NON CONFORMANT\")","v":"PASS"},{"$f":"IFERROR(IF(FIND(\"0 Faults\",'Colour Contrast Analysis'!CU4)=1,IFERROR(IF(FIND(\"0 Should\",'Colour Contrast Analysis'!CU4)>1,\"PASS\"),\"Pass with comments\")),\"NON CONFORMANT\")","v":"PASS"},{"$f":"IFERROR(IF(FIND(\"0 Faults\",'Colour Contrast Analysis'!CV4)=1,IFERROR(IF(FIND(\"0 Should\",'Colour Contrast Analysis'!CV4)>1,\"PASS\"),\"Pass with comments\")),\"NON CONFORMANT\")","v":"PASS"},{"$f":"IFERROR(IF(FIND(\"0 Faults\",'Colour Contrast Analysis'!CW4)=1,IFERROR(IF(FIND(\"0 Should\",'Colour Contrast Analysis'!CW4)>1,\"PASS\"),\"Pass with comments\")),\"NON CONFORMANT\")","v":"PASS"},{"$f":"IFERROR(IF(FIND(\"0 Faults\",'Colour Contrast Analysis'!CX4)=1,IFERROR(IF(FIND(\"0 Should\",'Colour Contrast Analysis'!CX4)>1,\"PASS\"),\"Pass with comments\")),\"NON CONFORMANT\")","v":"PASS"},{"$f":"IFERROR(IF(FIND(\"0 Faults\",'Colour Contrast Analysis'!CY4)=1,IFERROR(IF(FIND(\"0 Should\",'Colour Contrast Analysis'!CY4)>1,\"PASS\"),\"Pass with comments\")),\"NON CONFORMANT\")","v":"PASS"},{"$f":"IFERROR(IF(FIND(\"0 Faults\",'Colour Contrast Analysis'!CZ4)=1,IFERROR(IF(FIND(\"0 Should\",'Colour Contrast Analysis'!CZ4)>1,\"PASS\"),\"Pass with comments\")),\"NON CONFORMANT\")","v":"PASS"},{"$f":"IFERROR(IF(FIND(\"0 Faults\",'Colour Contrast Analysis'!DA4)=1,IFERROR(IF(FIND(\"0 Should\",'Colour Contrast Analysis'!DA4)>1,\"PASS\"),\"Pass with comments\")),\"NON CONFORMANT\")","v":"PASS"},{"$f":"IFERROR(IF(FIND(\"0 Faults\",'Colour Contrast Analysis'!DB4)=1,IFERROR(IF(FIND(\"0 Should\",'Colour Contrast Analysis'!DB4)>1,\"PASS\"),\"Pass with comments\")),\"NON CONFORMANT\")","v":"PASS"},{"$f":"IFERROR(IF(FIND(\"0 Faults\",'Colour Contrast Analysis'!DC4)=1,IFERROR(IF(FIND(\"0 Should\",'Colour Contrast Analysis'!DC4)>1,\"PASS\"),\"Pass with comments\")),\"NON CONFORMANT\")","v":"PASS"},{"$f":"IFERROR(IF(FIND(\"0 Faults\",'Colour Contrast Analysis'!DD4)=1,IFERROR(IF(FIND(\"0 Should\",'Colour Contrast Analysis'!DD4)>1,\"PASS\"),\"Pass with comments\")),\"NON CONFORMANT\")","v":"PASS"},{"$f":"IFERROR(IF(FIND(\"0 Faults\",'Colour Contrast Analysis'!DE4)=1,IFERROR(IF(FIND(\"0 Should\",'Colour Contrast Analysis'!DE4)>1,\"PASS\"),\"Pass with comments\")),\"NON CONFORMANT\")","v":"PASS"},{"$f":"IFERROR(IF(FIND(\"0 Faults\",'Colour Contrast Analysis'!DF4)=1,IFERROR(IF(FIND(\"0 Should\",'Colour Contrast Analysis'!DF4)>1,\"PASS\"),\"Pass with comments\")),\"NON CONFORMANT\")","v":"PASS"},{"$f":"IFERROR(IF(FIND(\"0 Faults\",'Colour Contrast Analysis'!DG4)=1,IFERROR(IF(FIND(\"0 Should\",'Colour Contrast Analysis'!DG4)>1,\"PASS\"),\"Pass with comments\")),\"NON CONFORMANT\")","v":"PASS"},{"$f":"IFERROR(IF(FIND(\"0 Faults\",'Colour Contrast Analysis'!DH4)=1,IFERROR(IF(FIND(\"0 Should\",'Colour Contrast Analysis'!DH4)>1,\"PASS\"),\"Pass with comments\")),\"NON CONFORMANT\")","v":"PASS"},{"$f":"IFERROR(IF(FIND(\"0 Faults\",'Colour Contrast Analysis'!DI4)=1,IFERROR(IF(FIND(\"0 Should\",'Colour Contrast Analysis'!DI4)>1,\"PASS\"),\"Pass with comments\")),\"NON CONFORMANT\")","v":"PASS"},{"$f":"IFERROR(IF(FIND(\"0 Faults\",'Colour Contrast Analysis'!DJ4)=1,IFERROR(IF(FIND(\"0 Should\",'Colour Contrast Analysis'!DJ4)>1,\"PASS\"),\"Pass with comments\")),\"NON CONFORMANT\")","v":"PASS"},{"$f":"IFERROR(IF(FIND(\"0 Faults\",'Colour Contrast Analysis'!DK4)=1,IFERROR(IF(FIND(\"0 Should\",'Colour Contrast Analysis'!DK4)>1,\"PASS\"),\"Pass with comments\")),\"NON CONFORMANT\")","v":"PASS"},{"$f":"IFERROR(IF(FIND(\"0 Faults\",'Colour Contrast Analysis'!DL4)=1,IFERROR(IF(FIND(\"0 Should\",'Colour Contrast Analysis'!DL4)>1,\"PASS\"),\"Pass with comments\")),\"NON CONFORMANT\")","v":"PASS"},{"$f":"IFERROR(IF(FIND(\"0 Faults\",'Colour Contrast Analysis'!DM4)=1,IFERROR(IF(FIND(\"0 Should\",'Colour Contrast Analysis'!DM4)>1,\"PASS\"),\"Pass with comments\")),\"NON CONFORMANT\")","v":"PASS"},{"$f":"IFERROR(IF(FIND(\"0 Faults\",'Colour Contrast Analysis'!DN4)=1,IFERROR(IF(FIND(\"0 Should\",'Colour Contrast Analysis'!DN4)>1,\"PASS\"),\"Pass with comments\")),\"NON CONFORMANT\")","v":"PASS"},{"$f":"IFERROR(IF(FIND(\"0 Faults\",'Colour Contrast Analysis'!DO4)=1,IFERROR(IF(FIND(\"0 Should\",'Colour Contrast Analysis'!DO4)>1,\"PASS\"),\"Pass with comments\")),\"NON CONFORMANT\")","v":"PASS"},{"$f":"IFERROR(IF(FIND(\"0 Faults\",'Colour Contrast Analysis'!DP4)=1,IFERROR(IF(FIND(\"0 Should\",'Colour Contrast Analysis'!DP4)>1,\"PASS\"),\"Pass with comments\")),\"NON CONFORMANT\")","v":"PASS"},{"$f":"IFERROR(IF(FIND(\"0 Faults\",'Colour Contrast Analysis'!DQ4)=1,IFERROR(IF(FIND(\"0 Should\",'Colour Contrast Analysis'!DQ4)>1,\"PASS\"),\"Pass with comments\")),\"NON CONFORMANT\")","v":"PASS"},{"$f":"IFERROR(IF(FIND(\"0 Faults\",'Colour Contrast Analysis'!DR4)=1,IFERROR(IF(FIND(\"0 Should\",'Colour Contrast Analysis'!DR4)>1,\"PASS\"),\"Pass with comments\")),\"NON CONFORMANT\")","v":"PASS"},{"$f":"IFERROR(IF(FIND(\"0 Faults\",'Colour Contrast Analysis'!DS4)=1,IFERROR(IF(FIND(\"0 Should\",'Colour Contrast Analysis'!DS4)>1,\"PASS\"),\"Pass with comments\")),\"NON CONFORMANT\")","v":"PASS"},{"$f":"IFERROR(IF(FIND(\"0 Faults\",'Colour Contrast Analysis'!DT4)=1,IFERROR(IF(FIND(\"0 Should\",'Colour Contrast Analysis'!DT4)>1,\"PASS\"),\"Pass with comments\")),\"NON CONFORMANT\")","v":"PASS"},{"$f":"IFERROR(IF(FIND(\"0 Faults\",'Colour Contrast Analysis'!DU4)=1,IFERROR(IF(FIND(\"0 Should\",'Colour Contrast Analysis'!DU4)>1,\"PASS\"),\"Pass with comments\")),\"NON CONFORMANT\")","v":"PASS"},{"$f":"IFERROR(IF(FIND(\"0 Faults\",'Colour Contrast Analysis'!DV4)=1,IFERROR(IF(FIND(\"0 Should\",'Colour Contrast Analysis'!DV4)>1,\"PASS\"),\"Pass with comments\")),\"NON CONFORMANT\")","v":"PASS"},{"$f":"IFERROR(IF(FIND(\"0 Faults\",'Colour Contrast Analysis'!DW4)=1,IFERROR(IF(FIND(\"0 Should\",'Colour Contrast Analysis'!DW4)>1,\"PASS\"),\"Pass with comments\")),\"NON CONFORMANT\")","v":"PASS"},{"$f":"IFERROR(IF(FIND(\"0 Faults\",'Colour Contrast Analysis'!DX4)=1,IFERROR(IF(FIND(\"0 Should\",'Colour Contrast Analysis'!DX4)>1,\"PASS\"),\"Pass with comments\")),\"NON CONFORMANT\")","v":"PASS"},{"$f":"IFERROR(IF(FIND(\"0 Faults\",'Colour Contrast Analysis'!DY4)=1,IFERROR(IF(FIND(\"0 Should\",'Colour Contrast Analysis'!DY4)>1,\"PASS\"),\"Pass with comments\")),\"NON CONFORMANT\")","v":"PASS"},{"$f":"IFERROR(IF(FIND(\"0 Faults\",'Colour Contrast Analysis'!DZ4)=1,IFERROR(IF(FIND(\"0 Should\",'Colour Contrast Analysis'!DZ4)>1,\"PASS\"),\"Pass with comments\")),\"NON CONFORMANT\")","v":"PASS"},{"$f":"IFERROR(IF(FIND(\"0 Faults\",'Colour Contrast Analysis'!EA4)=1,IFERROR(IF(FIND(\"0 Should\",'Colour Contrast Analysis'!EA4)>1,\"PASS\"),\"Pass with comments\")),\"NON CONFORMANT\")","v":"PASS"},{"$f":"IFERROR(IF(FIND(\"0 Faults\",'Colour Contrast Analysis'!EB4)=1,IFERROR(IF(FIND(\"0 Should\",'Colour Contrast Analysis'!EB4)>1,\"PASS\"),\"Pass with comments\")),\"NON CONFORMANT\")","v":"PASS"},{"$f":"IFERROR(IF(FIND(\"0 Faults\",'Colour Contrast Analysis'!EC4)=1,IFERROR(IF(FIND(\"0 Should\",'Colour Contrast Analysis'!EC4)>1,\"PASS\"),\"Pass with comments\")),\"NON CONFORMANT\")","v":"PASS"},{"$f":"IFERROR(IF(FIND(\"0 Faults\",'Colour Contrast Analysis'!ED4)=1,IFERROR(IF(FIND(\"0 Should\",'Colour Contrast Analysis'!ED4)>1,\"PASS\"),\"Pass with comments\")),\"NON CONFORMANT\")","v":"PASS"},{"$f":"IFERROR(IF(FIND(\"0 Faults\",'Colour Contrast Analysis'!EE4)=1,IFERROR(IF(FIND(\"0 Should\",'Colour Contrast Analysis'!EE4)>1,\"PASS\"),\"Pass with comments\")),\"NON CONFORMANT\")","v":"PASS"},{"$f":"IFERROR(IF(FIND(\"0 Faults\",'Colour Contrast Analysis'!EF4)=1,IFERROR(IF(FIND(\"0 Should\",'Colour Contrast Analysis'!EF4)>1,\"PASS\"),\"Pass with comments\")),\"NON CONFORMANT\")","v":"PASS"},{"$f":"IFERROR(IF(FIND(\"0 Faults\",'Colour Contrast Analysis'!EG4)=1,IFERROR(IF(FIND(\"0 Should\",'Colour Contrast Analysis'!EG4)>1,\"PASS\"),\"Pass with comments\")),\"NON CONFORMANT\")","v":"PASS"},{"$f":"IFERROR(IF(FIND(\"0 Faults\",'Colour Contrast Analysis'!EH4)=1,IFERROR(IF(FIND(\"0 Should\",'Colour Contrast Analysis'!EH4)>1,\"PASS\"),\"Pass with comments\")),\"NON CONFORMANT\")","v":"PASS"},{"$f":"IFERROR(IF(FIND(\"0 Faults\",'Colour Contrast Analysis'!EI4)=1,IFERROR(IF(FIND(\"0 Should\",'Colour Contrast Analysis'!EI4)>1,\"PASS\"),\"Pass with comments\")),\"NON CONFORMANT\")","v":"PASS"},{"$f":"IFERROR(IF(FIND(\"0 Faults\",'Colour Contrast Analysis'!EJ4)=1,IFERROR(IF(FIND(\"0 Should\",'Colour Contrast Analysis'!EJ4)>1,\"PASS\"),\"Pass with comments\")),\"NON CONFORMANT\")","v":"PASS"},{"$f":"IFERROR(IF(FIND(\"0 Faults\",'Colour Contrast Analysis'!EK4)=1,IFERROR(IF(FIND(\"0 Should\",'Colour Contrast Analysis'!EK4)>1,\"PASS\"),\"Pass with comments\")),\"NON CONFORMANT\")","v":"PASS"},{"$f":"IFERROR(IF(FIND(\"0 Faults\",'Colour Contrast Analysis'!EL4)=1,IFERROR(IF(FIND(\"0 Should\",'Colour Contrast Analysis'!EL4)>1,\"PASS\"),\"Pass with comments\")),\"NON CONFORMANT\")","v":"PASS"},{"$f":"IFERROR(IF(FIND(\"0 Faults\",'Colour Contrast Analysis'!EM4)=1,IFERROR(IF(FIND(\"0 Should\",'Colour Contrast Analysis'!EM4)>1,\"PASS\"),\"Pass with comments\")),\"NON CONFORMANT\")","v":"PASS"},{"$f":"IFERROR(IF(FIND(\"0 Faults\",'Colour Contrast Analysis'!EN4)=1,IFERROR(IF(FIND(\"0 Should\",'Colour Contrast Analysis'!EN4)>1,\"PASS\"),\"Pass with comments\")),\"NON CONFORMANT\")","v":"PASS"},{"$f":"IFERROR(IF(FIND(\"0 Faults\",'Colour Contrast Analysis'!EO4)=1,IFERROR(IF(FIND(\"0 Should\",'Colour Contrast Analysis'!EO4)>1,\"PASS\"),\"Pass with comments\")),\"NON CONFORMANT\")","v":"PASS"},{"$f":"IFERROR(IF(FIND(\"0 Faults\",'Colour Contrast Analysis'!EP4)=1,IFERROR(IF(FIND(\"0 Should\",'Colour Contrast Analysis'!EP4)>1,\"PASS\"),\"Pass with comments\")),\"NON CONFORMANT\")","v":"PASS"},{"$f":"IFERROR(IF(FIND(\"0 Faults\",'Colour Contrast Analysis'!EQ4)=1,IFERROR(IF(FIND(\"0 Should\",'Colour Contrast Analysis'!EQ4)>1,\"PASS\"),\"Pass with comments\")),\"NON CONFORMANT\")","v":"PASS"},{"$f":"IFERROR(IF(FIND(\"0 Faults\",'Colour Contrast Analysis'!ER4)=1,IFERROR(IF(FIND(\"0 Should\",'Colour Contrast Analysis'!ER4)>1,\"PASS\"),\"Pass with comments\")),\"NON CONFORMANT\")","v":"PASS"},{"$f":"IFERROR(IF(FIND(\"0 Faults\",'Colour Contrast Analysis'!ES4)=1,IFERROR(IF(FIND(\"0 Should\",'Colour Contrast Analysis'!ES4)>1,\"PASS\"),\"Pass with comments\")),\"NON CONFORMANT\")","v":"PASS"},{"$f":"IFERROR(IF(FIND(\"0 Faults\",'Colour Contrast Analysis'!ET4)=1,IFERROR(IF(FIND(\"0 Should\",'Colour Contrast Analysis'!ET4)>1,\"PASS\"),\"Pass with comments\")),\"NON CONFORMANT\")","v":"PASS"},{"$f":"IFERROR(IF(FIND(\"0 Faults\",'Colour Contrast Analysis'!EU4)=1,IFERROR(IF(FIND(\"0 Should\",'Colour Contrast Analysis'!EU4)>1,\"PASS\"),\"Pass with comments\")),\"NON CONFORMANT\")","v":"PASS"},{"$f":"IFERROR(IF(FIND(\"0 Faults\",'Colour Contrast Analysis'!EV4)=1,IFERROR(IF(FIND(\"0 Should\",'Colour Contrast Analysis'!EV4)>1,\"PASS\"),\"Pass with comments\")),\"NON CONFORMANT\")","v":"PASS"},{"$f":"IFERROR(IF(FIND(\"0 Faults\",'Colour Contrast Analysis'!EW4)=1,IFERROR(IF(FIND(\"0 Should\",'Colour Contrast Analysis'!EW4)>1,\"PASS\"),\"Pass with comments\")),\"NON CONFORMANT\")","v":"PASS"},{"$f":"IFERROR(IF(FIND(\"0 Faults\",'Colour Contrast Analysis'!EX4)=1,IFERROR(IF(FIND(\"0 Should\",'Colour Contrast Analysis'!EX4)>1,\"PASS\"),\"Pass with comments\")),\"NON CONFORMANT\")","v":"PASS"},{"$f":"IFERROR(IF(FIND(\"0 Faults\",'Colour Contrast Analysis'!EY4)=1,IFERROR(IF(FIND(\"0 Should\",'Colour Contrast Analysis'!EY4)>1,\"PASS\"),\"Pass with comments\")),\"NON CONFORMANT\")","v":"PASS"},{"$f":"IFERROR(IF(FIND(\"0 Faults\",'Colour Contrast Analysis'!EZ4)=1,IFERROR(IF(FIND(\"0 Should\",'Colour Contrast Analysis'!EZ4)>1,\"PASS\"),\"Pass with comments\")),\"NON CONFORMANT\")","v":"PASS"},{"$f":"IFERROR(IF(FIND(\"0 Faults\",'Colour Contrast Analysis'!FA4)=1,IFERROR(IF(FIND(\"0 Should\",'Colour Contrast Analysis'!FA4)>1,\"PASS\"),\"Pass with comments\")),\"NON CONFORMANT\")","v":"PASS"},{"$f":"IFERROR(IF(FIND(\"0 Faults\",'Colour Contrast Analysis'!FB4)=1,IFERROR(IF(FIND(\"0 Should\",'Colour Contrast Analysis'!FB4)>1,\"PASS\"),\"Pass with comments\")),\"NON CONFORMANT\")","v":"PASS"},{"$f":"IFERROR(IF(FIND(\"0 Faults\",'Colour Contrast Analysis'!FC4)=1,IFERROR(IF(FIND(\"0 Should\",'Colour Contrast Analysis'!FC4)>1,\"PASS\"),\"Pass with comments\")),\"NON CONFORMANT\")","v":"PASS"},{"$f":"IFERROR(IF(FIND(\"0 Faults\",'Colour Contrast Analysis'!FD4)=1,IFERROR(IF(FIND(\"0 Should\",'Colour Contrast Analysis'!FD4)>1,\"PASS\"),\"Pass with comments\")),\"NON CONFORMANT\")","v":"PASS"},{"$f":"IFERROR(IF(FIND(\"0 Faults\",'Colour Contrast Analysis'!FE4)=1,IFERROR(IF(FIND(\"0 Should\",'Colour Contrast Analysis'!FE4)>1,\"PASS\"),\"Pass with comments\")),\"NON CONFORMANT\")","v":"PASS"},{"$f":"IFERROR(IF(FIND(\"0 Faults\",'Colour Contrast Analysis'!FF4)=1,IFERROR(IF(FIND(\"0 Should\",'Colour Contrast Analysis'!FF4)>1,\"PASS\"),\"Pass with comments\")),\"NON CONFORMANT\")","v":"PASS"},{"$f":"IFERROR(IF(FIND(\"0 Faults\",'Colour Contrast Analysis'!FG4)=1,IFERROR(IF(FIND(\"0 Should\",'Colour Contrast Analysis'!FG4)>1,\"PASS\"),\"Pass with comments\")),\"NON CONFORMANT\")","v":"PASS"},{"$f":"IFERROR(IF(FIND(\"0 Faults\",'Colour Contrast Analysis'!FH4)=1,IFERROR(IF(FIND(\"0 Should\",'Colour Contrast Analysis'!FH4)>1,\"PASS\"),\"Pass with comments\")),\"NON CONFORMANT\")","v":"PASS"},{"$f":"IFERROR(IF(FIND(\"0 Faults\",'Colour Contrast Analysis'!FI4)=1,IFERROR(IF(FIND(\"0 Should\",'Colour Contrast Analysis'!FI4)>1,\"PASS\"),\"Pass with comments\")),\"NON CONFORMANT\")","v":"PASS"},{"$f":"IFERROR(IF(FIND(\"0 Faults\",'Colour Contrast Analysis'!FJ4)=1,IFERROR(IF(FIND(\"0 Should\",'Colour Contrast Analysis'!FJ4)>1,\"PASS\"),\"Pass with comments\")),\"NON CONFORMANT\")","v":"PASS"},{"$f":"IFERROR(IF(FIND(\"0 Faults\",'Colour Contrast Analysis'!FK4)=1,IFERROR(IF(FIND(\"0 Should\",'Colour Contrast Analysis'!FK4)>1,\"PASS\"),\"Pass with comments\")),\"NON CONFORMANT\")","v":"PASS"},{"$f":"IFERROR(IF(FIND(\"0 Faults\",'Colour Contrast Analysis'!FL4)=1,IFERROR(IF(FIND(\"0 Should\",'Colour Contrast Analysis'!FL4)>1,\"PASS\"),\"Pass with comments\")),\"NON CONFORMANT\")","v":"PASS"},{"$f":"IFERROR(IF(FIND(\"0 Faults\",'Colour Contrast Analysis'!FM4)=1,IFERROR(IF(FIND(\"0 Should\",'Colour Contrast Analysis'!FM4)>1,\"PASS\"),\"Pass with comments\")),\"NON CONFORMANT\")","v":"PASS"},{"$f":"IFERROR(IF(FIND(\"0 Faults\",'Colour Contrast Analysis'!FN4)=1,IFERROR(IF(FIND(\"0 Should\",'Colour Contrast Analysis'!FN4)>1,\"PASS\"),\"Pass with comments\")),\"NON CONFORMANT\")","v":"PASS"},{"$f":"IFERROR(IF(FIND(\"0 Faults\",'Colour Contrast Analysis'!FO4)=1,IFERROR(IF(FIND(\"0 Should\",'Colour Contrast Analysis'!FO4)>1,\"PASS\"),\"Pass with comments\")),\"NON CONFORMANT\")","v":"PASS"},{"$f":"IFERROR(IF(FIND(\"0 Faults\",'Colour Contrast Analysis'!FP4)=1,IFERROR(IF(FIND(\"0 Should\",'Colour Contrast Analysis'!FP4)>1,\"PASS\"),\"Pass with comments\")),\"NON CONFORMANT\")","v":"PASS"},{"$f":"IFERROR(IF(FIND(\"0 Faults\",'Colour Contrast Analysis'!FQ4)=1,IFERROR(IF(FIND(\"0 Should\",'Colour Contrast Analysis'!FQ4)>1,\"PASS\"),\"Pass with comments\")),\"NON CONFORMANT\")","v":"PASS"},{"$f":"IFERROR(IF(FIND(\"0 Faults\",'Colour Contrast Analysis'!FR4)=1,IFERROR(IF(FIND(\"0 Should\",'Colour Contrast Analysis'!FR4)>1,\"PASS\"),\"Pass with comments\")),\"NON CONFORMANT\")","v":"PASS"},{"$f":"IFERROR(IF(FIND(\"0 Faults\",'Colour Contrast Analysis'!FS4)=1,IFERROR(IF(FIND(\"0 Should\",'Colour Contrast Analysis'!FS4)>1,\"PASS\"),\"Pass with comments\")),\"NON CONFORMANT\")","v":"PASS"}]
[null,null,null,null,"See front-end spreadsheet","See front-end spreadsheet","See front-end spreadsheet","See front-end spreadsheet","See front-end spreadsheet","See front-end spreadsheet","See front-end spreadsheet",{"$f":"LEFT('Colour Contrast Analysis'!AG4,FIND(\" \",'Colour Contrast Analysis'!AG4)-1)&\" combination\"&IF(VALUE(LEFT('Colour Contrast Analysis'!AG4,FIND(\" \",'Colour Contrast Analysis'!AG4)))=1,\"\",\"s\")&\" of foreground and background colours do\"&IF(VALUE(LEFT('Colour Contrast Analysis'!AG4,FIND(\" \",'Colour Contrast Analysis'!AG4)))=1,\"es\",\"\")&\" not have sufficient contrast.\"&IF(VALUE(LEFT(RIGHT('Colour Contrast Analysis'!AG4,LEN('Colour Contrast Analysis'!AG4)-FIND(\"+\",'Colour Contrast Analysis'!AG4)-2),LEN(RIGHT('Colour Contrast Analysis'!AG4,LEN('Colour Contrast Analysis'!AG4)-FIND(\"+\",'Colour Contrast Analysis'!AG4)-2))-11))=0,\"\",IF(VALUE(LEFT(RIGHT('Colour Contrast Analysis'!AG4,LEN('Colour Contrast Analysis'!AG4)-FIND(\"+\",'Colour Contrast Analysis'!AG4)-2),LEN(RIGHT('Colour Contrast Analysis'!AG4,LEN('Colour Contrast Analysis'!AG4)-FIND(\"+\",'Colour Contrast Analysis'!AG4)-2))-11))=1,CHAR(10)&VALUE(LEFT(RIGHT('Colour Contrast Analysis'!AG4,LEN('Colour Contrast Analysis'!AG4)-FIND(\"+\",'Colour Contrast Analysis'!AG4)-2),LEN(RIGHT('Colour Contrast Analysis'!AG4,LEN('Colour Contrast Analysis'!AG4)-FIND(\"+\",'Colour Contrast Analysis'!AG4)-2))-11)) & \" combination of foreground and background colours is technically conformant, but its contrast should be increased.\",CHAR(10)&VALUE(LEFT(RIGHT('Colour Contrast Analysis'!AG4,LEN('Colour Contrast Analysis'!AG4)-FIND(\"+\",'Colour Contrast Analysis'!AG4)-2),LEN(RIGHT('Colour Contrast Analysis'!AG4,LEN('Colour Contrast Analysis'!AG4)-FIND(\"+\",'Colour Contrast Analysis'!AG4)-2))-11)) & \" combinations of foreground and background colours are technically conformant, but their contrast should be increased.\")) & CHAR(10) & \"Please see the Colour Contrast Analysis worksheet.\"","v":"0 combinations of foreground and background colours do not have sufficient contrast.\nPlease see the Colour Contrast Analysis worksheet."},{"$f":"LEFT('Colour Contrast Analysis'!AH4,FIND(\" \",'Colour Contrast Analysis'!AH4)-1)&\" combination\"&IF(VALUE(LEFT('Colour Contrast Analysis'!AH4,FIND(\" \",'Colour Contrast Analysis'!AH4)))=1,\"\",\"s\")&\" of foreground and background colours do\"&IF(VALUE(LEFT('Colour Contrast Analysis'!AH4,FIND(\" \",'Colour Contrast Analysis'!AH4)))=1,\"es\",\"\")&\" not have sufficient contrast.\"&IF(VALUE(LEFT(RIGHT('Colour Contrast Analysis'!AH4,LEN('Colour Contrast Analysis'!AH4)-FIND(\"+\",'Colour Contrast Analysis'!AH4)-2),LEN(RIGHT('Colour Contrast Analysis'!AH4,LEN('Colour Contrast Analysis'!AH4)-FIND(\"+\",'Colour Contrast Analysis'!AH4)-2))-11))=0,\"\",IF(VALUE(LEFT(RIGHT('Colour Contrast Analysis'!AH4,LEN('Colour Contrast Analysis'!AH4)-FIND(\"+\",'Colour Contrast Analysis'!AH4)-2),LEN(RIGHT('Colour Contrast Analysis'!AH4,LEN('Colour Contrast Analysis'!AH4)-FIND(\"+\",'Colour Contrast Analysis'!AH4)-2))-11))=1,CHAR(10)&VALUE(LEFT(RIGHT('Colour Contrast Analysis'!AH4,LEN('Colour Contrast Analysis'!AH4)-FIND(\"+\",'Colour Contrast Analysis'!AH4)-2),LEN(RIGHT('Colour Contrast Analysis'!AH4,LEN('Colour Contrast Analysis'!AH4)-FIND(\"+\",'Colour Contrast Analysis'!AH4)-2))-11)) & \" combination of foreground and background colours is technically conformant, but its contrast should be increased.\",CHAR(10)&VALUE(LEFT(RIGHT('Colour Contrast Analysis'!AH4,LEN('Colour Contrast Analysis'!AH4)-FIND(\"+\",'Colour Contrast Analysis'!AH4)-2),LEN(RIGHT('Colour Contrast Analysis'!AH4,LEN('Colour Contrast Analysis'!AH4)-FIND(\"+\",'Colour Contrast Analysis'!AH4)-2))-11)) & \" combinations of foreground and background colours are technically conformant, but their contrast should be increased.\")) & CHAR(10) & \"Please see the Colour Contrast Analysis worksheet.\"","v":"0 combinations of foreground and background colours do not have sufficient contrast.\nPlease see the Colour Contrast Analysis worksheet."},{"$f":"LEFT('Colour Contrast Analysis'!AI4,FIND(\" \",'Colour Contrast Analysis'!AI4)-1)&\" combination\"&IF(VALUE(LEFT('Colour Contrast Analysis'!AI4,FIND(\" \",'Colour Contrast Analysis'!AI4)))=1,\"\",\"s\")&\" of foreground and background colours do\"&IF(VALUE(LEFT('Colour Contrast Analysis'!AI4,FIND(\" \",'Colour Contrast Analysis'!AI4)))=1,\"es\",\"\")&\" not have sufficient contrast.\"&IF(VALUE(LEFT(RIGHT('Colour Contrast Analysis'!AI4,LEN('Colour Contrast Analysis'!AI4)-FIND(\"+\",'Colour Contrast Analysis'!AI4)-2),LEN(RIGHT('Colour Contrast Analysis'!AI4,LEN('Colour Contrast Analysis'!AI4)-FIND(\"+\",'Colour Contrast Analysis'!AI4)-2))-11))=0,\"\",IF(VALUE(LEFT(RIGHT('Colour Contrast Analysis'!AI4,LEN('Colour Contrast Analysis'!AI4)-FIND(\"+\",'Colour Contrast Analysis'!AI4)-2),LEN(RIGHT('Colour Contrast Analysis'!AI4,LEN('Colour Contrast Analysis'!AI4)-FIND(\"+\",'Colour Contrast Analysis'!AI4)-2))-11))=1,CHAR(10)&VALUE(LEFT(RIGHT('Colour Contrast Analysis'!AI4,LEN('Colour Contrast Analysis'!AI4)-FIND(\"+\",'Colour Contrast Analysis'!AI4)-2),LEN(RIGHT('Colour Contrast Analysis'!AI4,LEN('Colour Contrast Analysis'!AI4)-FIND(\"+\",'Colour Contrast Analysis'!AI4)-2))-11)) & \" combination of foreground and background colours is technically conformant, but its contrast should be increased.\",CHAR(10)&VALUE(LEFT(RIGHT('Colour Contrast Analysis'!AI4,LEN('Colour Contrast Analysis'!AI4)-FIND(\"+\",'Colour Contrast Analysis'!AI4)-2),LEN(RIGHT('Colour Contrast Analysis'!AI4,LEN('Colour Contrast Analysis'!AI4)-FIND(\"+\",'Colour Contrast Analysis'!AI4)-2))-11)) & \" combinations of foreground and background colours are technically conformant, but their contrast should be increased.\")) & CHAR(10) & \"Please see the Colour Contrast Analysis worksheet.\"","v":"0 combinations of foreground and background colours do not have sufficient contrast.\nPlease see the Colour Contrast Analysis worksheet."},{"$f":"LEFT('Colour Contrast Analysis'!AJ4,FIND(\" \",'Colour Contrast Analysis'!AJ4)-1)&\" combination\"&IF(VALUE(LEFT('Colour Contrast Analysis'!AJ4,FIND(\" \",'Colour Contrast Analysis'!AJ4)))=1,\"\",\"s\")&\" of foreground and background colours do\"&IF(VALUE(LEFT('Colour Contrast Analysis'!AJ4,FIND(\" \",'Colour Contrast Analysis'!AJ4)))=1,\"es\",\"\")&\" not have sufficient contrast.\"&IF(VALUE(LEFT(RIGHT('Colour Contrast Analysis'!AJ4,LEN('Colour Contrast Analysis'!AJ4)-FIND(\"+\",'Colour Contrast Analysis'!AJ4)-2),LEN(RIGHT('Colour Contrast Analysis'!AJ4,LEN('Colour Contrast Analysis'!AJ4)-FIND(\"+\",'Colour Contrast Analysis'!AJ4)-2))-11))=0,\"\",IF(VALUE(LEFT(RIGHT('Colour Contrast Analysis'!AJ4,LEN('Colour Contrast Analysis'!AJ4)-FIND(\"+\",'Colour Contrast Analysis'!AJ4)-2),LEN(RIGHT('Colour Contrast Analysis'!AJ4,LEN('Colour Contrast Analysis'!AJ4)-FIND(\"+\",'Colour Contrast Analysis'!AJ4)-2))-11))=1,CHAR(10)&VALUE(LEFT(RIGHT('Colour Contrast Analysis'!AJ4,LEN('Colour Contrast Analysis'!AJ4)-FIND(\"+\",'Colour Contrast Analysis'!AJ4)-2),LEN(RIGHT('Colour Contrast Analysis'!AJ4,LEN('Colour Contrast Analysis'!AJ4)-FIND(\"+\",'Colour Contrast Analysis'!AJ4)-2))-11)) & \" combination of foreground and background colours is technically conformant, but its contrast should be increased.\",CHAR(10)&VALUE(LEFT(RIGHT('Colour Contrast Analysis'!AJ4,LEN('Colour Contrast Analysis'!AJ4)-FIND(\"+\",'Colour Contrast Analysis'!AJ4)-2),LEN(RIGHT('Colour Contrast Analysis'!AJ4,LEN('Colour Contrast Analysis'!AJ4)-FIND(\"+\",'Colour Contrast Analysis'!AJ4)-2))-11)) & \" combinations of foreground and background colours are technically conformant, but their contrast should be increased.\")) & CHAR(10) & \"Please see the Colour Contrast Analysis worksheet.\"","v":"0 combinations of foreground and background colours do not have sufficient contrast.\nPlease see the Colour Contrast Analysis worksheet."},{"$f":"LEFT('Colour Contrast Analysis'!AK4,FIND(\" \",'Colour Contrast Analysis'!AK4)-1)&\" combination\"&IF(VALUE(LEFT('Colour Contrast Analysis'!AK4,FIND(\" \",'Colour Contrast Analysis'!AK4)))=1,\"\",\"s\")&\" of foreground and background colours do\"&IF(VALUE(LEFT('Colour Contrast Analysis'!AK4,FIND(\" \",'Colour Contrast Analysis'!AK4)))=1,\"es\",\"\")&\" not have sufficient contrast.\"&IF(VALUE(LEFT(RIGHT('Colour Contrast Analysis'!AK4,LEN('Colour Contrast Analysis'!AK4)-FIND(\"+\",'Colour Contrast Analysis'!AK4)-2),LEN(RIGHT('Colour Contrast Analysis'!AK4,LEN('Colour Contrast Analysis'!AK4)-FIND(\"+\",'Colour Contrast Analysis'!AK4)-2))-11))=0,\"\",IF(VALUE(LEFT(RIGHT('Colour Contrast Analysis'!AK4,LEN('Colour Contrast Analysis'!AK4)-FIND(\"+\",'Colour Contrast Analysis'!AK4)-2),LEN(RIGHT('Colour Contrast Analysis'!AK4,LEN('Colour Contrast Analysis'!AK4)-FIND(\"+\",'Colour Contrast Analysis'!AK4)-2))-11))=1,CHAR(10)&VALUE(LEFT(RIGHT('Colour Contrast Analysis'!AK4,LEN('Colour Contrast Analysis'!AK4)-FIND(\"+\",'Colour Contrast Analysis'!AK4)-2),LEN(RIGHT('Colour Contrast Analysis'!AK4,LEN('Colour Contrast Analysis'!AK4)-FIND(\"+\",'Colour Contrast Analysis'!AK4)-2))-11)) & \" combination of foreground and background colours is technically conformant, but its contrast should be increased.\",CHAR(10)&VALUE(LEFT(RIGHT('Colour Contrast Analysis'!AK4,LEN('Colour Contrast Analysis'!AK4)-FIND(\"+\",'Colour Contrast Analysis'!AK4)-2),LEN(RIGHT('Colour Contrast Analysis'!AK4,LEN('Colour Contrast Analysis'!AK4)-FIND(\"+\",'Colour Contrast Analysis'!AK4)-2))-11)) & \" combinations of foreground and background colours are technically conformant, but their contrast should be increased.\")) & CHAR(10) & \"Please see the Colour Contrast Analysis worksheet.\"","v":"0 combinations of foreground and background colours do not have sufficient contrast.\nPlease see the Colour Contrast Analysis worksheet."},{"$f":"LEFT('Colour Contrast Analysis'!AL4,FIND(\" \",'Colour Contrast Analysis'!AL4)-1)&\" combination\"&IF(VALUE(LEFT('Colour Contrast Analysis'!AL4,FIND(\" \",'Colour Contrast Analysis'!AL4)))=1,\"\",\"s\")&\" of foreground and background colours do\"&IF(VALUE(LEFT('Colour Contrast Analysis'!AL4,FIND(\" \",'Colour Contrast Analysis'!AL4)))=1,\"es\",\"\")&\" not have sufficient contrast.\"&IF(VALUE(LEFT(RIGHT('Colour Contrast Analysis'!AL4,LEN('Colour Contrast Analysis'!AL4)-FIND(\"+\",'Colour Contrast Analysis'!AL4)-2),LEN(RIGHT('Colour Contrast Analysis'!AL4,LEN('Colour Contrast Analysis'!AL4)-FIND(\"+\",'Colour Contrast Analysis'!AL4)-2))-11))=0,\"\",IF(VALUE(LEFT(RIGHT('Colour Contrast Analysis'!AL4,LEN('Colour Contrast Analysis'!AL4)-FIND(\"+\",'Colour Contrast Analysis'!AL4)-2),LEN(RIGHT('Colour Contrast Analysis'!AL4,LEN('Colour Contrast Analysis'!AL4)-FIND(\"+\",'Colour Contrast Analysis'!AL4)-2))-11))=1,CHAR(10)&VALUE(LEFT(RIGHT('Colour Contrast Analysis'!AL4,LEN('Colour Contrast Analysis'!AL4)-FIND(\"+\",'Colour Contrast Analysis'!AL4)-2),LEN(RIGHT('Colour Contrast Analysis'!AL4,LEN('Colour Contrast Analysis'!AL4)-FIND(\"+\",'Colour Contrast Analysis'!AL4)-2))-11)) & \" combination of foreground and background colours is technically conformant, but its contrast should be increased.\",CHAR(10)&VALUE(LEFT(RIGHT('Colour Contrast Analysis'!AL4,LEN('Colour Contrast Analysis'!AL4)-FIND(\"+\",'Colour Contrast Analysis'!AL4)-2),LEN(RIGHT('Colour Contrast Analysis'!AL4,LEN('Colour Contrast Analysis'!AL4)-FIND(\"+\",'Colour Contrast Analysis'!AL4)-2))-11)) & \" combinations of foreground and background colours are technically conformant, but their contrast should be increased.\")) & CHAR(10) & \"Please see the Colour Contrast Analysis worksheet.\"","v":"0 combinations of foreground and background colours do not have sufficient contrast.\nPlease see the Colour Contrast Analysis worksheet."},{"$f":"LEFT('Colour Contrast Analysis'!AM4,FIND(\" \",'Colour Contrast Analysis'!AM4)-1)&\" combination\"&IF(VALUE(LEFT('Colour Contrast Analysis'!AM4,FIND(\" \",'Colour Contrast Analysis'!AM4)))=1,\"\",\"s\")&\" of foreground and background colours do\"&IF(VALUE(LEFT('Colour Contrast Analysis'!AM4,FIND(\" \",'Colour Contrast Analysis'!AM4)))=1,\"es\",\"\")&\" not have sufficient contrast.\"&IF(VALUE(LEFT(RIGHT('Colour Contrast Analysis'!AM4,LEN('Colour Contrast Analysis'!AM4)-FIND(\"+\",'Colour Contrast Analysis'!AM4)-2),LEN(RIGHT('Colour Contrast Analysis'!AM4,LEN('Colour Contrast Analysis'!AM4)-FIND(\"+\",'Colour Contrast Analysis'!AM4)-2))-11))=0,\"\",IF(VALUE(LEFT(RIGHT('Colour Contrast Analysis'!AM4,LEN('Colour Contrast Analysis'!AM4)-FIND(\"+\",'Colour Contrast Analysis'!AM4)-2),LEN(RIGHT('Colour Contrast Analysis'!AM4,LEN('Colour Contrast Analysis'!AM4)-FIND(\"+\",'Colour Contrast Analysis'!AM4)-2))-11))=1,CHAR(10)&VALUE(LEFT(RIGHT('Colour Contrast Analysis'!AM4,LEN('Colour Contrast Analysis'!AM4)-FIND(\"+\",'Colour Contrast Analysis'!AM4)-2),LEN(RIGHT('Colour Contrast Analysis'!AM4,LEN('Colour Contrast Analysis'!AM4)-FIND(\"+\",'Colour Contrast Analysis'!AM4)-2))-11)) & \" combination of foreground and background colours is technically conformant, but its contrast should be increased.\",CHAR(10)&VALUE(LEFT(RIGHT('Colour Contrast Analysis'!AM4,LEN('Colour Contrast Analysis'!AM4)-FIND(\"+\",'Colour Contrast Analysis'!AM4)-2),LEN(RIGHT('Colour Contrast Analysis'!AM4,LEN('Colour Contrast Analysis'!AM4)-FIND(\"+\",'Colour Contrast Analysis'!AM4)-2))-11)) & \" combinations of foreground and background colours are technically conformant, but their contrast should be increased.\")) & CHAR(10) & \"Please see the Colour Contrast Analysis worksheet.\"","v":"0 combinations of foreground and background colours do not have sufficient contrast.\nPlease see the Colour Contrast Analysis worksheet."},{"$f":"LEFT('Colour Contrast Analysis'!AN4,FIND(\" \",'Colour Contrast Analysis'!AN4)-1)&\" combination\"&IF(VALUE(LEFT('Colour Contrast Analysis'!AN4,FIND(\" \",'Colour Contrast Analysis'!AN4)))=1,\"\",\"s\")&\" of foreground and background colours do\"&IF(VALUE(LEFT('Colour Contrast Analysis'!AN4,FIND(\" \",'Colour Contrast Analysis'!AN4)))=1,\"es\",\"\")&\" not have sufficient contrast.\"&IF(VALUE(LEFT(RIGHT('Colour Contrast Analysis'!AN4,LEN('Colour Contrast Analysis'!AN4)-FIND(\"+\",'Colour Contrast Analysis'!AN4)-2),LEN(RIGHT('Colour Contrast Analysis'!AN4,LEN('Colour Contrast Analysis'!AN4)-FIND(\"+\",'Colour Contrast Analysis'!AN4)-2))-11))=0,\"\",IF(VALUE(LEFT(RIGHT('Colour Contrast Analysis'!AN4,LEN('Colour Contrast Analysis'!AN4)-FIND(\"+\",'Colour Contrast Analysis'!AN4)-2),LEN(RIGHT('Colour Contrast Analysis'!AN4,LEN('Colour Contrast Analysis'!AN4)-FIND(\"+\",'Colour Contrast Analysis'!AN4)-2))-11))=1,CHAR(10)&VALUE(LEFT(RIGHT('Colour Contrast Analysis'!AN4,LEN('Colour Contrast Analysis'!AN4)-FIND(\"+\",'Colour Contrast Analysis'!AN4)-2),LEN(RIGHT('Colour Contrast Analysis'!AN4,LEN('Colour Contrast Analysis'!AN4)-FIND(\"+\",'Colour Contrast Analysis'!AN4)-2))-11)) & \" combination of foreground and background colours is technically conformant, but its contrast should be increased.\",CHAR(10)&VALUE(LEFT(RIGHT('Colour Contrast Analysis'!AN4,LEN('Colour Contrast Analysis'!AN4)-FIND(\"+\",'Colour Contrast Analysis'!AN4)-2),LEN(RIGHT('Colour Contrast Analysis'!AN4,LEN('Colour Contrast Analysis'!AN4)-FIND(\"+\",'Colour Contrast Analysis'!AN4)-2))-11)) & \" combinations of foreground and background colours are technically conformant, but their contrast should be increased.\")) & CHAR(10) & \"Please see the Colour Contrast Analysis worksheet.\"","v":"0 combinations of foreground and background colours do not have sufficient contrast.\nPlease see the Colour Contrast Analysis worksheet."},{"$f":"LEFT('Colour Contrast Analysis'!AO4,FIND(\" \",'Colour Contrast Analysis'!AO4)-1)&\" combination\"&IF(VALUE(LEFT('Colour Contrast Analysis'!AO4,FIND(\" \",'Colour Contrast Analysis'!AO4)))=1,\"\",\"s\")&\" of foreground and background colours do\"&IF(VALUE(LEFT('Colour Contrast Analysis'!AO4,FIND(\" \",'Colour Contrast Analysis'!AO4)))=1,\"es\",\"\")&\" not have sufficient contrast.\"&IF(VALUE(LEFT(RIGHT('Colour Contrast Analysis'!AO4,LEN('Colour Contrast Analysis'!AO4)-FIND(\"+\",'Colour Contrast Analysis'!AO4)-2),LEN(RIGHT('Colour Contrast Analysis'!AO4,LEN('Colour Contrast Analysis'!AO4)-FIND(\"+\",'Colour Contrast Analysis'!AO4)-2))-11))=0,\"\",IF(VALUE(LEFT(RIGHT('Colour Contrast Analysis'!AO4,LEN('Colour Contrast Analysis'!AO4)-FIND(\"+\",'Colour Contrast Analysis'!AO4)-2),LEN(RIGHT('Colour Contrast Analysis'!AO4,LEN('Colour Contrast Analysis'!AO4)-FIND(\"+\",'Colour Contrast Analysis'!AO4)-2))-11))=1,CHAR(10)&VALUE(LEFT(RIGHT('Colour Contrast Analysis'!AO4,LEN('Colour Contrast Analysis'!AO4)-FIND(\"+\",'Colour Contrast Analysis'!AO4)-2),LEN(RIGHT('Colour Contrast Analysis'!AO4,LEN('Colour Contrast Analysis'!AO4)-FIND(\"+\",'Colour Contrast Analysis'!AO4)-2))-11)) & \" combination of foreground and background colours is technically conformant, but its contrast should be increased.\",CHAR(10)&VALUE(LEFT(RIGHT('Colour Contrast Analysis'!AO4,LEN('Colour Contrast Analysis'!AO4)-FIND(\"+\",'Colour Contrast Analysis'!AO4)-2),LEN(RIGHT('Colour Contrast Analysis'!AO4,LEN('Colour Contrast Analysis'!AO4)-FIND(\"+\",'Colour Contrast Analysis'!AO4)-2))-11)) & \" combinations of foreground and background colours are technically conformant, but their contrast should be increased.\")) & CHAR(10) & \"Please see the Colour Contrast Analysis worksheet.\"","v":"0 combinations of foreground and background colours do not have sufficient contrast.\nPlease see the Colour Contrast Analysis worksheet."},{"$f":"LEFT('Colour Contrast Analysis'!AP4,FIND(\" \",'Colour Contrast Analysis'!AP4)-1)&\" combination\"&IF(VALUE(LEFT('Colour Contrast Analysis'!AP4,FIND(\" \",'Colour Contrast Analysis'!AP4)))=1,\"\",\"s\")&\" of foreground and background colours do\"&IF(VALUE(LEFT('Colour Contrast Analysis'!AP4,FIND(\" \",'Colour Contrast Analysis'!AP4)))=1,\"es\",\"\")&\" not have sufficient contrast.\"&IF(VALUE(LEFT(RIGHT('Colour Contrast Analysis'!AP4,LEN('Colour Contrast Analysis'!AP4)-FIND(\"+\",'Colour Contrast Analysis'!AP4)-2),LEN(RIGHT('Colour Contrast Analysis'!AP4,LEN('Colour Contrast Analysis'!AP4)-FIND(\"+\",'Colour Contrast Analysis'!AP4)-2))-11))=0,\"\",IF(VALUE(LEFT(RIGHT('Colour Contrast Analysis'!AP4,LEN('Colour Contrast Analysis'!AP4)-FIND(\"+\",'Colour Contrast Analysis'!AP4)-2),LEN(RIGHT('Colour Contrast Analysis'!AP4,LEN('Colour Contrast Analysis'!AP4)-FIND(\"+\",'Colour Contrast Analysis'!AP4)-2))-11))=1,CHAR(10)&VALUE(LEFT(RIGHT('Colour Contrast Analysis'!AP4,LEN('Colour Contrast Analysis'!AP4)-FIND(\"+\",'Colour Contrast Analysis'!AP4)-2),LEN(RIGHT('Colour Contrast Analysis'!AP4,LEN('Colour Contrast Analysis'!AP4)-FIND(\"+\",'Colour Contrast Analysis'!AP4)-2))-11)) & \" combination of foreground and background colours is technically conformant, but its contrast should be increased.\",CHAR(10)&VALUE(LEFT(RIGHT('Colour Contrast Analysis'!AP4,LEN('Colour Contrast Analysis'!AP4)-FIND(\"+\",'Colour Contrast Analysis'!AP4)-2),LEN(RIGHT('Colour Contrast Analysis'!AP4,LEN('Colour Contrast Analysis'!AP4)-FIND(\"+\",'Colour Contrast Analysis'!AP4)-2))-11)) & \" combinations of foreground and background colours are technically conformant, but their contrast should be increased.\")) & CHAR(10) & \"Please see the Colour Contrast Analysis worksheet.\"","v":"0 combinations of foreground and background colours do not have sufficient contrast.\nPlease see the Colour Contrast Analysis worksheet."},{"$f":"LEFT('Colour Contrast Analysis'!AQ4,FIND(\" \",'Colour Contrast Analysis'!AQ4)-1)&\" combination\"&IF(VALUE(LEFT('Colour Contrast Analysis'!AQ4,FIND(\" \",'Colour Contrast Analysis'!AQ4)))=1,\"\",\"s\")&\" of foreground and background colours do\"&IF(VALUE(LEFT('Colour Contrast Analysis'!AQ4,FIND(\" \",'Colour Contrast Analysis'!AQ4)))=1,\"es\",\"\")&\" not have sufficient contrast.\"&IF(VALUE(LEFT(RIGHT('Colour Contrast Analysis'!AQ4,LEN('Colour Contrast Analysis'!AQ4)-FIND(\"+\",'Colour Contrast Analysis'!AQ4)-2),LEN(RIGHT('Colour Contrast Analysis'!AQ4,LEN('Colour Contrast Analysis'!AQ4)-FIND(\"+\",'Colour Contrast Analysis'!AQ4)-2))-11))=0,\"\",IF(VALUE(LEFT(RIGHT('Colour Contrast Analysis'!AQ4,LEN('Colour Contrast Analysis'!AQ4)-FIND(\"+\",'Colour Contrast Analysis'!AQ4)-2),LEN(RIGHT('Colour Contrast Analysis'!AQ4,LEN('Colour Contrast Analysis'!AQ4)-FIND(\"+\",'Colour Contrast Analysis'!AQ4)-2))-11))=1,CHAR(10)&VALUE(LEFT(RIGHT('Colour Contrast Analysis'!AQ4,LEN('Colour Contrast Analysis'!AQ4)-FIND(\"+\",'Colour Contrast Analysis'!AQ4)-2),LEN(RIGHT('Colour Contrast Analysis'!AQ4,LEN('Colour Contrast Analysis'!AQ4)-FIND(\"+\",'Colour Contrast Analysis'!AQ4)-2))-11)) & \" combination of foreground and background colours is technically conformant, but its contrast should be increased.\",CHAR(10)&VALUE(LEFT(RIGHT('Colour Contrast Analysis'!AQ4,LEN('Colour Contrast Analysis'!AQ4)-FIND(\"+\",'Colour Contrast Analysis'!AQ4)-2),LEN(RIGHT('Colour Contrast Analysis'!AQ4,LEN('Colour Contrast Analysis'!AQ4)-FIND(\"+\",'Colour Contrast Analysis'!AQ4)-2))-11)) & \" combinations of foreground and background colours are technically conformant, but their contrast should be increased.\")) & CHAR(10) & \"Please see the Colour Contrast Analysis worksheet.\"","v":"0 combinations of foreground and background colours do not have sufficient contrast.\nPlease see the Colour Contrast Analysis worksheet."},{"$f":"LEFT('Colour Contrast Analysis'!AR4,FIND(\" \",'Colour Contrast Analysis'!AR4)-1)&\" combination\"&IF(VALUE(LEFT('Colour Contrast Analysis'!AR4,FIND(\" \",'Colour Contrast Analysis'!AR4)))=1,\"\",\"s\")&\" of foreground and background colours do\"&IF(VALUE(LEFT('Colour Contrast Analysis'!AR4,FIND(\" \",'Colour Contrast Analysis'!AR4)))=1,\"es\",\"\")&\" not have sufficient contrast.\"&IF(VALUE(LEFT(RIGHT('Colour Contrast Analysis'!AR4,LEN('Colour Contrast Analysis'!AR4)-FIND(\"+\",'Colour Contrast Analysis'!AR4)-2),LEN(RIGHT('Colour Contrast Analysis'!AR4,LEN('Colour Contrast Analysis'!AR4)-FIND(\"+\",'Colour Contrast Analysis'!AR4)-2))-11))=0,\"\",IF(VALUE(LEFT(RIGHT('Colour Contrast Analysis'!AR4,LEN('Colour Contrast Analysis'!AR4)-FIND(\"+\",'Colour Contrast Analysis'!AR4)-2),LEN(RIGHT('Colour Contrast Analysis'!AR4,LEN('Colour Contrast Analysis'!AR4)-FIND(\"+\",'Colour Contrast Analysis'!AR4)-2))-11))=1,CHAR(10)&VALUE(LEFT(RIGHT('Colour Contrast Analysis'!AR4,LEN('Colour Contrast Analysis'!AR4)-FIND(\"+\",'Colour Contrast Analysis'!AR4)-2),LEN(RIGHT('Colour Contrast Analysis'!AR4,LEN('Colour Contrast Analysis'!AR4)-FIND(\"+\",'Colour Contrast Analysis'!AR4)-2))-11)) & \" combination of foreground and background colours is technically conformant, but its contrast should be increased.\",CHAR(10)&VALUE(LEFT(RIGHT('Colour Contrast Analysis'!AR4,LEN('Colour Contrast Analysis'!AR4)-FIND(\"+\",'Colour Contrast Analysis'!AR4)-2),LEN(RIGHT('Colour Contrast Analysis'!AR4,LEN('Colour Contrast Analysis'!AR4)-FIND(\"+\",'Colour Contrast Analysis'!AR4)-2))-11)) & \" combinations of foreground and background colours are technically conformant, but their contrast should be increased.\")) & CHAR(10) & \"Please see the Colour Contrast Analysis worksheet.\"","v":"0 combinations of foreground and background colours do not have sufficient contrast.\nPlease see the Colour Contrast Analysis worksheet."},{"$f":"LEFT('Colour Contrast Analysis'!AS4,FIND(\" \",'Colour Contrast Analysis'!AS4)-1)&\" combination\"&IF(VALUE(LEFT('Colour Contrast Analysis'!AS4,FIND(\" \",'Colour Contrast Analysis'!AS4)))=1,\"\",\"s\")&\" of foreground and background colours do\"&IF(VALUE(LEFT('Colour Contrast Analysis'!AS4,FIND(\" \",'Colour Contrast Analysis'!AS4)))=1,\"es\",\"\")&\" not have sufficient contrast.\"&IF(VALUE(LEFT(RIGHT('Colour Contrast Analysis'!AS4,LEN('Colour Contrast Analysis'!AS4)-FIND(\"+\",'Colour Contrast Analysis'!AS4)-2),LEN(RIGHT('Colour Contrast Analysis'!AS4,LEN('Colour Contrast Analysis'!AS4)-FIND(\"+\",'Colour Contrast Analysis'!AS4)-2))-11))=0,\"\",IF(VALUE(LEFT(RIGHT('Colour Contrast Analysis'!AS4,LEN('Colour Contrast Analysis'!AS4)-FIND(\"+\",'Colour Contrast Analysis'!AS4)-2),LEN(RIGHT('Colour Contrast Analysis'!AS4,LEN('Colour Contrast Analysis'!AS4)-FIND(\"+\",'Colour Contrast Analysis'!AS4)-2))-11))=1,CHAR(10)&VALUE(LEFT(RIGHT('Colour Contrast Analysis'!AS4,LEN('Colour Contrast Analysis'!AS4)-FIND(\"+\",'Colour Contrast Analysis'!AS4)-2),LEN(RIGHT('Colour Contrast Analysis'!AS4,LEN('Colour Contrast Analysis'!AS4)-FIND(\"+\",'Colour Contrast Analysis'!AS4)-2))-11)) & \" combination of foreground and background colours is technically conformant, but its contrast should be increased.\",CHAR(10)&VALUE(LEFT(RIGHT('Colour Contrast Analysis'!AS4,LEN('Colour Contrast Analysis'!AS4)-FIND(\"+\",'Colour Contrast Analysis'!AS4)-2),LEN(RIGHT('Colour Contrast Analysis'!AS4,LEN('Colour Contrast Analysis'!AS4)-FIND(\"+\",'Colour Contrast Analysis'!AS4)-2))-11)) & \" combinations of foreground and background colours are technically conformant, but their contrast should be increased.\")) & CHAR(10) & \"Please see the Colour Contrast Analysis worksheet.\"","v":"0 combinations of foreground and background colours do not have sufficient contrast.\nPlease see the Colour Contrast Analysis worksheet."},{"$f":"LEFT('Colour Contrast Analysis'!AT4,FIND(\" \",'Colour Contrast Analysis'!AT4)-1)&\" combination\"&IF(VALUE(LEFT('Colour Contrast Analysis'!AT4,FIND(\" \",'Colour Contrast Analysis'!AT4)))=1,\"\",\"s\")&\" of foreground and background colours do\"&IF(VALUE(LEFT('Colour Contrast Analysis'!AT4,FIND(\" \",'Colour Contrast Analysis'!AT4)))=1,\"es\",\"\")&\" not have sufficient contrast.\"&IF(VALUE(LEFT(RIGHT('Colour Contrast Analysis'!AT4,LEN('Colour Contrast Analysis'!AT4)-FIND(\"+\",'Colour Contrast Analysis'!AT4)-2),LEN(RIGHT('Colour Contrast Analysis'!AT4,LEN('Colour Contrast Analysis'!AT4)-FIND(\"+\",'Colour Contrast Analysis'!AT4)-2))-11))=0,\"\",IF(VALUE(LEFT(RIGHT('Colour Contrast Analysis'!AT4,LEN('Colour Contrast Analysis'!AT4)-FIND(\"+\",'Colour Contrast Analysis'!AT4)-2),LEN(RIGHT('Colour Contrast Analysis'!AT4,LEN('Colour Contrast Analysis'!AT4)-FIND(\"+\",'Colour Contrast Analysis'!AT4)-2))-11))=1,CHAR(10)&VALUE(LEFT(RIGHT('Colour Contrast Analysis'!AT4,LEN('Colour Contrast Analysis'!AT4)-FIND(\"+\",'Colour Contrast Analysis'!AT4)-2),LEN(RIGHT('Colour Contrast Analysis'!AT4,LEN('Colour Contrast Analysis'!AT4)-FIND(\"+\",'Colour Contrast Analysis'!AT4)-2))-11)) & \" combination of foreground and background colours is technically conformant, but its contrast should be increased.\",CHAR(10)&VALUE(LEFT(RIGHT('Colour Contrast Analysis'!AT4,LEN('Colour Contrast Analysis'!AT4)-FIND(\"+\",'Colour Contrast Analysis'!AT4)-2),LEN(RIGHT('Colour Contrast Analysis'!AT4,LEN('Colour Contrast Analysis'!AT4)-FIND(\"+\",'Colour Contrast Analysis'!AT4)-2))-11)) & \" combinations of foreground and background colours are technically conformant, but their contrast should be increased.\")) & CHAR(10) & \"Please see the Colour Contrast Analysis worksheet.\"","v":"0 combinations of foreground and background colours do not have sufficient contrast.\nPlease see the Colour Contrast Analysis worksheet."},{"$f":"LEFT('[2]Colour Contrast Analysis'!AU4,FIND(\" \",'[2]Colour Contrast Analysis'!AU4)-1)&\" combination\"&IF(VALUE(LEFT('[2]Colour Contrast Analysis'!AU4,FIND(\" \",'[2]Colour Contrast Analysis'!AU4)))=1,\"\",\"s\")&\" of foreground and background colours do\"&IF(VALUE(LEFT('[2]Colour Contrast Analysis'!AU4,FIND(\" \",'[2]Colour Contrast Analysis'!AU4)))=1,\"es\",\"\")&\" not have sufficient contrast.\"&IF(VALUE(LEFT(RIGHT('[2]Colour Contrast Analysis'!AU4,LEN('[2]Colour Contrast Analysis'!AU4)-FIND(\"+\",'[2]Colour Contrast Analysis'!AU4)-2),LEN(RIGHT('[2]Colour Contrast Analysis'!AU4,LEN('[2]Colour Contrast Analysis'!AU4)-FIND(\"+\",'[2]Colour Contrast Analysis'!AU4)-2))-11))=0,\"\",IF(VALUE(LEFT(RIGHT('[2]Colour Contrast Analysis'!AU4,LEN('[2]Colour Contrast Analysis'!AU4)-FIND(\"+\",'[2]Colour Contrast Analysis'!AU4)-2),LEN(RIGHT('[2]Colour Contrast Analysis'!AU4,LEN('[2]Colour Contrast Analysis'!AU4)-FIND(\"+\",'[2]Colour Contrast Analysis'!AU4)-2))-11))=1,CHAR(10)&VALUE(LEFT(RIGHT('[2]Colour Contrast Analysis'!AU4,LEN('[2]Colour Contrast Analysis'!AU4)-FIND(\"+\",'[2]Colour Contrast Analysis'!AU4)-2),LEN(RIGHT('[2]Colour Contrast Analysis'!AU4,LEN('[2]Colour Contrast Analysis'!AU4)-FIND(\"+\",'[2]Colour Contrast Analysis'!AU4)-2))-11)) & \" combination of foreground and background colours is technically conformant, but its contrast should be increased.\",CHAR(10)&VALUE(LEFT(RIGHT('[2]Colour Contrast Analysis'!AU4,LEN('[2]Colour Contrast Analysis'!AU4)-FIND(\"+\",'[2]Colour Contrast Analysis'!AU4)-2),LEN(RIGHT('[2]Colour Contrast Analysis'!AU4,LEN('[2]Colour Contrast Analysis'!AU4)-FIND(\"+\",'[2]Colour Contrast Analysis'!AU4)-2))-11)) & \" combinations of foreground and background colours are technically conformant, but their contrast should be increased.\")) & CHAR(10) & \"Please see the Colour Contrast Analysis worksheet.\"","v":"0 combinations of foreground and background colours do not have sufficient contrast.\nPlease see the Colour Contrast Analysis worksheet."},{"$f":"LEFT('[2]Colour Contrast Analysis'!AV4,FIND(\" \",'[2]Colour Contrast Analysis'!AV4)-1)&\" combination\"&IF(VALUE(LEFT('[2]Colour Contrast Analysis'!AV4,FIND(\" \",'[2]Colour Contrast Analysis'!AV4)))=1,\"\",\"s\")&\" of foreground and background colours do\"&IF(VALUE(LEFT('[2]Colour Contrast Analysis'!AV4,FIND(\" \",'[2]Colour Contrast Analysis'!AV4)))=1,\"es\",\"\")&\" not have sufficient contrast.\"&IF(VALUE(LEFT(RIGHT('[2]Colour Contrast Analysis'!AV4,LEN('[2]Colour Contrast Analysis'!AV4)-FIND(\"+\",'[2]Colour Contrast Analysis'!AV4)-2),LEN(RIGHT('[2]Colour Contrast Analysis'!AV4,LEN('[2]Colour Contrast Analysis'!AV4)-FIND(\"+\",'[2]Colour Contrast Analysis'!AV4)-2))-11))=0,\"\",IF(VALUE(LEFT(RIGHT('[2]Colour Contrast Analysis'!AV4,LEN('[2]Colour Contrast Analysis'!AV4)-FIND(\"+\",'[2]Colour Contrast Analysis'!AV4)-2),LEN(RIGHT('[2]Colour Contrast Analysis'!AV4,LEN('[2]Colour Contrast Analysis'!AV4)-FIND(\"+\",'[2]Colour Contrast Analysis'!AV4)-2))-11))=1,CHAR(10)&VALUE(LEFT(RIGHT('[2]Colour Contrast Analysis'!AV4,LEN('[2]Colour Contrast Analysis'!AV4)-FIND(\"+\",'[2]Colour Contrast Analysis'!AV4)-2),LEN(RIGHT('[2]Colour Contrast Analysis'!AV4,LEN('[2]Colour Contrast Analysis'!AV4)-FIND(\"+\",'[2]Colour Contrast Analysis'!AV4)-2))-11)) & \" combination of foreground and background colours is technically conformant, but its contrast should be increased.\",CHAR(10)&VALUE(LEFT(RIGHT('[2]Colour Contrast Analysis'!AV4,LEN('[2]Colour Contrast Analysis'!AV4)-FIND(\"+\",'[2]Colour Contrast Analysis'!AV4)-2),LEN(RIGHT('[2]Colour Contrast Analysis'!AV4,LEN('[2]Colour Contrast Analysis'!AV4)-FIND(\"+\",'[2]Colour Contrast Analysis'!AV4)-2))-11)) & \" combinations of foreground and background colours are technically conformant, but their contrast should be increased.\")) & CHAR(10) & \"Please see the Colour Contrast Analysis worksheet.\"","v":"0 combinations of foreground and background colours do not have sufficient contrast.\nPlease see the Colour Contrast Analysis worksheet."},{"$f":"LEFT('[2]Colour Contrast Analysis'!AW4,FIND(\" \",'[2]Colour Contrast Analysis'!AW4)-1)&\" combination\"&IF(VALUE(LEFT('[2]Colour Contrast Analysis'!AW4,FIND(\" \",'[2]Colour Contrast Analysis'!AW4)))=1,\"\",\"s\")&\" of foreground and background colours do\"&IF(VALUE(LEFT('[2]Colour Contrast Analysis'!AW4,FIND(\" \",'[2]Colour Contrast Analysis'!AW4)))=1,\"es\",\"\")&\" not have sufficient contrast.\"&IF(VALUE(LEFT(RIGHT('[2]Colour Contrast Analysis'!AW4,LEN('[2]Colour Contrast Analysis'!AW4)-FIND(\"+\",'[2]Colour Contrast Analysis'!AW4)-2),LEN(RIGHT('[2]Colour Contrast Analysis'!AW4,LEN('[2]Colour Contrast Analysis'!AW4)-FIND(\"+\",'[2]Colour Contrast Analysis'!AW4)-2))-11))=0,\"\",IF(VALUE(LEFT(RIGHT('[2]Colour Contrast Analysis'!AW4,LEN('[2]Colour Contrast Analysis'!AW4)-FIND(\"+\",'[2]Colour Contrast Analysis'!AW4)-2),LEN(RIGHT('[2]Colour Contrast Analysis'!AW4,LEN('[2]Colour Contrast Analysis'!AW4)-FIND(\"+\",'[2]Colour Contrast Analysis'!AW4)-2))-11))=1,CHAR(10)&VALUE(LEFT(RIGHT('[2]Colour Contrast Analysis'!AW4,LEN('[2]Colour Contrast Analysis'!AW4)-FIND(\"+\",'[2]Colour Contrast Analysis'!AW4)-2),LEN(RIGHT('[2]Colour Contrast Analysis'!AW4,LEN('[2]Colour Contrast Analysis'!AW4)-FIND(\"+\",'[2]Colour Contrast Analysis'!AW4)-2))-11)) & \" combination of foreground and background colours is technically conformant, but its contrast should be increased.\",CHAR(10)&VALUE(LEFT(RIGHT('[2]Colour Contrast Analysis'!AW4,LEN('[2]Colour Contrast Analysis'!AW4)-FIND(\"+\",'[2]Colour Contrast Analysis'!AW4)-2),LEN(RIGHT('[2]Colour Contrast Analysis'!AW4,LEN('[2]Colour Contrast Analysis'!AW4)-FIND(\"+\",'[2]Colour Contrast Analysis'!AW4)-2))-11)) & \" combinations of foreground and background colours are technically conformant, but their contrast should be increased.\")) & CHAR(10) & \"Please see the Colour Contrast Analysis worksheet.\"","v":"0 combinations of foreground and background colours do not have sufficient contrast.\nPlease see the Colour Contrast Analysis worksheet."},{"$f":"LEFT('[2]Colour Contrast Analysis'!AX4,FIND(\" \",'[2]Colour Contrast Analysis'!AX4)-1)&\" combination\"&IF(VALUE(LEFT('[2]Colour Contrast Analysis'!AX4,FIND(\" \",'[2]Colour Contrast Analysis'!AX4)))=1,\"\",\"s\")&\" of foreground and background colours do\"&IF(VALUE(LEFT('[2]Colour Contrast Analysis'!AX4,FIND(\" \",'[2]Colour Contrast Analysis'!AX4)))=1,\"es\",\"\")&\" not have sufficient contrast.\"&IF(VALUE(LEFT(RIGHT('[2]Colour Contrast Analysis'!AX4,LEN('[2]Colour Contrast Analysis'!AX4)-FIND(\"+\",'[2]Colour Contrast Analysis'!AX4)-2),LEN(RIGHT('[2]Colour Contrast Analysis'!AX4,LEN('[2]Colour Contrast Analysis'!AX4)-FIND(\"+\",'[2]Colour Contrast Analysis'!AX4)-2))-11))=0,\"\",IF(VALUE(LEFT(RIGHT('[2]Colour Contrast Analysis'!AX4,LEN('[2]Colour Contrast Analysis'!AX4)-FIND(\"+\",'[2]Colour Contrast Analysis'!AX4)-2),LEN(RIGHT('[2]Colour Contrast Analysis'!AX4,LEN('[2]Colour Contrast Analysis'!AX4)-FIND(\"+\",'[2]Colour Contrast Analysis'!AX4)-2))-11))=1,CHAR(10)&VALUE(LEFT(RIGHT('[2]Colour Contrast Analysis'!AX4,LEN('[2]Colour Contrast Analysis'!AX4)-FIND(\"+\",'[2]Colour Contrast Analysis'!AX4)-2),LEN(RIGHT('[2]Colour Contrast Analysis'!AX4,LEN('[2]Colour Contrast Analysis'!AX4)-FIND(\"+\",'[2]Colour Contrast Analysis'!AX4)-2))-11)) & \" combination of foreground and background colours is technically conformant, but its contrast should be increased.\",CHAR(10)&VALUE(LEFT(RIGHT('[2]Colour Contrast Analysis'!AX4,LEN('[2]Colour Contrast Analysis'!AX4)-FIND(\"+\",'[2]Colour Contrast Analysis'!AX4)-2),LEN(RIGHT('[2]Colour Contrast Analysis'!AX4,LEN('[2]Colour Contrast Analysis'!AX4)-FIND(\"+\",'[2]Colour Contrast Analysis'!AX4)-2))-11)) & \" combinations of foreground and background colours are technically conformant, but their contrast should be increased.\")) & CHAR(10) & \"Please see the Colour Contrast Analysis worksheet.\"","v":"0 combinations of foreground and background colours do not have sufficient contrast.\nPlease see the Colour Contrast Analysis worksheet."},{"$f":"LEFT('[2]Colour Contrast Analysis'!AY4,FIND(\" \",'[2]Colour Contrast Analysis'!AY4)-1)&\" combination\"&IF(VALUE(LEFT('[2]Colour Contrast Analysis'!AY4,FIND(\" \",'[2]Colour Contrast Analysis'!AY4)))=1,\"\",\"s\")&\" of foreground and background colours do\"&IF(VALUE(LEFT('[2]Colour Contrast Analysis'!AY4,FIND(\" \",'[2]Colour Contrast Analysis'!AY4)))=1,\"es\",\"\")&\" not have sufficient contrast.\"&IF(VALUE(LEFT(RIGHT('[2]Colour Contrast Analysis'!AY4,LEN('[2]Colour Contrast Analysis'!AY4)-FIND(\"+\",'[2]Colour Contrast Analysis'!AY4)-2),LEN(RIGHT('[2]Colour Contrast Analysis'!AY4,LEN('[2]Colour Contrast Analysis'!AY4)-FIND(\"+\",'[2]Colour Contrast Analysis'!AY4)-2))-11))=0,\"\",IF(VALUE(LEFT(RIGHT('[2]Colour Contrast Analysis'!AY4,LEN('[2]Colour Contrast Analysis'!AY4)-FIND(\"+\",'[2]Colour Contrast Analysis'!AY4)-2),LEN(RIGHT('[2]Colour Contrast Analysis'!AY4,LEN('[2]Colour Contrast Analysis'!AY4)-FIND(\"+\",'[2]Colour Contrast Analysis'!AY4)-2))-11))=1,CHAR(10)&VALUE(LEFT(RIGHT('[2]Colour Contrast Analysis'!AY4,LEN('[2]Colour Contrast Analysis'!AY4)-FIND(\"+\",'[2]Colour Contrast Analysis'!AY4)-2),LEN(RIGHT('[2]Colour Contrast Analysis'!AY4,LEN('[2]Colour Contrast Analysis'!AY4)-FIND(\"+\",'[2]Colour Contrast Analysis'!AY4)-2))-11)) & \" combination of foreground and background colours is technically conformant, but its contrast should be increased.\",CHAR(10)&VALUE(LEFT(RIGHT('[2]Colour Contrast Analysis'!AY4,LEN('[2]Colour Contrast Analysis'!AY4)-FIND(\"+\",'[2]Colour Contrast Analysis'!AY4)-2),LEN(RIGHT('[2]Colour Contrast Analysis'!AY4,LEN('[2]Colour Contrast Analysis'!AY4)-FIND(\"+\",'[2]Colour Contrast Analysis'!AY4)-2))-11)) & \" combinations of foreground and background colours are technically conformant, but their contrast should be increased.\")) & CHAR(10) & \"Please see the Colour Contrast Analysis worksheet.\"","v":"0 combinations of foreground and background colours do not have sufficient contrast.\nPlease see the Colour Contrast Analysis worksheet."},{"$f":"LEFT('[2]Colour Contrast Analysis'!AZ4,FIND(\" \",'[2]Colour Contrast Analysis'!AZ4)-1)&\" combination\"&IF(VALUE(LEFT('[2]Colour Contrast Analysis'!AZ4,FIND(\" \",'[2]Colour Contrast Analysis'!AZ4)))=1,\"\",\"s\")&\" of foreground and background colours do\"&IF(VALUE(LEFT('[2]Colour Contrast Analysis'!AZ4,FIND(\" \",'[2]Colour Contrast Analysis'!AZ4)))=1,\"es\",\"\")&\" not have sufficient contrast.\"&IF(VALUE(LEFT(RIGHT('[2]Colour Contrast Analysis'!AZ4,LEN('[2]Colour Contrast Analysis'!AZ4)-FIND(\"+\",'[2]Colour Contrast Analysis'!AZ4)-2),LEN(RIGHT('[2]Colour Contrast Analysis'!AZ4,LEN('[2]Colour Contrast Analysis'!AZ4)-FIND(\"+\",'[2]Colour Contrast Analysis'!AZ4)-2))-11))=0,\"\",IF(VALUE(LEFT(RIGHT('[2]Colour Contrast Analysis'!AZ4,LEN('[2]Colour Contrast Analysis'!AZ4)-FIND(\"+\",'[2]Colour Contrast Analysis'!AZ4)-2),LEN(RIGHT('[2]Colour Contrast Analysis'!AZ4,LEN('[2]Colour Contrast Analysis'!AZ4)-FIND(\"+\",'[2]Colour Contrast Analysis'!AZ4)-2))-11))=1,CHAR(10)&VALUE(LEFT(RIGHT('[2]Colour Contrast Analysis'!AZ4,LEN('[2]Colour Contrast Analysis'!AZ4)-FIND(\"+\",'[2]Colour Contrast Analysis'!AZ4)-2),LEN(RIGHT('[2]Colour Contrast Analysis'!AZ4,LEN('[2]Colour Contrast Analysis'!AZ4)-FIND(\"+\",'[2]Colour Contrast Analysis'!AZ4)-2))-11)) & \" combination of foreground and background colours is technically conformant, but its contrast should be increased.\",CHAR(10)&VALUE(LEFT(RIGHT('[2]Colour Contrast Analysis'!AZ4,LEN('[2]Colour Contrast Analysis'!AZ4)-FIND(\"+\",'[2]Colour Contrast Analysis'!AZ4)-2),LEN(RIGHT('[2]Colour Contrast Analysis'!AZ4,LEN('[2]Colour Contrast Analysis'!AZ4)-FIND(\"+\",'[2]Colour Contrast Analysis'!AZ4)-2))-11)) & \" combinations of foreground and background colours are technically conformant, but their contrast should be increased.\")) & CHAR(10) & \"Please see the Colour Contrast Analysis worksheet.\"","v":"0 combinations of foreground and background colours do not have sufficient contrast.\nPlease see the Colour Contrast Analysis worksheet."},{"$f":"LEFT('Colour Contrast Analysis'!BA4,FIND(\" \",'Colour Contrast Analysis'!BA4)-1)&\" combination\"&IF(VALUE(LEFT('Colour Contrast Analysis'!BA4,FIND(\" \",'Colour Contrast Analysis'!BA4)))=1,\"\",\"s\")&\" of foreground and background colours do\"&IF(VALUE(LEFT('Colour Contrast Analysis'!BA4,FIND(\" \",'Colour Contrast Analysis'!BA4)))=1,\"es\",\"\")&\" not have sufficient contrast.\"&IF(VALUE(LEFT(RIGHT('Colour Contrast Analysis'!BA4,LEN('Colour Contrast Analysis'!BA4)-FIND(\"+\",'Colour Contrast Analysis'!BA4)-2),LEN(RIGHT('Colour Contrast Analysis'!BA4,LEN('Colour Contrast Analysis'!BA4)-FIND(\"+\",'Colour Contrast Analysis'!BA4)-2))-11))=0,\"\",IF(VALUE(LEFT(RIGHT('Colour Contrast Analysis'!BA4,LEN('Colour Contrast Analysis'!BA4)-FIND(\"+\",'Colour Contrast Analysis'!BA4)-2),LEN(RIGHT('Colour Contrast Analysis'!BA4,LEN('Colour Contrast Analysis'!BA4)-FIND(\"+\",'Colour Contrast Analysis'!BA4)-2))-11))=1,CHAR(10)&VALUE(LEFT(RIGHT('Colour Contrast Analysis'!BA4,LEN('Colour Contrast Analysis'!BA4)-FIND(\"+\",'Colour Contrast Analysis'!BA4)-2),LEN(RIGHT('Colour Contrast Analysis'!BA4,LEN('Colour Contrast Analysis'!BA4)-FIND(\"+\",'Colour Contrast Analysis'!BA4)-2))-11)) & \" combination of foreground and background colours is technically conformant, but its contrast should be increased.\",CHAR(10)&VALUE(LEFT(RIGHT('Colour Contrast Analysis'!BA4,LEN('Colour Contrast Analysis'!BA4)-FIND(\"+\",'Colour Contrast Analysis'!BA4)-2),LEN(RIGHT('Colour Contrast Analysis'!BA4,LEN('Colour Contrast Analysis'!BA4)-FIND(\"+\",'Colour Contrast Analysis'!BA4)-2))-11)) & \" combinations of foreground and background colours are technically conformant, but their contrast should be increased.\")) & CHAR(10) & \"Please see the Colour Contrast Analysis worksheet.\"","v":"0 combinations of foreground and background colours do not have sufficient contrast.\nPlease see the Colour Contrast Analysis worksheet."},{"$f":"LEFT('Colour Contrast Analysis'!BB4,FIND(\" \",'Colour Contrast Analysis'!BB4)-1)&\" combination\"&IF(VALUE(LEFT('Colour Contrast Analysis'!BB4,FIND(\" \",'Colour Contrast Analysis'!BB4)))=1,\"\",\"s\")&\" of foreground and background colours do\"&IF(VALUE(LEFT('Colour Contrast Analysis'!BB4,FIND(\" \",'Colour Contrast Analysis'!BB4)))=1,\"es\",\"\")&\" not have sufficient contrast.\"&IF(VALUE(LEFT(RIGHT('Colour Contrast Analysis'!BB4,LEN('Colour Contrast Analysis'!BB4)-FIND(\"+\",'Colour Contrast Analysis'!BB4)-2),LEN(RIGHT('Colour Contrast Analysis'!BB4,LEN('Colour Contrast Analysis'!BB4)-FIND(\"+\",'Colour Contrast Analysis'!BB4)-2))-11))=0,\"\",IF(VALUE(LEFT(RIGHT('Colour Contrast Analysis'!BB4,LEN('Colour Contrast Analysis'!BB4)-FIND(\"+\",'Colour Contrast Analysis'!BB4)-2),LEN(RIGHT('Colour Contrast Analysis'!BB4,LEN('Colour Contrast Analysis'!BB4)-FIND(\"+\",'Colour Contrast Analysis'!BB4)-2))-11))=1,CHAR(10)&VALUE(LEFT(RIGHT('Colour Contrast Analysis'!BB4,LEN('Colour Contrast Analysis'!BB4)-FIND(\"+\",'Colour Contrast Analysis'!BB4)-2),LEN(RIGHT('Colour Contrast Analysis'!BB4,LEN('Colour Contrast Analysis'!BB4)-FIND(\"+\",'Colour Contrast Analysis'!BB4)-2))-11)) & \" combination of foreground and background colours is technically conformant, but its contrast should be increased.\",CHAR(10)&VALUE(LEFT(RIGHT('Colour Contrast Analysis'!BB4,LEN('Colour Contrast Analysis'!BB4)-FIND(\"+\",'Colour Contrast Analysis'!BB4)-2),LEN(RIGHT('Colour Contrast Analysis'!BB4,LEN('Colour Contrast Analysis'!BB4)-FIND(\"+\",'Colour Contrast Analysis'!BB4)-2))-11)) & \" combinations of foreground and background colours are technically conformant, but their contrast should be increased.\")) & CHAR(10) & \"Please see the Colour Contrast Analysis worksheet.\"","v":"0 combinations of foreground and background colours do not have sufficient contrast.\nPlease see the Colour Contrast Analysis worksheet."},{"$f":"LEFT('Colour Contrast Analysis'!BC4,FIND(\" \",'Colour Contrast Analysis'!BC4)-1)&\" combination\"&IF(VALUE(LEFT('Colour Contrast Analysis'!BC4,FIND(\" \",'Colour Contrast Analysis'!BC4)))=1,\"\",\"s\")&\" of foreground and background colours do\"&IF(VALUE(LEFT('Colour Contrast Analysis'!BC4,FIND(\" \",'Colour Contrast Analysis'!BC4)))=1,\"es\",\"\")&\" not have sufficient contrast.\"&IF(VALUE(LEFT(RIGHT('Colour Contrast Analysis'!BC4,LEN('Colour Contrast Analysis'!BC4)-FIND(\"+\",'Colour Contrast Analysis'!BC4)-2),LEN(RIGHT('Colour Contrast Analysis'!BC4,LEN('Colour Contrast Analysis'!BC4)-FIND(\"+\",'Colour Contrast Analysis'!BC4)-2))-11))=0,\"\",IF(VALUE(LEFT(RIGHT('Colour Contrast Analysis'!BC4,LEN('Colour Contrast Analysis'!BC4)-FIND(\"+\",'Colour Contrast Analysis'!BC4)-2),LEN(RIGHT('Colour Contrast Analysis'!BC4,LEN('Colour Contrast Analysis'!BC4)-FIND(\"+\",'Colour Contrast Analysis'!BC4)-2))-11))=1,CHAR(10)&VALUE(LEFT(RIGHT('Colour Contrast Analysis'!BC4,LEN('Colour Contrast Analysis'!BC4)-FIND(\"+\",'Colour Contrast Analysis'!BC4)-2),LEN(RIGHT('Colour Contrast Analysis'!BC4,LEN('Colour Contrast Analysis'!BC4)-FIND(\"+\",'Colour Contrast Analysis'!BC4)-2))-11)) & \" combination of foreground and background colours is technically conformant, but its contrast should be increased.\",CHAR(10)&VALUE(LEFT(RIGHT('Colour Contrast Analysis'!BC4,LEN('Colour Contrast Analysis'!BC4)-FIND(\"+\",'Colour Contrast Analysis'!BC4)-2),LEN(RIGHT('Colour Contrast Analysis'!BC4,LEN('Colour Contrast Analysis'!BC4)-FIND(\"+\",'Colour Contrast Analysis'!BC4)-2))-11)) & \" combinations of foreground and background colours are technically conformant, but their contrast should be increased.\")) & CHAR(10) & \"Please see the Colour Contrast Analysis worksheet.\"","v":"0 combinations of foreground and background colours do not have sufficient contrast.\nPlease see the Colour Contrast Analysis worksheet."},{"$f":"LEFT('Colour Contrast Analysis'!BD4,FIND(\" \",'Colour Contrast Analysis'!BD4)-1)&\" combination\"&IF(VALUE(LEFT('Colour Contrast Analysis'!BD4,FIND(\" \",'Colour Contrast Analysis'!BD4)))=1,\"\",\"s\")&\" of foreground and background colours do\"&IF(VALUE(LEFT('Colour Contrast Analysis'!BD4,FIND(\" \",'Colour Contrast Analysis'!BD4)))=1,\"es\",\"\")&\" not have sufficient contrast.\"&IF(VALUE(LEFT(RIGHT('Colour Contrast Analysis'!BD4,LEN('Colour Contrast Analysis'!BD4)-FIND(\"+\",'Colour Contrast Analysis'!BD4)-2),LEN(RIGHT('Colour Contrast Analysis'!BD4,LEN('Colour Contrast Analysis'!BD4)-FIND(\"+\",'Colour Contrast Analysis'!BD4)-2))-11))=0,\"\",IF(VALUE(LEFT(RIGHT('Colour Contrast Analysis'!BD4,LEN('Colour Contrast Analysis'!BD4)-FIND(\"+\",'Colour Contrast Analysis'!BD4)-2),LEN(RIGHT('Colour Contrast Analysis'!BD4,LEN('Colour Contrast Analysis'!BD4)-FIND(\"+\",'Colour Contrast Analysis'!BD4)-2))-11))=1,CHAR(10)&VALUE(LEFT(RIGHT('Colour Contrast Analysis'!BD4,LEN('Colour Contrast Analysis'!BD4)-FIND(\"+\",'Colour Contrast Analysis'!BD4)-2),LEN(RIGHT('Colour Contrast Analysis'!BD4,LEN('Colour Contrast Analysis'!BD4)-FIND(\"+\",'Colour Contrast Analysis'!BD4)-2))-11)) & \" combination of foreground and background colours is technically conformant, but its contrast should be increased.\",CHAR(10)&VALUE(LEFT(RIGHT('Colour Contrast Analysis'!BD4,LEN('Colour Contrast Analysis'!BD4)-FIND(\"+\",'Colour Contrast Analysis'!BD4)-2),LEN(RIGHT('Colour Contrast Analysis'!BD4,LEN('Colour Contrast Analysis'!BD4)-FIND(\"+\",'Colour Contrast Analysis'!BD4)-2))-11)) & \" combinations of foreground and background colours are technically conformant, but their contrast should be increased.\")) & CHAR(10) & \"Please see the Colour Contrast Analysis worksheet.\"","v":"0 combinations of foreground and background colours do not have sufficient contrast.\nPlease see the Colour Contrast Analysis worksheet."},{"$f":"LEFT('Colour Contrast Analysis'!BE4,FIND(\" \",'Colour Contrast Analysis'!BE4)-1)&\" combination\"&IF(VALUE(LEFT('Colour Contrast Analysis'!BE4,FIND(\" \",'Colour Contrast Analysis'!BE4)))=1,\"\",\"s\")&\" of foreground and background colours do\"&IF(VALUE(LEFT('Colour Contrast Analysis'!BE4,FIND(\" \",'Colour Contrast Analysis'!BE4)))=1,\"es\",\"\")&\" not have sufficient contrast.\"&IF(VALUE(LEFT(RIGHT('Colour Contrast Analysis'!BE4,LEN('Colour Contrast Analysis'!BE4)-FIND(\"+\",'Colour Contrast Analysis'!BE4)-2),LEN(RIGHT('Colour Contrast Analysis'!BE4,LEN('Colour Contrast Analysis'!BE4)-FIND(\"+\",'Colour Contrast Analysis'!BE4)-2))-11))=0,\"\",IF(VALUE(LEFT(RIGHT('Colour Contrast Analysis'!BE4,LEN('Colour Contrast Analysis'!BE4)-FIND(\"+\",'Colour Contrast Analysis'!BE4)-2),LEN(RIGHT('Colour Contrast Analysis'!BE4,LEN('Colour Contrast Analysis'!BE4)-FIND(\"+\",'Colour Contrast Analysis'!BE4)-2))-11))=1,CHAR(10)&VALUE(LEFT(RIGHT('Colour Contrast Analysis'!BE4,LEN('Colour Contrast Analysis'!BE4)-FIND(\"+\",'Colour Contrast Analysis'!BE4)-2),LEN(RIGHT('Colour Contrast Analysis'!BE4,LEN('Colour Contrast Analysis'!BE4)-FIND(\"+\",'Colour Contrast Analysis'!BE4)-2))-11)) & \" combination of foreground and background colours is technically conformant, but its contrast should be increased.\",CHAR(10)&VALUE(LEFT(RIGHT('Colour Contrast Analysis'!BE4,LEN('Colour Contrast Analysis'!BE4)-FIND(\"+\",'Colour Contrast Analysis'!BE4)-2),LEN(RIGHT('Colour Contrast Analysis'!BE4,LEN('Colour Contrast Analysis'!BE4)-FIND(\"+\",'Colour Contrast Analysis'!BE4)-2))-11)) & \" combinations of foreground and background colours are technically conformant, but their contrast should be increased.\")) & CHAR(10) & \"Please see the Colour Contrast Analysis worksheet.\"","v":"0 combinations of foreground and background colours do not have sufficient contrast.\nPlease see the Colour Contrast Analysis worksheet."},{"$f":"LEFT('Colour Contrast Analysis'!BF4,FIND(\" \",'Colour Contrast Analysis'!BF4)-1)&\" combination\"&IF(VALUE(LEFT('Colour Contrast Analysis'!BF4,FIND(\" \",'Colour Contrast Analysis'!BF4)))=1,\"\",\"s\")&\" of foreground and background colours do\"&IF(VALUE(LEFT('Colour Contrast Analysis'!BF4,FIND(\" \",'Colour Contrast Analysis'!BF4)))=1,\"es\",\"\")&\" not have sufficient contrast.\"&IF(VALUE(LEFT(RIGHT('Colour Contrast Analysis'!BF4,LEN('Colour Contrast Analysis'!BF4)-FIND(\"+\",'Colour Contrast Analysis'!BF4)-2),LEN(RIGHT('Colour Contrast Analysis'!BF4,LEN('Colour Contrast Analysis'!BF4)-FIND(\"+\",'Colour Contrast Analysis'!BF4)-2))-11))=0,\"\",IF(VALUE(LEFT(RIGHT('Colour Contrast Analysis'!BF4,LEN('Colour Contrast Analysis'!BF4)-FIND(\"+\",'Colour Contrast Analysis'!BF4)-2),LEN(RIGHT('Colour Contrast Analysis'!BF4,LEN('Colour Contrast Analysis'!BF4)-FIND(\"+\",'Colour Contrast Analysis'!BF4)-2))-11))=1,CHAR(10)&VALUE(LEFT(RIGHT('Colour Contrast Analysis'!BF4,LEN('Colour Contrast Analysis'!BF4)-FIND(\"+\",'Colour Contrast Analysis'!BF4)-2),LEN(RIGHT('Colour Contrast Analysis'!BF4,LEN('Colour Contrast Analysis'!BF4)-FIND(\"+\",'Colour Contrast Analysis'!BF4)-2))-11)) & \" combination of foreground and background colours is technically conformant, but its contrast should be increased.\",CHAR(10)&VALUE(LEFT(RIGHT('Colour Contrast Analysis'!BF4,LEN('Colour Contrast Analysis'!BF4)-FIND(\"+\",'Colour Contrast Analysis'!BF4)-2),LEN(RIGHT('Colour Contrast Analysis'!BF4,LEN('Colour Contrast Analysis'!BF4)-FIND(\"+\",'Colour Contrast Analysis'!BF4)-2))-11)) & \" combinations of foreground and background colours are technically conformant, but their contrast should be increased.\")) & CHAR(10) & \"Please see the Colour Contrast Analysis worksheet.\"","v":"0 combinations of foreground and background colours do not have sufficient contrast.\nPlease see the Colour Contrast Analysis worksheet."},{"$f":"LEFT('Colour Contrast Analysis'!BG4,FIND(\" \",'Colour Contrast Analysis'!BG4)-1)&\" combination\"&IF(VALUE(LEFT('Colour Contrast Analysis'!BG4,FIND(\" \",'Colour Contrast Analysis'!BG4)))=1,\"\",\"s\")&\" of foreground and background colours do\"&IF(VALUE(LEFT('Colour Contrast Analysis'!BG4,FIND(\" \",'Colour Contrast Analysis'!BG4)))=1,\"es\",\"\")&\" not have sufficient contrast.\"&IF(VALUE(LEFT(RIGHT('Colour Contrast Analysis'!BG4,LEN('Colour Contrast Analysis'!BG4)-FIND(\"+\",'Colour Contrast Analysis'!BG4)-2),LEN(RIGHT('Colour Contrast Analysis'!BG4,LEN('Colour Contrast Analysis'!BG4)-FIND(\"+\",'Colour Contrast Analysis'!BG4)-2))-11))=0,\"\",IF(VALUE(LEFT(RIGHT('Colour Contrast Analysis'!BG4,LEN('Colour Contrast Analysis'!BG4)-FIND(\"+\",'Colour Contrast Analysis'!BG4)-2),LEN(RIGHT('Colour Contrast Analysis'!BG4,LEN('Colour Contrast Analysis'!BG4)-FIND(\"+\",'Colour Contrast Analysis'!BG4)-2))-11))=1,CHAR(10)&VALUE(LEFT(RIGHT('Colour Contrast Analysis'!BG4,LEN('Colour Contrast Analysis'!BG4)-FIND(\"+\",'Colour Contrast Analysis'!BG4)-2),LEN(RIGHT('Colour Contrast Analysis'!BG4,LEN('Colour Contrast Analysis'!BG4)-FIND(\"+\",'Colour Contrast Analysis'!BG4)-2))-11)) & \" combination of foreground and background colours is technically conformant, but its contrast should be increased.\",CHAR(10)&VALUE(LEFT(RIGHT('Colour Contrast Analysis'!BG4,LEN('Colour Contrast Analysis'!BG4)-FIND(\"+\",'Colour Contrast Analysis'!BG4)-2),LEN(RIGHT('Colour Contrast Analysis'!BG4,LEN('Colour Contrast Analysis'!BG4)-FIND(\"+\",'Colour Contrast Analysis'!BG4)-2))-11)) & \" combinations of foreground and background colours are technically conformant, but their contrast should be increased.\")) & CHAR(10) & \"Please see the Colour Contrast Analysis worksheet.\"","v":"0 combinations of foreground and background colours do not have sufficient contrast.\nPlease see the Colour Contrast Analysis worksheet."},{"$f":"LEFT('Colour Contrast Analysis'!BH4,FIND(\" \",'Colour Contrast Analysis'!BH4)-1)&\" combination\"&IF(VALUE(LEFT('Colour Contrast Analysis'!BH4,FIND(\" \",'Colour Contrast Analysis'!BH4)))=1,\"\",\"s\")&\" of foreground and background colours do\"&IF(VALUE(LEFT('Colour Contrast Analysis'!BH4,FIND(\" \",'Colour Contrast Analysis'!BH4)))=1,\"es\",\"\")&\" not have sufficient contrast.\"&IF(VALUE(LEFT(RIGHT('Colour Contrast Analysis'!BH4,LEN('Colour Contrast Analysis'!BH4)-FIND(\"+\",'Colour Contrast Analysis'!BH4)-2),LEN(RIGHT('Colour Contrast Analysis'!BH4,LEN('Colour Contrast Analysis'!BH4)-FIND(\"+\",'Colour Contrast Analysis'!BH4)-2))-11))=0,\"\",IF(VALUE(LEFT(RIGHT('Colour Contrast Analysis'!BH4,LEN('Colour Contrast Analysis'!BH4)-FIND(\"+\",'Colour Contrast Analysis'!BH4)-2),LEN(RIGHT('Colour Contrast Analysis'!BH4,LEN('Colour Contrast Analysis'!BH4)-FIND(\"+\",'Colour Contrast Analysis'!BH4)-2))-11))=1,CHAR(10)&VALUE(LEFT(RIGHT('Colour Contrast Analysis'!BH4,LEN('Colour Contrast Analysis'!BH4)-FIND(\"+\",'Colour Contrast Analysis'!BH4)-2),LEN(RIGHT('Colour Contrast Analysis'!BH4,LEN('Colour Contrast Analysis'!BH4)-FIND(\"+\",'Colour Contrast Analysis'!BH4)-2))-11)) & \" combination of foreground and background colours is technically conformant, but its contrast should be increased.\",CHAR(10)&VALUE(LEFT(RIGHT('Colour Contrast Analysis'!BH4,LEN('Colour Contrast Analysis'!BH4)-FIND(\"+\",'Colour Contrast Analysis'!BH4)-2),LEN(RIGHT('Colour Contrast Analysis'!BH4,LEN('Colour Contrast Analysis'!BH4)-FIND(\"+\",'Colour Contrast Analysis'!BH4)-2))-11)) & \" combinations of foreground and background colours are technically conformant, but their contrast should be increased.\")) & CHAR(10) & \"Please see the Colour Contrast Analysis worksheet.\"","v":"0 combinations of foreground and background colours do not have sufficient contrast.\nPlease see the Colour Contrast Analysis worksheet."},{"$f":"LEFT('Colour Contrast Analysis'!BI4,FIND(\" \",'Colour Contrast Analysis'!BI4)-1)&\" combination\"&IF(VALUE(LEFT('Colour Contrast Analysis'!BI4,FIND(\" \",'Colour Contrast Analysis'!BI4)))=1,\"\",\"s\")&\" of foreground and background colours do\"&IF(VALUE(LEFT('Colour Contrast Analysis'!BI4,FIND(\" \",'Colour Contrast Analysis'!BI4)))=1,\"es\",\"\")&\" not have sufficient contrast.\"&IF(VALUE(LEFT(RIGHT('Colour Contrast Analysis'!BI4,LEN('Colour Contrast Analysis'!BI4)-FIND(\"+\",'Colour Contrast Analysis'!BI4)-2),LEN(RIGHT('Colour Contrast Analysis'!BI4,LEN('Colour Contrast Analysis'!BI4)-FIND(\"+\",'Colour Contrast Analysis'!BI4)-2))-11))=0,\"\",IF(VALUE(LEFT(RIGHT('Colour Contrast Analysis'!BI4,LEN('Colour Contrast Analysis'!BI4)-FIND(\"+\",'Colour Contrast Analysis'!BI4)-2),LEN(RIGHT('Colour Contrast Analysis'!BI4,LEN('Colour Contrast Analysis'!BI4)-FIND(\"+\",'Colour Contrast Analysis'!BI4)-2))-11))=1,CHAR(10)&VALUE(LEFT(RIGHT('Colour Contrast Analysis'!BI4,LEN('Colour Contrast Analysis'!BI4)-FIND(\"+\",'Colour Contrast Analysis'!BI4)-2),LEN(RIGHT('Colour Contrast Analysis'!BI4,LEN('Colour Contrast Analysis'!BI4)-FIND(\"+\",'Colour Contrast Analysis'!BI4)-2))-11)) & \" combination of foreground and background colours is technically conformant, but its contrast should be increased.\",CHAR(10)&VALUE(LEFT(RIGHT('Colour Contrast Analysis'!BI4,LEN('Colour Contrast Analysis'!BI4)-FIND(\"+\",'Colour Contrast Analysis'!BI4)-2),LEN(RIGHT('Colour Contrast Analysis'!BI4,LEN('Colour Contrast Analysis'!BI4)-FIND(\"+\",'Colour Contrast Analysis'!BI4)-2))-11)) & \" combinations of foreground and background colours are technically conformant, but their contrast should be increased.\")) & CHAR(10) & \"Please see the Colour Contrast Analysis worksheet.\"","v":"0 combinations of foreground and background colours do not have sufficient contrast.\nPlease see the Colour Contrast Analysis worksheet."},{"$f":"LEFT('Colour Contrast Analysis'!BJ4,FIND(\" \",'Colour Contrast Analysis'!BJ4)-1)&\" combination\"&IF(VALUE(LEFT('Colour Contrast Analysis'!BJ4,FIND(\" \",'Colour Contrast Analysis'!BJ4)))=1,\"\",\"s\")&\" of foreground and background colours do\"&IF(VALUE(LEFT('Colour Contrast Analysis'!BJ4,FIND(\" \",'Colour Contrast Analysis'!BJ4)))=1,\"es\",\"\")&\" not have sufficient contrast.\"&IF(VALUE(LEFT(RIGHT('Colour Contrast Analysis'!BJ4,LEN('Colour Contrast Analysis'!BJ4)-FIND(\"+\",'Colour Contrast Analysis'!BJ4)-2),LEN(RIGHT('Colour Contrast Analysis'!BJ4,LEN('Colour Contrast Analysis'!BJ4)-FIND(\"+\",'Colour Contrast Analysis'!BJ4)-2))-11))=0,\"\",IF(VALUE(LEFT(RIGHT('Colour Contrast Analysis'!BJ4,LEN('Colour Contrast Analysis'!BJ4)-FIND(\"+\",'Colour Contrast Analysis'!BJ4)-2),LEN(RIGHT('Colour Contrast Analysis'!BJ4,LEN('Colour Contrast Analysis'!BJ4)-FIND(\"+\",'Colour Contrast Analysis'!BJ4)-2))-11))=1,CHAR(10)&VALUE(LEFT(RIGHT('Colour Contrast Analysis'!BJ4,LEN('Colour Contrast Analysis'!BJ4)-FIND(\"+\",'Colour Contrast Analysis'!BJ4)-2),LEN(RIGHT('Colour Contrast Analysis'!BJ4,LEN('Colour Contrast Analysis'!BJ4)-FIND(\"+\",'Colour Contrast Analysis'!BJ4)-2))-11)) & \" combination of foreground and background colours is technically conformant, but its contrast should be increased.\",CHAR(10)&VALUE(LEFT(RIGHT('Colour Contrast Analysis'!BJ4,LEN('Colour Contrast Analysis'!BJ4)-FIND(\"+\",'Colour Contrast Analysis'!BJ4)-2),LEN(RIGHT('Colour Contrast Analysis'!BJ4,LEN('Colour Contrast Analysis'!BJ4)-FIND(\"+\",'Colour Contrast Analysis'!BJ4)-2))-11)) & \" combinations of foreground and background colours are technically conformant, but their contrast should be increased.\")) & CHAR(10) & \"Please see the Colour Contrast Analysis worksheet.\"","v":"0 combinations of foreground and background colours do not have sufficient contrast.\nPlease see the Colour Contrast Analysis worksheet."},{"$f":"LEFT('Colour Contrast Analysis'!BK4,FIND(\" \",'Colour Contrast Analysis'!BK4)-1)&\" combination\"&IF(VALUE(LEFT('Colour Contrast Analysis'!BK4,FIND(\" \",'Colour Contrast Analysis'!BK4)))=1,\"\",\"s\")&\" of foreground and background colours do\"&IF(VALUE(LEFT('Colour Contrast Analysis'!BK4,FIND(\" \",'Colour Contrast Analysis'!BK4)))=1,\"es\",\"\")&\" not have sufficient contrast.\"&IF(VALUE(LEFT(RIGHT('Colour Contrast Analysis'!BK4,LEN('Colour Contrast Analysis'!BK4)-FIND(\"+\",'Colour Contrast Analysis'!BK4)-2),LEN(RIGHT('Colour Contrast Analysis'!BK4,LEN('Colour Contrast Analysis'!BK4)-FIND(\"+\",'Colour Contrast Analysis'!BK4)-2))-11))=0,\"\",IF(VALUE(LEFT(RIGHT('Colour Contrast Analysis'!BK4,LEN('Colour Contrast Analysis'!BK4)-FIND(\"+\",'Colour Contrast Analysis'!BK4)-2),LEN(RIGHT('Colour Contrast Analysis'!BK4,LEN('Colour Contrast Analysis'!BK4)-FIND(\"+\",'Colour Contrast Analysis'!BK4)-2))-11))=1,CHAR(10)&VALUE(LEFT(RIGHT('Colour Contrast Analysis'!BK4,LEN('Colour Contrast Analysis'!BK4)-FIND(\"+\",'Colour Contrast Analysis'!BK4)-2),LEN(RIGHT('Colour Contrast Analysis'!BK4,LEN('Colour Contrast Analysis'!BK4)-FIND(\"+\",'Colour Contrast Analysis'!BK4)-2))-11)) & \" combination of foreground and background colours is technically conformant, but its contrast should be increased.\",CHAR(10)&VALUE(LEFT(RIGHT('Colour Contrast Analysis'!BK4,LEN('Colour Contrast Analysis'!BK4)-FIND(\"+\",'Colour Contrast Analysis'!BK4)-2),LEN(RIGHT('Colour Contrast Analysis'!BK4,LEN('Colour Contrast Analysis'!BK4)-FIND(\"+\",'Colour Contrast Analysis'!BK4)-2))-11)) & \" combinations of foreground and background colours are technically conformant, but their contrast should be increased.\")) & CHAR(10) & \"Please see the Colour Contrast Analysis worksheet.\"","v":"0 combinations of foreground and background colours do not have sufficient contrast.\nPlease see the Colour Contrast Analysis worksheet."},{"$f":"LEFT('Colour Contrast Analysis'!BL4,FIND(\" \",'Colour Contrast Analysis'!BL4)-1)&\" combination\"&IF(VALUE(LEFT('Colour Contrast Analysis'!BL4,FIND(\" \",'Colour Contrast Analysis'!BL4)))=1,\"\",\"s\")&\" of foreground and background colours do\"&IF(VALUE(LEFT('Colour Contrast Analysis'!BL4,FIND(\" \",'Colour Contrast Analysis'!BL4)))=1,\"es\",\"\")&\" not have sufficient contrast.\"&IF(VALUE(LEFT(RIGHT('Colour Contrast Analysis'!BL4,LEN('Colour Contrast Analysis'!BL4)-FIND(\"+\",'Colour Contrast Analysis'!BL4)-2),LEN(RIGHT('Colour Contrast Analysis'!BL4,LEN('Colour Contrast Analysis'!BL4)-FIND(\"+\",'Colour Contrast Analysis'!BL4)-2))-11))=0,\"\",IF(VALUE(LEFT(RIGHT('Colour Contrast Analysis'!BL4,LEN('Colour Contrast Analysis'!BL4)-FIND(\"+\",'Colour Contrast Analysis'!BL4)-2),LEN(RIGHT('Colour Contrast Analysis'!BL4,LEN('Colour Contrast Analysis'!BL4)-FIND(\"+\",'Colour Contrast Analysis'!BL4)-2))-11))=1,CHAR(10)&VALUE(LEFT(RIGHT('Colour Contrast Analysis'!BL4,LEN('Colour Contrast Analysis'!BL4)-FIND(\"+\",'Colour Contrast Analysis'!BL4)-2),LEN(RIGHT('Colour Contrast Analysis'!BL4,LEN('Colour Contrast Analysis'!BL4)-FIND(\"+\",'Colour Contrast Analysis'!BL4)-2))-11)) & \" combination of foreground and background colours is technically conformant, but its contrast should be increased.\",CHAR(10)&VALUE(LEFT(RIGHT('Colour Contrast Analysis'!BL4,LEN('Colour Contrast Analysis'!BL4)-FIND(\"+\",'Colour Contrast Analysis'!BL4)-2),LEN(RIGHT('Colour Contrast Analysis'!BL4,LEN('Colour Contrast Analysis'!BL4)-FIND(\"+\",'Colour Contrast Analysis'!BL4)-2))-11)) & \" combinations of foreground and background colours are technically conformant, but their contrast should be increased.\")) & CHAR(10) & \"Please see the Colour Contrast Analysis worksheet.\"","v":"0 combinations of foreground and background colours do not have sufficient contrast.\nPlease see the Colour Contrast Analysis worksheet."},{"$f":"LEFT('Colour Contrast Analysis'!BM4,FIND(\" \",'Colour Contrast Analysis'!BM4)-1)&\" combination\"&IF(VALUE(LEFT('Colour Contrast Analysis'!BM4,FIND(\" \",'Colour Contrast Analysis'!BM4)))=1,\"\",\"s\")&\" of foreground and background colours do\"&IF(VALUE(LEFT('Colour Contrast Analysis'!BM4,FIND(\" \",'Colour Contrast Analysis'!BM4)))=1,\"es\",\"\")&\" not have sufficient contrast.\"&IF(VALUE(LEFT(RIGHT('Colour Contrast Analysis'!BM4,LEN('Colour Contrast Analysis'!BM4)-FIND(\"+\",'Colour Contrast Analysis'!BM4)-2),LEN(RIGHT('Colour Contrast Analysis'!BM4,LEN('Colour Contrast Analysis'!BM4)-FIND(\"+\",'Colour Contrast Analysis'!BM4)-2))-11))=0,\"\",IF(VALUE(LEFT(RIGHT('Colour Contrast Analysis'!BM4,LEN('Colour Contrast Analysis'!BM4)-FIND(\"+\",'Colour Contrast Analysis'!BM4)-2),LEN(RIGHT('Colour Contrast Analysis'!BM4,LEN('Colour Contrast Analysis'!BM4)-FIND(\"+\",'Colour Contrast Analysis'!BM4)-2))-11))=1,CHAR(10)&VALUE(LEFT(RIGHT('Colour Contrast Analysis'!BM4,LEN('Colour Contrast Analysis'!BM4)-FIND(\"+\",'Colour Contrast Analysis'!BM4)-2),LEN(RIGHT('Colour Contrast Analysis'!BM4,LEN('Colour Contrast Analysis'!BM4)-FIND(\"+\",'Colour Contrast Analysis'!BM4)-2))-11)) & \" combination of foreground and background colours is technically conformant, but its contrast should be increased.\",CHAR(10)&VALUE(LEFT(RIGHT('Colour Contrast Analysis'!BM4,LEN('Colour Contrast Analysis'!BM4)-FIND(\"+\",'Colour Contrast Analysis'!BM4)-2),LEN(RIGHT('Colour Contrast Analysis'!BM4,LEN('Colour Contrast Analysis'!BM4)-FIND(\"+\",'Colour Contrast Analysis'!BM4)-2))-11)) & \" combinations of foreground and background colours are technically conformant, but their contrast should be increased.\")) & CHAR(10) & \"Please see the Colour Contrast Analysis worksheet.\"","v":"0 combinations of foreground and background colours do not have sufficient contrast.\nPlease see the Colour Contrast Analysis worksheet."},{"$f":"LEFT('Colour Contrast Analysis'!BN4,FIND(\" \",'Colour Contrast Analysis'!BN4)-1)&\" combination\"&IF(VALUE(LEFT('Colour Contrast Analysis'!BN4,FIND(\" \",'Colour Contrast Analysis'!BN4)))=1,\"\",\"s\")&\" of foreground and background colours do\"&IF(VALUE(LEFT('Colour Contrast Analysis'!BN4,FIND(\" \",'Colour Contrast Analysis'!BN4)))=1,\"es\",\"\")&\" not have sufficient contrast.\"&IF(VALUE(LEFT(RIGHT('Colour Contrast Analysis'!BN4,LEN('Colour Contrast Analysis'!BN4)-FIND(\"+\",'Colour Contrast Analysis'!BN4)-2),LEN(RIGHT('Colour Contrast Analysis'!BN4,LEN('Colour Contrast Analysis'!BN4)-FIND(\"+\",'Colour Contrast Analysis'!BN4)-2))-11))=0,\"\",IF(VALUE(LEFT(RIGHT('Colour Contrast Analysis'!BN4,LEN('Colour Contrast Analysis'!BN4)-FIND(\"+\",'Colour Contrast Analysis'!BN4)-2),LEN(RIGHT('Colour Contrast Analysis'!BN4,LEN('Colour Contrast Analysis'!BN4)-FIND(\"+\",'Colour Contrast Analysis'!BN4)-2))-11))=1,CHAR(10)&VALUE(LEFT(RIGHT('Colour Contrast Analysis'!BN4,LEN('Colour Contrast Analysis'!BN4)-FIND(\"+\",'Colour Contrast Analysis'!BN4)-2),LEN(RIGHT('Colour Contrast Analysis'!BN4,LEN('Colour Contrast Analysis'!BN4)-FIND(\"+\",'Colour Contrast Analysis'!BN4)-2))-11)) & \" combination of foreground and background colours is technically conformant, but its contrast should be increased.\",CHAR(10)&VALUE(LEFT(RIGHT('Colour Contrast Analysis'!BN4,LEN('Colour Contrast Analysis'!BN4)-FIND(\"+\",'Colour Contrast Analysis'!BN4)-2),LEN(RIGHT('Colour Contrast Analysis'!BN4,LEN('Colour Contrast Analysis'!BN4)-FIND(\"+\",'Colour Contrast Analysis'!BN4)-2))-11)) & \" combinations of foreground and background colours are technically conformant, but their contrast should be increased.\")) & CHAR(10) & \"Please see the Colour Contrast Analysis worksheet.\"","v":"0 combinations of foreground and background colours do not have sufficient contrast.\nPlease see the Colour Contrast Analysis worksheet."},{"$f":"LEFT('Colour Contrast Analysis'!BO4,FIND(\" \",'Colour Contrast Analysis'!BO4)-1)&\" combination\"&IF(VALUE(LEFT('Colour Contrast Analysis'!BO4,FIND(\" \",'Colour Contrast Analysis'!BO4)))=1,\"\",\"s\")&\" of foreground and background colours do\"&IF(VALUE(LEFT('Colour Contrast Analysis'!BO4,FIND(\" \",'Colour Contrast Analysis'!BO4)))=1,\"es\",\"\")&\" not have sufficient contrast.\"&IF(VALUE(LEFT(RIGHT('Colour Contrast Analysis'!BO4,LEN('Colour Contrast Analysis'!BO4)-FIND(\"+\",'Colour Contrast Analysis'!BO4)-2),LEN(RIGHT('Colour Contrast Analysis'!BO4,LEN('Colour Contrast Analysis'!BO4)-FIND(\"+\",'Colour Contrast Analysis'!BO4)-2))-11))=0,\"\",IF(VALUE(LEFT(RIGHT('Colour Contrast Analysis'!BO4,LEN('Colour Contrast Analysis'!BO4)-FIND(\"+\",'Colour Contrast Analysis'!BO4)-2),LEN(RIGHT('Colour Contrast Analysis'!BO4,LEN('Colour Contrast Analysis'!BO4)-FIND(\"+\",'Colour Contrast Analysis'!BO4)-2))-11))=1,CHAR(10)&VALUE(LEFT(RIGHT('Colour Contrast Analysis'!BO4,LEN('Colour Contrast Analysis'!BO4)-FIND(\"+\",'Colour Contrast Analysis'!BO4)-2),LEN(RIGHT('Colour Contrast Analysis'!BO4,LEN('Colour Contrast Analysis'!BO4)-FIND(\"+\",'Colour Contrast Analysis'!BO4)-2))-11)) & \" combination of foreground and background colours is technically conformant, but its contrast should be increased.\",CHAR(10)&VALUE(LEFT(RIGHT('Colour Contrast Analysis'!BO4,LEN('Colour Contrast Analysis'!BO4)-FIND(\"+\",'Colour Contrast Analysis'!BO4)-2),LEN(RIGHT('Colour Contrast Analysis'!BO4,LEN('Colour Contrast Analysis'!BO4)-FIND(\"+\",'Colour Contrast Analysis'!BO4)-2))-11)) & \" combinations of foreground and background colours are technically conformant, but their contrast should be increased.\")) & CHAR(10) & \"Please see the Colour Contrast Analysis worksheet.\"","v":"0 combinations of foreground and background colours do not have sufficient contrast.\nPlease see the Colour Contrast Analysis worksheet."},{"$f":"LEFT('Colour Contrast Analysis'!BP4,FIND(\" \",'Colour Contrast Analysis'!BP4)-1)&\" combination\"&IF(VALUE(LEFT('Colour Contrast Analysis'!BP4,FIND(\" \",'Colour Contrast Analysis'!BP4)))=1,\"\",\"s\")&\" of foreground and background colours do\"&IF(VALUE(LEFT('Colour Contrast Analysis'!BP4,FIND(\" \",'Colour Contrast Analysis'!BP4)))=1,\"es\",\"\")&\" not have sufficient contrast.\"&IF(VALUE(LEFT(RIGHT('Colour Contrast Analysis'!BP4,LEN('Colour Contrast Analysis'!BP4)-FIND(\"+\",'Colour Contrast Analysis'!BP4)-2),LEN(RIGHT('Colour Contrast Analysis'!BP4,LEN('Colour Contrast Analysis'!BP4)-FIND(\"+\",'Colour Contrast Analysis'!BP4)-2))-11))=0,\"\",IF(VALUE(LEFT(RIGHT('Colour Contrast Analysis'!BP4,LEN('Colour Contrast Analysis'!BP4)-FIND(\"+\",'Colour Contrast Analysis'!BP4)-2),LEN(RIGHT('Colour Contrast Analysis'!BP4,LEN('Colour Contrast Analysis'!BP4)-FIND(\"+\",'Colour Contrast Analysis'!BP4)-2))-11))=1,CHAR(10)&VALUE(LEFT(RIGHT('Colour Contrast Analysis'!BP4,LEN('Colour Contrast Analysis'!BP4)-FIND(\"+\",'Colour Contrast Analysis'!BP4)-2),LEN(RIGHT('Colour Contrast Analysis'!BP4,LEN('Colour Contrast Analysis'!BP4)-FIND(\"+\",'Colour Contrast Analysis'!BP4)-2))-11)) & \" combination of foreground and background colours is technically conformant, but its contrast should be increased.\",CHAR(10)&VALUE(LEFT(RIGHT('Colour Contrast Analysis'!BP4,LEN('Colour Contrast Analysis'!BP4)-FIND(\"+\",'Colour Contrast Analysis'!BP4)-2),LEN(RIGHT('Colour Contrast Analysis'!BP4,LEN('Colour Contrast Analysis'!BP4)-FIND(\"+\",'Colour Contrast Analysis'!BP4)-2))-11)) & \" combinations of foreground and background colours are technically conformant, but their contrast should be increased.\")) & CHAR(10) & \"Please see the Colour Contrast Analysis worksheet.\"","v":"0 combinations of foreground and background colours do not have sufficient contrast.\nPlease see the Colour Contrast Analysis worksheet."},{"$f":"LEFT('Colour Contrast Analysis'!BQ4,FIND(\" \",'Colour Contrast Analysis'!BQ4)-1)&\" combination\"&IF(VALUE(LEFT('Colour Contrast Analysis'!BQ4,FIND(\" \",'Colour Contrast Analysis'!BQ4)))=1,\"\",\"s\")&\" of foreground and background colours do\"&IF(VALUE(LEFT('Colour Contrast Analysis'!BQ4,FIND(\" \",'Colour Contrast Analysis'!BQ4)))=1,\"es\",\"\")&\" not have sufficient contrast.\"&IF(VALUE(LEFT(RIGHT('Colour Contrast Analysis'!BQ4,LEN('Colour Contrast Analysis'!BQ4)-FIND(\"+\",'Colour Contrast Analysis'!BQ4)-2),LEN(RIGHT('Colour Contrast Analysis'!BQ4,LEN('Colour Contrast Analysis'!BQ4)-FIND(\"+\",'Colour Contrast Analysis'!BQ4)-2))-11))=0,\"\",IF(VALUE(LEFT(RIGHT('Colour Contrast Analysis'!BQ4,LEN('Colour Contrast Analysis'!BQ4)-FIND(\"+\",'Colour Contrast Analysis'!BQ4)-2),LEN(RIGHT('Colour Contrast Analysis'!BQ4,LEN('Colour Contrast Analysis'!BQ4)-FIND(\"+\",'Colour Contrast Analysis'!BQ4)-2))-11))=1,CHAR(10)&VALUE(LEFT(RIGHT('Colour Contrast Analysis'!BQ4,LEN('Colour Contrast Analysis'!BQ4)-FIND(\"+\",'Colour Contrast Analysis'!BQ4)-2),LEN(RIGHT('Colour Contrast Analysis'!BQ4,LEN('Colour Contrast Analysis'!BQ4)-FIND(\"+\",'Colour Contrast Analysis'!BQ4)-2))-11)) & \" combination of foreground and background colours is technically conformant, but its contrast should be increased.\",CHAR(10)&VALUE(LEFT(RIGHT('Colour Contrast Analysis'!BQ4,LEN('Colour Contrast Analysis'!BQ4)-FIND(\"+\",'Colour Contrast Analysis'!BQ4)-2),LEN(RIGHT('Colour Contrast Analysis'!BQ4,LEN('Colour Contrast Analysis'!BQ4)-FIND(\"+\",'Colour Contrast Analysis'!BQ4)-2))-11)) & \" combinations of foreground and background colours are technically conformant, but their contrast should be increased.\")) & CHAR(10) & \"Please see the Colour Contrast Analysis worksheet.\"","v":"0 combinations of foreground and background colours do not have sufficient contrast.\nPlease see the Colour Contrast Analysis worksheet."},{"$f":"LEFT('Colour Contrast Analysis'!BR4,FIND(\" \",'Colour Contrast Analysis'!BR4)-1)&\" combination\"&IF(VALUE(LEFT('Colour Contrast Analysis'!BR4,FIND(\" \",'Colour Contrast Analysis'!BR4)))=1,\"\",\"s\")&\" of foreground and background colours do\"&IF(VALUE(LEFT('Colour Contrast Analysis'!BR4,FIND(\" \",'Colour Contrast Analysis'!BR4)))=1,\"es\",\"\")&\" not have sufficient contrast.\"&IF(VALUE(LEFT(RIGHT('Colour Contrast Analysis'!BR4,LEN('Colour Contrast Analysis'!BR4)-FIND(\"+\",'Colour Contrast Analysis'!BR4)-2),LEN(RIGHT('Colour Contrast Analysis'!BR4,LEN('Colour Contrast Analysis'!BR4)-FIND(\"+\",'Colour Contrast Analysis'!BR4)-2))-11))=0,\"\",IF(VALUE(LEFT(RIGHT('Colour Contrast Analysis'!BR4,LEN('Colour Contrast Analysis'!BR4)-FIND(\"+\",'Colour Contrast Analysis'!BR4)-2),LEN(RIGHT('Colour Contrast Analysis'!BR4,LEN('Colour Contrast Analysis'!BR4)-FIND(\"+\",'Colour Contrast Analysis'!BR4)-2))-11))=1,CHAR(10)&VALUE(LEFT(RIGHT('Colour Contrast Analysis'!BR4,LEN('Colour Contrast Analysis'!BR4)-FIND(\"+\",'Colour Contrast Analysis'!BR4)-2),LEN(RIGHT('Colour Contrast Analysis'!BR4,LEN('Colour Contrast Analysis'!BR4)-FIND(\"+\",'Colour Contrast Analysis'!BR4)-2))-11)) & \" combination of foreground and background colours is technically conformant, but its contrast should be increased.\",CHAR(10)&VALUE(LEFT(RIGHT('Colour Contrast Analysis'!BR4,LEN('Colour Contrast Analysis'!BR4)-FIND(\"+\",'Colour Contrast Analysis'!BR4)-2),LEN(RIGHT('Colour Contrast Analysis'!BR4,LEN('Colour Contrast Analysis'!BR4)-FIND(\"+\",'Colour Contrast Analysis'!BR4)-2))-11)) & \" combinations of foreground and background colours are technically conformant, but their contrast should be increased.\")) & CHAR(10) & \"Please see the Colour Contrast Analysis worksheet.\"","v":"0 combinations of foreground and background colours do not have sufficient contrast.\nPlease see the Colour Contrast Analysis worksheet."},{"$f":"LEFT('Colour Contrast Analysis'!BS4,FIND(\" \",'Colour Contrast Analysis'!BS4)-1)&\" combination\"&IF(VALUE(LEFT('Colour Contrast Analysis'!BS4,FIND(\" \",'Colour Contrast Analysis'!BS4)))=1,\"\",\"s\")&\" of foreground and background colours do\"&IF(VALUE(LEFT('Colour Contrast Analysis'!BS4,FIND(\" \",'Colour Contrast Analysis'!BS4)))=1,\"es\",\"\")&\" not have sufficient contrast.\"&IF(VALUE(LEFT(RIGHT('Colour Contrast Analysis'!BS4,LEN('Colour Contrast Analysis'!BS4)-FIND(\"+\",'Colour Contrast Analysis'!BS4)-2),LEN(RIGHT('Colour Contrast Analysis'!BS4,LEN('Colour Contrast Analysis'!BS4)-FIND(\"+\",'Colour Contrast Analysis'!BS4)-2))-11))=0,\"\",IF(VALUE(LEFT(RIGHT('Colour Contrast Analysis'!BS4,LEN('Colour Contrast Analysis'!BS4)-FIND(\"+\",'Colour Contrast Analysis'!BS4)-2),LEN(RIGHT('Colour Contrast Analysis'!BS4,LEN('Colour Contrast Analysis'!BS4)-FIND(\"+\",'Colour Contrast Analysis'!BS4)-2))-11))=1,CHAR(10)&VALUE(LEFT(RIGHT('Colour Contrast Analysis'!BS4,LEN('Colour Contrast Analysis'!BS4)-FIND(\"+\",'Colour Contrast Analysis'!BS4)-2),LEN(RIGHT('Colour Contrast Analysis'!BS4,LEN('Colour Contrast Analysis'!BS4)-FIND(\"+\",'Colour Contrast Analysis'!BS4)-2))-11)) & \" combination of foreground and background colours is technically conformant, but its contrast should be increased.\",CHAR(10)&VALUE(LEFT(RIGHT('Colour Contrast Analysis'!BS4,LEN('Colour Contrast Analysis'!BS4)-FIND(\"+\",'Colour Contrast Analysis'!BS4)-2),LEN(RIGHT('Colour Contrast Analysis'!BS4,LEN('Colour Contrast Analysis'!BS4)-FIND(\"+\",'Colour Contrast Analysis'!BS4)-2))-11)) & \" combinations of foreground and background colours are technically conformant, but their contrast should be increased.\")) & CHAR(10) & \"Please see the Colour Contrast Analysis worksheet.\"","v":"0 combinations of foreground and background colours do not have sufficient contrast.\nPlease see the Colour Contrast Analysis worksheet."},{"$f":"LEFT('Colour Contrast Analysis'!BT4,FIND(\" \",'Colour Contrast Analysis'!BT4)-1)&\" combination\"&IF(VALUE(LEFT('Colour Contrast Analysis'!BT4,FIND(\" \",'Colour Contrast Analysis'!BT4)))=1,\"\",\"s\")&\" of foreground and background colours do\"&IF(VALUE(LEFT('Colour Contrast Analysis'!BT4,FIND(\" \",'Colour Contrast Analysis'!BT4)))=1,\"es\",\"\")&\" not have sufficient contrast.\"&IF(VALUE(LEFT(RIGHT('Colour Contrast Analysis'!BT4,LEN('Colour Contrast Analysis'!BT4)-FIND(\"+\",'Colour Contrast Analysis'!BT4)-2),LEN(RIGHT('Colour Contrast Analysis'!BT4,LEN('Colour Contrast Analysis'!BT4)-FIND(\"+\",'Colour Contrast Analysis'!BT4)-2))-11))=0,\"\",IF(VALUE(LEFT(RIGHT('Colour Contrast Analysis'!BT4,LEN('Colour Contrast Analysis'!BT4)-FIND(\"+\",'Colour Contrast Analysis'!BT4)-2),LEN(RIGHT('Colour Contrast Analysis'!BT4,LEN('Colour Contrast Analysis'!BT4)-FIND(\"+\",'Colour Contrast Analysis'!BT4)-2))-11))=1,CHAR(10)&VALUE(LEFT(RIGHT('Colour Contrast Analysis'!BT4,LEN('Colour Contrast Analysis'!BT4)-FIND(\"+\",'Colour Contrast Analysis'!BT4)-2),LEN(RIGHT('Colour Contrast Analysis'!BT4,LEN('Colour Contrast Analysis'!BT4)-FIND(\"+\",'Colour Contrast Analysis'!BT4)-2))-11)) & \" combination of foreground and background colours is technically conformant, but its contrast should be increased.\",CHAR(10)&VALUE(LEFT(RIGHT('Colour Contrast Analysis'!BT4,LEN('Colour Contrast Analysis'!BT4)-FIND(\"+\",'Colour Contrast Analysis'!BT4)-2),LEN(RIGHT('Colour Contrast Analysis'!BT4,LEN('Colour Contrast Analysis'!BT4)-FIND(\"+\",'Colour Contrast Analysis'!BT4)-2))-11)) & \" combinations of foreground and background colours are technically conformant, but their contrast should be increased.\")) & CHAR(10) & \"Please see the Colour Contrast Analysis worksheet.\"","v":"0 combinations of foreground and background colours do not have sufficient contrast.\nPlease see the Colour Contrast Analysis worksheet."},{"$f":"LEFT('Colour Contrast Analysis'!BU4,FIND(\" \",'Colour Contrast Analysis'!BU4)-1)&\" combination\"&IF(VALUE(LEFT('Colour Contrast Analysis'!BU4,FIND(\" \",'Colour Contrast Analysis'!BU4)))=1,\"\",\"s\")&\" of foreground and background colours do\"&IF(VALUE(LEFT('Colour Contrast Analysis'!BU4,FIND(\" \",'Colour Contrast Analysis'!BU4)))=1,\"es\",\"\")&\" not have sufficient contrast.\"&IF(VALUE(LEFT(RIGHT('Colour Contrast Analysis'!BU4,LEN('Colour Contrast Analysis'!BU4)-FIND(\"+\",'Colour Contrast Analysis'!BU4)-2),LEN(RIGHT('Colour Contrast Analysis'!BU4,LEN('Colour Contrast Analysis'!BU4)-FIND(\"+\",'Colour Contrast Analysis'!BU4)-2))-11))=0,\"\",IF(VALUE(LEFT(RIGHT('Colour Contrast Analysis'!BU4,LEN('Colour Contrast Analysis'!BU4)-FIND(\"+\",'Colour Contrast Analysis'!BU4)-2),LEN(RIGHT('Colour Contrast Analysis'!BU4,LEN('Colour Contrast Analysis'!BU4)-FIND(\"+\",'Colour Contrast Analysis'!BU4)-2))-11))=1,CHAR(10)&VALUE(LEFT(RIGHT('Colour Contrast Analysis'!BU4,LEN('Colour Contrast Analysis'!BU4)-FIND(\"+\",'Colour Contrast Analysis'!BU4)-2),LEN(RIGHT('Colour Contrast Analysis'!BU4,LEN('Colour Contrast Analysis'!BU4)-FIND(\"+\",'Colour Contrast Analysis'!BU4)-2))-11)) & \" combination of foreground and background colours is technically conformant, but its contrast should be increased.\",CHAR(10)&VALUE(LEFT(RIGHT('Colour Contrast Analysis'!BU4,LEN('Colour Contrast Analysis'!BU4)-FIND(\"+\",'Colour Contrast Analysis'!BU4)-2),LEN(RIGHT('Colour Contrast Analysis'!BU4,LEN('Colour Contrast Analysis'!BU4)-FIND(\"+\",'Colour Contrast Analysis'!BU4)-2))-11)) & \" combinations of foreground and background colours are technically conformant, but their contrast should be increased.\")) & CHAR(10) & \"Please see the Colour Contrast Analysis worksheet.\"","v":"0 combinations of foreground and background colours do not have sufficient contrast.\nPlease see the Colour Contrast Analysis worksheet."},{"$f":"LEFT('Colour Contrast Analysis'!BV4,FIND(\" \",'Colour Contrast Analysis'!BV4)-1)&\" combination\"&IF(VALUE(LEFT('Colour Contrast Analysis'!BV4,FIND(\" \",'Colour Contrast Analysis'!BV4)))=1,\"\",\"s\")&\" of foreground and background colours do\"&IF(VALUE(LEFT('Colour Contrast Analysis'!BV4,FIND(\" \",'Colour Contrast Analysis'!BV4)))=1,\"es\",\"\")&\" not have sufficient contrast.\"&IF(VALUE(LEFT(RIGHT('Colour Contrast Analysis'!BV4,LEN('Colour Contrast Analysis'!BV4)-FIND(\"+\",'Colour Contrast Analysis'!BV4)-2),LEN(RIGHT('Colour Contrast Analysis'!BV4,LEN('Colour Contrast Analysis'!BV4)-FIND(\"+\",'Colour Contrast Analysis'!BV4)-2))-11))=0,\"\",IF(VALUE(LEFT(RIGHT('Colour Contrast Analysis'!BV4,LEN('Colour Contrast Analysis'!BV4)-FIND(\"+\",'Colour Contrast Analysis'!BV4)-2),LEN(RIGHT('Colour Contrast Analysis'!BV4,LEN('Colour Contrast Analysis'!BV4)-FIND(\"+\",'Colour Contrast Analysis'!BV4)-2))-11))=1,CHAR(10)&VALUE(LEFT(RIGHT('Colour Contrast Analysis'!BV4,LEN('Colour Contrast Analysis'!BV4)-FIND(\"+\",'Colour Contrast Analysis'!BV4)-2),LEN(RIGHT('Colour Contrast Analysis'!BV4,LEN('Colour Contrast Analysis'!BV4)-FIND(\"+\",'Colour Contrast Analysis'!BV4)-2))-11)) & \" combination of foreground and background colours is technically conformant, but its contrast should be increased.\",CHAR(10)&VALUE(LEFT(RIGHT('Colour Contrast Analysis'!BV4,LEN('Colour Contrast Analysis'!BV4)-FIND(\"+\",'Colour Contrast Analysis'!BV4)-2),LEN(RIGHT('Colour Contrast Analysis'!BV4,LEN('Colour Contrast Analysis'!BV4)-FIND(\"+\",'Colour Contrast Analysis'!BV4)-2))-11)) & \" combinations of foreground and background colours are technically conformant, but their contrast should be increased.\")) & CHAR(10) & \"Please see the Colour Contrast Analysis worksheet.\"","v":"0 combinations of foreground and background colours do not have sufficient contrast.\nPlease see the Colour Contrast Analysis worksheet."},{"$f":"LEFT('Colour Contrast Analysis'!BW4,FIND(\" \",'Colour Contrast Analysis'!BW4)-1)&\" combination\"&IF(VALUE(LEFT('Colour Contrast Analysis'!BW4,FIND(\" \",'Colour Contrast Analysis'!BW4)))=1,\"\",\"s\")&\" of foreground and background colours do\"&IF(VALUE(LEFT('Colour Contrast Analysis'!BW4,FIND(\" \",'Colour Contrast Analysis'!BW4)))=1,\"es\",\"\")&\" not have sufficient contrast.\"&IF(VALUE(LEFT(RIGHT('Colour Contrast Analysis'!BW4,LEN('Colour Contrast Analysis'!BW4)-FIND(\"+\",'Colour Contrast Analysis'!BW4)-2),LEN(RIGHT('Colour Contrast Analysis'!BW4,LEN('Colour Contrast Analysis'!BW4)-FIND(\"+\",'Colour Contrast Analysis'!BW4)-2))-11))=0,\"\",IF(VALUE(LEFT(RIGHT('Colour Contrast Analysis'!BW4,LEN('Colour Contrast Analysis'!BW4)-FIND(\"+\",'Colour Contrast Analysis'!BW4)-2),LEN(RIGHT('Colour Contrast Analysis'!BW4,LEN('Colour Contrast Analysis'!BW4)-FIND(\"+\",'Colour Contrast Analysis'!BW4)-2))-11))=1,CHAR(10)&VALUE(LEFT(RIGHT('Colour Contrast Analysis'!BW4,LEN('Colour Contrast Analysis'!BW4)-FIND(\"+\",'Colour Contrast Analysis'!BW4)-2),LEN(RIGHT('Colour Contrast Analysis'!BW4,LEN('Colour Contrast Analysis'!BW4)-FIND(\"+\",'Colour Contrast Analysis'!BW4)-2))-11)) & \" combination of foreground and background colours is technically conformant, but its contrast should be increased.\",CHAR(10)&VALUE(LEFT(RIGHT('Colour Contrast Analysis'!BW4,LEN('Colour Contrast Analysis'!BW4)-FIND(\"+\",'Colour Contrast Analysis'!BW4)-2),LEN(RIGHT('Colour Contrast Analysis'!BW4,LEN('Colour Contrast Analysis'!BW4)-FIND(\"+\",'Colour Contrast Analysis'!BW4)-2))-11)) & \" combinations of foreground and background colours are technically conformant, but their contrast should be increased.\")) & CHAR(10) & \"Please see the Colour Contrast Analysis worksheet.\"","v":"0 combinations of foreground and background colours do not have sufficient contrast.\nPlease see the Colour Contrast Analysis worksheet."},{"$f":"LEFT('Colour Contrast Analysis'!BX4,FIND(\" \",'Colour Contrast Analysis'!BX4)-1)&\" combination\"&IF(VALUE(LEFT('Colour Contrast Analysis'!BX4,FIND(\" \",'Colour Contrast Analysis'!BX4)))=1,\"\",\"s\")&\" of foreground and background colours do\"&IF(VALUE(LEFT('Colour Contrast Analysis'!BX4,FIND(\" \",'Colour Contrast Analysis'!BX4)))=1,\"es\",\"\")&\" not have sufficient contrast.\"&IF(VALUE(LEFT(RIGHT('Colour Contrast Analysis'!BX4,LEN('Colour Contrast Analysis'!BX4)-FIND(\"+\",'Colour Contrast Analysis'!BX4)-2),LEN(RIGHT('Colour Contrast Analysis'!BX4,LEN('Colour Contrast Analysis'!BX4)-FIND(\"+\",'Colour Contrast Analysis'!BX4)-2))-11))=0,\"\",IF(VALUE(LEFT(RIGHT('Colour Contrast Analysis'!BX4,LEN('Colour Contrast Analysis'!BX4)-FIND(\"+\",'Colour Contrast Analysis'!BX4)-2),LEN(RIGHT('Colour Contrast Analysis'!BX4,LEN('Colour Contrast Analysis'!BX4)-FIND(\"+\",'Colour Contrast Analysis'!BX4)-2))-11))=1,CHAR(10)&VALUE(LEFT(RIGHT('Colour Contrast Analysis'!BX4,LEN('Colour Contrast Analysis'!BX4)-FIND(\"+\",'Colour Contrast Analysis'!BX4)-2),LEN(RIGHT('Colour Contrast Analysis'!BX4,LEN('Colour Contrast Analysis'!BX4)-FIND(\"+\",'Colour Contrast Analysis'!BX4)-2))-11)) & \" combination of foreground and background colours is technically conformant, but its contrast should be increased.\",CHAR(10)&VALUE(LEFT(RIGHT('Colour Contrast Analysis'!BX4,LEN('Colour Contrast Analysis'!BX4)-FIND(\"+\",'Colour Contrast Analysis'!BX4)-2),LEN(RIGHT('Colour Contrast Analysis'!BX4,LEN('Colour Contrast Analysis'!BX4)-FIND(\"+\",'Colour Contrast Analysis'!BX4)-2))-11)) & \" combinations of foreground and background colours are technically conformant, but their contrast should be increased.\")) & CHAR(10) & \"Please see the Colour Contrast Analysis worksheet.\"","v":"0 combinations of foreground and background colours do not have sufficient contrast.\nPlease see the Colour Contrast Analysis worksheet."},{"$f":"LEFT('Colour Contrast Analysis'!BY4,FIND(\" \",'Colour Contrast Analysis'!BY4)-1)&\" combination\"&IF(VALUE(LEFT('Colour Contrast Analysis'!BY4,FIND(\" \",'Colour Contrast Analysis'!BY4)))=1,\"\",\"s\")&\" of foreground and background colours do\"&IF(VALUE(LEFT('Colour Contrast Analysis'!BY4,FIND(\" \",'Colour Contrast Analysis'!BY4)))=1,\"es\",\"\")&\" not have sufficient contrast.\"&IF(VALUE(LEFT(RIGHT('Colour Contrast Analysis'!BY4,LEN('Colour Contrast Analysis'!BY4)-FIND(\"+\",'Colour Contrast Analysis'!BY4)-2),LEN(RIGHT('Colour Contrast Analysis'!BY4,LEN('Colour Contrast Analysis'!BY4)-FIND(\"+\",'Colour Contrast Analysis'!BY4)-2))-11))=0,\"\",IF(VALUE(LEFT(RIGHT('Colour Contrast Analysis'!BY4,LEN('Colour Contrast Analysis'!BY4)-FIND(\"+\",'Colour Contrast Analysis'!BY4)-2),LEN(RIGHT('Colour Contrast Analysis'!BY4,LEN('Colour Contrast Analysis'!BY4)-FIND(\"+\",'Colour Contrast Analysis'!BY4)-2))-11))=1,CHAR(10)&VALUE(LEFT(RIGHT('Colour Contrast Analysis'!BY4,LEN('Colour Contrast Analysis'!BY4)-FIND(\"+\",'Colour Contrast Analysis'!BY4)-2),LEN(RIGHT('Colour Contrast Analysis'!BY4,LEN('Colour Contrast Analysis'!BY4)-FIND(\"+\",'Colour Contrast Analysis'!BY4)-2))-11)) & \" combination of foreground and background colours is technically conformant, but its contrast should be increased.\",CHAR(10)&VALUE(LEFT(RIGHT('Colour Contrast Analysis'!BY4,LEN('Colour Contrast Analysis'!BY4)-FIND(\"+\",'Colour Contrast Analysis'!BY4)-2),LEN(RIGHT('Colour Contrast Analysis'!BY4,LEN('Colour Contrast Analysis'!BY4)-FIND(\"+\",'Colour Contrast Analysis'!BY4)-2))-11)) & \" combinations of foreground and background colours are technically conformant, but their contrast should be increased.\")) & CHAR(10) & \"Please see the Colour Contrast Analysis worksheet.\"","v":"0 combinations of foreground and background colours do not have sufficient contrast.\nPlease see the Colour Contrast Analysis worksheet."},{"$f":"LEFT('Colour Contrast Analysis'!BZ4,FIND(\" \",'Colour Contrast Analysis'!BZ4)-1)&\" combination\"&IF(VALUE(LEFT('Colour Contrast Analysis'!BZ4,FIND(\" \",'Colour Contrast Analysis'!BZ4)))=1,\"\",\"s\")&\" of foreground and background colours do\"&IF(VALUE(LEFT('Colour Contrast Analysis'!BZ4,FIND(\" \",'Colour Contrast Analysis'!BZ4)))=1,\"es\",\"\")&\" not have sufficient contrast.\"&IF(VALUE(LEFT(RIGHT('Colour Contrast Analysis'!BZ4,LEN('Colour Contrast Analysis'!BZ4)-FIND(\"+\",'Colour Contrast Analysis'!BZ4)-2),LEN(RIGHT('Colour Contrast Analysis'!BZ4,LEN('Colour Contrast Analysis'!BZ4)-FIND(\"+\",'Colour Contrast Analysis'!BZ4)-2))-11))=0,\"\",IF(VALUE(LEFT(RIGHT('Colour Contrast Analysis'!BZ4,LEN('Colour Contrast Analysis'!BZ4)-FIND(\"+\",'Colour Contrast Analysis'!BZ4)-2),LEN(RIGHT('Colour Contrast Analysis'!BZ4,LEN('Colour Contrast Analysis'!BZ4)-FIND(\"+\",'Colour Contrast Analysis'!BZ4)-2))-11))=1,CHAR(10)&VALUE(LEFT(RIGHT('Colour Contrast Analysis'!BZ4,LEN('Colour Contrast Analysis'!BZ4)-FIND(\"+\",'Colour Contrast Analysis'!BZ4)-2),LEN(RIGHT('Colour Contrast Analysis'!BZ4,LEN('Colour Contrast Analysis'!BZ4)-FIND(\"+\",'Colour Contrast Analysis'!BZ4)-2))-11)) & \" combination of foreground and background colours is technically conformant, but its contrast should be increased.\",CHAR(10)&VALUE(LEFT(RIGHT('Colour Contrast Analysis'!BZ4,LEN('Colour Contrast Analysis'!BZ4)-FIND(\"+\",'Colour Contrast Analysis'!BZ4)-2),LEN(RIGHT('Colour Contrast Analysis'!BZ4,LEN('Colour Contrast Analysis'!BZ4)-FIND(\"+\",'Colour Contrast Analysis'!BZ4)-2))-11)) & \" combinations of foreground and background colours are technically conformant, but their contrast should be increased.\")) & CHAR(10) & \"Please see the Colour Contrast Analysis worksheet.\"","v":"0 combinations of foreground and background colours do not have sufficient contrast.\nPlease see the Colour Contrast Analysis worksheet."},{"$f":"LEFT('Colour Contrast Analysis'!CA4,FIND(\" \",'Colour Contrast Analysis'!CA4)-1)&\" combination\"&IF(VALUE(LEFT('Colour Contrast Analysis'!CA4,FIND(\" \",'Colour Contrast Analysis'!CA4)))=1,\"\",\"s\")&\" of foreground and background colours do\"&IF(VALUE(LEFT('Colour Contrast Analysis'!CA4,FIND(\" \",'Colour Contrast Analysis'!CA4)))=1,\"es\",\"\")&\" not have sufficient contrast.\"&IF(VALUE(LEFT(RIGHT('Colour Contrast Analysis'!CA4,LEN('Colour Contrast Analysis'!CA4)-FIND(\"+\",'Colour Contrast Analysis'!CA4)-2),LEN(RIGHT('Colour Contrast Analysis'!CA4,LEN('Colour Contrast Analysis'!CA4)-FIND(\"+\",'Colour Contrast Analysis'!CA4)-2))-11))=0,\"\",IF(VALUE(LEFT(RIGHT('Colour Contrast Analysis'!CA4,LEN('Colour Contrast Analysis'!CA4)-FIND(\"+\",'Colour Contrast Analysis'!CA4)-2),LEN(RIGHT('Colour Contrast Analysis'!CA4,LEN('Colour Contrast Analysis'!CA4)-FIND(\"+\",'Colour Contrast Analysis'!CA4)-2))-11))=1,CHAR(10)&VALUE(LEFT(RIGHT('Colour Contrast Analysis'!CA4,LEN('Colour Contrast Analysis'!CA4)-FIND(\"+\",'Colour Contrast Analysis'!CA4)-2),LEN(RIGHT('Colour Contrast Analysis'!CA4,LEN('Colour Contrast Analysis'!CA4)-FIND(\"+\",'Colour Contrast Analysis'!CA4)-2))-11)) & \" combination of foreground and background colours is technically conformant, but its contrast should be increased.\",CHAR(10)&VALUE(LEFT(RIGHT('Colour Contrast Analysis'!CA4,LEN('Colour Contrast Analysis'!CA4)-FIND(\"+\",'Colour Contrast Analysis'!CA4)-2),LEN(RIGHT('Colour Contrast Analysis'!CA4,LEN('Colour Contrast Analysis'!CA4)-FIND(\"+\",'Colour Contrast Analysis'!CA4)-2))-11)) & \" combinations of foreground and background colours are technically conformant, but their contrast should be increased.\")) & CHAR(10) & \"Please see the Colour Contrast Analysis worksheet.\"","v":"0 combinations of foreground and background colours do not have sufficient contrast.\nPlease see the Colour Contrast Analysis worksheet."},{"$f":"LEFT('Colour Contrast Analysis'!CB4,FIND(\" \",'Colour Contrast Analysis'!CB4)-1)&\" combination\"&IF(VALUE(LEFT('Colour Contrast Analysis'!CB4,FIND(\" \",'Colour Contrast Analysis'!CB4)))=1,\"\",\"s\")&\" of foreground and background colours do\"&IF(VALUE(LEFT('Colour Contrast Analysis'!CB4,FIND(\" \",'Colour Contrast Analysis'!CB4)))=1,\"es\",\"\")&\" not have sufficient contrast.\"&IF(VALUE(LEFT(RIGHT('Colour Contrast Analysis'!CB4,LEN('Colour Contrast Analysis'!CB4)-FIND(\"+\",'Colour Contrast Analysis'!CB4)-2),LEN(RIGHT('Colour Contrast Analysis'!CB4,LEN('Colour Contrast Analysis'!CB4)-FIND(\"+\",'Colour Contrast Analysis'!CB4)-2))-11))=0,\"\",IF(VALUE(LEFT(RIGHT('Colour Contrast Analysis'!CB4,LEN('Colour Contrast Analysis'!CB4)-FIND(\"+\",'Colour Contrast Analysis'!CB4)-2),LEN(RIGHT('Colour Contrast Analysis'!CB4,LEN('Colour Contrast Analysis'!CB4)-FIND(\"+\",'Colour Contrast Analysis'!CB4)-2))-11))=1,CHAR(10)&VALUE(LEFT(RIGHT('Colour Contrast Analysis'!CB4,LEN('Colour Contrast Analysis'!CB4)-FIND(\"+\",'Colour Contrast Analysis'!CB4)-2),LEN(RIGHT('Colour Contrast Analysis'!CB4,LEN('Colour Contrast Analysis'!CB4)-FIND(\"+\",'Colour Contrast Analysis'!CB4)-2))-11)) & \" combination of foreground and background colours is technically conformant, but its contrast should be increased.\",CHAR(10)&VALUE(LEFT(RIGHT('Colour Contrast Analysis'!CB4,LEN('Colour Contrast Analysis'!CB4)-FIND(\"+\",'Colour Contrast Analysis'!CB4)-2),LEN(RIGHT('Colour Contrast Analysis'!CB4,LEN('Colour Contrast Analysis'!CB4)-FIND(\"+\",'Colour Contrast Analysis'!CB4)-2))-11)) & \" combinations of foreground and background colours are technically conformant, but their contrast should be increased.\")) & CHAR(10) & \"Please see the Colour Contrast Analysis worksheet.\"","v":"0 combinations of foreground and background colours do not have sufficient contrast.\nPlease see the Colour Contrast Analysis worksheet."},{"$f":"LEFT('Colour Contrast Analysis'!CC4,FIND(\" \",'Colour Contrast Analysis'!CC4)-1)&\" combination\"&IF(VALUE(LEFT('Colour Contrast Analysis'!CC4,FIND(\" \",'Colour Contrast Analysis'!CC4)))=1,\"\",\"s\")&\" of foreground and background colours do\"&IF(VALUE(LEFT('Colour Contrast Analysis'!CC4,FIND(\" \",'Colour Contrast Analysis'!CC4)))=1,\"es\",\"\")&\" not have sufficient contrast.\"&IF(VALUE(LEFT(RIGHT('Colour Contrast Analysis'!CC4,LEN('Colour Contrast Analysis'!CC4)-FIND(\"+\",'Colour Contrast Analysis'!CC4)-2),LEN(RIGHT('Colour Contrast Analysis'!CC4,LEN('Colour Contrast Analysis'!CC4)-FIND(\"+\",'Colour Contrast Analysis'!CC4)-2))-11))=0,\"\",IF(VALUE(LEFT(RIGHT('Colour Contrast Analysis'!CC4,LEN('Colour Contrast Analysis'!CC4)-FIND(\"+\",'Colour Contrast Analysis'!CC4)-2),LEN(RIGHT('Colour Contrast Analysis'!CC4,LEN('Colour Contrast Analysis'!CC4)-FIND(\"+\",'Colour Contrast Analysis'!CC4)-2))-11))=1,CHAR(10)&VALUE(LEFT(RIGHT('Colour Contrast Analysis'!CC4,LEN('Colour Contrast Analysis'!CC4)-FIND(\"+\",'Colour Contrast Analysis'!CC4)-2),LEN(RIGHT('Colour Contrast Analysis'!CC4,LEN('Colour Contrast Analysis'!CC4)-FIND(\"+\",'Colour Contrast Analysis'!CC4)-2))-11)) & \" combination of foreground and background colours is technically conformant, but its contrast should be increased.\",CHAR(10)&VALUE(LEFT(RIGHT('Colour Contrast Analysis'!CC4,LEN('Colour Contrast Analysis'!CC4)-FIND(\"+\",'Colour Contrast Analysis'!CC4)-2),LEN(RIGHT('Colour Contrast Analysis'!CC4,LEN('Colour Contrast Analysis'!CC4)-FIND(\"+\",'Colour Contrast Analysis'!CC4)-2))-11)) & \" combinations of foreground and background colours are technically conformant, but their contrast should be increased.\")) & CHAR(10) & \"Please see the Colour Contrast Analysis worksheet.\"","v":"0 combinations of foreground and background colours do not have sufficient contrast.\nPlease see the Colour Contrast Analysis worksheet."},{"$f":"LEFT('Colour Contrast Analysis'!CD4,FIND(\" \",'Colour Contrast Analysis'!CD4)-1)&\" combination\"&IF(VALUE(LEFT('Colour Contrast Analysis'!CD4,FIND(\" \",'Colour Contrast Analysis'!CD4)))=1,\"\",\"s\")&\" of foreground and background colours do\"&IF(VALUE(LEFT('Colour Contrast Analysis'!CD4,FIND(\" \",'Colour Contrast Analysis'!CD4)))=1,\"es\",\"\")&\" not have sufficient contrast.\"&IF(VALUE(LEFT(RIGHT('Colour Contrast Analysis'!CD4,LEN('Colour Contrast Analysis'!CD4)-FIND(\"+\",'Colour Contrast Analysis'!CD4)-2),LEN(RIGHT('Colour Contrast Analysis'!CD4,LEN('Colour Contrast Analysis'!CD4)-FIND(\"+\",'Colour Contrast Analysis'!CD4)-2))-11))=0,\"\",IF(VALUE(LEFT(RIGHT('Colour Contrast Analysis'!CD4,LEN('Colour Contrast Analysis'!CD4)-FIND(\"+\",'Colour Contrast Analysis'!CD4)-2),LEN(RIGHT('Colour Contrast Analysis'!CD4,LEN('Colour Contrast Analysis'!CD4)-FIND(\"+\",'Colour Contrast Analysis'!CD4)-2))-11))=1,CHAR(10)&VALUE(LEFT(RIGHT('Colour Contrast Analysis'!CD4,LEN('Colour Contrast Analysis'!CD4)-FIND(\"+\",'Colour Contrast Analysis'!CD4)-2),LEN(RIGHT('Colour Contrast Analysis'!CD4,LEN('Colour Contrast Analysis'!CD4)-FIND(\"+\",'Colour Contrast Analysis'!CD4)-2))-11)) & \" combination of foreground and background colours is technically conformant, but its contrast should be increased.\",CHAR(10)&VALUE(LEFT(RIGHT('Colour Contrast Analysis'!CD4,LEN('Colour Contrast Analysis'!CD4)-FIND(\"+\",'Colour Contrast Analysis'!CD4)-2),LEN(RIGHT('Colour Contrast Analysis'!CD4,LEN('Colour Contrast Analysis'!CD4)-FIND(\"+\",'Colour Contrast Analysis'!CD4)-2))-11)) & \" combinations of foreground and background colours are technically conformant, but their contrast should be increased.\")) & CHAR(10) & \"Please see the Colour Contrast Analysis worksheet.\"","v":"0 combinations of foreground and background colours do not have sufficient contrast.\nPlease see the Colour Contrast Analysis worksheet."},{"$f":"LEFT('Colour Contrast Analysis'!CE4,FIND(\" \",'Colour Contrast Analysis'!CE4)-1)&\" combination\"&IF(VALUE(LEFT('Colour Contrast Analysis'!CE4,FIND(\" \",'Colour Contrast Analysis'!CE4)))=1,\"\",\"s\")&\" of foreground and background colours do\"&IF(VALUE(LEFT('Colour Contrast Analysis'!CE4,FIND(\" \",'Colour Contrast Analysis'!CE4)))=1,\"es\",\"\")&\" not have sufficient contrast.\"&IF(VALUE(LEFT(RIGHT('Colour Contrast Analysis'!CE4,LEN('Colour Contrast Analysis'!CE4)-FIND(\"+\",'Colour Contrast Analysis'!CE4)-2),LEN(RIGHT('Colour Contrast Analysis'!CE4,LEN('Colour Contrast Analysis'!CE4)-FIND(\"+\",'Colour Contrast Analysis'!CE4)-2))-11))=0,\"\",IF(VALUE(LEFT(RIGHT('Colour Contrast Analysis'!CE4,LEN('Colour Contrast Analysis'!CE4)-FIND(\"+\",'Colour Contrast Analysis'!CE4)-2),LEN(RIGHT('Colour Contrast Analysis'!CE4,LEN('Colour Contrast Analysis'!CE4)-FIND(\"+\",'Colour Contrast Analysis'!CE4)-2))-11))=1,CHAR(10)&VALUE(LEFT(RIGHT('Colour Contrast Analysis'!CE4,LEN('Colour Contrast Analysis'!CE4)-FIND(\"+\",'Colour Contrast Analysis'!CE4)-2),LEN(RIGHT('Colour Contrast Analysis'!CE4,LEN('Colour Contrast Analysis'!CE4)-FIND(\"+\",'Colour Contrast Analysis'!CE4)-2))-11)) & \" combination of foreground and background colours is technically conformant, but its contrast should be increased.\",CHAR(10)&VALUE(LEFT(RIGHT('Colour Contrast Analysis'!CE4,LEN('Colour Contrast Analysis'!CE4)-FIND(\"+\",'Colour Contrast Analysis'!CE4)-2),LEN(RIGHT('Colour Contrast Analysis'!CE4,LEN('Colour Contrast Analysis'!CE4)-FIND(\"+\",'Colour Contrast Analysis'!CE4)-2))-11)) & \" combinations of foreground and background colours are technically conformant, but their contrast should be increased.\")) & CHAR(10) & \"Please see the Colour Contrast Analysis worksheet.\"","v":"0 combinations of foreground and background colours do not have sufficient contrast.\nPlease see the Colour Contrast Analysis worksheet."},{"$f":"LEFT('Colour Contrast Analysis'!CF4,FIND(\" \",'Colour Contrast Analysis'!CF4)-1)&\" combination\"&IF(VALUE(LEFT('Colour Contrast Analysis'!CF4,FIND(\" \",'Colour Contrast Analysis'!CF4)))=1,\"\",\"s\")&\" of foreground and background colours do\"&IF(VALUE(LEFT('Colour Contrast Analysis'!CF4,FIND(\" \",'Colour Contrast Analysis'!CF4)))=1,\"es\",\"\")&\" not have sufficient contrast.\"&IF(VALUE(LEFT(RIGHT('Colour Contrast Analysis'!CF4,LEN('Colour Contrast Analysis'!CF4)-FIND(\"+\",'Colour Contrast Analysis'!CF4)-2),LEN(RIGHT('Colour Contrast Analysis'!CF4,LEN('Colour Contrast Analysis'!CF4)-FIND(\"+\",'Colour Contrast Analysis'!CF4)-2))-11))=0,\"\",IF(VALUE(LEFT(RIGHT('Colour Contrast Analysis'!CF4,LEN('Colour Contrast Analysis'!CF4)-FIND(\"+\",'Colour Contrast Analysis'!CF4)-2),LEN(RIGHT('Colour Contrast Analysis'!CF4,LEN('Colour Contrast Analysis'!CF4)-FIND(\"+\",'Colour Contrast Analysis'!CF4)-2))-11))=1,CHAR(10)&VALUE(LEFT(RIGHT('Colour Contrast Analysis'!CF4,LEN('Colour Contrast Analysis'!CF4)-FIND(\"+\",'Colour Contrast Analysis'!CF4)-2),LEN(RIGHT('Colour Contrast Analysis'!CF4,LEN('Colour Contrast Analysis'!CF4)-FIND(\"+\",'Colour Contrast Analysis'!CF4)-2))-11)) & \" combination of foreground and background colours is technically conformant, but its contrast should be increased.\",CHAR(10)&VALUE(LEFT(RIGHT('Colour Contrast Analysis'!CF4,LEN('Colour Contrast Analysis'!CF4)-FIND(\"+\",'Colour Contrast Analysis'!CF4)-2),LEN(RIGHT('Colour Contrast Analysis'!CF4,LEN('Colour Contrast Analysis'!CF4)-FIND(\"+\",'Colour Contrast Analysis'!CF4)-2))-11)) & \" combinations of foreground and background colours are technically conformant, but their contrast should be increased.\")) & CHAR(10) & \"Please see the Colour Contrast Analysis worksheet.\"","v":"0 combinations of foreground and background colours do not have sufficient contrast.\nPlease see the Colour Contrast Analysis worksheet."},{"$f":"LEFT('Colour Contrast Analysis'!CG4,FIND(\" \",'Colour Contrast Analysis'!CG4)-1)&\" combination\"&IF(VALUE(LEFT('Colour Contrast Analysis'!CG4,FIND(\" \",'Colour Contrast Analysis'!CG4)))=1,\"\",\"s\")&\" of foreground and background colours do\"&IF(VALUE(LEFT('Colour Contrast Analysis'!CG4,FIND(\" \",'Colour Contrast Analysis'!CG4)))=1,\"es\",\"\")&\" not have sufficient contrast.\"&IF(VALUE(LEFT(RIGHT('Colour Contrast Analysis'!CG4,LEN('Colour Contrast Analysis'!CG4)-FIND(\"+\",'Colour Contrast Analysis'!CG4)-2),LEN(RIGHT('Colour Contrast Analysis'!CG4,LEN('Colour Contrast Analysis'!CG4)-FIND(\"+\",'Colour Contrast Analysis'!CG4)-2))-11))=0,\"\",IF(VALUE(LEFT(RIGHT('Colour Contrast Analysis'!CG4,LEN('Colour Contrast Analysis'!CG4)-FIND(\"+\",'Colour Contrast Analysis'!CG4)-2),LEN(RIGHT('Colour Contrast Analysis'!CG4,LEN('Colour Contrast Analysis'!CG4)-FIND(\"+\",'Colour Contrast Analysis'!CG4)-2))-11))=1,CHAR(10)&VALUE(LEFT(RIGHT('Colour Contrast Analysis'!CG4,LEN('Colour Contrast Analysis'!CG4)-FIND(\"+\",'Colour Contrast Analysis'!CG4)-2),LEN(RIGHT('Colour Contrast Analysis'!CG4,LEN('Colour Contrast Analysis'!CG4)-FIND(\"+\",'Colour Contrast Analysis'!CG4)-2))-11)) & \" combination of foreground and background colours is technically conformant, but its contrast should be increased.\",CHAR(10)&VALUE(LEFT(RIGHT('Colour Contrast Analysis'!CG4,LEN('Colour Contrast Analysis'!CG4)-FIND(\"+\",'Colour Contrast Analysis'!CG4)-2),LEN(RIGHT('Colour Contrast Analysis'!CG4,LEN('Colour Contrast Analysis'!CG4)-FIND(\"+\",'Colour Contrast Analysis'!CG4)-2))-11)) & \" combinations of foreground and background colours are technically conformant, but their contrast should be increased.\")) & CHAR(10) & \"Please see the Colour Contrast Analysis worksheet.\"","v":"0 combinations of foreground and background colours do not have sufficient contrast.\nPlease see the Colour Contrast Analysis worksheet."},{"$f":"LEFT('Colour Contrast Analysis'!CH4,FIND(\" \",'Colour Contrast Analysis'!CH4)-1)&\" combination\"&IF(VALUE(LEFT('Colour Contrast Analysis'!CH4,FIND(\" \",'Colour Contrast Analysis'!CH4)))=1,\"\",\"s\")&\" of foreground and background colours do\"&IF(VALUE(LEFT('Colour Contrast Analysis'!CH4,FIND(\" \",'Colour Contrast Analysis'!CH4)))=1,\"es\",\"\")&\" not have sufficient contrast.\"&IF(VALUE(LEFT(RIGHT('Colour Contrast Analysis'!CH4,LEN('Colour Contrast Analysis'!CH4)-FIND(\"+\",'Colour Contrast Analysis'!CH4)-2),LEN(RIGHT('Colour Contrast Analysis'!CH4,LEN('Colour Contrast Analysis'!CH4)-FIND(\"+\",'Colour Contrast Analysis'!CH4)-2))-11))=0,\"\",IF(VALUE(LEFT(RIGHT('Colour Contrast Analysis'!CH4,LEN('Colour Contrast Analysis'!CH4)-FIND(\"+\",'Colour Contrast Analysis'!CH4)-2),LEN(RIGHT('Colour Contrast Analysis'!CH4,LEN('Colour Contrast Analysis'!CH4)-FIND(\"+\",'Colour Contrast Analysis'!CH4)-2))-11))=1,CHAR(10)&VALUE(LEFT(RIGHT('Colour Contrast Analysis'!CH4,LEN('Colour Contrast Analysis'!CH4)-FIND(\"+\",'Colour Contrast Analysis'!CH4)-2),LEN(RIGHT('Colour Contrast Analysis'!CH4,LEN('Colour Contrast Analysis'!CH4)-FIND(\"+\",'Colour Contrast Analysis'!CH4)-2))-11)) & \" combination of foreground and background colours is technically conformant, but its contrast should be increased.\",CHAR(10)&VALUE(LEFT(RIGHT('Colour Contrast Analysis'!CH4,LEN('Colour Contrast Analysis'!CH4)-FIND(\"+\",'Colour Contrast Analysis'!CH4)-2),LEN(RIGHT('Colour Contrast Analysis'!CH4,LEN('Colour Contrast Analysis'!CH4)-FIND(\"+\",'Colour Contrast Analysis'!CH4)-2))-11)) & \" combinations of foreground and background colours are technically conformant, but their contrast should be increased.\")) & CHAR(10) & \"Please see the Colour Contrast Analysis worksheet.\"","v":"0 combinations of foreground and background colours do not have sufficient contrast.\nPlease see the Colour Contrast Analysis worksheet."},{"$f":"LEFT('Colour Contrast Analysis'!CI4,FIND(\" \",'Colour Contrast Analysis'!CI4)-1)&\" combination\"&IF(VALUE(LEFT('Colour Contrast Analysis'!CI4,FIND(\" \",'Colour Contrast Analysis'!CI4)))=1,\"\",\"s\")&\" of foreground and background colours do\"&IF(VALUE(LEFT('Colour Contrast Analysis'!CI4,FIND(\" \",'Colour Contrast Analysis'!CI4)))=1,\"es\",\"\")&\" not have sufficient contrast.\"&IF(VALUE(LEFT(RIGHT('Colour Contrast Analysis'!CI4,LEN('Colour Contrast Analysis'!CI4)-FIND(\"+\",'Colour Contrast Analysis'!CI4)-2),LEN(RIGHT('Colour Contrast Analysis'!CI4,LEN('Colour Contrast Analysis'!CI4)-FIND(\"+\",'Colour Contrast Analysis'!CI4)-2))-11))=0,\"\",IF(VALUE(LEFT(RIGHT('Colour Contrast Analysis'!CI4,LEN('Colour Contrast Analysis'!CI4)-FIND(\"+\",'Colour Contrast Analysis'!CI4)-2),LEN(RIGHT('Colour Contrast Analysis'!CI4,LEN('Colour Contrast Analysis'!CI4)-FIND(\"+\",'Colour Contrast Analysis'!CI4)-2))-11))=1,CHAR(10)&VALUE(LEFT(RIGHT('Colour Contrast Analysis'!CI4,LEN('Colour Contrast Analysis'!CI4)-FIND(\"+\",'Colour Contrast Analysis'!CI4)-2),LEN(RIGHT('Colour Contrast Analysis'!CI4,LEN('Colour Contrast Analysis'!CI4)-FIND(\"+\",'Colour Contrast Analysis'!CI4)-2))-11)) & \" combination of foreground and background colours is technically conformant, but its contrast should be increased.\",CHAR(10)&VALUE(LEFT(RIGHT('Colour Contrast Analysis'!CI4,LEN('Colour Contrast Analysis'!CI4)-FIND(\"+\",'Colour Contrast Analysis'!CI4)-2),LEN(RIGHT('Colour Contrast Analysis'!CI4,LEN('Colour Contrast Analysis'!CI4)-FIND(\"+\",'Colour Contrast Analysis'!CI4)-2))-11)) & \" combinations of foreground and background colours are technically conformant, but their contrast should be increased.\")) & CHAR(10) & \"Please see the Colour Contrast Analysis worksheet.\"","v":"0 combinations of foreground and background colours do not have sufficient contrast.\nPlease see the Colour Contrast Analysis worksheet."},{"$f":"LEFT('Colour Contrast Analysis'!CJ4,FIND(\" \",'Colour Contrast Analysis'!CJ4)-1)&\" combination\"&IF(VALUE(LEFT('Colour Contrast Analysis'!CJ4,FIND(\" \",'Colour Contrast Analysis'!CJ4)))=1,\"\",\"s\")&\" of foreground and background colours do\"&IF(VALUE(LEFT('Colour Contrast Analysis'!CJ4,FIND(\" \",'Colour Contrast Analysis'!CJ4)))=1,\"es\",\"\")&\" not have sufficient contrast.\"&IF(VALUE(LEFT(RIGHT('Colour Contrast Analysis'!CJ4,LEN('Colour Contrast Analysis'!CJ4)-FIND(\"+\",'Colour Contrast Analysis'!CJ4)-2),LEN(RIGHT('Colour Contrast Analysis'!CJ4,LEN('Colour Contrast Analysis'!CJ4)-FIND(\"+\",'Colour Contrast Analysis'!CJ4)-2))-11))=0,\"\",IF(VALUE(LEFT(RIGHT('Colour Contrast Analysis'!CJ4,LEN('Colour Contrast Analysis'!CJ4)-FIND(\"+\",'Colour Contrast Analysis'!CJ4)-2),LEN(RIGHT('Colour Contrast Analysis'!CJ4,LEN('Colour Contrast Analysis'!CJ4)-FIND(\"+\",'Colour Contrast Analysis'!CJ4)-2))-11))=1,CHAR(10)&VALUE(LEFT(RIGHT('Colour Contrast Analysis'!CJ4,LEN('Colour Contrast Analysis'!CJ4)-FIND(\"+\",'Colour Contrast Analysis'!CJ4)-2),LEN(RIGHT('Colour Contrast Analysis'!CJ4,LEN('Colour Contrast Analysis'!CJ4)-FIND(\"+\",'Colour Contrast Analysis'!CJ4)-2))-11)) & \" combination of foreground and background colours is technically conformant, but its contrast should be increased.\",CHAR(10)&VALUE(LEFT(RIGHT('Colour Contrast Analysis'!CJ4,LEN('Colour Contrast Analysis'!CJ4)-FIND(\"+\",'Colour Contrast Analysis'!CJ4)-2),LEN(RIGHT('Colour Contrast Analysis'!CJ4,LEN('Colour Contrast Analysis'!CJ4)-FIND(\"+\",'Colour Contrast Analysis'!CJ4)-2))-11)) & \" combinations of foreground and background colours are technically conformant, but their contrast should be increased.\")) & CHAR(10) & \"Please see the Colour Contrast Analysis worksheet.\"","v":"0 combinations of foreground and background colours do not have sufficient contrast.\nPlease see the Colour Contrast Analysis worksheet."},{"$f":"LEFT('Colour Contrast Analysis'!CK4,FIND(\" \",'Colour Contrast Analysis'!CK4)-1)&\" combination\"&IF(VALUE(LEFT('Colour Contrast Analysis'!CK4,FIND(\" \",'Colour Contrast Analysis'!CK4)))=1,\"\",\"s\")&\" of foreground and background colours do\"&IF(VALUE(LEFT('Colour Contrast Analysis'!CK4,FIND(\" \",'Colour Contrast Analysis'!CK4)))=1,\"es\",\"\")&\" not have sufficient contrast.\"&IF(VALUE(LEFT(RIGHT('Colour Contrast Analysis'!CK4,LEN('Colour Contrast Analysis'!CK4)-FIND(\"+\",'Colour Contrast Analysis'!CK4)-2),LEN(RIGHT('Colour Contrast Analysis'!CK4,LEN('Colour Contrast Analysis'!CK4)-FIND(\"+\",'Colour Contrast Analysis'!CK4)-2))-11))=0,\"\",IF(VALUE(LEFT(RIGHT('Colour Contrast Analysis'!CK4,LEN('Colour Contrast Analysis'!CK4)-FIND(\"+\",'Colour Contrast Analysis'!CK4)-2),LEN(RIGHT('Colour Contrast Analysis'!CK4,LEN('Colour Contrast Analysis'!CK4)-FIND(\"+\",'Colour Contrast Analysis'!CK4)-2))-11))=1,CHAR(10)&VALUE(LEFT(RIGHT('Colour Contrast Analysis'!CK4,LEN('Colour Contrast Analysis'!CK4)-FIND(\"+\",'Colour Contrast Analysis'!CK4)-2),LEN(RIGHT('Colour Contrast Analysis'!CK4,LEN('Colour Contrast Analysis'!CK4)-FIND(\"+\",'Colour Contrast Analysis'!CK4)-2))-11)) & \" combination of foreground and background colours is technically conformant, but its contrast should be increased.\",CHAR(10)&VALUE(LEFT(RIGHT('Colour Contrast Analysis'!CK4,LEN('Colour Contrast Analysis'!CK4)-FIND(\"+\",'Colour Contrast Analysis'!CK4)-2),LEN(RIGHT('Colour Contrast Analysis'!CK4,LEN('Colour Contrast Analysis'!CK4)-FIND(\"+\",'Colour Contrast Analysis'!CK4)-2))-11)) & \" combinations of foreground and background colours are technically conformant, but their contrast should be increased.\")) & CHAR(10) & \"Please see the Colour Contrast Analysis worksheet.\"","v":"0 combinations of foreground and background colours do not have sufficient contrast.\nPlease see the Colour Contrast Analysis worksheet."},{"$f":"LEFT('Colour Contrast Analysis'!CL4,FIND(\" \",'Colour Contrast Analysis'!CL4)-1)&\" combination\"&IF(VALUE(LEFT('Colour Contrast Analysis'!CL4,FIND(\" \",'Colour Contrast Analysis'!CL4)))=1,\"\",\"s\")&\" of foreground and background colours do\"&IF(VALUE(LEFT('Colour Contrast Analysis'!CL4,FIND(\" \",'Colour Contrast Analysis'!CL4)))=1,\"es\",\"\")&\" not have sufficient contrast.\"&IF(VALUE(LEFT(RIGHT('Colour Contrast Analysis'!CL4,LEN('Colour Contrast Analysis'!CL4)-FIND(\"+\",'Colour Contrast Analysis'!CL4)-2),LEN(RIGHT('Colour Contrast Analysis'!CL4,LEN('Colour Contrast Analysis'!CL4)-FIND(\"+\",'Colour Contrast Analysis'!CL4)-2))-11))=0,\"\",IF(VALUE(LEFT(RIGHT('Colour Contrast Analysis'!CL4,LEN('Colour Contrast Analysis'!CL4)-FIND(\"+\",'Colour Contrast Analysis'!CL4)-2),LEN(RIGHT('Colour Contrast Analysis'!CL4,LEN('Colour Contrast Analysis'!CL4)-FIND(\"+\",'Colour Contrast Analysis'!CL4)-2))-11))=1,CHAR(10)&VALUE(LEFT(RIGHT('Colour Contrast Analysis'!CL4,LEN('Colour Contrast Analysis'!CL4)-FIND(\"+\",'Colour Contrast Analysis'!CL4)-2),LEN(RIGHT('Colour Contrast Analysis'!CL4,LEN('Colour Contrast Analysis'!CL4)-FIND(\"+\",'Colour Contrast Analysis'!CL4)-2))-11)) & \" combination of foreground and background colours is technically conformant, but its contrast should be increased.\",CHAR(10)&VALUE(LEFT(RIGHT('Colour Contrast Analysis'!CL4,LEN('Colour Contrast Analysis'!CL4)-FIND(\"+\",'Colour Contrast Analysis'!CL4)-2),LEN(RIGHT('Colour Contrast Analysis'!CL4,LEN('Colour Contrast Analysis'!CL4)-FIND(\"+\",'Colour Contrast Analysis'!CL4)-2))-11)) & \" combinations of foreground and background colours are technically conformant, but their contrast should be increased.\")) & CHAR(10) & \"Please see the Colour Contrast Analysis worksheet.\"","v":"0 combinations of foreground and background colours do not have sufficient contrast.\nPlease see the Colour Contrast Analysis worksheet."},{"$f":"LEFT('Colour Contrast Analysis'!CM4,FIND(\" \",'Colour Contrast Analysis'!CM4)-1)&\" combination\"&IF(VALUE(LEFT('Colour Contrast Analysis'!CM4,FIND(\" \",'Colour Contrast Analysis'!CM4)))=1,\"\",\"s\")&\" of foreground and background colours do\"&IF(VALUE(LEFT('Colour Contrast Analysis'!CM4,FIND(\" \",'Colour Contrast Analysis'!CM4)))=1,\"es\",\"\")&\" not have sufficient contrast.\"&IF(VALUE(LEFT(RIGHT('Colour Contrast Analysis'!CM4,LEN('Colour Contrast Analysis'!CM4)-FIND(\"+\",'Colour Contrast Analysis'!CM4)-2),LEN(RIGHT('Colour Contrast Analysis'!CM4,LEN('Colour Contrast Analysis'!CM4)-FIND(\"+\",'Colour Contrast Analysis'!CM4)-2))-11))=0,\"\",IF(VALUE(LEFT(RIGHT('Colour Contrast Analysis'!CM4,LEN('Colour Contrast Analysis'!CM4)-FIND(\"+\",'Colour Contrast Analysis'!CM4)-2),LEN(RIGHT('Colour Contrast Analysis'!CM4,LEN('Colour Contrast Analysis'!CM4)-FIND(\"+\",'Colour Contrast Analysis'!CM4)-2))-11))=1,CHAR(10)&VALUE(LEFT(RIGHT('Colour Contrast Analysis'!CM4,LEN('Colour Contrast Analysis'!CM4)-FIND(\"+\",'Colour Contrast Analysis'!CM4)-2),LEN(RIGHT('Colour Contrast Analysis'!CM4,LEN('Colour Contrast Analysis'!CM4)-FIND(\"+\",'Colour Contrast Analysis'!CM4)-2))-11)) & \" combination of foreground and background colours is technically conformant, but its contrast should be increased.\",CHAR(10)&VALUE(LEFT(RIGHT('Colour Contrast Analysis'!CM4,LEN('Colour Contrast Analysis'!CM4)-FIND(\"+\",'Colour Contrast Analysis'!CM4)-2),LEN(RIGHT('Colour Contrast Analysis'!CM4,LEN('Colour Contrast Analysis'!CM4)-FIND(\"+\",'Colour Contrast Analysis'!CM4)-2))-11)) & \" combinations of foreground and background colours are technically conformant, but their contrast should be increased.\")) & CHAR(10) & \"Please see the Colour Contrast Analysis worksheet.\"","v":"0 combinations of foreground and background colours do not have sufficient contrast.\nPlease see the Colour Contrast Analysis worksheet."},{"$f":"LEFT('Colour Contrast Analysis'!CN4,FIND(\" \",'Colour Contrast Analysis'!CN4)-1)&\" combination\"&IF(VALUE(LEFT('Colour Contrast Analysis'!CN4,FIND(\" \",'Colour Contrast Analysis'!CN4)))=1,\"\",\"s\")&\" of foreground and background colours do\"&IF(VALUE(LEFT('Colour Contrast Analysis'!CN4,FIND(\" \",'Colour Contrast Analysis'!CN4)))=1,\"es\",\"\")&\" not have sufficient contrast.\"&IF(VALUE(LEFT(RIGHT('Colour Contrast Analysis'!CN4,LEN('Colour Contrast Analysis'!CN4)-FIND(\"+\",'Colour Contrast Analysis'!CN4)-2),LEN(RIGHT('Colour Contrast Analysis'!CN4,LEN('Colour Contrast Analysis'!CN4)-FIND(\"+\",'Colour Contrast Analysis'!CN4)-2))-11))=0,\"\",IF(VALUE(LEFT(RIGHT('Colour Contrast Analysis'!CN4,LEN('Colour Contrast Analysis'!CN4)-FIND(\"+\",'Colour Contrast Analysis'!CN4)-2),LEN(RIGHT('Colour Contrast Analysis'!CN4,LEN('Colour Contrast Analysis'!CN4)-FIND(\"+\",'Colour Contrast Analysis'!CN4)-2))-11))=1,CHAR(10)&VALUE(LEFT(RIGHT('Colour Contrast Analysis'!CN4,LEN('Colour Contrast Analysis'!CN4)-FIND(\"+\",'Colour Contrast Analysis'!CN4)-2),LEN(RIGHT('Colour Contrast Analysis'!CN4,LEN('Colour Contrast Analysis'!CN4)-FIND(\"+\",'Colour Contrast Analysis'!CN4)-2))-11)) & \" combination of foreground and background colours is technically conformant, but its contrast should be increased.\",CHAR(10)&VALUE(LEFT(RIGHT('Colour Contrast Analysis'!CN4,LEN('Colour Contrast Analysis'!CN4)-FIND(\"+\",'Colour Contrast Analysis'!CN4)-2),LEN(RIGHT('Colour Contrast Analysis'!CN4,LEN('Colour Contrast Analysis'!CN4)-FIND(\"+\",'Colour Contrast Analysis'!CN4)-2))-11)) & \" combinations of foreground and background colours are technically conformant, but their contrast should be increased.\")) & CHAR(10) & \"Please see the Colour Contrast Analysis worksheet.\"","v":"0 combinations of foreground and background colours do not have sufficient contrast.\nPlease see the Colour Contrast Analysis worksheet."},{"$f":"LEFT('Colour Contrast Analysis'!CO4,FIND(\" \",'Colour Contrast Analysis'!CO4)-1)&\" combination\"&IF(VALUE(LEFT('Colour Contrast Analysis'!CO4,FIND(\" \",'Colour Contrast Analysis'!CO4)))=1,\"\",\"s\")&\" of foreground and background colours do\"&IF(VALUE(LEFT('Colour Contrast Analysis'!CO4,FIND(\" \",'Colour Contrast Analysis'!CO4)))=1,\"es\",\"\")&\" not have sufficient contrast.\"&IF(VALUE(LEFT(RIGHT('Colour Contrast Analysis'!CO4,LEN('Colour Contrast Analysis'!CO4)-FIND(\"+\",'Colour Contrast Analysis'!CO4)-2),LEN(RIGHT('Colour Contrast Analysis'!CO4,LEN('Colour Contrast Analysis'!CO4)-FIND(\"+\",'Colour Contrast Analysis'!CO4)-2))-11))=0,\"\",IF(VALUE(LEFT(RIGHT('Colour Contrast Analysis'!CO4,LEN('Colour Contrast Analysis'!CO4)-FIND(\"+\",'Colour Contrast Analysis'!CO4)-2),LEN(RIGHT('Colour Contrast Analysis'!CO4,LEN('Colour Contrast Analysis'!CO4)-FIND(\"+\",'Colour Contrast Analysis'!CO4)-2))-11))=1,CHAR(10)&VALUE(LEFT(RIGHT('Colour Contrast Analysis'!CO4,LEN('Colour Contrast Analysis'!CO4)-FIND(\"+\",'Colour Contrast Analysis'!CO4)-2),LEN(RIGHT('Colour Contrast Analysis'!CO4,LEN('Colour Contrast Analysis'!CO4)-FIND(\"+\",'Colour Contrast Analysis'!CO4)-2))-11)) & \" combination of foreground and background colours is technically conformant, but its contrast should be increased.\",CHAR(10)&VALUE(LEFT(RIGHT('Colour Contrast Analysis'!CO4,LEN('Colour Contrast Analysis'!CO4)-FIND(\"+\",'Colour Contrast Analysis'!CO4)-2),LEN(RIGHT('Colour Contrast Analysis'!CO4,LEN('Colour Contrast Analysis'!CO4)-FIND(\"+\",'Colour Contrast Analysis'!CO4)-2))-11)) & \" combinations of foreground and background colours are technically conformant, but their contrast should be increased.\")) & CHAR(10) & \"Please see the Colour Contrast Analysis worksheet.\"","v":"0 combinations of foreground and background colours do not have sufficient contrast.\nPlease see the Colour Contrast Analysis worksheet."},{"$f":"LEFT('Colour Contrast Analysis'!CP4,FIND(\" \",'Colour Contrast Analysis'!CP4)-1)&\" combination\"&IF(VALUE(LEFT('Colour Contrast Analysis'!CP4,FIND(\" \",'Colour Contrast Analysis'!CP4)))=1,\"\",\"s\")&\" of foreground and background colours do\"&IF(VALUE(LEFT('Colour Contrast Analysis'!CP4,FIND(\" \",'Colour Contrast Analysis'!CP4)))=1,\"es\",\"\")&\" not have sufficient contrast.\"&IF(VALUE(LEFT(RIGHT('Colour Contrast Analysis'!CP4,LEN('Colour Contrast Analysis'!CP4)-FIND(\"+\",'Colour Contrast Analysis'!CP4)-2),LEN(RIGHT('Colour Contrast Analysis'!CP4,LEN('Colour Contrast Analysis'!CP4)-FIND(\"+\",'Colour Contrast Analysis'!CP4)-2))-11))=0,\"\",IF(VALUE(LEFT(RIGHT('Colour Contrast Analysis'!CP4,LEN('Colour Contrast Analysis'!CP4)-FIND(\"+\",'Colour Contrast Analysis'!CP4)-2),LEN(RIGHT('Colour Contrast Analysis'!CP4,LEN('Colour Contrast Analysis'!CP4)-FIND(\"+\",'Colour Contrast Analysis'!CP4)-2))-11))=1,CHAR(10)&VALUE(LEFT(RIGHT('Colour Contrast Analysis'!CP4,LEN('Colour Contrast Analysis'!CP4)-FIND(\"+\",'Colour Contrast Analysis'!CP4)-2),LEN(RIGHT('Colour Contrast Analysis'!CP4,LEN('Colour Contrast Analysis'!CP4)-FIND(\"+\",'Colour Contrast Analysis'!CP4)-2))-11)) & \" combination of foreground and background colours is technically conformant, but its contrast should be increased.\",CHAR(10)&VALUE(LEFT(RIGHT('Colour Contrast Analysis'!CP4,LEN('Colour Contrast Analysis'!CP4)-FIND(\"+\",'Colour Contrast Analysis'!CP4)-2),LEN(RIGHT('Colour Contrast Analysis'!CP4,LEN('Colour Contrast Analysis'!CP4)-FIND(\"+\",'Colour Contrast Analysis'!CP4)-2))-11)) & \" combinations of foreground and background colours are technically conformant, but their contrast should be increased.\")) & CHAR(10) & \"Please see the Colour Contrast Analysis worksheet.\"","v":"0 combinations of foreground and background colours do not have sufficient contrast.\nPlease see the Colour Contrast Analysis worksheet."},{"$f":"LEFT('Colour Contrast Analysis'!CQ4,FIND(\" \",'Colour Contrast Analysis'!CQ4)-1)&\" combination\"&IF(VALUE(LEFT('Colour Contrast Analysis'!CQ4,FIND(\" \",'Colour Contrast Analysis'!CQ4)))=1,\"\",\"s\")&\" of foreground and background colours do\"&IF(VALUE(LEFT('Colour Contrast Analysis'!CQ4,FIND(\" \",'Colour Contrast Analysis'!CQ4)))=1,\"es\",\"\")&\" not have sufficient contrast.\"&IF(VALUE(LEFT(RIGHT('Colour Contrast Analysis'!CQ4,LEN('Colour Contrast Analysis'!CQ4)-FIND(\"+\",'Colour Contrast Analysis'!CQ4)-2),LEN(RIGHT('Colour Contrast Analysis'!CQ4,LEN('Colour Contrast Analysis'!CQ4)-FIND(\"+\",'Colour Contrast Analysis'!CQ4)-2))-11))=0,\"\",IF(VALUE(LEFT(RIGHT('Colour Contrast Analysis'!CQ4,LEN('Colour Contrast Analysis'!CQ4)-FIND(\"+\",'Colour Contrast Analysis'!CQ4)-2),LEN(RIGHT('Colour Contrast Analysis'!CQ4,LEN('Colour Contrast Analysis'!CQ4)-FIND(\"+\",'Colour Contrast Analysis'!CQ4)-2))-11))=1,CHAR(10)&VALUE(LEFT(RIGHT('Colour Contrast Analysis'!CQ4,LEN('Colour Contrast Analysis'!CQ4)-FIND(\"+\",'Colour Contrast Analysis'!CQ4)-2),LEN(RIGHT('Colour Contrast Analysis'!CQ4,LEN('Colour Contrast Analysis'!CQ4)-FIND(\"+\",'Colour Contrast Analysis'!CQ4)-2))-11)) & \" combination of foreground and background colours is technically conformant, but its contrast should be increased.\",CHAR(10)&VALUE(LEFT(RIGHT('Colour Contrast Analysis'!CQ4,LEN('Colour Contrast Analysis'!CQ4)-FIND(\"+\",'Colour Contrast Analysis'!CQ4)-2),LEN(RIGHT('Colour Contrast Analysis'!CQ4,LEN('Colour Contrast Analysis'!CQ4)-FIND(\"+\",'Colour Contrast Analysis'!CQ4)-2))-11)) & \" combinations of foreground and background colours are technically conformant, but their contrast should be increased.\")) & CHAR(10) & \"Please see the Colour Contrast Analysis worksheet.\"","v":"0 combinations of foreground and background colours do not have sufficient contrast.\nPlease see the Colour Contrast Analysis worksheet."},{"$f":"LEFT('Colour Contrast Analysis'!CR4,FIND(\" \",'Colour Contrast Analysis'!CR4)-1)&\" combination\"&IF(VALUE(LEFT('Colour Contrast Analysis'!CR4,FIND(\" \",'Colour Contrast Analysis'!CR4)))=1,\"\",\"s\")&\" of foreground and background colours do\"&IF(VALUE(LEFT('Colour Contrast Analysis'!CR4,FIND(\" \",'Colour Contrast Analysis'!CR4)))=1,\"es\",\"\")&\" not have sufficient contrast.\"&IF(VALUE(LEFT(RIGHT('Colour Contrast Analysis'!CR4,LEN('Colour Contrast Analysis'!CR4)-FIND(\"+\",'Colour Contrast Analysis'!CR4)-2),LEN(RIGHT('Colour Contrast Analysis'!CR4,LEN('Colour Contrast Analysis'!CR4)-FIND(\"+\",'Colour Contrast Analysis'!CR4)-2))-11))=0,\"\",IF(VALUE(LEFT(RIGHT('Colour Contrast Analysis'!CR4,LEN('Colour Contrast Analysis'!CR4)-FIND(\"+\",'Colour Contrast Analysis'!CR4)-2),LEN(RIGHT('Colour Contrast Analysis'!CR4,LEN('Colour Contrast Analysis'!CR4)-FIND(\"+\",'Colour Contrast Analysis'!CR4)-2))-11))=1,CHAR(10)&VALUE(LEFT(RIGHT('Colour Contrast Analysis'!CR4,LEN('Colour Contrast Analysis'!CR4)-FIND(\"+\",'Colour Contrast Analysis'!CR4)-2),LEN(RIGHT('Colour Contrast Analysis'!CR4,LEN('Colour Contrast Analysis'!CR4)-FIND(\"+\",'Colour Contrast Analysis'!CR4)-2))-11)) & \" combination of foreground and background colours is technically conformant, but its contrast should be increased.\",CHAR(10)&VALUE(LEFT(RIGHT('Colour Contrast Analysis'!CR4,LEN('Colour Contrast Analysis'!CR4)-FIND(\"+\",'Colour Contrast Analysis'!CR4)-2),LEN(RIGHT('Colour Contrast Analysis'!CR4,LEN('Colour Contrast Analysis'!CR4)-FIND(\"+\",'Colour Contrast Analysis'!CR4)-2))-11)) & \" combinations of foreground and background colours are technically conformant, but their contrast should be increased.\")) & CHAR(10) & \"Please see the Colour Contrast Analysis worksheet.\"","v":"0 combinations of foreground and background colours do not have sufficient contrast.\nPlease see the Colour Contrast Analysis worksheet."},{"$f":"LEFT('Colour Contrast Analysis'!CS4,FIND(\" \",'Colour Contrast Analysis'!CS4)-1)&\" combination\"&IF(VALUE(LEFT('Colour Contrast Analysis'!CS4,FIND(\" \",'Colour Contrast Analysis'!CS4)))=1,\"\",\"s\")&\" of foreground and background colours do\"&IF(VALUE(LEFT('Colour Contrast Analysis'!CS4,FIND(\" \",'Colour Contrast Analysis'!CS4)))=1,\"es\",\"\")&\" not have sufficient contrast.\"&IF(VALUE(LEFT(RIGHT('Colour Contrast Analysis'!CS4,LEN('Colour Contrast Analysis'!CS4)-FIND(\"+\",'Colour Contrast Analysis'!CS4)-2),LEN(RIGHT('Colour Contrast Analysis'!CS4,LEN('Colour Contrast Analysis'!CS4)-FIND(\"+\",'Colour Contrast Analysis'!CS4)-2))-11))=0,\"\",IF(VALUE(LEFT(RIGHT('Colour Contrast Analysis'!CS4,LEN('Colour Contrast Analysis'!CS4)-FIND(\"+\",'Colour Contrast Analysis'!CS4)-2),LEN(RIGHT('Colour Contrast Analysis'!CS4,LEN('Colour Contrast Analysis'!CS4)-FIND(\"+\",'Colour Contrast Analysis'!CS4)-2))-11))=1,CHAR(10)&VALUE(LEFT(RIGHT('Colour Contrast Analysis'!CS4,LEN('Colour Contrast Analysis'!CS4)-FIND(\"+\",'Colour Contrast Analysis'!CS4)-2),LEN(RIGHT('Colour Contrast Analysis'!CS4,LEN('Colour Contrast Analysis'!CS4)-FIND(\"+\",'Colour Contrast Analysis'!CS4)-2))-11)) & \" combination of foreground and background colours is technically conformant, but its contrast should be increased.\",CHAR(10)&VALUE(LEFT(RIGHT('Colour Contrast Analysis'!CS4,LEN('Colour Contrast Analysis'!CS4)-FIND(\"+\",'Colour Contrast Analysis'!CS4)-2),LEN(RIGHT('Colour Contrast Analysis'!CS4,LEN('Colour Contrast Analysis'!CS4)-FIND(\"+\",'Colour Contrast Analysis'!CS4)-2))-11)) & \" combinations of foreground and background colours are technically conformant, but their contrast should be increased.\")) & CHAR(10) & \"Please see the Colour Contrast Analysis worksheet.\"","v":"0 combinations of foreground and background colours do not have sufficient contrast.\nPlease see the Colour Contrast Analysis worksheet."},{"$f":"LEFT('Colour Contrast Analysis'!CT4,FIND(\" \",'Colour Contrast Analysis'!CT4)-1)&\" combination\"&IF(VALUE(LEFT('Colour Contrast Analysis'!CT4,FIND(\" \",'Colour Contrast Analysis'!CT4)))=1,\"\",\"s\")&\" of foreground and background colours do\"&IF(VALUE(LEFT('Colour Contrast Analysis'!CT4,FIND(\" \",'Colour Contrast Analysis'!CT4)))=1,\"es\",\"\")&\" not have sufficient contrast.\"&IF(VALUE(LEFT(RIGHT('Colour Contrast Analysis'!CT4,LEN('Colour Contrast Analysis'!CT4)-FIND(\"+\",'Colour Contrast Analysis'!CT4)-2),LEN(RIGHT('Colour Contrast Analysis'!CT4,LEN('Colour Contrast Analysis'!CT4)-FIND(\"+\",'Colour Contrast Analysis'!CT4)-2))-11))=0,\"\",IF(VALUE(LEFT(RIGHT('Colour Contrast Analysis'!CT4,LEN('Colour Contrast Analysis'!CT4)-FIND(\"+\",'Colour Contrast Analysis'!CT4)-2),LEN(RIGHT('Colour Contrast Analysis'!CT4,LEN('Colour Contrast Analysis'!CT4)-FIND(\"+\",'Colour Contrast Analysis'!CT4)-2))-11))=1,CHAR(10)&VALUE(LEFT(RIGHT('Colour Contrast Analysis'!CT4,LEN('Colour Contrast Analysis'!CT4)-FIND(\"+\",'Colour Contrast Analysis'!CT4)-2),LEN(RIGHT('Colour Contrast Analysis'!CT4,LEN('Colour Contrast Analysis'!CT4)-FIND(\"+\",'Colour Contrast Analysis'!CT4)-2))-11)) & \" combination of foreground and background colours is technically conformant, but its contrast should be increased.\",CHAR(10)&VALUE(LEFT(RIGHT('Colour Contrast Analysis'!CT4,LEN('Colour Contrast Analysis'!CT4)-FIND(\"+\",'Colour Contrast Analysis'!CT4)-2),LEN(RIGHT('Colour Contrast Analysis'!CT4,LEN('Colour Contrast Analysis'!CT4)-FIND(\"+\",'Colour Contrast Analysis'!CT4)-2))-11)) & \" combinations of foreground and background colours are technically conformant, but their contrast should be increased.\")) & CHAR(10) & \"Please see the Colour Contrast Analysis worksheet.\"","v":"0 combinations of foreground and background colours do not have sufficient contrast.\nPlease see the Colour Contrast Analysis worksheet."},{"$f":"LEFT('Colour Contrast Analysis'!CU4,FIND(\" \",'Colour Contrast Analysis'!CU4)-1)&\" combination\"&IF(VALUE(LEFT('Colour Contrast Analysis'!CU4,FIND(\" \",'Colour Contrast Analysis'!CU4)))=1,\"\",\"s\")&\" of foreground and background colours do\"&IF(VALUE(LEFT('Colour Contrast Analysis'!CU4,FIND(\" \",'Colour Contrast Analysis'!CU4)))=1,\"es\",\"\")&\" not have sufficient contrast.\"&IF(VALUE(LEFT(RIGHT('Colour Contrast Analysis'!CU4,LEN('Colour Contrast Analysis'!CU4)-FIND(\"+\",'Colour Contrast Analysis'!CU4)-2),LEN(RIGHT('Colour Contrast Analysis'!CU4,LEN('Colour Contrast Analysis'!CU4)-FIND(\"+\",'Colour Contrast Analysis'!CU4)-2))-11))=0,\"\",IF(VALUE(LEFT(RIGHT('Colour Contrast Analysis'!CU4,LEN('Colour Contrast Analysis'!CU4)-FIND(\"+\",'Colour Contrast Analysis'!CU4)-2),LEN(RIGHT('Colour Contrast Analysis'!CU4,LEN('Colour Contrast Analysis'!CU4)-FIND(\"+\",'Colour Contrast Analysis'!CU4)-2))-11))=1,CHAR(10)&VALUE(LEFT(RIGHT('Colour Contrast Analysis'!CU4,LEN('Colour Contrast Analysis'!CU4)-FIND(\"+\",'Colour Contrast Analysis'!CU4)-2),LEN(RIGHT('Colour Contrast Analysis'!CU4,LEN('Colour Contrast Analysis'!CU4)-FIND(\"+\",'Colour Contrast Analysis'!CU4)-2))-11)) & \" combination of foreground and background colours is technically conformant, but its contrast should be increased.\",CHAR(10)&VALUE(LEFT(RIGHT('Colour Contrast Analysis'!CU4,LEN('Colour Contrast Analysis'!CU4)-FIND(\"+\",'Colour Contrast Analysis'!CU4)-2),LEN(RIGHT('Colour Contrast Analysis'!CU4,LEN('Colour Contrast Analysis'!CU4)-FIND(\"+\",'Colour Contrast Analysis'!CU4)-2))-11)) & \" combinations of foreground and background colours are technically conformant, but their contrast should be increased.\")) & CHAR(10) & \"Please see the Colour Contrast Analysis worksheet.\"","v":"0 combinations of foreground and background colours do not have sufficient contrast.\nPlease see the Colour Contrast Analysis worksheet."},{"$f":"LEFT('Colour Contrast Analysis'!CV4,FIND(\" \",'Colour Contrast Analysis'!CV4)-1)&\" combination\"&IF(VALUE(LEFT('Colour Contrast Analysis'!CV4,FIND(\" \",'Colour Contrast Analysis'!CV4)))=1,\"\",\"s\")&\" of foreground and background colours do\"&IF(VALUE(LEFT('Colour Contrast Analysis'!CV4,FIND(\" \",'Colour Contrast Analysis'!CV4)))=1,\"es\",\"\")&\" not have sufficient contrast.\"&IF(VALUE(LEFT(RIGHT('Colour Contrast Analysis'!CV4,LEN('Colour Contrast Analysis'!CV4)-FIND(\"+\",'Colour Contrast Analysis'!CV4)-2),LEN(RIGHT('Colour Contrast Analysis'!CV4,LEN('Colour Contrast Analysis'!CV4)-FIND(\"+\",'Colour Contrast Analysis'!CV4)-2))-11))=0,\"\",IF(VALUE(LEFT(RIGHT('Colour Contrast Analysis'!CV4,LEN('Colour Contrast Analysis'!CV4)-FIND(\"+\",'Colour Contrast Analysis'!CV4)-2),LEN(RIGHT('Colour Contrast Analysis'!CV4,LEN('Colour Contrast Analysis'!CV4)-FIND(\"+\",'Colour Contrast Analysis'!CV4)-2))-11))=1,CHAR(10)&VALUE(LEFT(RIGHT('Colour Contrast Analysis'!CV4,LEN('Colour Contrast Analysis'!CV4)-FIND(\"+\",'Colour Contrast Analysis'!CV4)-2),LEN(RIGHT('Colour Contrast Analysis'!CV4,LEN('Colour Contrast Analysis'!CV4)-FIND(\"+\",'Colour Contrast Analysis'!CV4)-2))-11)) & \" combination of foreground and background colours is technically conformant, but its contrast should be increased.\",CHAR(10)&VALUE(LEFT(RIGHT('Colour Contrast Analysis'!CV4,LEN('Colour Contrast Analysis'!CV4)-FIND(\"+\",'Colour Contrast Analysis'!CV4)-2),LEN(RIGHT('Colour Contrast Analysis'!CV4,LEN('Colour Contrast Analysis'!CV4)-FIND(\"+\",'Colour Contrast Analysis'!CV4)-2))-11)) & \" combinations of foreground and background colours are technically conformant, but their contrast should be increased.\")) & CHAR(10) & \"Please see the Colour Contrast Analysis worksheet.\"","v":"0 combinations of foreground and background colours do not have sufficient contrast.\nPlease see the Colour Contrast Analysis worksheet."},{"$f":"LEFT('Colour Contrast Analysis'!CW4,FIND(\" \",'Colour Contrast Analysis'!CW4)-1)&\" combination\"&IF(VALUE(LEFT('Colour Contrast Analysis'!CW4,FIND(\" \",'Colour Contrast Analysis'!CW4)))=1,\"\",\"s\")&\" of foreground and background colours do\"&IF(VALUE(LEFT('Colour Contrast Analysis'!CW4,FIND(\" \",'Colour Contrast Analysis'!CW4)))=1,\"es\",\"\")&\" not have sufficient contrast.\"&IF(VALUE(LEFT(RIGHT('Colour Contrast Analysis'!CW4,LEN('Colour Contrast Analysis'!CW4)-FIND(\"+\",'Colour Contrast Analysis'!CW4)-2),LEN(RIGHT('Colour Contrast Analysis'!CW4,LEN('Colour Contrast Analysis'!CW4)-FIND(\"+\",'Colour Contrast Analysis'!CW4)-2))-11))=0,\"\",IF(VALUE(LEFT(RIGHT('Colour Contrast Analysis'!CW4,LEN('Colour Contrast Analysis'!CW4)-FIND(\"+\",'Colour Contrast Analysis'!CW4)-2),LEN(RIGHT('Colour Contrast Analysis'!CW4,LEN('Colour Contrast Analysis'!CW4)-FIND(\"+\",'Colour Contrast Analysis'!CW4)-2))-11))=1,CHAR(10)&VALUE(LEFT(RIGHT('Colour Contrast Analysis'!CW4,LEN('Colour Contrast Analysis'!CW4)-FIND(\"+\",'Colour Contrast Analysis'!CW4)-2),LEN(RIGHT('Colour Contrast Analysis'!CW4,LEN('Colour Contrast Analysis'!CW4)-FIND(\"+\",'Colour Contrast Analysis'!CW4)-2))-11)) & \" combination of foreground and background colours is technically conformant, but its contrast should be increased.\",CHAR(10)&VALUE(LEFT(RIGHT('Colour Contrast Analysis'!CW4,LEN('Colour Contrast Analysis'!CW4)-FIND(\"+\",'Colour Contrast Analysis'!CW4)-2),LEN(RIGHT('Colour Contrast Analysis'!CW4,LEN('Colour Contrast Analysis'!CW4)-FIND(\"+\",'Colour Contrast Analysis'!CW4)-2))-11)) & \" combinations of foreground and background colours are technically conformant, but their contrast should be increased.\")) & CHAR(10) & \"Please see the Colour Contrast Analysis worksheet.\"","v":"0 combinations of foreground and background colours do not have sufficient contrast.\nPlease see the Colour Contrast Analysis worksheet."},{"$f":"LEFT('Colour Contrast Analysis'!CX4,FIND(\" \",'Colour Contrast Analysis'!CX4)-1)&\" combination\"&IF(VALUE(LEFT('Colour Contrast Analysis'!CX4,FIND(\" \",'Colour Contrast Analysis'!CX4)))=1,\"\",\"s\")&\" of foreground and background colours do\"&IF(VALUE(LEFT('Colour Contrast Analysis'!CX4,FIND(\" \",'Colour Contrast Analysis'!CX4)))=1,\"es\",\"\")&\" not have sufficient contrast.\"&IF(VALUE(LEFT(RIGHT('Colour Contrast Analysis'!CX4,LEN('Colour Contrast Analysis'!CX4)-FIND(\"+\",'Colour Contrast Analysis'!CX4)-2),LEN(RIGHT('Colour Contrast Analysis'!CX4,LEN('Colour Contrast Analysis'!CX4)-FIND(\"+\",'Colour Contrast Analysis'!CX4)-2))-11))=0,\"\",IF(VALUE(LEFT(RIGHT('Colour Contrast Analysis'!CX4,LEN('Colour Contrast Analysis'!CX4)-FIND(\"+\",'Colour Contrast Analysis'!CX4)-2),LEN(RIGHT('Colour Contrast Analysis'!CX4,LEN('Colour Contrast Analysis'!CX4)-FIND(\"+\",'Colour Contrast Analysis'!CX4)-2))-11))=1,CHAR(10)&VALUE(LEFT(RIGHT('Colour Contrast Analysis'!CX4,LEN('Colour Contrast Analysis'!CX4)-FIND(\"+\",'Colour Contrast Analysis'!CX4)-2),LEN(RIGHT('Colour Contrast Analysis'!CX4,LEN('Colour Contrast Analysis'!CX4)-FIND(\"+\",'Colour Contrast Analysis'!CX4)-2))-11)) & \" combination of foreground and background colours is technically conformant, but its contrast should be increased.\",CHAR(10)&VALUE(LEFT(RIGHT('Colour Contrast Analysis'!CX4,LEN('Colour Contrast Analysis'!CX4)-FIND(\"+\",'Colour Contrast Analysis'!CX4)-2),LEN(RIGHT('Colour Contrast Analysis'!CX4,LEN('Colour Contrast Analysis'!CX4)-FIND(\"+\",'Colour Contrast Analysis'!CX4)-2))-11)) & \" combinations of foreground and background colours are technically conformant, but their contrast should be increased.\")) & CHAR(10) & \"Please see the Colour Contrast Analysis worksheet.\"","v":"0 combinations of foreground and background colours do not have sufficient contrast.\nPlease see the Colour Contrast Analysis worksheet."},{"$f":"LEFT('Colour Contrast Analysis'!CY4,FIND(\" \",'Colour Contrast Analysis'!CY4)-1)&\" combination\"&IF(VALUE(LEFT('Colour Contrast Analysis'!CY4,FIND(\" \",'Colour Contrast Analysis'!CY4)))=1,\"\",\"s\")&\" of foreground and background colours do\"&IF(VALUE(LEFT('Colour Contrast Analysis'!CY4,FIND(\" \",'Colour Contrast Analysis'!CY4)))=1,\"es\",\"\")&\" not have sufficient contrast.\"&IF(VALUE(LEFT(RIGHT('Colour Contrast Analysis'!CY4,LEN('Colour Contrast Analysis'!CY4)-FIND(\"+\",'Colour Contrast Analysis'!CY4)-2),LEN(RIGHT('Colour Contrast Analysis'!CY4,LEN('Colour Contrast Analysis'!CY4)-FIND(\"+\",'Colour Contrast Analysis'!CY4)-2))-11))=0,\"\",IF(VALUE(LEFT(RIGHT('Colour Contrast Analysis'!CY4,LEN('Colour Contrast Analysis'!CY4)-FIND(\"+\",'Colour Contrast Analysis'!CY4)-2),LEN(RIGHT('Colour Contrast Analysis'!CY4,LEN('Colour Contrast Analysis'!CY4)-FIND(\"+\",'Colour Contrast Analysis'!CY4)-2))-11))=1,CHAR(10)&VALUE(LEFT(RIGHT('Colour Contrast Analysis'!CY4,LEN('Colour Contrast Analysis'!CY4)-FIND(\"+\",'Colour Contrast Analysis'!CY4)-2),LEN(RIGHT('Colour Contrast Analysis'!CY4,LEN('Colour Contrast Analysis'!CY4)-FIND(\"+\",'Colour Contrast Analysis'!CY4)-2))-11)) & \" combination of foreground and background colours is technically conformant, but its contrast should be increased.\",CHAR(10)&VALUE(LEFT(RIGHT('Colour Contrast Analysis'!CY4,LEN('Colour Contrast Analysis'!CY4)-FIND(\"+\",'Colour Contrast Analysis'!CY4)-2),LEN(RIGHT('Colour Contrast Analysis'!CY4,LEN('Colour Contrast Analysis'!CY4)-FIND(\"+\",'Colour Contrast Analysis'!CY4)-2))-11)) & \" combinations of foreground and background colours are technically conformant, but their contrast should be increased.\")) & CHAR(10) & \"Please see the Colour Contrast Analysis worksheet.\"","v":"0 combinations of foreground and background colours do not have sufficient contrast.\nPlease see the Colour Contrast Analysis worksheet."},{"$f":"LEFT('Colour Contrast Analysis'!CZ4,FIND(\" \",'Colour Contrast Analysis'!CZ4)-1)&\" combination\"&IF(VALUE(LEFT('Colour Contrast Analysis'!CZ4,FIND(\" \",'Colour Contrast Analysis'!CZ4)))=1,\"\",\"s\")&\" of foreground and background colours do\"&IF(VALUE(LEFT('Colour Contrast Analysis'!CZ4,FIND(\" \",'Colour Contrast Analysis'!CZ4)))=1,\"es\",\"\")&\" not have sufficient contrast.\"&IF(VALUE(LEFT(RIGHT('Colour Contrast Analysis'!CZ4,LEN('Colour Contrast Analysis'!CZ4)-FIND(\"+\",'Colour Contrast Analysis'!CZ4)-2),LEN(RIGHT('Colour Contrast Analysis'!CZ4,LEN('Colour Contrast Analysis'!CZ4)-FIND(\"+\",'Colour Contrast Analysis'!CZ4)-2))-11))=0,\"\",IF(VALUE(LEFT(RIGHT('Colour Contrast Analysis'!CZ4,LEN('Colour Contrast Analysis'!CZ4)-FIND(\"+\",'Colour Contrast Analysis'!CZ4)-2),LEN(RIGHT('Colour Contrast Analysis'!CZ4,LEN('Colour Contrast Analysis'!CZ4)-FIND(\"+\",'Colour Contrast Analysis'!CZ4)-2))-11))=1,CHAR(10)&VALUE(LEFT(RIGHT('Colour Contrast Analysis'!CZ4,LEN('Colour Contrast Analysis'!CZ4)-FIND(\"+\",'Colour Contrast Analysis'!CZ4)-2),LEN(RIGHT('Colour Contrast Analysis'!CZ4,LEN('Colour Contrast Analysis'!CZ4)-FIND(\"+\",'Colour Contrast Analysis'!CZ4)-2))-11)) & \" combination of foreground and background colours is technically conformant, but its contrast should be increased.\",CHAR(10)&VALUE(LEFT(RIGHT('Colour Contrast Analysis'!CZ4,LEN('Colour Contrast Analysis'!CZ4)-FIND(\"+\",'Colour Contrast Analysis'!CZ4)-2),LEN(RIGHT('Colour Contrast Analysis'!CZ4,LEN('Colour Contrast Analysis'!CZ4)-FIND(\"+\",'Colour Contrast Analysis'!CZ4)-2))-11)) & \" combinations of foreground and background colours are technically conformant, but their contrast should be increased.\")) & CHAR(10) & \"Please see the Colour Contrast Analysis worksheet.\"","v":"0 combinations of foreground and background colours do not have sufficient contrast.\nPlease see the Colour Contrast Analysis worksheet."},{"$f":"LEFT('Colour Contrast Analysis'!DA4,FIND(\" \",'Colour Contrast Analysis'!DA4)-1)&\" combination\"&IF(VALUE(LEFT('Colour Contrast Analysis'!DA4,FIND(\" \",'Colour Contrast Analysis'!DA4)))=1,\"\",\"s\")&\" of foreground and background colours do\"&IF(VALUE(LEFT('Colour Contrast Analysis'!DA4,FIND(\" \",'Colour Contrast Analysis'!DA4)))=1,\"es\",\"\")&\" not have sufficient contrast.\"&IF(VALUE(LEFT(RIGHT('Colour Contrast Analysis'!DA4,LEN('Colour Contrast Analysis'!DA4)-FIND(\"+\",'Colour Contrast Analysis'!DA4)-2),LEN(RIGHT('Colour Contrast Analysis'!DA4,LEN('Colour Contrast Analysis'!DA4)-FIND(\"+\",'Colour Contrast Analysis'!DA4)-2))-11))=0,\"\",IF(VALUE(LEFT(RIGHT('Colour Contrast Analysis'!DA4,LEN('Colour Contrast Analysis'!DA4)-FIND(\"+\",'Colour Contrast Analysis'!DA4)-2),LEN(RIGHT('Colour Contrast Analysis'!DA4,LEN('Colour Contrast Analysis'!DA4)-FIND(\"+\",'Colour Contrast Analysis'!DA4)-2))-11))=1,CHAR(10)&VALUE(LEFT(RIGHT('Colour Contrast Analysis'!DA4,LEN('Colour Contrast Analysis'!DA4)-FIND(\"+\",'Colour Contrast Analysis'!DA4)-2),LEN(RIGHT('Colour Contrast Analysis'!DA4,LEN('Colour Contrast Analysis'!DA4)-FIND(\"+\",'Colour Contrast Analysis'!DA4)-2))-11)) & \" combination of foreground and background colours is technically conformant, but its contrast should be increased.\",CHAR(10)&VALUE(LEFT(RIGHT('Colour Contrast Analysis'!DA4,LEN('Colour Contrast Analysis'!DA4)-FIND(\"+\",'Colour Contrast Analysis'!DA4)-2),LEN(RIGHT('Colour Contrast Analysis'!DA4,LEN('Colour Contrast Analysis'!DA4)-FIND(\"+\",'Colour Contrast Analysis'!DA4)-2))-11)) & \" combinations of foreground and background colours are technically conformant, but their contrast should be increased.\")) & CHAR(10) & \"Please see the Colour Contrast Analysis worksheet.\"","v":"0 combinations of foreground and background colours do not have sufficient contrast.\nPlease see the Colour Contrast Analysis worksheet."},{"$f":"LEFT('Colour Contrast Analysis'!DB4,FIND(\" \",'Colour Contrast Analysis'!DB4)-1)&\" combination\"&IF(VALUE(LEFT('Colour Contrast Analysis'!DB4,FIND(\" \",'Colour Contrast Analysis'!DB4)))=1,\"\",\"s\")&\" of foreground and background colours do\"&IF(VALUE(LEFT('Colour Contrast Analysis'!DB4,FIND(\" \",'Colour Contrast Analysis'!DB4)))=1,\"es\",\"\")&\" not have sufficient contrast.\"&IF(VALUE(LEFT(RIGHT('Colour Contrast Analysis'!DB4,LEN('Colour Contrast Analysis'!DB4)-FIND(\"+\",'Colour Contrast Analysis'!DB4)-2),LEN(RIGHT('Colour Contrast Analysis'!DB4,LEN('Colour Contrast Analysis'!DB4)-FIND(\"+\",'Colour Contrast Analysis'!DB4)-2))-11))=0,\"\",IF(VALUE(LEFT(RIGHT('Colour Contrast Analysis'!DB4,LEN('Colour Contrast Analysis'!DB4)-FIND(\"+\",'Colour Contrast Analysis'!DB4)-2),LEN(RIGHT('Colour Contrast Analysis'!DB4,LEN('Colour Contrast Analysis'!DB4)-FIND(\"+\",'Colour Contrast Analysis'!DB4)-2))-11))=1,CHAR(10)&VALUE(LEFT(RIGHT('Colour Contrast Analysis'!DB4,LEN('Colour Contrast Analysis'!DB4)-FIND(\"+\",'Colour Contrast Analysis'!DB4)-2),LEN(RIGHT('Colour Contrast Analysis'!DB4,LEN('Colour Contrast Analysis'!DB4)-FIND(\"+\",'Colour Contrast Analysis'!DB4)-2))-11)) & \" combination of foreground and background colours is technically conformant, but its contrast should be increased.\",CHAR(10)&VALUE(LEFT(RIGHT('Colour Contrast Analysis'!DB4,LEN('Colour Contrast Analysis'!DB4)-FIND(\"+\",'Colour Contrast Analysis'!DB4)-2),LEN(RIGHT('Colour Contrast Analysis'!DB4,LEN('Colour Contrast Analysis'!DB4)-FIND(\"+\",'Colour Contrast Analysis'!DB4)-2))-11)) & \" combinations of foreground and background colours are technically conformant, but their contrast should be increased.\")) & CHAR(10) & \"Please see the Colour Contrast Analysis worksheet.\"","v":"0 combinations of foreground and background colours do not have sufficient contrast.\nPlease see the Colour Contrast Analysis worksheet."},{"$f":"LEFT('Colour Contrast Analysis'!DC4,FIND(\" \",'Colour Contrast Analysis'!DC4)-1)&\" combination\"&IF(VALUE(LEFT('Colour Contrast Analysis'!DC4,FIND(\" \",'Colour Contrast Analysis'!DC4)))=1,\"\",\"s\")&\" of foreground and background colours do\"&IF(VALUE(LEFT('Colour Contrast Analysis'!DC4,FIND(\" \",'Colour Contrast Analysis'!DC4)))=1,\"es\",\"\")&\" not have sufficient contrast.\"&IF(VALUE(LEFT(RIGHT('Colour Contrast Analysis'!DC4,LEN('Colour Contrast Analysis'!DC4)-FIND(\"+\",'Colour Contrast Analysis'!DC4)-2),LEN(RIGHT('Colour Contrast Analysis'!DC4,LEN('Colour Contrast Analysis'!DC4)-FIND(\"+\",'Colour Contrast Analysis'!DC4)-2))-11))=0,\"\",IF(VALUE(LEFT(RIGHT('Colour Contrast Analysis'!DC4,LEN('Colour Contrast Analysis'!DC4)-FIND(\"+\",'Colour Contrast Analysis'!DC4)-2),LEN(RIGHT('Colour Contrast Analysis'!DC4,LEN('Colour Contrast Analysis'!DC4)-FIND(\"+\",'Colour Contrast Analysis'!DC4)-2))-11))=1,CHAR(10)&VALUE(LEFT(RIGHT('Colour Contrast Analysis'!DC4,LEN('Colour Contrast Analysis'!DC4)-FIND(\"+\",'Colour Contrast Analysis'!DC4)-2),LEN(RIGHT('Colour Contrast Analysis'!DC4,LEN('Colour Contrast Analysis'!DC4)-FIND(\"+\",'Colour Contrast Analysis'!DC4)-2))-11)) & \" combination of foreground and background colours is technically conformant, but its contrast should be increased.\",CHAR(10)&VALUE(LEFT(RIGHT('Colour Contrast Analysis'!DC4,LEN('Colour Contrast Analysis'!DC4)-FIND(\"+\",'Colour Contrast Analysis'!DC4)-2),LEN(RIGHT('Colour Contrast Analysis'!DC4,LEN('Colour Contrast Analysis'!DC4)-FIND(\"+\",'Colour Contrast Analysis'!DC4)-2))-11)) & \" combinations of foreground and background colours are technically conformant, but their contrast should be increased.\")) & CHAR(10) & \"Please see the Colour Contrast Analysis worksheet.\"","v":"0 combinations of foreground and background colours do not have sufficient contrast.\nPlease see the Colour Contrast Analysis worksheet."},{"$f":"LEFT('Colour Contrast Analysis'!DD4,FIND(\" \",'Colour Contrast Analysis'!DD4)-1)&\" combination\"&IF(VALUE(LEFT('Colour Contrast Analysis'!DD4,FIND(\" \",'Colour Contrast Analysis'!DD4)))=1,\"\",\"s\")&\" of foreground and background colours do\"&IF(VALUE(LEFT('Colour Contrast Analysis'!DD4,FIND(\" \",'Colour Contrast Analysis'!DD4)))=1,\"es\",\"\")&\" not have sufficient contrast.\"&IF(VALUE(LEFT(RIGHT('Colour Contrast Analysis'!DD4,LEN('Colour Contrast Analysis'!DD4)-FIND(\"+\",'Colour Contrast Analysis'!DD4)-2),LEN(RIGHT('Colour Contrast Analysis'!DD4,LEN('Colour Contrast Analysis'!DD4)-FIND(\"+\",'Colour Contrast Analysis'!DD4)-2))-11))=0,\"\",IF(VALUE(LEFT(RIGHT('Colour Contrast Analysis'!DD4,LEN('Colour Contrast Analysis'!DD4)-FIND(\"+\",'Colour Contrast Analysis'!DD4)-2),LEN(RIGHT('Colour Contrast Analysis'!DD4,LEN('Colour Contrast Analysis'!DD4)-FIND(\"+\",'Colour Contrast Analysis'!DD4)-2))-11))=1,CHAR(10)&VALUE(LEFT(RIGHT('Colour Contrast Analysis'!DD4,LEN('Colour Contrast Analysis'!DD4)-FIND(\"+\",'Colour Contrast Analysis'!DD4)-2),LEN(RIGHT('Colour Contrast Analysis'!DD4,LEN('Colour Contrast Analysis'!DD4)-FIND(\"+\",'Colour Contrast Analysis'!DD4)-2))-11)) & \" combination of foreground and background colours is technically conformant, but its contrast should be increased.\",CHAR(10)&VALUE(LEFT(RIGHT('Colour Contrast Analysis'!DD4,LEN('Colour Contrast Analysis'!DD4)-FIND(\"+\",'Colour Contrast Analysis'!DD4)-2),LEN(RIGHT('Colour Contrast Analysis'!DD4,LEN('Colour Contrast Analysis'!DD4)-FIND(\"+\",'Colour Contrast Analysis'!DD4)-2))-11)) & \" combinations of foreground and background colours are technically conformant, but their contrast should be increased.\")) & CHAR(10) & \"Please see the Colour Contrast Analysis worksheet.\"","v":"0 combinations of foreground and background colours do not have sufficient contrast.\nPlease see the Colour Contrast Analysis worksheet."},{"$f":"LEFT('Colour Contrast Analysis'!DE4,FIND(\" \",'Colour Contrast Analysis'!DE4)-1)&\" combination\"&IF(VALUE(LEFT('Colour Contrast Analysis'!DE4,FIND(\" \",'Colour Contrast Analysis'!DE4)))=1,\"\",\"s\")&\" of foreground and background colours do\"&IF(VALUE(LEFT('Colour Contrast Analysis'!DE4,FIND(\" \",'Colour Contrast Analysis'!DE4)))=1,\"es\",\"\")&\" not have sufficient contrast.\"&IF(VALUE(LEFT(RIGHT('Colour Contrast Analysis'!DE4,LEN('Colour Contrast Analysis'!DE4)-FIND(\"+\",'Colour Contrast Analysis'!DE4)-2),LEN(RIGHT('Colour Contrast Analysis'!DE4,LEN('Colour Contrast Analysis'!DE4)-FIND(\"+\",'Colour Contrast Analysis'!DE4)-2))-11))=0,\"\",IF(VALUE(LEFT(RIGHT('Colour Contrast Analysis'!DE4,LEN('Colour Contrast Analysis'!DE4)-FIND(\"+\",'Colour Contrast Analysis'!DE4)-2),LEN(RIGHT('Colour Contrast Analysis'!DE4,LEN('Colour Contrast Analysis'!DE4)-FIND(\"+\",'Colour Contrast Analysis'!DE4)-2))-11))=1,CHAR(10)&VALUE(LEFT(RIGHT('Colour Contrast Analysis'!DE4,LEN('Colour Contrast Analysis'!DE4)-FIND(\"+\",'Colour Contrast Analysis'!DE4)-2),LEN(RIGHT('Colour Contrast Analysis'!DE4,LEN('Colour Contrast Analysis'!DE4)-FIND(\"+\",'Colour Contrast Analysis'!DE4)-2))-11)) & \" combination of foreground and background colours is technically conformant, but its contrast should be increased.\",CHAR(10)&VALUE(LEFT(RIGHT('Colour Contrast Analysis'!DE4,LEN('Colour Contrast Analysis'!DE4)-FIND(\"+\",'Colour Contrast Analysis'!DE4)-2),LEN(RIGHT('Colour Contrast Analysis'!DE4,LEN('Colour Contrast Analysis'!DE4)-FIND(\"+\",'Colour Contrast Analysis'!DE4)-2))-11)) & \" combinations of foreground and background colours are technically conformant, but their contrast should be increased.\")) & CHAR(10) & \"Please see the Colour Contrast Analysis worksheet.\"","v":"0 combinations of foreground and background colours do not have sufficient contrast.\nPlease see the Colour Contrast Analysis worksheet."},{"$f":"LEFT('Colour Contrast Analysis'!DF4,FIND(\" \",'Colour Contrast Analysis'!DF4)-1)&\" combination\"&IF(VALUE(LEFT('Colour Contrast Analysis'!DF4,FIND(\" \",'Colour Contrast Analysis'!DF4)))=1,\"\",\"s\")&\" of foreground and background colours do\"&IF(VALUE(LEFT('Colour Contrast Analysis'!DF4,FIND(\" \",'Colour Contrast Analysis'!DF4)))=1,\"es\",\"\")&\" not have sufficient contrast.\"&IF(VALUE(LEFT(RIGHT('Colour Contrast Analysis'!DF4,LEN('Colour Contrast Analysis'!DF4)-FIND(\"+\",'Colour Contrast Analysis'!DF4)-2),LEN(RIGHT('Colour Contrast Analysis'!DF4,LEN('Colour Contrast Analysis'!DF4)-FIND(\"+\",'Colour Contrast Analysis'!DF4)-2))-11))=0,\"\",IF(VALUE(LEFT(RIGHT('Colour Contrast Analysis'!DF4,LEN('Colour Contrast Analysis'!DF4)-FIND(\"+\",'Colour Contrast Analysis'!DF4)-2),LEN(RIGHT('Colour Contrast Analysis'!DF4,LEN('Colour Contrast Analysis'!DF4)-FIND(\"+\",'Colour Contrast Analysis'!DF4)-2))-11))=1,CHAR(10)&VALUE(LEFT(RIGHT('Colour Contrast Analysis'!DF4,LEN('Colour Contrast Analysis'!DF4)-FIND(\"+\",'Colour Contrast Analysis'!DF4)-2),LEN(RIGHT('Colour Contrast Analysis'!DF4,LEN('Colour Contrast Analysis'!DF4)-FIND(\"+\",'Colour Contrast Analysis'!DF4)-2))-11)) & \" combination of foreground and background colours is technically conformant, but its contrast should be increased.\",CHAR(10)&VALUE(LEFT(RIGHT('Colour Contrast Analysis'!DF4,LEN('Colour Contrast Analysis'!DF4)-FIND(\"+\",'Colour Contrast Analysis'!DF4)-2),LEN(RIGHT('Colour Contrast Analysis'!DF4,LEN('Colour Contrast Analysis'!DF4)-FIND(\"+\",'Colour Contrast Analysis'!DF4)-2))-11)) & \" combinations of foreground and background colours are technically conformant, but their contrast should be increased.\")) & CHAR(10) & \"Please see the Colour Contrast Analysis worksheet.\"","v":"0 combinations of foreground and background colours do not have sufficient contrast.\nPlease see the Colour Contrast Analysis worksheet."},{"$f":"LEFT('Colour Contrast Analysis'!DG4,FIND(\" \",'Colour Contrast Analysis'!DG4)-1)&\" combination\"&IF(VALUE(LEFT('Colour Contrast Analysis'!DG4,FIND(\" \",'Colour Contrast Analysis'!DG4)))=1,\"\",\"s\")&\" of foreground and background colours do\"&IF(VALUE(LEFT('Colour Contrast Analysis'!DG4,FIND(\" \",'Colour Contrast Analysis'!DG4)))=1,\"es\",\"\")&\" not have sufficient contrast.\"&IF(VALUE(LEFT(RIGHT('Colour Contrast Analysis'!DG4,LEN('Colour Contrast Analysis'!DG4)-FIND(\"+\",'Colour Contrast Analysis'!DG4)-2),LEN(RIGHT('Colour Contrast Analysis'!DG4,LEN('Colour Contrast Analysis'!DG4)-FIND(\"+\",'Colour Contrast Analysis'!DG4)-2))-11))=0,\"\",IF(VALUE(LEFT(RIGHT('Colour Contrast Analysis'!DG4,LEN('Colour Contrast Analysis'!DG4)-FIND(\"+\",'Colour Contrast Analysis'!DG4)-2),LEN(RIGHT('Colour Contrast Analysis'!DG4,LEN('Colour Contrast Analysis'!DG4)-FIND(\"+\",'Colour Contrast Analysis'!DG4)-2))-11))=1,CHAR(10)&VALUE(LEFT(RIGHT('Colour Contrast Analysis'!DG4,LEN('Colour Contrast Analysis'!DG4)-FIND(\"+\",'Colour Contrast Analysis'!DG4)-2),LEN(RIGHT('Colour Contrast Analysis'!DG4,LEN('Colour Contrast Analysis'!DG4)-FIND(\"+\",'Colour Contrast Analysis'!DG4)-2))-11)) & \" combination of foreground and background colours is technically conformant, but its contrast should be increased.\",CHAR(10)&VALUE(LEFT(RIGHT('Colour Contrast Analysis'!DG4,LEN('Colour Contrast Analysis'!DG4)-FIND(\"+\",'Colour Contrast Analysis'!DG4)-2),LEN(RIGHT('Colour Contrast Analysis'!DG4,LEN('Colour Contrast Analysis'!DG4)-FIND(\"+\",'Colour Contrast Analysis'!DG4)-2))-11)) & \" combinations of foreground and background colours are technically conformant, but their contrast should be increased.\")) & CHAR(10) & \"Please see the Colour Contrast Analysis worksheet.\"","v":"0 combinations of foreground and background colours do not have sufficient contrast.\nPlease see the Colour Contrast Analysis worksheet."},{"$f":"LEFT('Colour Contrast Analysis'!DH4,FIND(\" \",'Colour Contrast Analysis'!DH4)-1)&\" combination\"&IF(VALUE(LEFT('Colour Contrast Analysis'!DH4,FIND(\" \",'Colour Contrast Analysis'!DH4)))=1,\"\",\"s\")&\" of foreground and background colours do\"&IF(VALUE(LEFT('Colour Contrast Analysis'!DH4,FIND(\" \",'Colour Contrast Analysis'!DH4)))=1,\"es\",\"\")&\" not have sufficient contrast.\"&IF(VALUE(LEFT(RIGHT('Colour Contrast Analysis'!DH4,LEN('Colour Contrast Analysis'!DH4)-FIND(\"+\",'Colour Contrast Analysis'!DH4)-2),LEN(RIGHT('Colour Contrast Analysis'!DH4,LEN('Colour Contrast Analysis'!DH4)-FIND(\"+\",'Colour Contrast Analysis'!DH4)-2))-11))=0,\"\",IF(VALUE(LEFT(RIGHT('Colour Contrast Analysis'!DH4,LEN('Colour Contrast Analysis'!DH4)-FIND(\"+\",'Colour Contrast Analysis'!DH4)-2),LEN(RIGHT('Colour Contrast Analysis'!DH4,LEN('Colour Contrast Analysis'!DH4)-FIND(\"+\",'Colour Contrast Analysis'!DH4)-2))-11))=1,CHAR(10)&VALUE(LEFT(RIGHT('Colour Contrast Analysis'!DH4,LEN('Colour Contrast Analysis'!DH4)-FIND(\"+\",'Colour Contrast Analysis'!DH4)-2),LEN(RIGHT('Colour Contrast Analysis'!DH4,LEN('Colour Contrast Analysis'!DH4)-FIND(\"+\",'Colour Contrast Analysis'!DH4)-2))-11)) & \" combination of foreground and background colours is technically conformant, but its contrast should be increased.\",CHAR(10)&VALUE(LEFT(RIGHT('Colour Contrast Analysis'!DH4,LEN('Colour Contrast Analysis'!DH4)-FIND(\"+\",'Colour Contrast Analysis'!DH4)-2),LEN(RIGHT('Colour Contrast Analysis'!DH4,LEN('Colour Contrast Analysis'!DH4)-FIND(\"+\",'Colour Contrast Analysis'!DH4)-2))-11)) & \" combinations of foreground and background colours are technically conformant, but their contrast should be increased.\")) & CHAR(10) & \"Please see the Colour Contrast Analysis worksheet.\"","v":"0 combinations of foreground and background colours do not have sufficient contrast.\nPlease see the Colour Contrast Analysis worksheet."},{"$f":"LEFT('Colour Contrast Analysis'!DI4,FIND(\" \",'Colour Contrast Analysis'!DI4)-1)&\" combination\"&IF(VALUE(LEFT('Colour Contrast Analysis'!DI4,FIND(\" \",'Colour Contrast Analysis'!DI4)))=1,\"\",\"s\")&\" of foreground and background colours do\"&IF(VALUE(LEFT('Colour Contrast Analysis'!DI4,FIND(\" \",'Colour Contrast Analysis'!DI4)))=1,\"es\",\"\")&\" not have sufficient contrast.\"&IF(VALUE(LEFT(RIGHT('Colour Contrast Analysis'!DI4,LEN('Colour Contrast Analysis'!DI4)-FIND(\"+\",'Colour Contrast Analysis'!DI4)-2),LEN(RIGHT('Colour Contrast Analysis'!DI4,LEN('Colour Contrast Analysis'!DI4)-FIND(\"+\",'Colour Contrast Analysis'!DI4)-2))-11))=0,\"\",IF(VALUE(LEFT(RIGHT('Colour Contrast Analysis'!DI4,LEN('Colour Contrast Analysis'!DI4)-FIND(\"+\",'Colour Contrast Analysis'!DI4)-2),LEN(RIGHT('Colour Contrast Analysis'!DI4,LEN('Colour Contrast Analysis'!DI4)-FIND(\"+\",'Colour Contrast Analysis'!DI4)-2))-11))=1,CHAR(10)&VALUE(LEFT(RIGHT('Colour Contrast Analysis'!DI4,LEN('Colour Contrast Analysis'!DI4)-FIND(\"+\",'Colour Contrast Analysis'!DI4)-2),LEN(RIGHT('Colour Contrast Analysis'!DI4,LEN('Colour Contrast Analysis'!DI4)-FIND(\"+\",'Colour Contrast Analysis'!DI4)-2))-11)) & \" combination of foreground and background colours is technically conformant, but its contrast should be increased.\",CHAR(10)&VALUE(LEFT(RIGHT('Colour Contrast Analysis'!DI4,LEN('Colour Contrast Analysis'!DI4)-FIND(\"+\",'Colour Contrast Analysis'!DI4)-2),LEN(RIGHT('Colour Contrast Analysis'!DI4,LEN('Colour Contrast Analysis'!DI4)-FIND(\"+\",'Colour Contrast Analysis'!DI4)-2))-11)) & \" combinations of foreground and background colours are technically conformant, but their contrast should be increased.\")) & CHAR(10) & \"Please see the Colour Contrast Analysis worksheet.\"","v":"0 combinations of foreground and background colours do not have sufficient contrast.\nPlease see the Colour Contrast Analysis worksheet."},{"$f":"LEFT('Colour Contrast Analysis'!DJ4,FIND(\" \",'Colour Contrast Analysis'!DJ4)-1)&\" combination\"&IF(VALUE(LEFT('Colour Contrast Analysis'!DJ4,FIND(\" \",'Colour Contrast Analysis'!DJ4)))=1,\"\",\"s\")&\" of foreground and background colours do\"&IF(VALUE(LEFT('Colour Contrast Analysis'!DJ4,FIND(\" \",'Colour Contrast Analysis'!DJ4)))=1,\"es\",\"\")&\" not have sufficient contrast.\"&IF(VALUE(LEFT(RIGHT('Colour Contrast Analysis'!DJ4,LEN('Colour Contrast Analysis'!DJ4)-FIND(\"+\",'Colour Contrast Analysis'!DJ4)-2),LEN(RIGHT('Colour Contrast Analysis'!DJ4,LEN('Colour Contrast Analysis'!DJ4)-FIND(\"+\",'Colour Contrast Analysis'!DJ4)-2))-11))=0,\"\",IF(VALUE(LEFT(RIGHT('Colour Contrast Analysis'!DJ4,LEN('Colour Contrast Analysis'!DJ4)-FIND(\"+\",'Colour Contrast Analysis'!DJ4)-2),LEN(RIGHT('Colour Contrast Analysis'!DJ4,LEN('Colour Contrast Analysis'!DJ4)-FIND(\"+\",'Colour Contrast Analysis'!DJ4)-2))-11))=1,CHAR(10)&VALUE(LEFT(RIGHT('Colour Contrast Analysis'!DJ4,LEN('Colour Contrast Analysis'!DJ4)-FIND(\"+\",'Colour Contrast Analysis'!DJ4)-2),LEN(RIGHT('Colour Contrast Analysis'!DJ4,LEN('Colour Contrast Analysis'!DJ4)-FIND(\"+\",'Colour Contrast Analysis'!DJ4)-2))-11)) & \" combination of foreground and background colours is technically conformant, but its contrast should be increased.\",CHAR(10)&VALUE(LEFT(RIGHT('Colour Contrast Analysis'!DJ4,LEN('Colour Contrast Analysis'!DJ4)-FIND(\"+\",'Colour Contrast Analysis'!DJ4)-2),LEN(RIGHT('Colour Contrast Analysis'!DJ4,LEN('Colour Contrast Analysis'!DJ4)-FIND(\"+\",'Colour Contrast Analysis'!DJ4)-2))-11)) & \" combinations of foreground and background colours are technically conformant, but their contrast should be increased.\")) & CHAR(10) & \"Please see the Colour Contrast Analysis worksheet.\"","v":"0 combinations of foreground and background colours do not have sufficient contrast.\nPlease see the Colour Contrast Analysis worksheet."},{"$f":"LEFT('Colour Contrast Analysis'!DK4,FIND(\" \",'Colour Contrast Analysis'!DK4)-1)&\" combination\"&IF(VALUE(LEFT('Colour Contrast Analysis'!DK4,FIND(\" \",'Colour Contrast Analysis'!DK4)))=1,\"\",\"s\")&\" of foreground and background colours do\"&IF(VALUE(LEFT('Colour Contrast Analysis'!DK4,FIND(\" \",'Colour Contrast Analysis'!DK4)))=1,\"es\",\"\")&\" not have sufficient contrast.\"&IF(VALUE(LEFT(RIGHT('Colour Contrast Analysis'!DK4,LEN('Colour Contrast Analysis'!DK4)-FIND(\"+\",'Colour Contrast Analysis'!DK4)-2),LEN(RIGHT('Colour Contrast Analysis'!DK4,LEN('Colour Contrast Analysis'!DK4)-FIND(\"+\",'Colour Contrast Analysis'!DK4)-2))-11))=0,\"\",IF(VALUE(LEFT(RIGHT('Colour Contrast Analysis'!DK4,LEN('Colour Contrast Analysis'!DK4)-FIND(\"+\",'Colour Contrast Analysis'!DK4)-2),LEN(RIGHT('Colour Contrast Analysis'!DK4,LEN('Colour Contrast Analysis'!DK4)-FIND(\"+\",'Colour Contrast Analysis'!DK4)-2))-11))=1,CHAR(10)&VALUE(LEFT(RIGHT('Colour Contrast Analysis'!DK4,LEN('Colour Contrast Analysis'!DK4)-FIND(\"+\",'Colour Contrast Analysis'!DK4)-2),LEN(RIGHT('Colour Contrast Analysis'!DK4,LEN('Colour Contrast Analysis'!DK4)-FIND(\"+\",'Colour Contrast Analysis'!DK4)-2))-11)) & \" combination of foreground and background colours is technically conformant, but its contrast should be increased.\",CHAR(10)&VALUE(LEFT(RIGHT('Colour Contrast Analysis'!DK4,LEN('Colour Contrast Analysis'!DK4)-FIND(\"+\",'Colour Contrast Analysis'!DK4)-2),LEN(RIGHT('Colour Contrast Analysis'!DK4,LEN('Colour Contrast Analysis'!DK4)-FIND(\"+\",'Colour Contrast Analysis'!DK4)-2))-11)) & \" combinations of foreground and background colours are technically conformant, but their contrast should be increased.\")) & CHAR(10) & \"Please see the Colour Contrast Analysis worksheet.\"","v":"0 combinations of foreground and background colours do not have sufficient contrast.\nPlease see the Colour Contrast Analysis worksheet."},{"$f":"LEFT('Colour Contrast Analysis'!DL4,FIND(\" \",'Colour Contrast Analysis'!DL4)-1)&\" combination\"&IF(VALUE(LEFT('Colour Contrast Analysis'!DL4,FIND(\" \",'Colour Contrast Analysis'!DL4)))=1,\"\",\"s\")&\" of foreground and background colours do\"&IF(VALUE(LEFT('Colour Contrast Analysis'!DL4,FIND(\" \",'Colour Contrast Analysis'!DL4)))=1,\"es\",\"\")&\" not have sufficient contrast.\"&IF(VALUE(LEFT(RIGHT('Colour Contrast Analysis'!DL4,LEN('Colour Contrast Analysis'!DL4)-FIND(\"+\",'Colour Contrast Analysis'!DL4)-2),LEN(RIGHT('Colour Contrast Analysis'!DL4,LEN('Colour Contrast Analysis'!DL4)-FIND(\"+\",'Colour Contrast Analysis'!DL4)-2))-11))=0,\"\",IF(VALUE(LEFT(RIGHT('Colour Contrast Analysis'!DL4,LEN('Colour Contrast Analysis'!DL4)-FIND(\"+\",'Colour Contrast Analysis'!DL4)-2),LEN(RIGHT('Colour Contrast Analysis'!DL4,LEN('Colour Contrast Analysis'!DL4)-FIND(\"+\",'Colour Contrast Analysis'!DL4)-2))-11))=1,CHAR(10)&VALUE(LEFT(RIGHT('Colour Contrast Analysis'!DL4,LEN('Colour Contrast Analysis'!DL4)-FIND(\"+\",'Colour Contrast Analysis'!DL4)-2),LEN(RIGHT('Colour Contrast Analysis'!DL4,LEN('Colour Contrast Analysis'!DL4)-FIND(\"+\",'Colour Contrast Analysis'!DL4)-2))-11)) & \" combination of foreground and background colours is technically conformant, but its contrast should be increased.\",CHAR(10)&VALUE(LEFT(RIGHT('Colour Contrast Analysis'!DL4,LEN('Colour Contrast Analysis'!DL4)-FIND(\"+\",'Colour Contrast Analysis'!DL4)-2),LEN(RIGHT('Colour Contrast Analysis'!DL4,LEN('Colour Contrast Analysis'!DL4)-FIND(\"+\",'Colour Contrast Analysis'!DL4)-2))-11)) & \" combinations of foreground and background colours are technically conformant, but their contrast should be increased.\")) & CHAR(10) & \"Please see the Colour Contrast Analysis worksheet.\"","v":"0 combinations of foreground and background colours do not have sufficient contrast.\nPlease see the Colour Contrast Analysis worksheet."},{"$f":"LEFT('Colour Contrast Analysis'!DM4,FIND(\" \",'Colour Contrast Analysis'!DM4)-1)&\" combination\"&IF(VALUE(LEFT('Colour Contrast Analysis'!DM4,FIND(\" \",'Colour Contrast Analysis'!DM4)))=1,\"\",\"s\")&\" of foreground and background colours do\"&IF(VALUE(LEFT('Colour Contrast Analysis'!DM4,FIND(\" \",'Colour Contrast Analysis'!DM4)))=1,\"es\",\"\")&\" not have sufficient contrast.\"&IF(VALUE(LEFT(RIGHT('Colour Contrast Analysis'!DM4,LEN('Colour Contrast Analysis'!DM4)-FIND(\"+\",'Colour Contrast Analysis'!DM4)-2),LEN(RIGHT('Colour Contrast Analysis'!DM4,LEN('Colour Contrast Analysis'!DM4)-FIND(\"+\",'Colour Contrast Analysis'!DM4)-2))-11))=0,\"\",IF(VALUE(LEFT(RIGHT('Colour Contrast Analysis'!DM4,LEN('Colour Contrast Analysis'!DM4)-FIND(\"+\",'Colour Contrast Analysis'!DM4)-2),LEN(RIGHT('Colour Contrast Analysis'!DM4,LEN('Colour Contrast Analysis'!DM4)-FIND(\"+\",'Colour Contrast Analysis'!DM4)-2))-11))=1,CHAR(10)&VALUE(LEFT(RIGHT('Colour Contrast Analysis'!DM4,LEN('Colour Contrast Analysis'!DM4)-FIND(\"+\",'Colour Contrast Analysis'!DM4)-2),LEN(RIGHT('Colour Contrast Analysis'!DM4,LEN('Colour Contrast Analysis'!DM4)-FIND(\"+\",'Colour Contrast Analysis'!DM4)-2))-11)) & \" combination of foreground and background colours is technically conformant, but its contrast should be increased.\",CHAR(10)&VALUE(LEFT(RIGHT('Colour Contrast Analysis'!DM4,LEN('Colour Contrast Analysis'!DM4)-FIND(\"+\",'Colour Contrast Analysis'!DM4)-2),LEN(RIGHT('Colour Contrast Analysis'!DM4,LEN('Colour Contrast Analysis'!DM4)-FIND(\"+\",'Colour Contrast Analysis'!DM4)-2))-11)) & \" combinations of foreground and background colours are technically conformant, but their contrast should be increased.\")) & CHAR(10) & \"Please see the Colour Contrast Analysis worksheet.\"","v":"0 combinations of foreground and background colours do not have sufficient contrast.\nPlease see the Colour Contrast Analysis worksheet."},{"$f":"LEFT('Colour Contrast Analysis'!DN4,FIND(\" \",'Colour Contrast Analysis'!DN4)-1)&\" combination\"&IF(VALUE(LEFT('Colour Contrast Analysis'!DN4,FIND(\" \",'Colour Contrast Analysis'!DN4)))=1,\"\",\"s\")&\" of foreground and background colours do\"&IF(VALUE(LEFT('Colour Contrast Analysis'!DN4,FIND(\" \",'Colour Contrast Analysis'!DN4)))=1,\"es\",\"\")&\" not have sufficient contrast.\"&IF(VALUE(LEFT(RIGHT('Colour Contrast Analysis'!DN4,LEN('Colour Contrast Analysis'!DN4)-FIND(\"+\",'Colour Contrast Analysis'!DN4)-2),LEN(RIGHT('Colour Contrast Analysis'!DN4,LEN('Colour Contrast Analysis'!DN4)-FIND(\"+\",'Colour Contrast Analysis'!DN4)-2))-11))=0,\"\",IF(VALUE(LEFT(RIGHT('Colour Contrast Analysis'!DN4,LEN('Colour Contrast Analysis'!DN4)-FIND(\"+\",'Colour Contrast Analysis'!DN4)-2),LEN(RIGHT('Colour Contrast Analysis'!DN4,LEN('Colour Contrast Analysis'!DN4)-FIND(\"+\",'Colour Contrast Analysis'!DN4)-2))-11))=1,CHAR(10)&VALUE(LEFT(RIGHT('Colour Contrast Analysis'!DN4,LEN('Colour Contrast Analysis'!DN4)-FIND(\"+\",'Colour Contrast Analysis'!DN4)-2),LEN(RIGHT('Colour Contrast Analysis'!DN4,LEN('Colour Contrast Analysis'!DN4)-FIND(\"+\",'Colour Contrast Analysis'!DN4)-2))-11)) & \" combination of foreground and background colours is technically conformant, but its contrast should be increased.\",CHAR(10)&VALUE(LEFT(RIGHT('Colour Contrast Analysis'!DN4,LEN('Colour Contrast Analysis'!DN4)-FIND(\"+\",'Colour Contrast Analysis'!DN4)-2),LEN(RIGHT('Colour Contrast Analysis'!DN4,LEN('Colour Contrast Analysis'!DN4)-FIND(\"+\",'Colour Contrast Analysis'!DN4)-2))-11)) & \" combinations of foreground and background colours are technically conformant, but their contrast should be increased.\")) & CHAR(10) & \"Please see the Colour Contrast Analysis worksheet.\"","v":"0 combinations of foreground and background colours do not have sufficient contrast.\nPlease see the Colour Contrast Analysis worksheet."},{"$f":"LEFT('Colour Contrast Analysis'!DO4,FIND(\" \",'Colour Contrast Analysis'!DO4)-1)&\" combination\"&IF(VALUE(LEFT('Colour Contrast Analysis'!DO4,FIND(\" \",'Colour Contrast Analysis'!DO4)))=1,\"\",\"s\")&\" of foreground and background colours do\"&IF(VALUE(LEFT('Colour Contrast Analysis'!DO4,FIND(\" \",'Colour Contrast Analysis'!DO4)))=1,\"es\",\"\")&\" not have sufficient contrast.\"&IF(VALUE(LEFT(RIGHT('Colour Contrast Analysis'!DO4,LEN('Colour Contrast Analysis'!DO4)-FIND(\"+\",'Colour Contrast Analysis'!DO4)-2),LEN(RIGHT('Colour Contrast Analysis'!DO4,LEN('Colour Contrast Analysis'!DO4)-FIND(\"+\",'Colour Contrast Analysis'!DO4)-2))-11))=0,\"\",IF(VALUE(LEFT(RIGHT('Colour Contrast Analysis'!DO4,LEN('Colour Contrast Analysis'!DO4)-FIND(\"+\",'Colour Contrast Analysis'!DO4)-2),LEN(RIGHT('Colour Contrast Analysis'!DO4,LEN('Colour Contrast Analysis'!DO4)-FIND(\"+\",'Colour Contrast Analysis'!DO4)-2))-11))=1,CHAR(10)&VALUE(LEFT(RIGHT('Colour Contrast Analysis'!DO4,LEN('Colour Contrast Analysis'!DO4)-FIND(\"+\",'Colour Contrast Analysis'!DO4)-2),LEN(RIGHT('Colour Contrast Analysis'!DO4,LEN('Colour Contrast Analysis'!DO4)-FIND(\"+\",'Colour Contrast Analysis'!DO4)-2))-11)) & \" combination of foreground and background colours is technically conformant, but its contrast should be increased.\",CHAR(10)&VALUE(LEFT(RIGHT('Colour Contrast Analysis'!DO4,LEN('Colour Contrast Analysis'!DO4)-FIND(\"+\",'Colour Contrast Analysis'!DO4)-2),LEN(RIGHT('Colour Contrast Analysis'!DO4,LEN('Colour Contrast Analysis'!DO4)-FIND(\"+\",'Colour Contrast Analysis'!DO4)-2))-11)) & \" combinations of foreground and background colours are technically conformant, but their contrast should be increased.\")) & CHAR(10) & \"Please see the Colour Contrast Analysis worksheet.\"","v":"0 combinations of foreground and background colours do not have sufficient contrast.\nPlease see the Colour Contrast Analysis worksheet."},{"$f":"LEFT('Colour Contrast Analysis'!DP4,FIND(\" \",'Colour Contrast Analysis'!DP4)-1)&\" combination\"&IF(VALUE(LEFT('Colour Contrast Analysis'!DP4,FIND(\" \",'Colour Contrast Analysis'!DP4)))=1,\"\",\"s\")&\" of foreground and background colours do\"&IF(VALUE(LEFT('Colour Contrast Analysis'!DP4,FIND(\" \",'Colour Contrast Analysis'!DP4)))=1,\"es\",\"\")&\" not have sufficient contrast.\"&IF(VALUE(LEFT(RIGHT('Colour Contrast Analysis'!DP4,LEN('Colour Contrast Analysis'!DP4)-FIND(\"+\",'Colour Contrast Analysis'!DP4)-2),LEN(RIGHT('Colour Contrast Analysis'!DP4,LEN('Colour Contrast Analysis'!DP4)-FIND(\"+\",'Colour Contrast Analysis'!DP4)-2))-11))=0,\"\",IF(VALUE(LEFT(RIGHT('Colour Contrast Analysis'!DP4,LEN('Colour Contrast Analysis'!DP4)-FIND(\"+\",'Colour Contrast Analysis'!DP4)-2),LEN(RIGHT('Colour Contrast Analysis'!DP4,LEN('Colour Contrast Analysis'!DP4)-FIND(\"+\",'Colour Contrast Analysis'!DP4)-2))-11))=1,CHAR(10)&VALUE(LEFT(RIGHT('Colour Contrast Analysis'!DP4,LEN('Colour Contrast Analysis'!DP4)-FIND(\"+\",'Colour Contrast Analysis'!DP4)-2),LEN(RIGHT('Colour Contrast Analysis'!DP4,LEN('Colour Contrast Analysis'!DP4)-FIND(\"+\",'Colour Contrast Analysis'!DP4)-2))-11)) & \" combination of foreground and background colours is technically conformant, but its contrast should be increased.\",CHAR(10)&VALUE(LEFT(RIGHT('Colour Contrast Analysis'!DP4,LEN('Colour Contrast Analysis'!DP4)-FIND(\"+\",'Colour Contrast Analysis'!DP4)-2),LEN(RIGHT('Colour Contrast Analysis'!DP4,LEN('Colour Contrast Analysis'!DP4)-FIND(\"+\",'Colour Contrast Analysis'!DP4)-2))-11)) & \" combinations of foreground and background colours are technically conformant, but their contrast should be increased.\")) & CHAR(10) & \"Please see the Colour Contrast Analysis worksheet.\"","v":"0 combinations of foreground and background colours do not have sufficient contrast.\nPlease see the Colour Contrast Analysis worksheet."},{"$f":"LEFT('Colour Contrast Analysis'!DQ4,FIND(\" \",'Colour Contrast Analysis'!DQ4)-1)&\" combination\"&IF(VALUE(LEFT('Colour Contrast Analysis'!DQ4,FIND(\" \",'Colour Contrast Analysis'!DQ4)))=1,\"\",\"s\")&\" of foreground and background colours do\"&IF(VALUE(LEFT('Colour Contrast Analysis'!DQ4,FIND(\" \",'Colour Contrast Analysis'!DQ4)))=1,\"es\",\"\")&\" not have sufficient contrast.\"&IF(VALUE(LEFT(RIGHT('Colour Contrast Analysis'!DQ4,LEN('Colour Contrast Analysis'!DQ4)-FIND(\"+\",'Colour Contrast Analysis'!DQ4)-2),LEN(RIGHT('Colour Contrast Analysis'!DQ4,LEN('Colour Contrast Analysis'!DQ4)-FIND(\"+\",'Colour Contrast Analysis'!DQ4)-2))-11))=0,\"\",IF(VALUE(LEFT(RIGHT('Colour Contrast Analysis'!DQ4,LEN('Colour Contrast Analysis'!DQ4)-FIND(\"+\",'Colour Contrast Analysis'!DQ4)-2),LEN(RIGHT('Colour Contrast Analysis'!DQ4,LEN('Colour Contrast Analysis'!DQ4)-FIND(\"+\",'Colour Contrast Analysis'!DQ4)-2))-11))=1,CHAR(10)&VALUE(LEFT(RIGHT('Colour Contrast Analysis'!DQ4,LEN('Colour Contrast Analysis'!DQ4)-FIND(\"+\",'Colour Contrast Analysis'!DQ4)-2),LEN(RIGHT('Colour Contrast Analysis'!DQ4,LEN('Colour Contrast Analysis'!DQ4)-FIND(\"+\",'Colour Contrast Analysis'!DQ4)-2))-11)) & \" combination of foreground and background colours is technically conformant, but its contrast should be increased.\",CHAR(10)&VALUE(LEFT(RIGHT('Colour Contrast Analysis'!DQ4,LEN('Colour Contrast Analysis'!DQ4)-FIND(\"+\",'Colour Contrast Analysis'!DQ4)-2),LEN(RIGHT('Colour Contrast Analysis'!DQ4,LEN('Colour Contrast Analysis'!DQ4)-FIND(\"+\",'Colour Contrast Analysis'!DQ4)-2))-11)) & \" combinations of foreground and background colours are technically conformant, but their contrast should be increased.\")) & CHAR(10) & \"Please see the Colour Contrast Analysis worksheet.\"","v":"0 combinations of foreground and background colours do not have sufficient contrast.\nPlease see the Colour Contrast Analysis worksheet."},{"$f":"LEFT('Colour Contrast Analysis'!DR4,FIND(\" \",'Colour Contrast Analysis'!DR4)-1)&\" combination\"&IF(VALUE(LEFT('Colour Contrast Analysis'!DR4,FIND(\" \",'Colour Contrast Analysis'!DR4)))=1,\"\",\"s\")&\" of foreground and background colours do\"&IF(VALUE(LEFT('Colour Contrast Analysis'!DR4,FIND(\" \",'Colour Contrast Analysis'!DR4)))=1,\"es\",\"\")&\" not have sufficient contrast.\"&IF(VALUE(LEFT(RIGHT('Colour Contrast Analysis'!DR4,LEN('Colour Contrast Analysis'!DR4)-FIND(\"+\",'Colour Contrast Analysis'!DR4)-2),LEN(RIGHT('Colour Contrast Analysis'!DR4,LEN('Colour Contrast Analysis'!DR4)-FIND(\"+\",'Colour Contrast Analysis'!DR4)-2))-11))=0,\"\",IF(VALUE(LEFT(RIGHT('Colour Contrast Analysis'!DR4,LEN('Colour Contrast Analysis'!DR4)-FIND(\"+\",'Colour Contrast Analysis'!DR4)-2),LEN(RIGHT('Colour Contrast Analysis'!DR4,LEN('Colour Contrast Analysis'!DR4)-FIND(\"+\",'Colour Contrast Analysis'!DR4)-2))-11))=1,CHAR(10)&VALUE(LEFT(RIGHT('Colour Contrast Analysis'!DR4,LEN('Colour Contrast Analysis'!DR4)-FIND(\"+\",'Colour Contrast Analysis'!DR4)-2),LEN(RIGHT('Colour Contrast Analysis'!DR4,LEN('Colour Contrast Analysis'!DR4)-FIND(\"+\",'Colour Contrast Analysis'!DR4)-2))-11)) & \" combination of foreground and background colours is technically conformant, but its contrast should be increased.\",CHAR(10)&VALUE(LEFT(RIGHT('Colour Contrast Analysis'!DR4,LEN('Colour Contrast Analysis'!DR4)-FIND(\"+\",'Colour Contrast Analysis'!DR4)-2),LEN(RIGHT('Colour Contrast Analysis'!DR4,LEN('Colour Contrast Analysis'!DR4)-FIND(\"+\",'Colour Contrast Analysis'!DR4)-2))-11)) & \" combinations of foreground and background colours are technically conformant, but their contrast should be increased.\")) & CHAR(10) & \"Please see the Colour Contrast Analysis worksheet.\"","v":"0 combinations of foreground and background colours do not have sufficient contrast.\nPlease see the Colour Contrast Analysis worksheet."},{"$f":"LEFT('Colour Contrast Analysis'!DS4,FIND(\" \",'Colour Contrast Analysis'!DS4)-1)&\" combination\"&IF(VALUE(LEFT('Colour Contrast Analysis'!DS4,FIND(\" \",'Colour Contrast Analysis'!DS4)))=1,\"\",\"s\")&\" of foreground and background colours do\"&IF(VALUE(LEFT('Colour Contrast Analysis'!DS4,FIND(\" \",'Colour Contrast Analysis'!DS4)))=1,\"es\",\"\")&\" not have sufficient contrast.\"&IF(VALUE(LEFT(RIGHT('Colour Contrast Analysis'!DS4,LEN('Colour Contrast Analysis'!DS4)-FIND(\"+\",'Colour Contrast Analysis'!DS4)-2),LEN(RIGHT('Colour Contrast Analysis'!DS4,LEN('Colour Contrast Analysis'!DS4)-FIND(\"+\",'Colour Contrast Analysis'!DS4)-2))-11))=0,\"\",IF(VALUE(LEFT(RIGHT('Colour Contrast Analysis'!DS4,LEN('Colour Contrast Analysis'!DS4)-FIND(\"+\",'Colour Contrast Analysis'!DS4)-2),LEN(RIGHT('Colour Contrast Analysis'!DS4,LEN('Colour Contrast Analysis'!DS4)-FIND(\"+\",'Colour Contrast Analysis'!DS4)-2))-11))=1,CHAR(10)&VALUE(LEFT(RIGHT('Colour Contrast Analysis'!DS4,LEN('Colour Contrast Analysis'!DS4)-FIND(\"+\",'Colour Contrast Analysis'!DS4)-2),LEN(RIGHT('Colour Contrast Analysis'!DS4,LEN('Colour Contrast Analysis'!DS4)-FIND(\"+\",'Colour Contrast Analysis'!DS4)-2))-11)) & \" combination of foreground and background colours is technically conformant, but its contrast should be increased.\",CHAR(10)&VALUE(LEFT(RIGHT('Colour Contrast Analysis'!DS4,LEN('Colour Contrast Analysis'!DS4)-FIND(\"+\",'Colour Contrast Analysis'!DS4)-2),LEN(RIGHT('Colour Contrast Analysis'!DS4,LEN('Colour Contrast Analysis'!DS4)-FIND(\"+\",'Colour Contrast Analysis'!DS4)-2))-11)) & \" combinations of foreground and background colours are technically conformant, but their contrast should be increased.\")) & CHAR(10) & \"Please see the Colour Contrast Analysis worksheet.\"","v":"0 combinations of foreground and background colours do not have sufficient contrast.\nPlease see the Colour Contrast Analysis worksheet."},{"$f":"LEFT('Colour Contrast Analysis'!DT4,FIND(\" \",'Colour Contrast Analysis'!DT4)-1)&\" combination\"&IF(VALUE(LEFT('Colour Contrast Analysis'!DT4,FIND(\" \",'Colour Contrast Analysis'!DT4)))=1,\"\",\"s\")&\" of foreground and background colours do\"&IF(VALUE(LEFT('Colour Contrast Analysis'!DT4,FIND(\" \",'Colour Contrast Analysis'!DT4)))=1,\"es\",\"\")&\" not have sufficient contrast.\"&IF(VALUE(LEFT(RIGHT('Colour Contrast Analysis'!DT4,LEN('Colour Contrast Analysis'!DT4)-FIND(\"+\",'Colour Contrast Analysis'!DT4)-2),LEN(RIGHT('Colour Contrast Analysis'!DT4,LEN('Colour Contrast Analysis'!DT4)-FIND(\"+\",'Colour Contrast Analysis'!DT4)-2))-11))=0,\"\",IF(VALUE(LEFT(RIGHT('Colour Contrast Analysis'!DT4,LEN('Colour Contrast Analysis'!DT4)-FIND(\"+\",'Colour Contrast Analysis'!DT4)-2),LEN(RIGHT('Colour Contrast Analysis'!DT4,LEN('Colour Contrast Analysis'!DT4)-FIND(\"+\",'Colour Contrast Analysis'!DT4)-2))-11))=1,CHAR(10)&VALUE(LEFT(RIGHT('Colour Contrast Analysis'!DT4,LEN('Colour Contrast Analysis'!DT4)-FIND(\"+\",'Colour Contrast Analysis'!DT4)-2),LEN(RIGHT('Colour Contrast Analysis'!DT4,LEN('Colour Contrast Analysis'!DT4)-FIND(\"+\",'Colour Contrast Analysis'!DT4)-2))-11)) & \" combination of foreground and background colours is technically conformant, but its contrast should be increased.\",CHAR(10)&VALUE(LEFT(RIGHT('Colour Contrast Analysis'!DT4,LEN('Colour Contrast Analysis'!DT4)-FIND(\"+\",'Colour Contrast Analysis'!DT4)-2),LEN(RIGHT('Colour Contrast Analysis'!DT4,LEN('Colour Contrast Analysis'!DT4)-FIND(\"+\",'Colour Contrast Analysis'!DT4)-2))-11)) & \" combinations of foreground and background colours are technically conformant, but their contrast should be increased.\")) & CHAR(10) & \"Please see the Colour Contrast Analysis worksheet.\"","v":"0 combinations of foreground and background colours do not have sufficient contrast.\nPlease see the Colour Contrast Analysis worksheet."},{"$f":"LEFT('Colour Contrast Analysis'!DU4,FIND(\" \",'Colour Contrast Analysis'!DU4)-1)&\" combination\"&IF(VALUE(LEFT('Colour Contrast Analysis'!DU4,FIND(\" \",'Colour Contrast Analysis'!DU4)))=1,\"\",\"s\")&\" of foreground and background colours do\"&IF(VALUE(LEFT('Colour Contrast Analysis'!DU4,FIND(\" \",'Colour Contrast Analysis'!DU4)))=1,\"es\",\"\")&\" not have sufficient contrast.\"&IF(VALUE(LEFT(RIGHT('Colour Contrast Analysis'!DU4,LEN('Colour Contrast Analysis'!DU4)-FIND(\"+\",'Colour Contrast Analysis'!DU4)-2),LEN(RIGHT('Colour Contrast Analysis'!DU4,LEN('Colour Contrast Analysis'!DU4)-FIND(\"+\",'Colour Contrast Analysis'!DU4)-2))-11))=0,\"\",IF(VALUE(LEFT(RIGHT('Colour Contrast Analysis'!DU4,LEN('Colour Contrast Analysis'!DU4)-FIND(\"+\",'Colour Contrast Analysis'!DU4)-2),LEN(RIGHT('Colour Contrast Analysis'!DU4,LEN('Colour Contrast Analysis'!DU4)-FIND(\"+\",'Colour Contrast Analysis'!DU4)-2))-11))=1,CHAR(10)&VALUE(LEFT(RIGHT('Colour Contrast Analysis'!DU4,LEN('Colour Contrast Analysis'!DU4)-FIND(\"+\",'Colour Contrast Analysis'!DU4)-2),LEN(RIGHT('Colour Contrast Analysis'!DU4,LEN('Colour Contrast Analysis'!DU4)-FIND(\"+\",'Colour Contrast Analysis'!DU4)-2))-11)) & \" combination of foreground and background colours is technically conformant, but its contrast should be increased.\",CHAR(10)&VALUE(LEFT(RIGHT('Colour Contrast Analysis'!DU4,LEN('Colour Contrast Analysis'!DU4)-FIND(\"+\",'Colour Contrast Analysis'!DU4)-2),LEN(RIGHT('Colour Contrast Analysis'!DU4,LEN('Colour Contrast Analysis'!DU4)-FIND(\"+\",'Colour Contrast Analysis'!DU4)-2))-11)) & \" combinations of foreground and background colours are technically conformant, but their contrast should be increased.\")) & CHAR(10) & \"Please see the Colour Contrast Analysis worksheet.\"","v":"0 combinations of foreground and background colours do not have sufficient contrast.\nPlease see the Colour Contrast Analysis worksheet."},{"$f":"LEFT('Colour Contrast Analysis'!DV4,FIND(\" \",'Colour Contrast Analysis'!DV4)-1)&\" combination\"&IF(VALUE(LEFT('Colour Contrast Analysis'!DV4,FIND(\" \",'Colour Contrast Analysis'!DV4)))=1,\"\",\"s\")&\" of foreground and background colours do\"&IF(VALUE(LEFT('Colour Contrast Analysis'!DV4,FIND(\" \",'Colour Contrast Analysis'!DV4)))=1,\"es\",\"\")&\" not have sufficient contrast.\"&IF(VALUE(LEFT(RIGHT('Colour Contrast Analysis'!DV4,LEN('Colour Contrast Analysis'!DV4)-FIND(\"+\",'Colour Contrast Analysis'!DV4)-2),LEN(RIGHT('Colour Contrast Analysis'!DV4,LEN('Colour Contrast Analysis'!DV4)-FIND(\"+\",'Colour Contrast Analysis'!DV4)-2))-11))=0,\"\",IF(VALUE(LEFT(RIGHT('Colour Contrast Analysis'!DV4,LEN('Colour Contrast Analysis'!DV4)-FIND(\"+\",'Colour Contrast Analysis'!DV4)-2),LEN(RIGHT('Colour Contrast Analysis'!DV4,LEN('Colour Contrast Analysis'!DV4)-FIND(\"+\",'Colour Contrast Analysis'!DV4)-2))-11))=1,CHAR(10)&VALUE(LEFT(RIGHT('Colour Contrast Analysis'!DV4,LEN('Colour Contrast Analysis'!DV4)-FIND(\"+\",'Colour Contrast Analysis'!DV4)-2),LEN(RIGHT('Colour Contrast Analysis'!DV4,LEN('Colour Contrast Analysis'!DV4)-FIND(\"+\",'Colour Contrast Analysis'!DV4)-2))-11)) & \" combination of foreground and background colours is technically conformant, but its contrast should be increased.\",CHAR(10)&VALUE(LEFT(RIGHT('Colour Contrast Analysis'!DV4,LEN('Colour Contrast Analysis'!DV4)-FIND(\"+\",'Colour Contrast Analysis'!DV4)-2),LEN(RIGHT('Colour Contrast Analysis'!DV4,LEN('Colour Contrast Analysis'!DV4)-FIND(\"+\",'Colour Contrast Analysis'!DV4)-2))-11)) & \" combinations of foreground and background colours are technically conformant, but their contrast should be increased.\")) & CHAR(10) & \"Please see the Colour Contrast Analysis worksheet.\"","v":"0 combinations of foreground and background colours do not have sufficient contrast.\nPlease see the Colour Contrast Analysis worksheet."},{"$f":"LEFT('Colour Contrast Analysis'!DW4,FIND(\" \",'Colour Contrast Analysis'!DW4)-1)&\" combination\"&IF(VALUE(LEFT('Colour Contrast Analysis'!DW4,FIND(\" \",'Colour Contrast Analysis'!DW4)))=1,\"\",\"s\")&\" of foreground and background colours do\"&IF(VALUE(LEFT('Colour Contrast Analysis'!DW4,FIND(\" \",'Colour Contrast Analysis'!DW4)))=1,\"es\",\"\")&\" not have sufficient contrast.\"&IF(VALUE(LEFT(RIGHT('Colour Contrast Analysis'!DW4,LEN('Colour Contrast Analysis'!DW4)-FIND(\"+\",'Colour Contrast Analysis'!DW4)-2),LEN(RIGHT('Colour Contrast Analysis'!DW4,LEN('Colour Contrast Analysis'!DW4)-FIND(\"+\",'Colour Contrast Analysis'!DW4)-2))-11))=0,\"\",IF(VALUE(LEFT(RIGHT('Colour Contrast Analysis'!DW4,LEN('Colour Contrast Analysis'!DW4)-FIND(\"+\",'Colour Contrast Analysis'!DW4)-2),LEN(RIGHT('Colour Contrast Analysis'!DW4,LEN('Colour Contrast Analysis'!DW4)-FIND(\"+\",'Colour Contrast Analysis'!DW4)-2))-11))=1,CHAR(10)&VALUE(LEFT(RIGHT('Colour Contrast Analysis'!DW4,LEN('Colour Contrast Analysis'!DW4)-FIND(\"+\",'Colour Contrast Analysis'!DW4)-2),LEN(RIGHT('Colour Contrast Analysis'!DW4,LEN('Colour Contrast Analysis'!DW4)-FIND(\"+\",'Colour Contrast Analysis'!DW4)-2))-11)) & \" combination of foreground and background colours is technically conformant, but its contrast should be increased.\",CHAR(10)&VALUE(LEFT(RIGHT('Colour Contrast Analysis'!DW4,LEN('Colour Contrast Analysis'!DW4)-FIND(\"+\",'Colour Contrast Analysis'!DW4)-2),LEN(RIGHT('Colour Contrast Analysis'!DW4,LEN('Colour Contrast Analysis'!DW4)-FIND(\"+\",'Colour Contrast Analysis'!DW4)-2))-11)) & \" combinations of foreground and background colours are technically conformant, but their contrast should be increased.\")) & CHAR(10) & \"Please see the Colour Contrast Analysis worksheet.\"","v":"0 combinations of foreground and background colours do not have sufficient contrast.\nPlease see the Colour Contrast Analysis worksheet."},{"$f":"LEFT('Colour Contrast Analysis'!DX4,FIND(\" \",'Colour Contrast Analysis'!DX4)-1)&\" combination\"&IF(VALUE(LEFT('Colour Contrast Analysis'!DX4,FIND(\" \",'Colour Contrast Analysis'!DX4)))=1,\"\",\"s\")&\" of foreground and background colours do\"&IF(VALUE(LEFT('Colour Contrast Analysis'!DX4,FIND(\" \",'Colour Contrast Analysis'!DX4)))=1,\"es\",\"\")&\" not have sufficient contrast.\"&IF(VALUE(LEFT(RIGHT('Colour Contrast Analysis'!DX4,LEN('Colour Contrast Analysis'!DX4)-FIND(\"+\",'Colour Contrast Analysis'!DX4)-2),LEN(RIGHT('Colour Contrast Analysis'!DX4,LEN('Colour Contrast Analysis'!DX4)-FIND(\"+\",'Colour Contrast Analysis'!DX4)-2))-11))=0,\"\",IF(VALUE(LEFT(RIGHT('Colour Contrast Analysis'!DX4,LEN('Colour Contrast Analysis'!DX4)-FIND(\"+\",'Colour Contrast Analysis'!DX4)-2),LEN(RIGHT('Colour Contrast Analysis'!DX4,LEN('Colour Contrast Analysis'!DX4)-FIND(\"+\",'Colour Contrast Analysis'!DX4)-2))-11))=1,CHAR(10)&VALUE(LEFT(RIGHT('Colour Contrast Analysis'!DX4,LEN('Colour Contrast Analysis'!DX4)-FIND(\"+\",'Colour Contrast Analysis'!DX4)-2),LEN(RIGHT('Colour Contrast Analysis'!DX4,LEN('Colour Contrast Analysis'!DX4)-FIND(\"+\",'Colour Contrast Analysis'!DX4)-2))-11)) & \" combination of foreground and background colours is technically conformant, but its contrast should be increased.\",CHAR(10)&VALUE(LEFT(RIGHT('Colour Contrast Analysis'!DX4,LEN('Colour Contrast Analysis'!DX4)-FIND(\"+\",'Colour Contrast Analysis'!DX4)-2),LEN(RIGHT('Colour Contrast Analysis'!DX4,LEN('Colour Contrast Analysis'!DX4)-FIND(\"+\",'Colour Contrast Analysis'!DX4)-2))-11)) & \" combinations of foreground and background colours are technically conformant, but their contrast should be increased.\")) & CHAR(10) & \"Please see the Colour Contrast Analysis worksheet.\"","v":"0 combinations of foreground and background colours do not have sufficient contrast.\nPlease see the Colour Contrast Analysis worksheet."},{"$f":"LEFT('Colour Contrast Analysis'!DY4,FIND(\" \",'Colour Contrast Analysis'!DY4)-1)&\" combination\"&IF(VALUE(LEFT('Colour Contrast Analysis'!DY4,FIND(\" \",'Colour Contrast Analysis'!DY4)))=1,\"\",\"s\")&\" of foreground and background colours do\"&IF(VALUE(LEFT('Colour Contrast Analysis'!DY4,FIND(\" \",'Colour Contrast Analysis'!DY4)))=1,\"es\",\"\")&\" not have sufficient contrast.\"&IF(VALUE(LEFT(RIGHT('Colour Contrast Analysis'!DY4,LEN('Colour Contrast Analysis'!DY4)-FIND(\"+\",'Colour Contrast Analysis'!DY4)-2),LEN(RIGHT('Colour Contrast Analysis'!DY4,LEN('Colour Contrast Analysis'!DY4)-FIND(\"+\",'Colour Contrast Analysis'!DY4)-2))-11))=0,\"\",IF(VALUE(LEFT(RIGHT('Colour Contrast Analysis'!DY4,LEN('Colour Contrast Analysis'!DY4)-FIND(\"+\",'Colour Contrast Analysis'!DY4)-2),LEN(RIGHT('Colour Contrast Analysis'!DY4,LEN('Colour Contrast Analysis'!DY4)-FIND(\"+\",'Colour Contrast Analysis'!DY4)-2))-11))=1,CHAR(10)&VALUE(LEFT(RIGHT('Colour Contrast Analysis'!DY4,LEN('Colour Contrast Analysis'!DY4)-FIND(\"+\",'Colour Contrast Analysis'!DY4)-2),LEN(RIGHT('Colour Contrast Analysis'!DY4,LEN('Colour Contrast Analysis'!DY4)-FIND(\"+\",'Colour Contrast Analysis'!DY4)-2))-11)) & \" combination of foreground and background colours is technically conformant, but its contrast should be increased.\",CHAR(10)&VALUE(LEFT(RIGHT('Colour Contrast Analysis'!DY4,LEN('Colour Contrast Analysis'!DY4)-FIND(\"+\",'Colour Contrast Analysis'!DY4)-2),LEN(RIGHT('Colour Contrast Analysis'!DY4,LEN('Colour Contrast Analysis'!DY4)-FIND(\"+\",'Colour Contrast Analysis'!DY4)-2))-11)) & \" combinations of foreground and background colours are technically conformant, but their contrast should be increased.\")) & CHAR(10) & \"Please see the Colour Contrast Analysis worksheet.\"","v":"0 combinations of foreground and background colours do not have sufficient contrast.\nPlease see the Colour Contrast Analysis worksheet."},{"$f":"LEFT('Colour Contrast Analysis'!DZ4,FIND(\" \",'Colour Contrast Analysis'!DZ4)-1)&\" combination\"&IF(VALUE(LEFT('Colour Contrast Analysis'!DZ4,FIND(\" \",'Colour Contrast Analysis'!DZ4)))=1,\"\",\"s\")&\" of foreground and background colours do\"&IF(VALUE(LEFT('Colour Contrast Analysis'!DZ4,FIND(\" \",'Colour Contrast Analysis'!DZ4)))=1,\"es\",\"\")&\" not have sufficient contrast.\"&IF(VALUE(LEFT(RIGHT('Colour Contrast Analysis'!DZ4,LEN('Colour Contrast Analysis'!DZ4)-FIND(\"+\",'Colour Contrast Analysis'!DZ4)-2),LEN(RIGHT('Colour Contrast Analysis'!DZ4,LEN('Colour Contrast Analysis'!DZ4)-FIND(\"+\",'Colour Contrast Analysis'!DZ4)-2))-11))=0,\"\",IF(VALUE(LEFT(RIGHT('Colour Contrast Analysis'!DZ4,LEN('Colour Contrast Analysis'!DZ4)-FIND(\"+\",'Colour Contrast Analysis'!DZ4)-2),LEN(RIGHT('Colour Contrast Analysis'!DZ4,LEN('Colour Contrast Analysis'!DZ4)-FIND(\"+\",'Colour Contrast Analysis'!DZ4)-2))-11))=1,CHAR(10)&VALUE(LEFT(RIGHT('Colour Contrast Analysis'!DZ4,LEN('Colour Contrast Analysis'!DZ4)-FIND(\"+\",'Colour Contrast Analysis'!DZ4)-2),LEN(RIGHT('Colour Contrast Analysis'!DZ4,LEN('Colour Contrast Analysis'!DZ4)-FIND(\"+\",'Colour Contrast Analysis'!DZ4)-2))-11)) & \" combination of foreground and background colours is technically conformant, but its contrast should be increased.\",CHAR(10)&VALUE(LEFT(RIGHT('Colour Contrast Analysis'!DZ4,LEN('Colour Contrast Analysis'!DZ4)-FIND(\"+\",'Colour Contrast Analysis'!DZ4)-2),LEN(RIGHT('Colour Contrast Analysis'!DZ4,LEN('Colour Contrast Analysis'!DZ4)-FIND(\"+\",'Colour Contrast Analysis'!DZ4)-2))-11)) & \" combinations of foreground and background colours are technically conformant, but their contrast should be increased.\")) & CHAR(10) & \"Please see the Colour Contrast Analysis worksheet.\"","v":"0 combinations of foreground and background colours do not have sufficient contrast.\nPlease see the Colour Contrast Analysis worksheet."},{"$f":"LEFT('Colour Contrast Analysis'!EA4,FIND(\" \",'Colour Contrast Analysis'!EA4)-1)&\" combination\"&IF(VALUE(LEFT('Colour Contrast Analysis'!EA4,FIND(\" \",'Colour Contrast Analysis'!EA4)))=1,\"\",\"s\")&\" of foreground and background colours do\"&IF(VALUE(LEFT('Colour Contrast Analysis'!EA4,FIND(\" \",'Colour Contrast Analysis'!EA4)))=1,\"es\",\"\")&\" not have sufficient contrast.\"&IF(VALUE(LEFT(RIGHT('Colour Contrast Analysis'!EA4,LEN('Colour Contrast Analysis'!EA4)-FIND(\"+\",'Colour Contrast Analysis'!EA4)-2),LEN(RIGHT('Colour Contrast Analysis'!EA4,LEN('Colour Contrast Analysis'!EA4)-FIND(\"+\",'Colour Contrast Analysis'!EA4)-2))-11))=0,\"\",IF(VALUE(LEFT(RIGHT('Colour Contrast Analysis'!EA4,LEN('Colour Contrast Analysis'!EA4)-FIND(\"+\",'Colour Contrast Analysis'!EA4)-2),LEN(RIGHT('Colour Contrast Analysis'!EA4,LEN('Colour Contrast Analysis'!EA4)-FIND(\"+\",'Colour Contrast Analysis'!EA4)-2))-11))=1,CHAR(10)&VALUE(LEFT(RIGHT('Colour Contrast Analysis'!EA4,LEN('Colour Contrast Analysis'!EA4)-FIND(\"+\",'Colour Contrast Analysis'!EA4)-2),LEN(RIGHT('Colour Contrast Analysis'!EA4,LEN('Colour Contrast Analysis'!EA4)-FIND(\"+\",'Colour Contrast Analysis'!EA4)-2))-11)) & \" combination of foreground and background colours is technically conformant, but its contrast should be increased.\",CHAR(10)&VALUE(LEFT(RIGHT('Colour Contrast Analysis'!EA4,LEN('Colour Contrast Analysis'!EA4)-FIND(\"+\",'Colour Contrast Analysis'!EA4)-2),LEN(RIGHT('Colour Contrast Analysis'!EA4,LEN('Colour Contrast Analysis'!EA4)-FIND(\"+\",'Colour Contrast Analysis'!EA4)-2))-11)) & \" combinations of foreground and background colours are technically conformant, but their contrast should be increased.\")) & CHAR(10) & \"Please see the Colour Contrast Analysis worksheet.\"","v":"0 combinations of foreground and background colours do not have sufficient contrast.\nPlease see the Colour Contrast Analysis worksheet."},{"$f":"LEFT('Colour Contrast Analysis'!EB4,FIND(\" \",'Colour Contrast Analysis'!EB4)-1)&\" combination\"&IF(VALUE(LEFT('Colour Contrast Analysis'!EB4,FIND(\" \",'Colour Contrast Analysis'!EB4)))=1,\"\",\"s\")&\" of foreground and background colours do\"&IF(VALUE(LEFT('Colour Contrast Analysis'!EB4,FIND(\" \",'Colour Contrast Analysis'!EB4)))=1,\"es\",\"\")&\" not have sufficient contrast.\"&IF(VALUE(LEFT(RIGHT('Colour Contrast Analysis'!EB4,LEN('Colour Contrast Analysis'!EB4)-FIND(\"+\",'Colour Contrast Analysis'!EB4)-2),LEN(RIGHT('Colour Contrast Analysis'!EB4,LEN('Colour Contrast Analysis'!EB4)-FIND(\"+\",'Colour Contrast Analysis'!EB4)-2))-11))=0,\"\",IF(VALUE(LEFT(RIGHT('Colour Contrast Analysis'!EB4,LEN('Colour Contrast Analysis'!EB4)-FIND(\"+\",'Colour Contrast Analysis'!EB4)-2),LEN(RIGHT('Colour Contrast Analysis'!EB4,LEN('Colour Contrast Analysis'!EB4)-FIND(\"+\",'Colour Contrast Analysis'!EB4)-2))-11))=1,CHAR(10)&VALUE(LEFT(RIGHT('Colour Contrast Analysis'!EB4,LEN('Colour Contrast Analysis'!EB4)-FIND(\"+\",'Colour Contrast Analysis'!EB4)-2),LEN(RIGHT('Colour Contrast Analysis'!EB4,LEN('Colour Contrast Analysis'!EB4)-FIND(\"+\",'Colour Contrast Analysis'!EB4)-2))-11)) & \" combination of foreground and background colours is technically conformant, but its contrast should be increased.\",CHAR(10)&VALUE(LEFT(RIGHT('Colour Contrast Analysis'!EB4,LEN('Colour Contrast Analysis'!EB4)-FIND(\"+\",'Colour Contrast Analysis'!EB4)-2),LEN(RIGHT('Colour Contrast Analysis'!EB4,LEN('Colour Contrast Analysis'!EB4)-FIND(\"+\",'Colour Contrast Analysis'!EB4)-2))-11)) & \" combinations of foreground and background colours are technically conformant, but their contrast should be increased.\")) & CHAR(10) & \"Please see the Colour Contrast Analysis worksheet.\"","v":"0 combinations of foreground and background colours do not have sufficient contrast.\nPlease see the Colour Contrast Analysis worksheet."},{"$f":"LEFT('Colour Contrast Analysis'!EC4,FIND(\" \",'Colour Contrast Analysis'!EC4)-1)&\" combination\"&IF(VALUE(LEFT('Colour Contrast Analysis'!EC4,FIND(\" \",'Colour Contrast Analysis'!EC4)))=1,\"\",\"s\")&\" of foreground and background colours do\"&IF(VALUE(LEFT('Colour Contrast Analysis'!EC4,FIND(\" \",'Colour Contrast Analysis'!EC4)))=1,\"es\",\"\")&\" not have sufficient contrast.\"&IF(VALUE(LEFT(RIGHT('Colour Contrast Analysis'!EC4,LEN('Colour Contrast Analysis'!EC4)-FIND(\"+\",'Colour Contrast Analysis'!EC4)-2),LEN(RIGHT('Colour Contrast Analysis'!EC4,LEN('Colour Contrast Analysis'!EC4)-FIND(\"+\",'Colour Contrast Analysis'!EC4)-2))-11))=0,\"\",IF(VALUE(LEFT(RIGHT('Colour Contrast Analysis'!EC4,LEN('Colour Contrast Analysis'!EC4)-FIND(\"+\",'Colour Contrast Analysis'!EC4)-2),LEN(RIGHT('Colour Contrast Analysis'!EC4,LEN('Colour Contrast Analysis'!EC4)-FIND(\"+\",'Colour Contrast Analysis'!EC4)-2))-11))=1,CHAR(10)&VALUE(LEFT(RIGHT('Colour Contrast Analysis'!EC4,LEN('Colour Contrast Analysis'!EC4)-FIND(\"+\",'Colour Contrast Analysis'!EC4)-2),LEN(RIGHT('Colour Contrast Analysis'!EC4,LEN('Colour Contrast Analysis'!EC4)-FIND(\"+\",'Colour Contrast Analysis'!EC4)-2))-11)) & \" combination of foreground and background colours is technically conformant, but its contrast should be increased.\",CHAR(10)&VALUE(LEFT(RIGHT('Colour Contrast Analysis'!EC4,LEN('Colour Contrast Analysis'!EC4)-FIND(\"+\",'Colour Contrast Analysis'!EC4)-2),LEN(RIGHT('Colour Contrast Analysis'!EC4,LEN('Colour Contrast Analysis'!EC4)-FIND(\"+\",'Colour Contrast Analysis'!EC4)-2))-11)) & \" combinations of foreground and background colours are technically conformant, but their contrast should be increased.\")) & CHAR(10) & \"Please see the Colour Contrast Analysis worksheet.\"","v":"0 combinations of foreground and background colours do not have sufficient contrast.\nPlease see the Colour Contrast Analysis worksheet."},{"$f":"LEFT('Colour Contrast Analysis'!ED4,FIND(\" \",'Colour Contrast Analysis'!ED4)-1)&\" combination\"&IF(VALUE(LEFT('Colour Contrast Analysis'!ED4,FIND(\" \",'Colour Contrast Analysis'!ED4)))=1,\"\",\"s\")&\" of foreground and background colours do\"&IF(VALUE(LEFT('Colour Contrast Analysis'!ED4,FIND(\" \",'Colour Contrast Analysis'!ED4)))=1,\"es\",\"\")&\" not have sufficient contrast.\"&IF(VALUE(LEFT(RIGHT('Colour Contrast Analysis'!ED4,LEN('Colour Contrast Analysis'!ED4)-FIND(\"+\",'Colour Contrast Analysis'!ED4)-2),LEN(RIGHT('Colour Contrast Analysis'!ED4,LEN('Colour Contrast Analysis'!ED4)-FIND(\"+\",'Colour Contrast Analysis'!ED4)-2))-11))=0,\"\",IF(VALUE(LEFT(RIGHT('Colour Contrast Analysis'!ED4,LEN('Colour Contrast Analysis'!ED4)-FIND(\"+\",'Colour Contrast Analysis'!ED4)-2),LEN(RIGHT('Colour Contrast Analysis'!ED4,LEN('Colour Contrast Analysis'!ED4)-FIND(\"+\",'Colour Contrast Analysis'!ED4)-2))-11))=1,CHAR(10)&VALUE(LEFT(RIGHT('Colour Contrast Analysis'!ED4,LEN('Colour Contrast Analysis'!ED4)-FIND(\"+\",'Colour Contrast Analysis'!ED4)-2),LEN(RIGHT('Colour Contrast Analysis'!ED4,LEN('Colour Contrast Analysis'!ED4)-FIND(\"+\",'Colour Contrast Analysis'!ED4)-2))-11)) & \" combination of foreground and background colours is technically conformant, but its contrast should be increased.\",CHAR(10)&VALUE(LEFT(RIGHT('Colour Contrast Analysis'!ED4,LEN('Colour Contrast Analysis'!ED4)-FIND(\"+\",'Colour Contrast Analysis'!ED4)-2),LEN(RIGHT('Colour Contrast Analysis'!ED4,LEN('Colour Contrast Analysis'!ED4)-FIND(\"+\",'Colour Contrast Analysis'!ED4)-2))-11)) & \" combinations of foreground and background colours are technically conformant, but their contrast should be increased.\")) & CHAR(10) & \"Please see the Colour Contrast Analysis worksheet.\"","v":"0 combinations of foreground and background colours do not have sufficient contrast.\nPlease see the Colour Contrast Analysis worksheet."},{"$f":"LEFT('Colour Contrast Analysis'!EE4,FIND(\" \",'Colour Contrast Analysis'!EE4)-1)&\" combination\"&IF(VALUE(LEFT('Colour Contrast Analysis'!EE4,FIND(\" \",'Colour Contrast Analysis'!EE4)))=1,\"\",\"s\")&\" of foreground and background colours do\"&IF(VALUE(LEFT('Colour Contrast Analysis'!EE4,FIND(\" \",'Colour Contrast Analysis'!EE4)))=1,\"es\",\"\")&\" not have sufficient contrast.\"&IF(VALUE(LEFT(RIGHT('Colour Contrast Analysis'!EE4,LEN('Colour Contrast Analysis'!EE4)-FIND(\"+\",'Colour Contrast Analysis'!EE4)-2),LEN(RIGHT('Colour Contrast Analysis'!EE4,LEN('Colour Contrast Analysis'!EE4)-FIND(\"+\",'Colour Contrast Analysis'!EE4)-2))-11))=0,\"\",IF(VALUE(LEFT(RIGHT('Colour Contrast Analysis'!EE4,LEN('Colour Contrast Analysis'!EE4)-FIND(\"+\",'Colour Contrast Analysis'!EE4)-2),LEN(RIGHT('Colour Contrast Analysis'!EE4,LEN('Colour Contrast Analysis'!EE4)-FIND(\"+\",'Colour Contrast Analysis'!EE4)-2))-11))=1,CHAR(10)&VALUE(LEFT(RIGHT('Colour Contrast Analysis'!EE4,LEN('Colour Contrast Analysis'!EE4)-FIND(\"+\",'Colour Contrast Analysis'!EE4)-2),LEN(RIGHT('Colour Contrast Analysis'!EE4,LEN('Colour Contrast Analysis'!EE4)-FIND(\"+\",'Colour Contrast Analysis'!EE4)-2))-11)) & \" combination of foreground and background colours is technically conformant, but its contrast should be increased.\",CHAR(10)&VALUE(LEFT(RIGHT('Colour Contrast Analysis'!EE4,LEN('Colour Contrast Analysis'!EE4)-FIND(\"+\",'Colour Contrast Analysis'!EE4)-2),LEN(RIGHT('Colour Contrast Analysis'!EE4,LEN('Colour Contrast Analysis'!EE4)-FIND(\"+\",'Colour Contrast Analysis'!EE4)-2))-11)) & \" combinations of foreground and background colours are technically conformant, but their contrast should be increased.\")) & CHAR(10) & \"Please see the Colour Contrast Analysis worksheet.\"","v":"0 combinations of foreground and background colours do not have sufficient contrast.\nPlease see the Colour Contrast Analysis worksheet."},{"$f":"LEFT('Colour Contrast Analysis'!EF4,FIND(\" \",'Colour Contrast Analysis'!EF4)-1)&\" combination\"&IF(VALUE(LEFT('Colour Contrast Analysis'!EF4,FIND(\" \",'Colour Contrast Analysis'!EF4)))=1,\"\",\"s\")&\" of foreground and background colours do\"&IF(VALUE(LEFT('Colour Contrast Analysis'!EF4,FIND(\" \",'Colour Contrast Analysis'!EF4)))=1,\"es\",\"\")&\" not have sufficient contrast.\"&IF(VALUE(LEFT(RIGHT('Colour Contrast Analysis'!EF4,LEN('Colour Contrast Analysis'!EF4)-FIND(\"+\",'Colour Contrast Analysis'!EF4)-2),LEN(RIGHT('Colour Contrast Analysis'!EF4,LEN('Colour Contrast Analysis'!EF4)-FIND(\"+\",'Colour Contrast Analysis'!EF4)-2))-11))=0,\"\",IF(VALUE(LEFT(RIGHT('Colour Contrast Analysis'!EF4,LEN('Colour Contrast Analysis'!EF4)-FIND(\"+\",'Colour Contrast Analysis'!EF4)-2),LEN(RIGHT('Colour Contrast Analysis'!EF4,LEN('Colour Contrast Analysis'!EF4)-FIND(\"+\",'Colour Contrast Analysis'!EF4)-2))-11))=1,CHAR(10)&VALUE(LEFT(RIGHT('Colour Contrast Analysis'!EF4,LEN('Colour Contrast Analysis'!EF4)-FIND(\"+\",'Colour Contrast Analysis'!EF4)-2),LEN(RIGHT('Colour Contrast Analysis'!EF4,LEN('Colour Contrast Analysis'!EF4)-FIND(\"+\",'Colour Contrast Analysis'!EF4)-2))-11)) & \" combination of foreground and background colours is technically conformant, but its contrast should be increased.\",CHAR(10)&VALUE(LEFT(RIGHT('Colour Contrast Analysis'!EF4,LEN('Colour Contrast Analysis'!EF4)-FIND(\"+\",'Colour Contrast Analysis'!EF4)-2),LEN(RIGHT('Colour Contrast Analysis'!EF4,LEN('Colour Contrast Analysis'!EF4)-FIND(\"+\",'Colour Contrast Analysis'!EF4)-2))-11)) & \" combinations of foreground and background colours are technically conformant, but their contrast should be increased.\")) & CHAR(10) & \"Please see the Colour Contrast Analysis worksheet.\"","v":"0 combinations of foreground and background colours do not have sufficient contrast.\nPlease see the Colour Contrast Analysis worksheet."},{"$f":"LEFT('Colour Contrast Analysis'!EG4,FIND(\" \",'Colour Contrast Analysis'!EG4)-1)&\" combination\"&IF(VALUE(LEFT('Colour Contrast Analysis'!EG4,FIND(\" \",'Colour Contrast Analysis'!EG4)))=1,\"\",\"s\")&\" of foreground and background colours do\"&IF(VALUE(LEFT('Colour Contrast Analysis'!EG4,FIND(\" \",'Colour Contrast Analysis'!EG4)))=1,\"es\",\"\")&\" not have sufficient contrast.\"&IF(VALUE(LEFT(RIGHT('Colour Contrast Analysis'!EG4,LEN('Colour Contrast Analysis'!EG4)-FIND(\"+\",'Colour Contrast Analysis'!EG4)-2),LEN(RIGHT('Colour Contrast Analysis'!EG4,LEN('Colour Contrast Analysis'!EG4)-FIND(\"+\",'Colour Contrast Analysis'!EG4)-2))-11))=0,\"\",IF(VALUE(LEFT(RIGHT('Colour Contrast Analysis'!EG4,LEN('Colour Contrast Analysis'!EG4)-FIND(\"+\",'Colour Contrast Analysis'!EG4)-2),LEN(RIGHT('Colour Contrast Analysis'!EG4,LEN('Colour Contrast Analysis'!EG4)-FIND(\"+\",'Colour Contrast Analysis'!EG4)-2))-11))=1,CHAR(10)&VALUE(LEFT(RIGHT('Colour Contrast Analysis'!EG4,LEN('Colour Contrast Analysis'!EG4)-FIND(\"+\",'Colour Contrast Analysis'!EG4)-2),LEN(RIGHT('Colour Contrast Analysis'!EG4,LEN('Colour Contrast Analysis'!EG4)-FIND(\"+\",'Colour Contrast Analysis'!EG4)-2))-11)) & \" combination of foreground and background colours is technically conformant, but its contrast should be increased.\",CHAR(10)&VALUE(LEFT(RIGHT('Colour Contrast Analysis'!EG4,LEN('Colour Contrast Analysis'!EG4)-FIND(\"+\",'Colour Contrast Analysis'!EG4)-2),LEN(RIGHT('Colour Contrast Analysis'!EG4,LEN('Colour Contrast Analysis'!EG4)-FIND(\"+\",'Colour Contrast Analysis'!EG4)-2))-11)) & \" combinations of foreground and background colours are technically conformant, but their contrast should be increased.\")) & CHAR(10) & \"Please see the Colour Contrast Analysis worksheet.\"","v":"0 combinations of foreground and background colours do not have sufficient contrast.\nPlease see the Colour Contrast Analysis worksheet."},{"$f":"LEFT('Colour Contrast Analysis'!EH4,FIND(\" \",'Colour Contrast Analysis'!EH4)-1)&\" combination\"&IF(VALUE(LEFT('Colour Contrast Analysis'!EH4,FIND(\" \",'Colour Contrast Analysis'!EH4)))=1,\"\",\"s\")&\" of foreground and background colours do\"&IF(VALUE(LEFT('Colour Contrast Analysis'!EH4,FIND(\" \",'Colour Contrast Analysis'!EH4)))=1,\"es\",\"\")&\" not have sufficient contrast.\"&IF(VALUE(LEFT(RIGHT('Colour Contrast Analysis'!EH4,LEN('Colour Contrast Analysis'!EH4)-FIND(\"+\",'Colour Contrast Analysis'!EH4)-2),LEN(RIGHT('Colour Contrast Analysis'!EH4,LEN('Colour Contrast Analysis'!EH4)-FIND(\"+\",'Colour Contrast Analysis'!EH4)-2))-11))=0,\"\",IF(VALUE(LEFT(RIGHT('Colour Contrast Analysis'!EH4,LEN('Colour Contrast Analysis'!EH4)-FIND(\"+\",'Colour Contrast Analysis'!EH4)-2),LEN(RIGHT('Colour Contrast Analysis'!EH4,LEN('Colour Contrast Analysis'!EH4)-FIND(\"+\",'Colour Contrast Analysis'!EH4)-2))-11))=1,CHAR(10)&VALUE(LEFT(RIGHT('Colour Contrast Analysis'!EH4,LEN('Colour Contrast Analysis'!EH4)-FIND(\"+\",'Colour Contrast Analysis'!EH4)-2),LEN(RIGHT('Colour Contrast Analysis'!EH4,LEN('Colour Contrast Analysis'!EH4)-FIND(\"+\",'Colour Contrast Analysis'!EH4)-2))-11)) & \" combination of foreground and background colours is technically conformant, but its contrast should be increased.\",CHAR(10)&VALUE(LEFT(RIGHT('Colour Contrast Analysis'!EH4,LEN('Colour Contrast Analysis'!EH4)-FIND(\"+\",'Colour Contrast Analysis'!EH4)-2),LEN(RIGHT('Colour Contrast Analysis'!EH4,LEN('Colour Contrast Analysis'!EH4)-FIND(\"+\",'Colour Contrast Analysis'!EH4)-2))-11)) & \" combinations of foreground and background colours are technically conformant, but their contrast should be increased.\")) & CHAR(10) & \"Please see the Colour Contrast Analysis worksheet.\"","v":"0 combinations of foreground and background colours do not have sufficient contrast.\nPlease see the Colour Contrast Analysis worksheet."},{"$f":"LEFT('Colour Contrast Analysis'!EI4,FIND(\" \",'Colour Contrast Analysis'!EI4)-1)&\" combination\"&IF(VALUE(LEFT('Colour Contrast Analysis'!EI4,FIND(\" \",'Colour Contrast Analysis'!EI4)))=1,\"\",\"s\")&\" of foreground and background colours do\"&IF(VALUE(LEFT('Colour Contrast Analysis'!EI4,FIND(\" \",'Colour Contrast Analysis'!EI4)))=1,\"es\",\"\")&\" not have sufficient contrast.\"&IF(VALUE(LEFT(RIGHT('Colour Contrast Analysis'!EI4,LEN('Colour Contrast Analysis'!EI4)-FIND(\"+\",'Colour Contrast Analysis'!EI4)-2),LEN(RIGHT('Colour Contrast Analysis'!EI4,LEN('Colour Contrast Analysis'!EI4)-FIND(\"+\",'Colour Contrast Analysis'!EI4)-2))-11))=0,\"\",IF(VALUE(LEFT(RIGHT('Colour Contrast Analysis'!EI4,LEN('Colour Contrast Analysis'!EI4)-FIND(\"+\",'Colour Contrast Analysis'!EI4)-2),LEN(RIGHT('Colour Contrast Analysis'!EI4,LEN('Colour Contrast Analysis'!EI4)-FIND(\"+\",'Colour Contrast Analysis'!EI4)-2))-11))=1,CHAR(10)&VALUE(LEFT(RIGHT('Colour Contrast Analysis'!EI4,LEN('Colour Contrast Analysis'!EI4)-FIND(\"+\",'Colour Contrast Analysis'!EI4)-2),LEN(RIGHT('Colour Contrast Analysis'!EI4,LEN('Colour Contrast Analysis'!EI4)-FIND(\"+\",'Colour Contrast Analysis'!EI4)-2))-11)) & \" combination of foreground and background colours is technically conformant, but its contrast should be increased.\",CHAR(10)&VALUE(LEFT(RIGHT('Colour Contrast Analysis'!EI4,LEN('Colour Contrast Analysis'!EI4)-FIND(\"+\",'Colour Contrast Analysis'!EI4)-2),LEN(RIGHT('Colour Contrast Analysis'!EI4,LEN('Colour Contrast Analysis'!EI4)-FIND(\"+\",'Colour Contrast Analysis'!EI4)-2))-11)) & \" combinations of foreground and background colours are technically conformant, but their contrast should be increased.\")) & CHAR(10) & \"Please see the Colour Contrast Analysis worksheet.\"","v":"0 combinations of foreground and background colours do not have sufficient contrast.\nPlease see the Colour Contrast Analysis worksheet."},{"$f":"LEFT('Colour Contrast Analysis'!EJ4,FIND(\" \",'Colour Contrast Analysis'!EJ4)-1)&\" combination\"&IF(VALUE(LEFT('Colour Contrast Analysis'!EJ4,FIND(\" \",'Colour Contrast Analysis'!EJ4)))=1,\"\",\"s\")&\" of foreground and background colours do\"&IF(VALUE(LEFT('Colour Contrast Analysis'!EJ4,FIND(\" \",'Colour Contrast Analysis'!EJ4)))=1,\"es\",\"\")&\" not have sufficient contrast.\"&IF(VALUE(LEFT(RIGHT('Colour Contrast Analysis'!EJ4,LEN('Colour Contrast Analysis'!EJ4)-FIND(\"+\",'Colour Contrast Analysis'!EJ4)-2),LEN(RIGHT('Colour Contrast Analysis'!EJ4,LEN('Colour Contrast Analysis'!EJ4)-FIND(\"+\",'Colour Contrast Analysis'!EJ4)-2))-11))=0,\"\",IF(VALUE(LEFT(RIGHT('Colour Contrast Analysis'!EJ4,LEN('Colour Contrast Analysis'!EJ4)-FIND(\"+\",'Colour Contrast Analysis'!EJ4)-2),LEN(RIGHT('Colour Contrast Analysis'!EJ4,LEN('Colour Contrast Analysis'!EJ4)-FIND(\"+\",'Colour Contrast Analysis'!EJ4)-2))-11))=1,CHAR(10)&VALUE(LEFT(RIGHT('Colour Contrast Analysis'!EJ4,LEN('Colour Contrast Analysis'!EJ4)-FIND(\"+\",'Colour Contrast Analysis'!EJ4)-2),LEN(RIGHT('Colour Contrast Analysis'!EJ4,LEN('Colour Contrast Analysis'!EJ4)-FIND(\"+\",'Colour Contrast Analysis'!EJ4)-2))-11)) & \" combination of foreground and background colours is technically conformant, but its contrast should be increased.\",CHAR(10)&VALUE(LEFT(RIGHT('Colour Contrast Analysis'!EJ4,LEN('Colour Contrast Analysis'!EJ4)-FIND(\"+\",'Colour Contrast Analysis'!EJ4)-2),LEN(RIGHT('Colour Contrast Analysis'!EJ4,LEN('Colour Contrast Analysis'!EJ4)-FIND(\"+\",'Colour Contrast Analysis'!EJ4)-2))-11)) & \" combinations of foreground and background colours are technically conformant, but their contrast should be increased.\")) & CHAR(10) & \"Please see the Colour Contrast Analysis worksheet.\"","v":"0 combinations of foreground and background colours do not have sufficient contrast.\nPlease see the Colour Contrast Analysis worksheet."},{"$f":"LEFT('Colour Contrast Analysis'!EK4,FIND(\" \",'Colour Contrast Analysis'!EK4)-1)&\" combination\"&IF(VALUE(LEFT('Colour Contrast Analysis'!EK4,FIND(\" \",'Colour Contrast Analysis'!EK4)))=1,\"\",\"s\")&\" of foreground and background colours do\"&IF(VALUE(LEFT('Colour Contrast Analysis'!EK4,FIND(\" \",'Colour Contrast Analysis'!EK4)))=1,\"es\",\"\")&\" not have sufficient contrast.\"&IF(VALUE(LEFT(RIGHT('Colour Contrast Analysis'!EK4,LEN('Colour Contrast Analysis'!EK4)-FIND(\"+\",'Colour Contrast Analysis'!EK4)-2),LEN(RIGHT('Colour Contrast Analysis'!EK4,LEN('Colour Contrast Analysis'!EK4)-FIND(\"+\",'Colour Contrast Analysis'!EK4)-2))-11))=0,\"\",IF(VALUE(LEFT(RIGHT('Colour Contrast Analysis'!EK4,LEN('Colour Contrast Analysis'!EK4)-FIND(\"+\",'Colour Contrast Analysis'!EK4)-2),LEN(RIGHT('Colour Contrast Analysis'!EK4,LEN('Colour Contrast Analysis'!EK4)-FIND(\"+\",'Colour Contrast Analysis'!EK4)-2))-11))=1,CHAR(10)&VALUE(LEFT(RIGHT('Colour Contrast Analysis'!EK4,LEN('Colour Contrast Analysis'!EK4)-FIND(\"+\",'Colour Contrast Analysis'!EK4)-2),LEN(RIGHT('Colour Contrast Analysis'!EK4,LEN('Colour Contrast Analysis'!EK4)-FIND(\"+\",'Colour Contrast Analysis'!EK4)-2))-11)) & \" combination of foreground and background colours is technically conformant, but its contrast should be increased.\",CHAR(10)&VALUE(LEFT(RIGHT('Colour Contrast Analysis'!EK4,LEN('Colour Contrast Analysis'!EK4)-FIND(\"+\",'Colour Contrast Analysis'!EK4)-2),LEN(RIGHT('Colour Contrast Analysis'!EK4,LEN('Colour Contrast Analysis'!EK4)-FIND(\"+\",'Colour Contrast Analysis'!EK4)-2))-11)) & \" combinations of foreground and background colours are technically conformant, but their contrast should be increased.\")) & CHAR(10) & \"Please see the Colour Contrast Analysis worksheet.\"","v":"0 combinations of foreground and background colours do not have sufficient contrast.\nPlease see the Colour Contrast Analysis worksheet."},{"$f":"LEFT('Colour Contrast Analysis'!EL4,FIND(\" \",'Colour Contrast Analysis'!EL4)-1)&\" combination\"&IF(VALUE(LEFT('Colour Contrast Analysis'!EL4,FIND(\" \",'Colour Contrast Analysis'!EL4)))=1,\"\",\"s\")&\" of foreground and background colours do\"&IF(VALUE(LEFT('Colour Contrast Analysis'!EL4,FIND(\" \",'Colour Contrast Analysis'!EL4)))=1,\"es\",\"\")&\" not have sufficient contrast.\"&IF(VALUE(LEFT(RIGHT('Colour Contrast Analysis'!EL4,LEN('Colour Contrast Analysis'!EL4)-FIND(\"+\",'Colour Contrast Analysis'!EL4)-2),LEN(RIGHT('Colour Contrast Analysis'!EL4,LEN('Colour Contrast Analysis'!EL4)-FIND(\"+\",'Colour Contrast Analysis'!EL4)-2))-11))=0,\"\",IF(VALUE(LEFT(RIGHT('Colour Contrast Analysis'!EL4,LEN('Colour Contrast Analysis'!EL4)-FIND(\"+\",'Colour Contrast Analysis'!EL4)-2),LEN(RIGHT('Colour Contrast Analysis'!EL4,LEN('Colour Contrast Analysis'!EL4)-FIND(\"+\",'Colour Contrast Analysis'!EL4)-2))-11))=1,CHAR(10)&VALUE(LEFT(RIGHT('Colour Contrast Analysis'!EL4,LEN('Colour Contrast Analysis'!EL4)-FIND(\"+\",'Colour Contrast Analysis'!EL4)-2),LEN(RIGHT('Colour Contrast Analysis'!EL4,LEN('Colour Contrast Analysis'!EL4)-FIND(\"+\",'Colour Contrast Analysis'!EL4)-2))-11)) & \" combination of foreground and background colours is technically conformant, but its contrast should be increased.\",CHAR(10)&VALUE(LEFT(RIGHT('Colour Contrast Analysis'!EL4,LEN('Colour Contrast Analysis'!EL4)-FIND(\"+\",'Colour Contrast Analysis'!EL4)-2),LEN(RIGHT('Colour Contrast Analysis'!EL4,LEN('Colour Contrast Analysis'!EL4)-FIND(\"+\",'Colour Contrast Analysis'!EL4)-2))-11)) & \" combinations of foreground and background colours are technically conformant, but their contrast should be increased.\")) & CHAR(10) & \"Please see the Colour Contrast Analysis worksheet.\"","v":"0 combinations of foreground and background colours do not have sufficient contrast.\nPlease see the Colour Contrast Analysis worksheet."},{"$f":"LEFT('Colour Contrast Analysis'!EM4,FIND(\" \",'Colour Contrast Analysis'!EM4)-1)&\" combination\"&IF(VALUE(LEFT('Colour Contrast Analysis'!EM4,FIND(\" \",'Colour Contrast Analysis'!EM4)))=1,\"\",\"s\")&\" of foreground and background colours do\"&IF(VALUE(LEFT('Colour Contrast Analysis'!EM4,FIND(\" \",'Colour Contrast Analysis'!EM4)))=1,\"es\",\"\")&\" not have sufficient contrast.\"&IF(VALUE(LEFT(RIGHT('Colour Contrast Analysis'!EM4,LEN('Colour Contrast Analysis'!EM4)-FIND(\"+\",'Colour Contrast Analysis'!EM4)-2),LEN(RIGHT('Colour Contrast Analysis'!EM4,LEN('Colour Contrast Analysis'!EM4)-FIND(\"+\",'Colour Contrast Analysis'!EM4)-2))-11))=0,\"\",IF(VALUE(LEFT(RIGHT('Colour Contrast Analysis'!EM4,LEN('Colour Contrast Analysis'!EM4)-FIND(\"+\",'Colour Contrast Analysis'!EM4)-2),LEN(RIGHT('Colour Contrast Analysis'!EM4,LEN('Colour Contrast Analysis'!EM4)-FIND(\"+\",'Colour Contrast Analysis'!EM4)-2))-11))=1,CHAR(10)&VALUE(LEFT(RIGHT('Colour Contrast Analysis'!EM4,LEN('Colour Contrast Analysis'!EM4)-FIND(\"+\",'Colour Contrast Analysis'!EM4)-2),LEN(RIGHT('Colour Contrast Analysis'!EM4,LEN('Colour Contrast Analysis'!EM4)-FIND(\"+\",'Colour Contrast Analysis'!EM4)-2))-11)) & \" combination of foreground and background colours is technically conformant, but its contrast should be increased.\",CHAR(10)&VALUE(LEFT(RIGHT('Colour Contrast Analysis'!EM4,LEN('Colour Contrast Analysis'!EM4)-FIND(\"+\",'Colour Contrast Analysis'!EM4)-2),LEN(RIGHT('Colour Contrast Analysis'!EM4,LEN('Colour Contrast Analysis'!EM4)-FIND(\"+\",'Colour Contrast Analysis'!EM4)-2))-11)) & \" combinations of foreground and background colours are technically conformant, but their contrast should be increased.\")) & CHAR(10) & \"Please see the Colour Contrast Analysis worksheet.\"","v":"0 combinations of foreground and background colours do not have sufficient contrast.\nPlease see the Colour Contrast Analysis worksheet."},{"$f":"LEFT('Colour Contrast Analysis'!EN4,FIND(\" \",'Colour Contrast Analysis'!EN4)-1)&\" combination\"&IF(VALUE(LEFT('Colour Contrast Analysis'!EN4,FIND(\" \",'Colour Contrast Analysis'!EN4)))=1,\"\",\"s\")&\" of foreground and background colours do\"&IF(VALUE(LEFT('Colour Contrast Analysis'!EN4,FIND(\" \",'Colour Contrast Analysis'!EN4)))=1,\"es\",\"\")&\" not have sufficient contrast.\"&IF(VALUE(LEFT(RIGHT('Colour Contrast Analysis'!EN4,LEN('Colour Contrast Analysis'!EN4)-FIND(\"+\",'Colour Contrast Analysis'!EN4)-2),LEN(RIGHT('Colour Contrast Analysis'!EN4,LEN('Colour Contrast Analysis'!EN4)-FIND(\"+\",'Colour Contrast Analysis'!EN4)-2))-11))=0,\"\",IF(VALUE(LEFT(RIGHT('Colour Contrast Analysis'!EN4,LEN('Colour Contrast Analysis'!EN4)-FIND(\"+\",'Colour Contrast Analysis'!EN4)-2),LEN(RIGHT('Colour Contrast Analysis'!EN4,LEN('Colour Contrast Analysis'!EN4)-FIND(\"+\",'Colour Contrast Analysis'!EN4)-2))-11))=1,CHAR(10)&VALUE(LEFT(RIGHT('Colour Contrast Analysis'!EN4,LEN('Colour Contrast Analysis'!EN4)-FIND(\"+\",'Colour Contrast Analysis'!EN4)-2),LEN(RIGHT('Colour Contrast Analysis'!EN4,LEN('Colour Contrast Analysis'!EN4)-FIND(\"+\",'Colour Contrast Analysis'!EN4)-2))-11)) & \" combination of foreground and background colours is technically conformant, but its contrast should be increased.\",CHAR(10)&VALUE(LEFT(RIGHT('Colour Contrast Analysis'!EN4,LEN('Colour Contrast Analysis'!EN4)-FIND(\"+\",'Colour Contrast Analysis'!EN4)-2),LEN(RIGHT('Colour Contrast Analysis'!EN4,LEN('Colour Contrast Analysis'!EN4)-FIND(\"+\",'Colour Contrast Analysis'!EN4)-2))-11)) & \" combinations of foreground and background colours are technically conformant, but their contrast should be increased.\")) & CHAR(10) & \"Please see the Colour Contrast Analysis worksheet.\"","v":"0 combinations of foreground and background colours do not have sufficient contrast.\nPlease see the Colour Contrast Analysis worksheet."},{"$f":"LEFT('Colour Contrast Analysis'!EO4,FIND(\" \",'Colour Contrast Analysis'!EO4)-1)&\" combination\"&IF(VALUE(LEFT('Colour Contrast Analysis'!EO4,FIND(\" \",'Colour Contrast Analysis'!EO4)))=1,\"\",\"s\")&\" of foreground and background colours do\"&IF(VALUE(LEFT('Colour Contrast Analysis'!EO4,FIND(\" \",'Colour Contrast Analysis'!EO4)))=1,\"es\",\"\")&\" not have sufficient contrast.\"&IF(VALUE(LEFT(RIGHT('Colour Contrast Analysis'!EO4,LEN('Colour Contrast Analysis'!EO4)-FIND(\"+\",'Colour Contrast Analysis'!EO4)-2),LEN(RIGHT('Colour Contrast Analysis'!EO4,LEN('Colour Contrast Analysis'!EO4)-FIND(\"+\",'Colour Contrast Analysis'!EO4)-2))-11))=0,\"\",IF(VALUE(LEFT(RIGHT('Colour Contrast Analysis'!EO4,LEN('Colour Contrast Analysis'!EO4)-FIND(\"+\",'Colour Contrast Analysis'!EO4)-2),LEN(RIGHT('Colour Contrast Analysis'!EO4,LEN('Colour Contrast Analysis'!EO4)-FIND(\"+\",'Colour Contrast Analysis'!EO4)-2))-11))=1,CHAR(10)&VALUE(LEFT(RIGHT('Colour Contrast Analysis'!EO4,LEN('Colour Contrast Analysis'!EO4)-FIND(\"+\",'Colour Contrast Analysis'!EO4)-2),LEN(RIGHT('Colour Contrast Analysis'!EO4,LEN('Colour Contrast Analysis'!EO4)-FIND(\"+\",'Colour Contrast Analysis'!EO4)-2))-11)) & \" combination of foreground and background colours is technically conformant, but its contrast should be increased.\",CHAR(10)&VALUE(LEFT(RIGHT('Colour Contrast Analysis'!EO4,LEN('Colour Contrast Analysis'!EO4)-FIND(\"+\",'Colour Contrast Analysis'!EO4)-2),LEN(RIGHT('Colour Contrast Analysis'!EO4,LEN('Colour Contrast Analysis'!EO4)-FIND(\"+\",'Colour Contrast Analysis'!EO4)-2))-11)) & \" combinations of foreground and background colours are technically conformant, but their contrast should be increased.\")) & CHAR(10) & \"Please see the Colour Contrast Analysis worksheet.\"","v":"0 combinations of foreground and background colours do not have sufficient contrast.\nPlease see the Colour Contrast Analysis worksheet."},{"$f":"LEFT('Colour Contrast Analysis'!EP4,FIND(\" \",'Colour Contrast Analysis'!EP4)-1)&\" combination\"&IF(VALUE(LEFT('Colour Contrast Analysis'!EP4,FIND(\" \",'Colour Contrast Analysis'!EP4)))=1,\"\",\"s\")&\" of foreground and background colours do\"&IF(VALUE(LEFT('Colour Contrast Analysis'!EP4,FIND(\" \",'Colour Contrast Analysis'!EP4)))=1,\"es\",\"\")&\" not have sufficient contrast.\"&IF(VALUE(LEFT(RIGHT('Colour Contrast Analysis'!EP4,LEN('Colour Contrast Analysis'!EP4)-FIND(\"+\",'Colour Contrast Analysis'!EP4)-2),LEN(RIGHT('Colour Contrast Analysis'!EP4,LEN('Colour Contrast Analysis'!EP4)-FIND(\"+\",'Colour Contrast Analysis'!EP4)-2))-11))=0,\"\",IF(VALUE(LEFT(RIGHT('Colour Contrast Analysis'!EP4,LEN('Colour Contrast Analysis'!EP4)-FIND(\"+\",'Colour Contrast Analysis'!EP4)-2),LEN(RIGHT('Colour Contrast Analysis'!EP4,LEN('Colour Contrast Analysis'!EP4)-FIND(\"+\",'Colour Contrast Analysis'!EP4)-2))-11))=1,CHAR(10)&VALUE(LEFT(RIGHT('Colour Contrast Analysis'!EP4,LEN('Colour Contrast Analysis'!EP4)-FIND(\"+\",'Colour Contrast Analysis'!EP4)-2),LEN(RIGHT('Colour Contrast Analysis'!EP4,LEN('Colour Contrast Analysis'!EP4)-FIND(\"+\",'Colour Contrast Analysis'!EP4)-2))-11)) & \" combination of foreground and background colours is technically conformant, but its contrast should be increased.\",CHAR(10)&VALUE(LEFT(RIGHT('Colour Contrast Analysis'!EP4,LEN('Colour Contrast Analysis'!EP4)-FIND(\"+\",'Colour Contrast Analysis'!EP4)-2),LEN(RIGHT('Colour Contrast Analysis'!EP4,LEN('Colour Contrast Analysis'!EP4)-FIND(\"+\",'Colour Contrast Analysis'!EP4)-2))-11)) & \" combinations of foreground and background colours are technically conformant, but their contrast should be increased.\")) & CHAR(10) & \"Please see the Colour Contrast Analysis worksheet.\"","v":"0 combinations of foreground and background colours do not have sufficient contrast.\nPlease see the Colour Contrast Analysis worksheet."},{"$f":"LEFT('Colour Contrast Analysis'!EQ4,FIND(\" \",'Colour Contrast Analysis'!EQ4)-1)&\" combination\"&IF(VALUE(LEFT('Colour Contrast Analysis'!EQ4,FIND(\" \",'Colour Contrast Analysis'!EQ4)))=1,\"\",\"s\")&\" of foreground and background colours do\"&IF(VALUE(LEFT('Colour Contrast Analysis'!EQ4,FIND(\" \",'Colour Contrast Analysis'!EQ4)))=1,\"es\",\"\")&\" not have sufficient contrast.\"&IF(VALUE(LEFT(RIGHT('Colour Contrast Analysis'!EQ4,LEN('Colour Contrast Analysis'!EQ4)-FIND(\"+\",'Colour Contrast Analysis'!EQ4)-2),LEN(RIGHT('Colour Contrast Analysis'!EQ4,LEN('Colour Contrast Analysis'!EQ4)-FIND(\"+\",'Colour Contrast Analysis'!EQ4)-2))-11))=0,\"\",IF(VALUE(LEFT(RIGHT('Colour Contrast Analysis'!EQ4,LEN('Colour Contrast Analysis'!EQ4)-FIND(\"+\",'Colour Contrast Analysis'!EQ4)-2),LEN(RIGHT('Colour Contrast Analysis'!EQ4,LEN('Colour Contrast Analysis'!EQ4)-FIND(\"+\",'Colour Contrast Analysis'!EQ4)-2))-11))=1,CHAR(10)&VALUE(LEFT(RIGHT('Colour Contrast Analysis'!EQ4,LEN('Colour Contrast Analysis'!EQ4)-FIND(\"+\",'Colour Contrast Analysis'!EQ4)-2),LEN(RIGHT('Colour Contrast Analysis'!EQ4,LEN('Colour Contrast Analysis'!EQ4)-FIND(\"+\",'Colour Contrast Analysis'!EQ4)-2))-11)) & \" combination of foreground and background colours is technically conformant, but its contrast should be increased.\",CHAR(10)&VALUE(LEFT(RIGHT('Colour Contrast Analysis'!EQ4,LEN('Colour Contrast Analysis'!EQ4)-FIND(\"+\",'Colour Contrast Analysis'!EQ4)-2),LEN(RIGHT('Colour Contrast Analysis'!EQ4,LEN('Colour Contrast Analysis'!EQ4)-FIND(\"+\",'Colour Contrast Analysis'!EQ4)-2))-11)) & \" combinations of foreground and background colours are technically conformant, but their contrast should be increased.\")) & CHAR(10) & \"Please see the Colour Contrast Analysis worksheet.\"","v":"0 combinations of foreground and background colours do not have sufficient contrast.\nPlease see the Colour Contrast Analysis worksheet."},{"$f":"LEFT('Colour Contrast Analysis'!ER4,FIND(\" \",'Colour Contrast Analysis'!ER4)-1)&\" combination\"&IF(VALUE(LEFT('Colour Contrast Analysis'!ER4,FIND(\" \",'Colour Contrast Analysis'!ER4)))=1,\"\",\"s\")&\" of foreground and background colours do\"&IF(VALUE(LEFT('Colour Contrast Analysis'!ER4,FIND(\" \",'Colour Contrast Analysis'!ER4)))=1,\"es\",\"\")&\" not have sufficient contrast.\"&IF(VALUE(LEFT(RIGHT('Colour Contrast Analysis'!ER4,LEN('Colour Contrast Analysis'!ER4)-FIND(\"+\",'Colour Contrast Analysis'!ER4)-2),LEN(RIGHT('Colour Contrast Analysis'!ER4,LEN('Colour Contrast Analysis'!ER4)-FIND(\"+\",'Colour Contrast Analysis'!ER4)-2))-11))=0,\"\",IF(VALUE(LEFT(RIGHT('Colour Contrast Analysis'!ER4,LEN('Colour Contrast Analysis'!ER4)-FIND(\"+\",'Colour Contrast Analysis'!ER4)-2),LEN(RIGHT('Colour Contrast Analysis'!ER4,LEN('Colour Contrast Analysis'!ER4)-FIND(\"+\",'Colour Contrast Analysis'!ER4)-2))-11))=1,CHAR(10)&VALUE(LEFT(RIGHT('Colour Contrast Analysis'!ER4,LEN('Colour Contrast Analysis'!ER4)-FIND(\"+\",'Colour Contrast Analysis'!ER4)-2),LEN(RIGHT('Colour Contrast Analysis'!ER4,LEN('Colour Contrast Analysis'!ER4)-FIND(\"+\",'Colour Contrast Analysis'!ER4)-2))-11)) & \" combination of foreground and background colours is technically conformant, but its contrast should be increased.\",CHAR(10)&VALUE(LEFT(RIGHT('Colour Contrast Analysis'!ER4,LEN('Colour Contrast Analysis'!ER4)-FIND(\"+\",'Colour Contrast Analysis'!ER4)-2),LEN(RIGHT('Colour Contrast Analysis'!ER4,LEN('Colour Contrast Analysis'!ER4)-FIND(\"+\",'Colour Contrast Analysis'!ER4)-2))-11)) & \" combinations of foreground and background colours are technically conformant, but their contrast should be increased.\")) & CHAR(10) & \"Please see the Colour Contrast Analysis worksheet.\"","v":"0 combinations of foreground and background colours do not have sufficient contrast.\nPlease see the Colour Contrast Analysis worksheet."},{"$f":"LEFT('Colour Contrast Analysis'!ES4,FIND(\" \",'Colour Contrast Analysis'!ES4)-1)&\" combination\"&IF(VALUE(LEFT('Colour Contrast Analysis'!ES4,FIND(\" \",'Colour Contrast Analysis'!ES4)))=1,\"\",\"s\")&\" of foreground and background colours do\"&IF(VALUE(LEFT('Colour Contrast Analysis'!ES4,FIND(\" \",'Colour Contrast Analysis'!ES4)))=1,\"es\",\"\")&\" not have sufficient contrast.\"&IF(VALUE(LEFT(RIGHT('Colour Contrast Analysis'!ES4,LEN('Colour Contrast Analysis'!ES4)-FIND(\"+\",'Colour Contrast Analysis'!ES4)-2),LEN(RIGHT('Colour Contrast Analysis'!ES4,LEN('Colour Contrast Analysis'!ES4)-FIND(\"+\",'Colour Contrast Analysis'!ES4)-2))-11))=0,\"\",IF(VALUE(LEFT(RIGHT('Colour Contrast Analysis'!ES4,LEN('Colour Contrast Analysis'!ES4)-FIND(\"+\",'Colour Contrast Analysis'!ES4)-2),LEN(RIGHT('Colour Contrast Analysis'!ES4,LEN('Colour Contrast Analysis'!ES4)-FIND(\"+\",'Colour Contrast Analysis'!ES4)-2))-11))=1,CHAR(10)&VALUE(LEFT(RIGHT('Colour Contrast Analysis'!ES4,LEN('Colour Contrast Analysis'!ES4)-FIND(\"+\",'Colour Contrast Analysis'!ES4)-2),LEN(RIGHT('Colour Contrast Analysis'!ES4,LEN('Colour Contrast Analysis'!ES4)-FIND(\"+\",'Colour Contrast Analysis'!ES4)-2))-11)) & \" combination of foreground and background colours is technically conformant, but its contrast should be increased.\",CHAR(10)&VALUE(LEFT(RIGHT('Colour Contrast Analysis'!ES4,LEN('Colour Contrast Analysis'!ES4)-FIND(\"+\",'Colour Contrast Analysis'!ES4)-2),LEN(RIGHT('Colour Contrast Analysis'!ES4,LEN('Colour Contrast Analysis'!ES4)-FIND(\"+\",'Colour Contrast Analysis'!ES4)-2))-11)) & \" combinations of foreground and background colours are technically conformant, but their contrast should be increased.\")) & CHAR(10) & \"Please see the Colour Contrast Analysis worksheet.\"","v":"0 combinations of foreground and background colours do not have sufficient contrast.\nPlease see the Colour Contrast Analysis worksheet."},{"$f":"LEFT('Colour Contrast Analysis'!ET4,FIND(\" \",'Colour Contrast Analysis'!ET4)-1)&\" combination\"&IF(VALUE(LEFT('Colour Contrast Analysis'!ET4,FIND(\" \",'Colour Contrast Analysis'!ET4)))=1,\"\",\"s\")&\" of foreground and background colours do\"&IF(VALUE(LEFT('Colour Contrast Analysis'!ET4,FIND(\" \",'Colour Contrast Analysis'!ET4)))=1,\"es\",\"\")&\" not have sufficient contrast.\"&IF(VALUE(LEFT(RIGHT('Colour Contrast Analysis'!ET4,LEN('Colour Contrast Analysis'!ET4)-FIND(\"+\",'Colour Contrast Analysis'!ET4)-2),LEN(RIGHT('Colour Contrast Analysis'!ET4,LEN('Colour Contrast Analysis'!ET4)-FIND(\"+\",'Colour Contrast Analysis'!ET4)-2))-11))=0,\"\",IF(VALUE(LEFT(RIGHT('Colour Contrast Analysis'!ET4,LEN('Colour Contrast Analysis'!ET4)-FIND(\"+\",'Colour Contrast Analysis'!ET4)-2),LEN(RIGHT('Colour Contrast Analysis'!ET4,LEN('Colour Contrast Analysis'!ET4)-FIND(\"+\",'Colour Contrast Analysis'!ET4)-2))-11))=1,CHAR(10)&VALUE(LEFT(RIGHT('Colour Contrast Analysis'!ET4,LEN('Colour Contrast Analysis'!ET4)-FIND(\"+\",'Colour Contrast Analysis'!ET4)-2),LEN(RIGHT('Colour Contrast Analysis'!ET4,LEN('Colour Contrast Analysis'!ET4)-FIND(\"+\",'Colour Contrast Analysis'!ET4)-2))-11)) & \" combination of foreground and background colours is technically conformant, but its contrast should be increased.\",CHAR(10)&VALUE(LEFT(RIGHT('Colour Contrast Analysis'!ET4,LEN('Colour Contrast Analysis'!ET4)-FIND(\"+\",'Colour Contrast Analysis'!ET4)-2),LEN(RIGHT('Colour Contrast Analysis'!ET4,LEN('Colour Contrast Analysis'!ET4)-FIND(\"+\",'Colour Contrast Analysis'!ET4)-2))-11)) & \" combinations of foreground and background colours are technically conformant, but their contrast should be increased.\")) & CHAR(10) & \"Please see the Colour Contrast Analysis worksheet.\"","v":"0 combinations of foreground and background colours do not have sufficient contrast.\nPlease see the Colour Contrast Analysis worksheet."},{"$f":"LEFT('Colour Contrast Analysis'!EU4,FIND(\" \",'Colour Contrast Analysis'!EU4)-1)&\" combination\"&IF(VALUE(LEFT('Colour Contrast Analysis'!EU4,FIND(\" \",'Colour Contrast Analysis'!EU4)))=1,\"\",\"s\")&\" of foreground and background colours do\"&IF(VALUE(LEFT('Colour Contrast Analysis'!EU4,FIND(\" \",'Colour Contrast Analysis'!EU4)))=1,\"es\",\"\")&\" not have sufficient contrast.\"&IF(VALUE(LEFT(RIGHT('Colour Contrast Analysis'!EU4,LEN('Colour Contrast Analysis'!EU4)-FIND(\"+\",'Colour Contrast Analysis'!EU4)-2),LEN(RIGHT('Colour Contrast Analysis'!EU4,LEN('Colour Contrast Analysis'!EU4)-FIND(\"+\",'Colour Contrast Analysis'!EU4)-2))-11))=0,\"\",IF(VALUE(LEFT(RIGHT('Colour Contrast Analysis'!EU4,LEN('Colour Contrast Analysis'!EU4)-FIND(\"+\",'Colour Contrast Analysis'!EU4)-2),LEN(RIGHT('Colour Contrast Analysis'!EU4,LEN('Colour Contrast Analysis'!EU4)-FIND(\"+\",'Colour Contrast Analysis'!EU4)-2))-11))=1,CHAR(10)&VALUE(LEFT(RIGHT('Colour Contrast Analysis'!EU4,LEN('Colour Contrast Analysis'!EU4)-FIND(\"+\",'Colour Contrast Analysis'!EU4)-2),LEN(RIGHT('Colour Contrast Analysis'!EU4,LEN('Colour Contrast Analysis'!EU4)-FIND(\"+\",'Colour Contrast Analysis'!EU4)-2))-11)) & \" combination of foreground and background colours is technically conformant, but its contrast should be increased.\",CHAR(10)&VALUE(LEFT(RIGHT('Colour Contrast Analysis'!EU4,LEN('Colour Contrast Analysis'!EU4)-FIND(\"+\",'Colour Contrast Analysis'!EU4)-2),LEN(RIGHT('Colour Contrast Analysis'!EU4,LEN('Colour Contrast Analysis'!EU4)-FIND(\"+\",'Colour Contrast Analysis'!EU4)-2))-11)) & \" combinations of foreground and background colours are technically conformant, but their contrast should be increased.\")) & CHAR(10) & \"Please see the Colour Contrast Analysis worksheet.\"","v":"0 combinations of foreground and background colours do not have sufficient contrast.\nPlease see the Colour Contrast Analysis worksheet."},{"$f":"LEFT('Colour Contrast Analysis'!EV4,FIND(\" \",'Colour Contrast Analysis'!EV4)-1)&\" combination\"&IF(VALUE(LEFT('Colour Contrast Analysis'!EV4,FIND(\" \",'Colour Contrast Analysis'!EV4)))=1,\"\",\"s\")&\" of foreground and background colours do\"&IF(VALUE(LEFT('Colour Contrast Analysis'!EV4,FIND(\" \",'Colour Contrast Analysis'!EV4)))=1,\"es\",\"\")&\" not have sufficient contrast.\"&IF(VALUE(LEFT(RIGHT('Colour Contrast Analysis'!EV4,LEN('Colour Contrast Analysis'!EV4)-FIND(\"+\",'Colour Contrast Analysis'!EV4)-2),LEN(RIGHT('Colour Contrast Analysis'!EV4,LEN('Colour Contrast Analysis'!EV4)-FIND(\"+\",'Colour Contrast Analysis'!EV4)-2))-11))=0,\"\",IF(VALUE(LEFT(RIGHT('Colour Contrast Analysis'!EV4,LEN('Colour Contrast Analysis'!EV4)-FIND(\"+\",'Colour Contrast Analysis'!EV4)-2),LEN(RIGHT('Colour Contrast Analysis'!EV4,LEN('Colour Contrast Analysis'!EV4)-FIND(\"+\",'Colour Contrast Analysis'!EV4)-2))-11))=1,CHAR(10)&VALUE(LEFT(RIGHT('Colour Contrast Analysis'!EV4,LEN('Colour Contrast Analysis'!EV4)-FIND(\"+\",'Colour Contrast Analysis'!EV4)-2),LEN(RIGHT('Colour Contrast Analysis'!EV4,LEN('Colour Contrast Analysis'!EV4)-FIND(\"+\",'Colour Contrast Analysis'!EV4)-2))-11)) & \" combination of foreground and background colours is technically conformant, but its contrast should be increased.\",CHAR(10)&VALUE(LEFT(RIGHT('Colour Contrast Analysis'!EV4,LEN('Colour Contrast Analysis'!EV4)-FIND(\"+\",'Colour Contrast Analysis'!EV4)-2),LEN(RIGHT('Colour Contrast Analysis'!EV4,LEN('Colour Contrast Analysis'!EV4)-FIND(\"+\",'Colour Contrast Analysis'!EV4)-2))-11)) & \" combinations of foreground and background colours are technically conformant, but their contrast should be increased.\")) & CHAR(10) & \"Please see the Colour Contrast Analysis worksheet.\"","v":"0 combinations of foreground and background colours do not have sufficient contrast.\nPlease see the Colour Contrast Analysis worksheet."},{"$f":"LEFT('Colour Contrast Analysis'!EW4,FIND(\" \",'Colour Contrast Analysis'!EW4)-1)&\" combination\"&IF(VALUE(LEFT('Colour Contrast Analysis'!EW4,FIND(\" \",'Colour Contrast Analysis'!EW4)))=1,\"\",\"s\")&\" of foreground and background colours do\"&IF(VALUE(LEFT('Colour Contrast Analysis'!EW4,FIND(\" \",'Colour Contrast Analysis'!EW4)))=1,\"es\",\"\")&\" not have sufficient contrast.\"&IF(VALUE(LEFT(RIGHT('Colour Contrast Analysis'!EW4,LEN('Colour Contrast Analysis'!EW4)-FIND(\"+\",'Colour Contrast Analysis'!EW4)-2),LEN(RIGHT('Colour Contrast Analysis'!EW4,LEN('Colour Contrast Analysis'!EW4)-FIND(\"+\",'Colour Contrast Analysis'!EW4)-2))-11))=0,\"\",IF(VALUE(LEFT(RIGHT('Colour Contrast Analysis'!EW4,LEN('Colour Contrast Analysis'!EW4)-FIND(\"+\",'Colour Contrast Analysis'!EW4)-2),LEN(RIGHT('Colour Contrast Analysis'!EW4,LEN('Colour Contrast Analysis'!EW4)-FIND(\"+\",'Colour Contrast Analysis'!EW4)-2))-11))=1,CHAR(10)&VALUE(LEFT(RIGHT('Colour Contrast Analysis'!EW4,LEN('Colour Contrast Analysis'!EW4)-FIND(\"+\",'Colour Contrast Analysis'!EW4)-2),LEN(RIGHT('Colour Contrast Analysis'!EW4,LEN('Colour Contrast Analysis'!EW4)-FIND(\"+\",'Colour Contrast Analysis'!EW4)-2))-11)) & \" combination of foreground and background colours is technically conformant, but its contrast should be increased.\",CHAR(10)&VALUE(LEFT(RIGHT('Colour Contrast Analysis'!EW4,LEN('Colour Contrast Analysis'!EW4)-FIND(\"+\",'Colour Contrast Analysis'!EW4)-2),LEN(RIGHT('Colour Contrast Analysis'!EW4,LEN('Colour Contrast Analysis'!EW4)-FIND(\"+\",'Colour Contrast Analysis'!EW4)-2))-11)) & \" combinations of foreground and background colours are technically conformant, but their contrast should be increased.\")) & CHAR(10) & \"Please see the Colour Contrast Analysis worksheet.\"","v":"0 combinations of foreground and background colours do not have sufficient contrast.\nPlease see the Colour Contrast Analysis worksheet."},{"$f":"LEFT('Colour Contrast Analysis'!EX4,FIND(\" \",'Colour Contrast Analysis'!EX4)-1)&\" combination\"&IF(VALUE(LEFT('Colour Contrast Analysis'!EX4,FIND(\" \",'Colour Contrast Analysis'!EX4)))=1,\"\",\"s\")&\" of foreground and background colours do\"&IF(VALUE(LEFT('Colour Contrast Analysis'!EX4,FIND(\" \",'Colour Contrast Analysis'!EX4)))=1,\"es\",\"\")&\" not have sufficient contrast.\"&IF(VALUE(LEFT(RIGHT('Colour Contrast Analysis'!EX4,LEN('Colour Contrast Analysis'!EX4)-FIND(\"+\",'Colour Contrast Analysis'!EX4)-2),LEN(RIGHT('Colour Contrast Analysis'!EX4,LEN('Colour Contrast Analysis'!EX4)-FIND(\"+\",'Colour Contrast Analysis'!EX4)-2))-11))=0,\"\",IF(VALUE(LEFT(RIGHT('Colour Contrast Analysis'!EX4,LEN('Colour Contrast Analysis'!EX4)-FIND(\"+\",'Colour Contrast Analysis'!EX4)-2),LEN(RIGHT('Colour Contrast Analysis'!EX4,LEN('Colour Contrast Analysis'!EX4)-FIND(\"+\",'Colour Contrast Analysis'!EX4)-2))-11))=1,CHAR(10)&VALUE(LEFT(RIGHT('Colour Contrast Analysis'!EX4,LEN('Colour Contrast Analysis'!EX4)-FIND(\"+\",'Colour Contrast Analysis'!EX4)-2),LEN(RIGHT('Colour Contrast Analysis'!EX4,LEN('Colour Contrast Analysis'!EX4)-FIND(\"+\",'Colour Contrast Analysis'!EX4)-2))-11)) & \" combination of foreground and background colours is technically conformant, but its contrast should be increased.\",CHAR(10)&VALUE(LEFT(RIGHT('Colour Contrast Analysis'!EX4,LEN('Colour Contrast Analysis'!EX4)-FIND(\"+\",'Colour Contrast Analysis'!EX4)-2),LEN(RIGHT('Colour Contrast Analysis'!EX4,LEN('Colour Contrast Analysis'!EX4)-FIND(\"+\",'Colour Contrast Analysis'!EX4)-2))-11)) & \" combinations of foreground and background colours are technically conformant, but their contrast should be increased.\")) & CHAR(10) & \"Please see the Colour Contrast Analysis worksheet.\"","v":"0 combinations of foreground and background colours do not have sufficient contrast.\nPlease see the Colour Contrast Analysis worksheet."},{"$f":"LEFT('Colour Contrast Analysis'!EY4,FIND(\" \",'Colour Contrast Analysis'!EY4)-1)&\" combination\"&IF(VALUE(LEFT('Colour Contrast Analysis'!EY4,FIND(\" \",'Colour Contrast Analysis'!EY4)))=1,\"\",\"s\")&\" of foreground and background colours do\"&IF(VALUE(LEFT('Colour Contrast Analysis'!EY4,FIND(\" \",'Colour Contrast Analysis'!EY4)))=1,\"es\",\"\")&\" not have sufficient contrast.\"&IF(VALUE(LEFT(RIGHT('Colour Contrast Analysis'!EY4,LEN('Colour Contrast Analysis'!EY4)-FIND(\"+\",'Colour Contrast Analysis'!EY4)-2),LEN(RIGHT('Colour Contrast Analysis'!EY4,LEN('Colour Contrast Analysis'!EY4)-FIND(\"+\",'Colour Contrast Analysis'!EY4)-2))-11))=0,\"\",IF(VALUE(LEFT(RIGHT('Colour Contrast Analysis'!EY4,LEN('Colour Contrast Analysis'!EY4)-FIND(\"+\",'Colour Contrast Analysis'!EY4)-2),LEN(RIGHT('Colour Contrast Analysis'!EY4,LEN('Colour Contrast Analysis'!EY4)-FIND(\"+\",'Colour Contrast Analysis'!EY4)-2))-11))=1,CHAR(10)&VALUE(LEFT(RIGHT('Colour Contrast Analysis'!EY4,LEN('Colour Contrast Analysis'!EY4)-FIND(\"+\",'Colour Contrast Analysis'!EY4)-2),LEN(RIGHT('Colour Contrast Analysis'!EY4,LEN('Colour Contrast Analysis'!EY4)-FIND(\"+\",'Colour Contrast Analysis'!EY4)-2))-11)) & \" combination of foreground and background colours is technically conformant, but its contrast should be increased.\",CHAR(10)&VALUE(LEFT(RIGHT('Colour Contrast Analysis'!EY4,LEN('Colour Contrast Analysis'!EY4)-FIND(\"+\",'Colour Contrast Analysis'!EY4)-2),LEN(RIGHT('Colour Contrast Analysis'!EY4,LEN('Colour Contrast Analysis'!EY4)-FIND(\"+\",'Colour Contrast Analysis'!EY4)-2))-11)) & \" combinations of foreground and background colours are technically conformant, but their contrast should be increased.\")) & CHAR(10) & \"Please see the Colour Contrast Analysis worksheet.\"","v":"0 combinations of foreground and background colours do not have sufficient contrast.\nPlease see the Colour Contrast Analysis worksheet."},{"$f":"LEFT('Colour Contrast Analysis'!EZ4,FIND(\" \",'Colour Contrast Analysis'!EZ4)-1)&\" combination\"&IF(VALUE(LEFT('Colour Contrast Analysis'!EZ4,FIND(\" \",'Colour Contrast Analysis'!EZ4)))=1,\"\",\"s\")&\" of foreground and background colours do\"&IF(VALUE(LEFT('Colour Contrast Analysis'!EZ4,FIND(\" \",'Colour Contrast Analysis'!EZ4)))=1,\"es\",\"\")&\" not have sufficient contrast.\"&IF(VALUE(LEFT(RIGHT('Colour Contrast Analysis'!EZ4,LEN('Colour Contrast Analysis'!EZ4)-FIND(\"+\",'Colour Contrast Analysis'!EZ4)-2),LEN(RIGHT('Colour Contrast Analysis'!EZ4,LEN('Colour Contrast Analysis'!EZ4)-FIND(\"+\",'Colour Contrast Analysis'!EZ4)-2))-11))=0,\"\",IF(VALUE(LEFT(RIGHT('Colour Contrast Analysis'!EZ4,LEN('Colour Contrast Analysis'!EZ4)-FIND(\"+\",'Colour Contrast Analysis'!EZ4)-2),LEN(RIGHT('Colour Contrast Analysis'!EZ4,LEN('Colour Contrast Analysis'!EZ4)-FIND(\"+\",'Colour Contrast Analysis'!EZ4)-2))-11))=1,CHAR(10)&VALUE(LEFT(RIGHT('Colour Contrast Analysis'!EZ4,LEN('Colour Contrast Analysis'!EZ4)-FIND(\"+\",'Colour Contrast Analysis'!EZ4)-2),LEN(RIGHT('Colour Contrast Analysis'!EZ4,LEN('Colour Contrast Analysis'!EZ4)-FIND(\"+\",'Colour Contrast Analysis'!EZ4)-2))-11)) & \" combination of foreground and background colours is technically conformant, but its contrast should be increased.\",CHAR(10)&VALUE(LEFT(RIGHT('Colour Contrast Analysis'!EZ4,LEN('Colour Contrast Analysis'!EZ4)-FIND(\"+\",'Colour Contrast Analysis'!EZ4)-2),LEN(RIGHT('Colour Contrast Analysis'!EZ4,LEN('Colour Contrast Analysis'!EZ4)-FIND(\"+\",'Colour Contrast Analysis'!EZ4)-2))-11)) & \" combinations of foreground and background colours are technically conformant, but their contrast should be increased.\")) & CHAR(10) & \"Please see the Colour Contrast Analysis worksheet.\"","v":"0 combinations of foreground and background colours do not have sufficient contrast.\nPlease see the Colour Contrast Analysis worksheet."},{"$f":"LEFT('Colour Contrast Analysis'!FA4,FIND(\" \",'Colour Contrast Analysis'!FA4)-1)&\" combination\"&IF(VALUE(LEFT('Colour Contrast Analysis'!FA4,FIND(\" \",'Colour Contrast Analysis'!FA4)))=1,\"\",\"s\")&\" of foreground and background colours do\"&IF(VALUE(LEFT('Colour Contrast Analysis'!FA4,FIND(\" \",'Colour Contrast Analysis'!FA4)))=1,\"es\",\"\")&\" not have sufficient contrast.\"&IF(VALUE(LEFT(RIGHT('Colour Contrast Analysis'!FA4,LEN('Colour Contrast Analysis'!FA4)-FIND(\"+\",'Colour Contrast Analysis'!FA4)-2),LEN(RIGHT('Colour Contrast Analysis'!FA4,LEN('Colour Contrast Analysis'!FA4)-FIND(\"+\",'Colour Contrast Analysis'!FA4)-2))-11))=0,\"\",IF(VALUE(LEFT(RIGHT('Colour Contrast Analysis'!FA4,LEN('Colour Contrast Analysis'!FA4)-FIND(\"+\",'Colour Contrast Analysis'!FA4)-2),LEN(RIGHT('Colour Contrast Analysis'!FA4,LEN('Colour Contrast Analysis'!FA4)-FIND(\"+\",'Colour Contrast Analysis'!FA4)-2))-11))=1,CHAR(10)&VALUE(LEFT(RIGHT('Colour Contrast Analysis'!FA4,LEN('Colour Contrast Analysis'!FA4)-FIND(\"+\",'Colour Contrast Analysis'!FA4)-2),LEN(RIGHT('Colour Contrast Analysis'!FA4,LEN('Colour Contrast Analysis'!FA4)-FIND(\"+\",'Colour Contrast Analysis'!FA4)-2))-11)) & \" combination of foreground and background colours is technically conformant, but its contrast should be increased.\",CHAR(10)&VALUE(LEFT(RIGHT('Colour Contrast Analysis'!FA4,LEN('Colour Contrast Analysis'!FA4)-FIND(\"+\",'Colour Contrast Analysis'!FA4)-2),LEN(RIGHT('Colour Contrast Analysis'!FA4,LEN('Colour Contrast Analysis'!FA4)-FIND(\"+\",'Colour Contrast Analysis'!FA4)-2))-11)) & \" combinations of foreground and background colours are technically conformant, but their contrast should be increased.\")) & CHAR(10) & \"Please see the Colour Contrast Analysis worksheet.\"","v":"0 combinations of foreground and background colours do not have sufficient contrast.\nPlease see the Colour Contrast Analysis worksheet."},{"$f":"LEFT('Colour Contrast Analysis'!FB4,FIND(\" \",'Colour Contrast Analysis'!FB4)-1)&\" combination\"&IF(VALUE(LEFT('Colour Contrast Analysis'!FB4,FIND(\" \",'Colour Contrast Analysis'!FB4)))=1,\"\",\"s\")&\" of foreground and background colours do\"&IF(VALUE(LEFT('Colour Contrast Analysis'!FB4,FIND(\" \",'Colour Contrast Analysis'!FB4)))=1,\"es\",\"\")&\" not have sufficient contrast.\"&IF(VALUE(LEFT(RIGHT('Colour Contrast Analysis'!FB4,LEN('Colour Contrast Analysis'!FB4)-FIND(\"+\",'Colour Contrast Analysis'!FB4)-2),LEN(RIGHT('Colour Contrast Analysis'!FB4,LEN('Colour Contrast Analysis'!FB4)-FIND(\"+\",'Colour Contrast Analysis'!FB4)-2))-11))=0,\"\",IF(VALUE(LEFT(RIGHT('Colour Contrast Analysis'!FB4,LEN('Colour Contrast Analysis'!FB4)-FIND(\"+\",'Colour Contrast Analysis'!FB4)-2),LEN(RIGHT('Colour Contrast Analysis'!FB4,LEN('Colour Contrast Analysis'!FB4)-FIND(\"+\",'Colour Contrast Analysis'!FB4)-2))-11))=1,CHAR(10)&VALUE(LEFT(RIGHT('Colour Contrast Analysis'!FB4,LEN('Colour Contrast Analysis'!FB4)-FIND(\"+\",'Colour Contrast Analysis'!FB4)-2),LEN(RIGHT('Colour Contrast Analysis'!FB4,LEN('Colour Contrast Analysis'!FB4)-FIND(\"+\",'Colour Contrast Analysis'!FB4)-2))-11)) & \" combination of foreground and background colours is technically conformant, but its contrast should be increased.\",CHAR(10)&VALUE(LEFT(RIGHT('Colour Contrast Analysis'!FB4,LEN('Colour Contrast Analysis'!FB4)-FIND(\"+\",'Colour Contrast Analysis'!FB4)-2),LEN(RIGHT('Colour Contrast Analysis'!FB4,LEN('Colour Contrast Analysis'!FB4)-FIND(\"+\",'Colour Contrast Analysis'!FB4)-2))-11)) & \" combinations of foreground and background colours are technically conformant, but their contrast should be increased.\")) & CHAR(10) & \"Please see the Colour Contrast Analysis worksheet.\"","v":"0 combinations of foreground and background colours do not have sufficient contrast.\nPlease see the Colour Contrast Analysis worksheet."},{"$f":"LEFT('Colour Contrast Analysis'!FC4,FIND(\" \",'Colour Contrast Analysis'!FC4)-1)&\" combination\"&IF(VALUE(LEFT('Colour Contrast Analysis'!FC4,FIND(\" \",'Colour Contrast Analysis'!FC4)))=1,\"\",\"s\")&\" of foreground and background colours do\"&IF(VALUE(LEFT('Colour Contrast Analysis'!FC4,FIND(\" \",'Colour Contrast Analysis'!FC4)))=1,\"es\",\"\")&\" not have sufficient contrast.\"&IF(VALUE(LEFT(RIGHT('Colour Contrast Analysis'!FC4,LEN('Colour Contrast Analysis'!FC4)-FIND(\"+\",'Colour Contrast Analysis'!FC4)-2),LEN(RIGHT('Colour Contrast Analysis'!FC4,LEN('Colour Contrast Analysis'!FC4)-FIND(\"+\",'Colour Contrast Analysis'!FC4)-2))-11))=0,\"\",IF(VALUE(LEFT(RIGHT('Colour Contrast Analysis'!FC4,LEN('Colour Contrast Analysis'!FC4)-FIND(\"+\",'Colour Contrast Analysis'!FC4)-2),LEN(RIGHT('Colour Contrast Analysis'!FC4,LEN('Colour Contrast Analysis'!FC4)-FIND(\"+\",'Colour Contrast Analysis'!FC4)-2))-11))=1,CHAR(10)&VALUE(LEFT(RIGHT('Colour Contrast Analysis'!FC4,LEN('Colour Contrast Analysis'!FC4)-FIND(\"+\",'Colour Contrast Analysis'!FC4)-2),LEN(RIGHT('Colour Contrast Analysis'!FC4,LEN('Colour Contrast Analysis'!FC4)-FIND(\"+\",'Colour Contrast Analysis'!FC4)-2))-11)) & \" combination of foreground and background colours is technically conformant, but its contrast should be increased.\",CHAR(10)&VALUE(LEFT(RIGHT('Colour Contrast Analysis'!FC4,LEN('Colour Contrast Analysis'!FC4)-FIND(\"+\",'Colour Contrast Analysis'!FC4)-2),LEN(RIGHT('Colour Contrast Analysis'!FC4,LEN('Colour Contrast Analysis'!FC4)-FIND(\"+\",'Colour Contrast Analysis'!FC4)-2))-11)) & \" combinations of foreground and background colours are technically conformant, but their contrast should be increased.\")) & CHAR(10) & \"Please see the Colour Contrast Analysis worksheet.\"","v":"0 combinations of foreground and background colours do not have sufficient contrast.\nPlease see the Colour Contrast Analysis worksheet."},{"$f":"LEFT('Colour Contrast Analysis'!FD4,FIND(\" \",'Colour Contrast Analysis'!FD4)-1)&\" combination\"&IF(VALUE(LEFT('Colour Contrast Analysis'!FD4,FIND(\" \",'Colour Contrast Analysis'!FD4)))=1,\"\",\"s\")&\" of foreground and background colours do\"&IF(VALUE(LEFT('Colour Contrast Analysis'!FD4,FIND(\" \",'Colour Contrast Analysis'!FD4)))=1,\"es\",\"\")&\" not have sufficient contrast.\"&IF(VALUE(LEFT(RIGHT('Colour Contrast Analysis'!FD4,LEN('Colour Contrast Analysis'!FD4)-FIND(\"+\",'Colour Contrast Analysis'!FD4)-2),LEN(RIGHT('Colour Contrast Analysis'!FD4,LEN('Colour Contrast Analysis'!FD4)-FIND(\"+\",'Colour Contrast Analysis'!FD4)-2))-11))=0,\"\",IF(VALUE(LEFT(RIGHT('Colour Contrast Analysis'!FD4,LEN('Colour Contrast Analysis'!FD4)-FIND(\"+\",'Colour Contrast Analysis'!FD4)-2),LEN(RIGHT('Colour Contrast Analysis'!FD4,LEN('Colour Contrast Analysis'!FD4)-FIND(\"+\",'Colour Contrast Analysis'!FD4)-2))-11))=1,CHAR(10)&VALUE(LEFT(RIGHT('Colour Contrast Analysis'!FD4,LEN('Colour Contrast Analysis'!FD4)-FIND(\"+\",'Colour Contrast Analysis'!FD4)-2),LEN(RIGHT('Colour Contrast Analysis'!FD4,LEN('Colour Contrast Analysis'!FD4)-FIND(\"+\",'Colour Contrast Analysis'!FD4)-2))-11)) & \" combination of foreground and background colours is technically conformant, but its contrast should be increased.\",CHAR(10)&VALUE(LEFT(RIGHT('Colour Contrast Analysis'!FD4,LEN('Colour Contrast Analysis'!FD4)-FIND(\"+\",'Colour Contrast Analysis'!FD4)-2),LEN(RIGHT('Colour Contrast Analysis'!FD4,LEN('Colour Contrast Analysis'!FD4)-FIND(\"+\",'Colour Contrast Analysis'!FD4)-2))-11)) & \" combinations of foreground and background colours are technically conformant, but their contrast should be increased.\")) & CHAR(10) & \"Please see the Colour Contrast Analysis worksheet.\"","v":"0 combinations of foreground and background colours do not have sufficient contrast.\nPlease see the Colour Contrast Analysis worksheet."},{"$f":"LEFT('Colour Contrast Analysis'!FE4,FIND(\" \",'Colour Contrast Analysis'!FE4)-1)&\" combination\"&IF(VALUE(LEFT('Colour Contrast Analysis'!FE4,FIND(\" \",'Colour Contrast Analysis'!FE4)))=1,\"\",\"s\")&\" of foreground and background colours do\"&IF(VALUE(LEFT('Colour Contrast Analysis'!FE4,FIND(\" \",'Colour Contrast Analysis'!FE4)))=1,\"es\",\"\")&\" not have sufficient contrast.\"&IF(VALUE(LEFT(RIGHT('Colour Contrast Analysis'!FE4,LEN('Colour Contrast Analysis'!FE4)-FIND(\"+\",'Colour Contrast Analysis'!FE4)-2),LEN(RIGHT('Colour Contrast Analysis'!FE4,LEN('Colour Contrast Analysis'!FE4)-FIND(\"+\",'Colour Contrast Analysis'!FE4)-2))-11))=0,\"\",IF(VALUE(LEFT(RIGHT('Colour Contrast Analysis'!FE4,LEN('Colour Contrast Analysis'!FE4)-FIND(\"+\",'Colour Contrast Analysis'!FE4)-2),LEN(RIGHT('Colour Contrast Analysis'!FE4,LEN('Colour Contrast Analysis'!FE4)-FIND(\"+\",'Colour Contrast Analysis'!FE4)-2))-11))=1,CHAR(10)&VALUE(LEFT(RIGHT('Colour Contrast Analysis'!FE4,LEN('Colour Contrast Analysis'!FE4)-FIND(\"+\",'Colour Contrast Analysis'!FE4)-2),LEN(RIGHT('Colour Contrast Analysis'!FE4,LEN('Colour Contrast Analysis'!FE4)-FIND(\"+\",'Colour Contrast Analysis'!FE4)-2))-11)) & \" combination of foreground and background colours is technically conformant, but its contrast should be increased.\",CHAR(10)&VALUE(LEFT(RIGHT('Colour Contrast Analysis'!FE4,LEN('Colour Contrast Analysis'!FE4)-FIND(\"+\",'Colour Contrast Analysis'!FE4)-2),LEN(RIGHT('Colour Contrast Analysis'!FE4,LEN('Colour Contrast Analysis'!FE4)-FIND(\"+\",'Colour Contrast Analysis'!FE4)-2))-11)) & \" combinations of foreground and background colours are technically conformant, but their contrast should be increased.\")) & CHAR(10) & \"Please see the Colour Contrast Analysis worksheet.\"","v":"0 combinations of foreground and background colours do not have sufficient contrast.\nPlease see the Colour Contrast Analysis worksheet."},{"$f":"LEFT('Colour Contrast Analysis'!FF4,FIND(\" \",'Colour Contrast Analysis'!FF4)-1)&\" combination\"&IF(VALUE(LEFT('Colour Contrast Analysis'!FF4,FIND(\" \",'Colour Contrast Analysis'!FF4)))=1,\"\",\"s\")&\" of foreground and background colours do\"&IF(VALUE(LEFT('Colour Contrast Analysis'!FF4,FIND(\" \",'Colour Contrast Analysis'!FF4)))=1,\"es\",\"\")&\" not have sufficient contrast.\"&IF(VALUE(LEFT(RIGHT('Colour Contrast Analysis'!FF4,LEN('Colour Contrast Analysis'!FF4)-FIND(\"+\",'Colour Contrast Analysis'!FF4)-2),LEN(RIGHT('Colour Contrast Analysis'!FF4,LEN('Colour Contrast Analysis'!FF4)-FIND(\"+\",'Colour Contrast Analysis'!FF4)-2))-11))=0,\"\",IF(VALUE(LEFT(RIGHT('Colour Contrast Analysis'!FF4,LEN('Colour Contrast Analysis'!FF4)-FIND(\"+\",'Colour Contrast Analysis'!FF4)-2),LEN(RIGHT('Colour Contrast Analysis'!FF4,LEN('Colour Contrast Analysis'!FF4)-FIND(\"+\",'Colour Contrast Analysis'!FF4)-2))-11))=1,CHAR(10)&VALUE(LEFT(RIGHT('Colour Contrast Analysis'!FF4,LEN('Colour Contrast Analysis'!FF4)-FIND(\"+\",'Colour Contrast Analysis'!FF4)-2),LEN(RIGHT('Colour Contrast Analysis'!FF4,LEN('Colour Contrast Analysis'!FF4)-FIND(\"+\",'Colour Contrast Analysis'!FF4)-2))-11)) & \" combination of foreground and background colours is technically conformant, but its contrast should be increased.\",CHAR(10)&VALUE(LEFT(RIGHT('Colour Contrast Analysis'!FF4,LEN('Colour Contrast Analysis'!FF4)-FIND(\"+\",'Colour Contrast Analysis'!FF4)-2),LEN(RIGHT('Colour Contrast Analysis'!FF4,LEN('Colour Contrast Analysis'!FF4)-FIND(\"+\",'Colour Contrast Analysis'!FF4)-2))-11)) & \" combinations of foreground and background colours are technically conformant, but their contrast should be increased.\")) & CHAR(10) & \"Please see the Colour Contrast Analysis worksheet.\"","v":"0 combinations of foreground and background colours do not have sufficient contrast.\nPlease see the Colour Contrast Analysis worksheet."},{"$f":"LEFT('Colour Contrast Analysis'!FG4,FIND(\" \",'Colour Contrast Analysis'!FG4)-1)&\" combination\"&IF(VALUE(LEFT('Colour Contrast Analysis'!FG4,FIND(\" \",'Colour Contrast Analysis'!FG4)))=1,\"\",\"s\")&\" of foreground and background colours do\"&IF(VALUE(LEFT('Colour Contrast Analysis'!FG4,FIND(\" \",'Colour Contrast Analysis'!FG4)))=1,\"es\",\"\")&\" not have sufficient contrast.\"&IF(VALUE(LEFT(RIGHT('Colour Contrast Analysis'!FG4,LEN('Colour Contrast Analysis'!FG4)-FIND(\"+\",'Colour Contrast Analysis'!FG4)-2),LEN(RIGHT('Colour Contrast Analysis'!FG4,LEN('Colour Contrast Analysis'!FG4)-FIND(\"+\",'Colour Contrast Analysis'!FG4)-2))-11))=0,\"\",IF(VALUE(LEFT(RIGHT('Colour Contrast Analysis'!FG4,LEN('Colour Contrast Analysis'!FG4)-FIND(\"+\",'Colour Contrast Analysis'!FG4)-2),LEN(RIGHT('Colour Contrast Analysis'!FG4,LEN('Colour Contrast Analysis'!FG4)-FIND(\"+\",'Colour Contrast Analysis'!FG4)-2))-11))=1,CHAR(10)&VALUE(LEFT(RIGHT('Colour Contrast Analysis'!FG4,LEN('Colour Contrast Analysis'!FG4)-FIND(\"+\",'Colour Contrast Analysis'!FG4)-2),LEN(RIGHT('Colour Contrast Analysis'!FG4,LEN('Colour Contrast Analysis'!FG4)-FIND(\"+\",'Colour Contrast Analysis'!FG4)-2))-11)) & \" combination of foreground and background colours is technically conformant, but its contrast should be increased.\",CHAR(10)&VALUE(LEFT(RIGHT('Colour Contrast Analysis'!FG4,LEN('Colour Contrast Analysis'!FG4)-FIND(\"+\",'Colour Contrast Analysis'!FG4)-2),LEN(RIGHT('Colour Contrast Analysis'!FG4,LEN('Colour Contrast Analysis'!FG4)-FIND(\"+\",'Colour Contrast Analysis'!FG4)-2))-11)) & \" combinations of foreground and background colours are technically conformant, but their contrast should be increased.\")) & CHAR(10) & \"Please see the Colour Contrast Analysis worksheet.\"","v":"0 combinations of foreground and background colours do not have sufficient contrast.\nPlease see the Colour Contrast Analysis worksheet."},{"$f":"LEFT('Colour Contrast Analysis'!FH4,FIND(\" \",'Colour Contrast Analysis'!FH4)-1)&\" combination\"&IF(VALUE(LEFT('Colour Contrast Analysis'!FH4,FIND(\" \",'Colour Contrast Analysis'!FH4)))=1,\"\",\"s\")&\" of foreground and background colours do\"&IF(VALUE(LEFT('Colour Contrast Analysis'!FH4,FIND(\" \",'Colour Contrast Analysis'!FH4)))=1,\"es\",\"\")&\" not have sufficient contrast.\"&IF(VALUE(LEFT(RIGHT('Colour Contrast Analysis'!FH4,LEN('Colour Contrast Analysis'!FH4)-FIND(\"+\",'Colour Contrast Analysis'!FH4)-2),LEN(RIGHT('Colour Contrast Analysis'!FH4,LEN('Colour Contrast Analysis'!FH4)-FIND(\"+\",'Colour Contrast Analysis'!FH4)-2))-11))=0,\"\",IF(VALUE(LEFT(RIGHT('Colour Contrast Analysis'!FH4,LEN('Colour Contrast Analysis'!FH4)-FIND(\"+\",'Colour Contrast Analysis'!FH4)-2),LEN(RIGHT('Colour Contrast Analysis'!FH4,LEN('Colour Contrast Analysis'!FH4)-FIND(\"+\",'Colour Contrast Analysis'!FH4)-2))-11))=1,CHAR(10)&VALUE(LEFT(RIGHT('Colour Contrast Analysis'!FH4,LEN('Colour Contrast Analysis'!FH4)-FIND(\"+\",'Colour Contrast Analysis'!FH4)-2),LEN(RIGHT('Colour Contrast Analysis'!FH4,LEN('Colour Contrast Analysis'!FH4)-FIND(\"+\",'Colour Contrast Analysis'!FH4)-2))-11)) & \" combination of foreground and background colours is technically conformant, but its contrast should be increased.\",CHAR(10)&VALUE(LEFT(RIGHT('Colour Contrast Analysis'!FH4,LEN('Colour Contrast Analysis'!FH4)-FIND(\"+\",'Colour Contrast Analysis'!FH4)-2),LEN(RIGHT('Colour Contrast Analysis'!FH4,LEN('Colour Contrast Analysis'!FH4)-FIND(\"+\",'Colour Contrast Analysis'!FH4)-2))-11)) & \" combinations of foreground and background colours are technically conformant, but their contrast should be increased.\")) & CHAR(10) & \"Please see the Colour Contrast Analysis worksheet.\"","v":"0 combinations of foreground and background colours do not have sufficient contrast.\nPlease see the Colour Contrast Analysis worksheet."},{"$f":"LEFT('Colour Contrast Analysis'!FI4,FIND(\" \",'Colour Contrast Analysis'!FI4)-1)&\" combination\"&IF(VALUE(LEFT('Colour Contrast Analysis'!FI4,FIND(\" \",'Colour Contrast Analysis'!FI4)))=1,\"\",\"s\")&\" of foreground and background colours do\"&IF(VALUE(LEFT('Colour Contrast Analysis'!FI4,FIND(\" \",'Colour Contrast Analysis'!FI4)))=1,\"es\",\"\")&\" not have sufficient contrast.\"&IF(VALUE(LEFT(RIGHT('Colour Contrast Analysis'!FI4,LEN('Colour Contrast Analysis'!FI4)-FIND(\"+\",'Colour Contrast Analysis'!FI4)-2),LEN(RIGHT('Colour Contrast Analysis'!FI4,LEN('Colour Contrast Analysis'!FI4)-FIND(\"+\",'Colour Contrast Analysis'!FI4)-2))-11))=0,\"\",IF(VALUE(LEFT(RIGHT('Colour Contrast Analysis'!FI4,LEN('Colour Contrast Analysis'!FI4)-FIND(\"+\",'Colour Contrast Analysis'!FI4)-2),LEN(RIGHT('Colour Contrast Analysis'!FI4,LEN('Colour Contrast Analysis'!FI4)-FIND(\"+\",'Colour Contrast Analysis'!FI4)-2))-11))=1,CHAR(10)&VALUE(LEFT(RIGHT('Colour Contrast Analysis'!FI4,LEN('Colour Contrast Analysis'!FI4)-FIND(\"+\",'Colour Contrast Analysis'!FI4)-2),LEN(RIGHT('Colour Contrast Analysis'!FI4,LEN('Colour Contrast Analysis'!FI4)-FIND(\"+\",'Colour Contrast Analysis'!FI4)-2))-11)) & \" combination of foreground and background colours is technically conformant, but its contrast should be increased.\",CHAR(10)&VALUE(LEFT(RIGHT('Colour Contrast Analysis'!FI4,LEN('Colour Contrast Analysis'!FI4)-FIND(\"+\",'Colour Contrast Analysis'!FI4)-2),LEN(RIGHT('Colour Contrast Analysis'!FI4,LEN('Colour Contrast Analysis'!FI4)-FIND(\"+\",'Colour Contrast Analysis'!FI4)-2))-11)) & \" combinations of foreground and background colours are technically conformant, but their contrast should be increased.\")) & CHAR(10) & \"Please see the Colour Contrast Analysis worksheet.\"","v":"0 combinations of foreground and background colours do not have sufficient contrast.\nPlease see the Colour Contrast Analysis worksheet."},{"$f":"LEFT('Colour Contrast Analysis'!FJ4,FIND(\" \",'Colour Contrast Analysis'!FJ4)-1)&\" combination\"&IF(VALUE(LEFT('Colour Contrast Analysis'!FJ4,FIND(\" \",'Colour Contrast Analysis'!FJ4)))=1,\"\",\"s\")&\" of foreground and background colours do\"&IF(VALUE(LEFT('Colour Contrast Analysis'!FJ4,FIND(\" \",'Colour Contrast Analysis'!FJ4)))=1,\"es\",\"\")&\" not have sufficient contrast.\"&IF(VALUE(LEFT(RIGHT('Colour Contrast Analysis'!FJ4,LEN('Colour Contrast Analysis'!FJ4)-FIND(\"+\",'Colour Contrast Analysis'!FJ4)-2),LEN(RIGHT('Colour Contrast Analysis'!FJ4,LEN('Colour Contrast Analysis'!FJ4)-FIND(\"+\",'Colour Contrast Analysis'!FJ4)-2))-11))=0,\"\",IF(VALUE(LEFT(RIGHT('Colour Contrast Analysis'!FJ4,LEN('Colour Contrast Analysis'!FJ4)-FIND(\"+\",'Colour Contrast Analysis'!FJ4)-2),LEN(RIGHT('Colour Contrast Analysis'!FJ4,LEN('Colour Contrast Analysis'!FJ4)-FIND(\"+\",'Colour Contrast Analysis'!FJ4)-2))-11))=1,CHAR(10)&VALUE(LEFT(RIGHT('Colour Contrast Analysis'!FJ4,LEN('Colour Contrast Analysis'!FJ4)-FIND(\"+\",'Colour Contrast Analysis'!FJ4)-2),LEN(RIGHT('Colour Contrast Analysis'!FJ4,LEN('Colour Contrast Analysis'!FJ4)-FIND(\"+\",'Colour Contrast Analysis'!FJ4)-2))-11)) & \" combination of foreground and background colours is technically conformant, but its contrast should be increased.\",CHAR(10)&VALUE(LEFT(RIGHT('Colour Contrast Analysis'!FJ4,LEN('Colour Contrast Analysis'!FJ4)-FIND(\"+\",'Colour Contrast Analysis'!FJ4)-2),LEN(RIGHT('Colour Contrast Analysis'!FJ4,LEN('Colour Contrast Analysis'!FJ4)-FIND(\"+\",'Colour Contrast Analysis'!FJ4)-2))-11)) & \" combinations of foreground and background colours are technically conformant, but their contrast should be increased.\")) & CHAR(10) & \"Please see the Colour Contrast Analysis worksheet.\"","v":"0 combinations of foreground and background colours do not have sufficient contrast.\nPlease see the Colour Contrast Analysis worksheet."},{"$f":"LEFT('Colour Contrast Analysis'!FK4,FIND(\" \",'Colour Contrast Analysis'!FK4)-1)&\" combination\"&IF(VALUE(LEFT('Colour Contrast Analysis'!FK4,FIND(\" \",'Colour Contrast Analysis'!FK4)))=1,\"\",\"s\")&\" of foreground and background colours do\"&IF(VALUE(LEFT('Colour Contrast Analysis'!FK4,FIND(\" \",'Colour Contrast Analysis'!FK4)))=1,\"es\",\"\")&\" not have sufficient contrast.\"&IF(VALUE(LEFT(RIGHT('Colour Contrast Analysis'!FK4,LEN('Colour Contrast Analysis'!FK4)-FIND(\"+\",'Colour Contrast Analysis'!FK4)-2),LEN(RIGHT('Colour Contrast Analysis'!FK4,LEN('Colour Contrast Analysis'!FK4)-FIND(\"+\",'Colour Contrast Analysis'!FK4)-2))-11))=0,\"\",IF(VALUE(LEFT(RIGHT('Colour Contrast Analysis'!FK4,LEN('Colour Contrast Analysis'!FK4)-FIND(\"+\",'Colour Contrast Analysis'!FK4)-2),LEN(RIGHT('Colour Contrast Analysis'!FK4,LEN('Colour Contrast Analysis'!FK4)-FIND(\"+\",'Colour Contrast Analysis'!FK4)-2))-11))=1,CHAR(10)&VALUE(LEFT(RIGHT('Colour Contrast Analysis'!FK4,LEN('Colour Contrast Analysis'!FK4)-FIND(\"+\",'Colour Contrast Analysis'!FK4)-2),LEN(RIGHT('Colour Contrast Analysis'!FK4,LEN('Colour Contrast Analysis'!FK4)-FIND(\"+\",'Colour Contrast Analysis'!FK4)-2))-11)) & \" combination of foreground and background colours is technically conformant, but its contrast should be increased.\",CHAR(10)&VALUE(LEFT(RIGHT('Colour Contrast Analysis'!FK4,LEN('Colour Contrast Analysis'!FK4)-FIND(\"+\",'Colour Contrast Analysis'!FK4)-2),LEN(RIGHT('Colour Contrast Analysis'!FK4,LEN('Colour Contrast Analysis'!FK4)-FIND(\"+\",'Colour Contrast Analysis'!FK4)-2))-11)) & \" combinations of foreground and background colours are technically conformant, but their contrast should be increased.\")) & CHAR(10) & \"Please see the Colour Contrast Analysis worksheet.\"","v":"0 combinations of foreground and background colours do not have sufficient contrast.\nPlease see the Colour Contrast Analysis worksheet."},{"$f":"LEFT('Colour Contrast Analysis'!FL4,FIND(\" \",'Colour Contrast Analysis'!FL4)-1)&\" combination\"&IF(VALUE(LEFT('Colour Contrast Analysis'!FL4,FIND(\" \",'Colour Contrast Analysis'!FL4)))=1,\"\",\"s\")&\" of foreground and background colours do\"&IF(VALUE(LEFT('Colour Contrast Analysis'!FL4,FIND(\" \",'Colour Contrast Analysis'!FL4)))=1,\"es\",\"\")&\" not have sufficient contrast.\"&IF(VALUE(LEFT(RIGHT('Colour Contrast Analysis'!FL4,LEN('Colour Contrast Analysis'!FL4)-FIND(\"+\",'Colour Contrast Analysis'!FL4)-2),LEN(RIGHT('Colour Contrast Analysis'!FL4,LEN('Colour Contrast Analysis'!FL4)-FIND(\"+\",'Colour Contrast Analysis'!FL4)-2))-11))=0,\"\",IF(VALUE(LEFT(RIGHT('Colour Contrast Analysis'!FL4,LEN('Colour Contrast Analysis'!FL4)-FIND(\"+\",'Colour Contrast Analysis'!FL4)-2),LEN(RIGHT('Colour Contrast Analysis'!FL4,LEN('Colour Contrast Analysis'!FL4)-FIND(\"+\",'Colour Contrast Analysis'!FL4)-2))-11))=1,CHAR(10)&VALUE(LEFT(RIGHT('Colour Contrast Analysis'!FL4,LEN('Colour Contrast Analysis'!FL4)-FIND(\"+\",'Colour Contrast Analysis'!FL4)-2),LEN(RIGHT('Colour Contrast Analysis'!FL4,LEN('Colour Contrast Analysis'!FL4)-FIND(\"+\",'Colour Contrast Analysis'!FL4)-2))-11)) & \" combination of foreground and background colours is technically conformant, but its contrast should be increased.\",CHAR(10)&VALUE(LEFT(RIGHT('Colour Contrast Analysis'!FL4,LEN('Colour Contrast Analysis'!FL4)-FIND(\"+\",'Colour Contrast Analysis'!FL4)-2),LEN(RIGHT('Colour Contrast Analysis'!FL4,LEN('Colour Contrast Analysis'!FL4)-FIND(\"+\",'Colour Contrast Analysis'!FL4)-2))-11)) & \" combinations of foreground and background colours are technically conformant, but their contrast should be increased.\")) & CHAR(10) & \"Please see the Colour Contrast Analysis worksheet.\"","v":"0 combinations of foreground and background colours do not have sufficient contrast.\nPlease see the Colour Contrast Analysis worksheet."},{"$f":"LEFT('Colour Contrast Analysis'!FM4,FIND(\" \",'Colour Contrast Analysis'!FM4)-1)&\" combination\"&IF(VALUE(LEFT('Colour Contrast Analysis'!FM4,FIND(\" \",'Colour Contrast Analysis'!FM4)))=1,\"\",\"s\")&\" of foreground and background colours do\"&IF(VALUE(LEFT('Colour Contrast Analysis'!FM4,FIND(\" \",'Colour Contrast Analysis'!FM4)))=1,\"es\",\"\")&\" not have sufficient contrast.\"&IF(VALUE(LEFT(RIGHT('Colour Contrast Analysis'!FM4,LEN('Colour Contrast Analysis'!FM4)-FIND(\"+\",'Colour Contrast Analysis'!FM4)-2),LEN(RIGHT('Colour Contrast Analysis'!FM4,LEN('Colour Contrast Analysis'!FM4)-FIND(\"+\",'Colour Contrast Analysis'!FM4)-2))-11))=0,\"\",IF(VALUE(LEFT(RIGHT('Colour Contrast Analysis'!FM4,LEN('Colour Contrast Analysis'!FM4)-FIND(\"+\",'Colour Contrast Analysis'!FM4)-2),LEN(RIGHT('Colour Contrast Analysis'!FM4,LEN('Colour Contrast Analysis'!FM4)-FIND(\"+\",'Colour Contrast Analysis'!FM4)-2))-11))=1,CHAR(10)&VALUE(LEFT(RIGHT('Colour Contrast Analysis'!FM4,LEN('Colour Contrast Analysis'!FM4)-FIND(\"+\",'Colour Contrast Analysis'!FM4)-2),LEN(RIGHT('Colour Contrast Analysis'!FM4,LEN('Colour Contrast Analysis'!FM4)-FIND(\"+\",'Colour Contrast Analysis'!FM4)-2))-11)) & \" combination of foreground and background colours is technically conformant, but its contrast should be increased.\",CHAR(10)&VALUE(LEFT(RIGHT('Colour Contrast Analysis'!FM4,LEN('Colour Contrast Analysis'!FM4)-FIND(\"+\",'Colour Contrast Analysis'!FM4)-2),LEN(RIGHT('Colour Contrast Analysis'!FM4,LEN('Colour Contrast Analysis'!FM4)-FIND(\"+\",'Colour Contrast Analysis'!FM4)-2))-11)) & \" combinations of foreground and background colours are technically conformant, but their contrast should be increased.\")) & CHAR(10) & \"Please see the Colour Contrast Analysis worksheet.\"","v":"0 combinations of foreground and background colours do not have sufficient contrast.\nPlease see the Colour Contrast Analysis worksheet."},{"$f":"LEFT('Colour Contrast Analysis'!FN4,FIND(\" \",'Colour Contrast Analysis'!FN4)-1)&\" combination\"&IF(VALUE(LEFT('Colour Contrast Analysis'!FN4,FIND(\" \",'Colour Contrast Analysis'!FN4)))=1,\"\",\"s\")&\" of foreground and background colours do\"&IF(VALUE(LEFT('Colour Contrast Analysis'!FN4,FIND(\" \",'Colour Contrast Analysis'!FN4)))=1,\"es\",\"\")&\" not have sufficient contrast.\"&IF(VALUE(LEFT(RIGHT('Colour Contrast Analysis'!FN4,LEN('Colour Contrast Analysis'!FN4)-FIND(\"+\",'Colour Contrast Analysis'!FN4)-2),LEN(RIGHT('Colour Contrast Analysis'!FN4,LEN('Colour Contrast Analysis'!FN4)-FIND(\"+\",'Colour Contrast Analysis'!FN4)-2))-11))=0,\"\",IF(VALUE(LEFT(RIGHT('Colour Contrast Analysis'!FN4,LEN('Colour Contrast Analysis'!FN4)-FIND(\"+\",'Colour Contrast Analysis'!FN4)-2),LEN(RIGHT('Colour Contrast Analysis'!FN4,LEN('Colour Contrast Analysis'!FN4)-FIND(\"+\",'Colour Contrast Analysis'!FN4)-2))-11))=1,CHAR(10)&VALUE(LEFT(RIGHT('Colour Contrast Analysis'!FN4,LEN('Colour Contrast Analysis'!FN4)-FIND(\"+\",'Colour Contrast Analysis'!FN4)-2),LEN(RIGHT('Colour Contrast Analysis'!FN4,LEN('Colour Contrast Analysis'!FN4)-FIND(\"+\",'Colour Contrast Analysis'!FN4)-2))-11)) & \" combination of foreground and background colours is technically conformant, but its contrast should be increased.\",CHAR(10)&VALUE(LEFT(RIGHT('Colour Contrast Analysis'!FN4,LEN('Colour Contrast Analysis'!FN4)-FIND(\"+\",'Colour Contrast Analysis'!FN4)-2),LEN(RIGHT('Colour Contrast Analysis'!FN4,LEN('Colour Contrast Analysis'!FN4)-FIND(\"+\",'Colour Contrast Analysis'!FN4)-2))-11)) & \" combinations of foreground and background colours are technically conformant, but their contrast should be increased.\")) & CHAR(10) & \"Please see the Colour Contrast Analysis worksheet.\"","v":"0 combinations of foreground and background colours do not have sufficient contrast.\nPlease see the Colour Contrast Analysis worksheet."},{"$f":"LEFT('Colour Contrast Analysis'!FO4,FIND(\" \",'Colour Contrast Analysis'!FO4)-1)&\" combination\"&IF(VALUE(LEFT('Colour Contrast Analysis'!FO4,FIND(\" \",'Colour Contrast Analysis'!FO4)))=1,\"\",\"s\")&\" of foreground and background colours do\"&IF(VALUE(LEFT('Colour Contrast Analysis'!FO4,FIND(\" \",'Colour Contrast Analysis'!FO4)))=1,\"es\",\"\")&\" not have sufficient contrast.\"&IF(VALUE(LEFT(RIGHT('Colour Contrast Analysis'!FO4,LEN('Colour Contrast Analysis'!FO4)-FIND(\"+\",'Colour Contrast Analysis'!FO4)-2),LEN(RIGHT('Colour Contrast Analysis'!FO4,LEN('Colour Contrast Analysis'!FO4)-FIND(\"+\",'Colour Contrast Analysis'!FO4)-2))-11))=0,\"\",IF(VALUE(LEFT(RIGHT('Colour Contrast Analysis'!FO4,LEN('Colour Contrast Analysis'!FO4)-FIND(\"+\",'Colour Contrast Analysis'!FO4)-2),LEN(RIGHT('Colour Contrast Analysis'!FO4,LEN('Colour Contrast Analysis'!FO4)-FIND(\"+\",'Colour Contrast Analysis'!FO4)-2))-11))=1,CHAR(10)&VALUE(LEFT(RIGHT('Colour Contrast Analysis'!FO4,LEN('Colour Contrast Analysis'!FO4)-FIND(\"+\",'Colour Contrast Analysis'!FO4)-2),LEN(RIGHT('Colour Contrast Analysis'!FO4,LEN('Colour Contrast Analysis'!FO4)-FIND(\"+\",'Colour Contrast Analysis'!FO4)-2))-11)) & \" combination of foreground and background colours is technically conformant, but its contrast should be increased.\",CHAR(10)&VALUE(LEFT(RIGHT('Colour Contrast Analysis'!FO4,LEN('Colour Contrast Analysis'!FO4)-FIND(\"+\",'Colour Contrast Analysis'!FO4)-2),LEN(RIGHT('Colour Contrast Analysis'!FO4,LEN('Colour Contrast Analysis'!FO4)-FIND(\"+\",'Colour Contrast Analysis'!FO4)-2))-11)) & \" combinations of foreground and background colours are technically conformant, but their contrast should be increased.\")) & CHAR(10) & \"Please see the Colour Contrast Analysis worksheet.\"","v":"0 combinations of foreground and background colours do not have sufficient contrast.\nPlease see the Colour Contrast Analysis worksheet."},{"$f":"LEFT('Colour Contrast Analysis'!FP4,FIND(\" \",'Colour Contrast Analysis'!FP4)-1)&\" combination\"&IF(VALUE(LEFT('Colour Contrast Analysis'!FP4,FIND(\" \",'Colour Contrast Analysis'!FP4)))=1,\"\",\"s\")&\" of foreground and background colours do\"&IF(VALUE(LEFT('Colour Contrast Analysis'!FP4,FIND(\" \",'Colour Contrast Analysis'!FP4)))=1,\"es\",\"\")&\" not have sufficient contrast.\"&IF(VALUE(LEFT(RIGHT('Colour Contrast Analysis'!FP4,LEN('Colour Contrast Analysis'!FP4)-FIND(\"+\",'Colour Contrast Analysis'!FP4)-2),LEN(RIGHT('Colour Contrast Analysis'!FP4,LEN('Colour Contrast Analysis'!FP4)-FIND(\"+\",'Colour Contrast Analysis'!FP4)-2))-11))=0,\"\",IF(VALUE(LEFT(RIGHT('Colour Contrast Analysis'!FP4,LEN('Colour Contrast Analysis'!FP4)-FIND(\"+\",'Colour Contrast Analysis'!FP4)-2),LEN(RIGHT('Colour Contrast Analysis'!FP4,LEN('Colour Contrast Analysis'!FP4)-FIND(\"+\",'Colour Contrast Analysis'!FP4)-2))-11))=1,CHAR(10)&VALUE(LEFT(RIGHT('Colour Contrast Analysis'!FP4,LEN('Colour Contrast Analysis'!FP4)-FIND(\"+\",'Colour Contrast Analysis'!FP4)-2),LEN(RIGHT('Colour Contrast Analysis'!FP4,LEN('Colour Contrast Analysis'!FP4)-FIND(\"+\",'Colour Contrast Analysis'!FP4)-2))-11)) & \" combination of foreground and background colours is technically conformant, but its contrast should be increased.\",CHAR(10)&VALUE(LEFT(RIGHT('Colour Contrast Analysis'!FP4,LEN('Colour Contrast Analysis'!FP4)-FIND(\"+\",'Colour Contrast Analysis'!FP4)-2),LEN(RIGHT('Colour Contrast Analysis'!FP4,LEN('Colour Contrast Analysis'!FP4)-FIND(\"+\",'Colour Contrast Analysis'!FP4)-2))-11)) & \" combinations of foreground and background colours are technically conformant, but their contrast should be increased.\")) & CHAR(10) & \"Please see the Colour Contrast Analysis worksheet.\"","v":"0 combinations of foreground and background colours do not have sufficient contrast.\nPlease see the Colour Contrast Analysis worksheet."},{"$f":"LEFT('Colour Contrast Analysis'!FQ4,FIND(\" \",'Colour Contrast Analysis'!FQ4)-1)&\" combination\"&IF(VALUE(LEFT('Colour Contrast Analysis'!FQ4,FIND(\" \",'Colour Contrast Analysis'!FQ4)))=1,\"\",\"s\")&\" of foreground and background colours do\"&IF(VALUE(LEFT('Colour Contrast Analysis'!FQ4,FIND(\" \",'Colour Contrast Analysis'!FQ4)))=1,\"es\",\"\")&\" not have sufficient contrast.\"&IF(VALUE(LEFT(RIGHT('Colour Contrast Analysis'!FQ4,LEN('Colour Contrast Analysis'!FQ4)-FIND(\"+\",'Colour Contrast Analysis'!FQ4)-2),LEN(RIGHT('Colour Contrast Analysis'!FQ4,LEN('Colour Contrast Analysis'!FQ4)-FIND(\"+\",'Colour Contrast Analysis'!FQ4)-2))-11))=0,\"\",IF(VALUE(LEFT(RIGHT('Colour Contrast Analysis'!FQ4,LEN('Colour Contrast Analysis'!FQ4)-FIND(\"+\",'Colour Contrast Analysis'!FQ4)-2),LEN(RIGHT('Colour Contrast Analysis'!FQ4,LEN('Colour Contrast Analysis'!FQ4)-FIND(\"+\",'Colour Contrast Analysis'!FQ4)-2))-11))=1,CHAR(10)&VALUE(LEFT(RIGHT('Colour Contrast Analysis'!FQ4,LEN('Colour Contrast Analysis'!FQ4)-FIND(\"+\",'Colour Contrast Analysis'!FQ4)-2),LEN(RIGHT('Colour Contrast Analysis'!FQ4,LEN('Colour Contrast Analysis'!FQ4)-FIND(\"+\",'Colour Contrast Analysis'!FQ4)-2))-11)) & \" combination of foreground and background colours is technically conformant, but its contrast should be increased.\",CHAR(10)&VALUE(LEFT(RIGHT('Colour Contrast Analysis'!FQ4,LEN('Colour Contrast Analysis'!FQ4)-FIND(\"+\",'Colour Contrast Analysis'!FQ4)-2),LEN(RIGHT('Colour Contrast Analysis'!FQ4,LEN('Colour Contrast Analysis'!FQ4)-FIND(\"+\",'Colour Contrast Analysis'!FQ4)-2))-11)) & \" combinations of foreground and background colours are technically conformant, but their contrast should be increased.\")) & CHAR(10) & \"Please see the Colour Contrast Analysis worksheet.\"","v":"0 combinations of foreground and background colours do not have sufficient contrast.\nPlease see the Colour Contrast Analysis worksheet."},{"$f":"LEFT('Colour Contrast Analysis'!FR4,FIND(\" \",'Colour Contrast Analysis'!FR4)-1)&\" combination\"&IF(VALUE(LEFT('Colour Contrast Analysis'!FR4,FIND(\" \",'Colour Contrast Analysis'!FR4)))=1,\"\",\"s\")&\" of foreground and background colours do\"&IF(VALUE(LEFT('Colour Contrast Analysis'!FR4,FIND(\" \",'Colour Contrast Analysis'!FR4)))=1,\"es\",\"\")&\" not have sufficient contrast.\"&IF(VALUE(LEFT(RIGHT('Colour Contrast Analysis'!FR4,LEN('Colour Contrast Analysis'!FR4)-FIND(\"+\",'Colour Contrast Analysis'!FR4)-2),LEN(RIGHT('Colour Contrast Analysis'!FR4,LEN('Colour Contrast Analysis'!FR4)-FIND(\"+\",'Colour Contrast Analysis'!FR4)-2))-11))=0,\"\",IF(VALUE(LEFT(RIGHT('Colour Contrast Analysis'!FR4,LEN('Colour Contrast Analysis'!FR4)-FIND(\"+\",'Colour Contrast Analysis'!FR4)-2),LEN(RIGHT('Colour Contrast Analysis'!FR4,LEN('Colour Contrast Analysis'!FR4)-FIND(\"+\",'Colour Contrast Analysis'!FR4)-2))-11))=1,CHAR(10)&VALUE(LEFT(RIGHT('Colour Contrast Analysis'!FR4,LEN('Colour Contrast Analysis'!FR4)-FIND(\"+\",'Colour Contrast Analysis'!FR4)-2),LEN(RIGHT('Colour Contrast Analysis'!FR4,LEN('Colour Contrast Analysis'!FR4)-FIND(\"+\",'Colour Contrast Analysis'!FR4)-2))-11)) & \" combination of foreground and background colours is technically conformant, but its contrast should be increased.\",CHAR(10)&VALUE(LEFT(RIGHT('Colour Contrast Analysis'!FR4,LEN('Colour Contrast Analysis'!FR4)-FIND(\"+\",'Colour Contrast Analysis'!FR4)-2),LEN(RIGHT('Colour Contrast Analysis'!FR4,LEN('Colour Contrast Analysis'!FR4)-FIND(\"+\",'Colour Contrast Analysis'!FR4)-2))-11)) & \" combinations of foreground and background colours are technically conformant, but their contrast should be increased.\")) & CHAR(10) & \"Please see the Colour Contrast Analysis worksheet.\"","v":"0 combinations of foreground and background colours do not have sufficient contrast.\nPlease see the Colour Contrast Analysis worksheet."},{"$f":"LEFT('Colour Contrast Analysis'!FS4,FIND(\" \",'Colour Contrast Analysis'!FS4)-1)&\" combination\"&IF(VALUE(LEFT('Colour Contrast Analysis'!FS4,FIND(\" \",'Colour Contrast Analysis'!FS4)))=1,\"\",\"s\")&\" of foreground and background colours do\"&IF(VALUE(LEFT('Colour Contrast Analysis'!FS4,FIND(\" \",'Colour Contrast Analysis'!FS4)))=1,\"es\",\"\")&\" not have sufficient contrast.\"&IF(VALUE(LEFT(RIGHT('Colour Contrast Analysis'!FS4,LEN('Colour Contrast Analysis'!FS4)-FIND(\"+\",'Colour Contrast Analysis'!FS4)-2),LEN(RIGHT('Colour Contrast Analysis'!FS4,LEN('Colour Contrast Analysis'!FS4)-FIND(\"+\",'Colour Contrast Analysis'!FS4)-2))-11))=0,\"\",IF(VALUE(LEFT(RIGHT('Colour Contrast Analysis'!FS4,LEN('Colour Contrast Analysis'!FS4)-FIND(\"+\",'Colour Contrast Analysis'!FS4)-2),LEN(RIGHT('Colour Contrast Analysis'!FS4,LEN('Colour Contrast Analysis'!FS4)-FIND(\"+\",'Colour Contrast Analysis'!FS4)-2))-11))=1,CHAR(10)&VALUE(LEFT(RIGHT('Colour Contrast Analysis'!FS4,LEN('Colour Contrast Analysis'!FS4)-FIND(\"+\",'Colour Contrast Analysis'!FS4)-2),LEN(RIGHT('Colour Contrast Analysis'!FS4,LEN('Colour Contrast Analysis'!FS4)-FIND(\"+\",'Colour Contrast Analysis'!FS4)-2))-11)) & \" combination of foreground and background colours is technically conformant, but its contrast should be increased.\",CHAR(10)&VALUE(LEFT(RIGHT('Colour Contrast Analysis'!FS4,LEN('Colour Contrast Analysis'!FS4)-FIND(\"+\",'Colour Contrast Analysis'!FS4)-2),LEN(RIGHT('Colour Contrast Analysis'!FS4,LEN('Colour Contrast Analysis'!FS4)-FIND(\"+\",'Colour Contrast Analysis'!FS4)-2))-11)) & \" combinations of foreground and background colours are technically conformant, but their contrast should be increased.\")) & CHAR(10) & \"Please see the Colour Contrast Analysis worksheet.\"","v":"0 combinations of foreground and background colours do not have sufficient contrast.\nPlease see the Colour Contrast Analysis worksheet."}]
[null,null,null,"Comments:","NOT TESTED","NOT TESTED","NOT TESTED","NOT TESTED","NOT TESTED","NOT TESTED","NOT TESTED"]
["1.4.4","AA","Resize Text","Except for captions and images of text, text can be resized without assistive technology up to 200 percent without loss of content or functionality.","See front-end spreadsheet","See front-end spreadsheet","See front-end spreadsheet","See front-end spreadsheet","See front-end spreadsheet","See front-end spreadsheet","See front-end spreadsheet","PASS","PASS","PASS","PASS","PASS","NON CONFORMANT","PASS","PASS","PASS","PASS","PASS","PASS","PASS","PASS","PASS","PASS","PASS","PASS","PASS","PASS"]
[null,null,null,null,"NOT TESTED","NOT TESTED","NOT TESTED","NOT TESTED","NOT TESTED","NOT TESTED","NOT TESTED",null,null,null,null,null,"At 200%, because the Menu is in the sticky header, it is not possible to scroll the page so that all the links in the menu are visible in the viewport.\nhttps://london.atlassian.net/browse/RLAC-275"]
["1.4.5","AA","Images of Text","If the technologies being used can achieve the visual presentation, text is used to convey information rather than images of text except for the following:","See front-end spreadsheet","See front-end spreadsheet","See front-end spreadsheet","See front-end spreadsheet","See front-end spreadsheet","See front-end spreadsheet","See front-end spreadsheet","N/A","N/A","N/A","N/A","N/A","N/A","N/A","N/A","N/A","N/A","N/A","N/A","N/A","N/A","N/A","N/A","N/A","N/A","N/A","N/A"]
[null,null,null,"\nCustomizable: The image of text can be visually customized to the user's requirements;\nEssential: A particular presentation of text is essential to the information being conveyed.\n","NOT TESTED","NOT TESTED","NOT TESTED","NOT TESTED","NOT TESTED","NOT TESTED","NOT TESTED","There are no images of text.","There are no images of text.","There are no images of text.","There are no images of text.","There are no images of text.","There are no images of text.","There are no images of text.","There are no images of text.","There are no images of text.","There are no images of text.","There are no images of text.","There are no images of text.","There are no images of text.","There are no images of text.","There are no images of text.","There are no images of text.","There are no images of text.","There are no images of text.","There are no images of text.","There are no images of text."]
["1.4.10","AA","Reflow","Content can be presented without loss of information or functionality, and without requiring scrolling in two dimensions for:","See front-end spreadsheet","See front-end spreadsheet","See front-end spreadsheet","See front-end spreadsheet","See front-end spreadsheet","See front-end spreadsheet","See front-end spreadsheet","PASS","PASS","PASS","PASS","PASS","NON CONFORMANT","NON CONFORMANT","NON CONFORMANT","NON CONFORMANT","NON CONFORMANT","NON CONFORMANT","NON CONFORMANT","NON CONFORMANT","NON CONFORMANT","PASS","PASS","PASS","PASS","PASS","PASS"]
[null,null,null,"\nVertical scrolling content at a width equivalent to 320 CSS pixels;\nHorizontal scrolling content at a height equivalent to 256 CSS pixels.\nExcept for parts of the content which require two-dimensional layout for usage or meaning.","NOT TESTED","NOT TESTED","NOT TESTED","NOT TESTED","NOT TESTED","NOT TESTED","NOT TESTED",null,null,null,null,null,"At 400% and the browser set to 1280px, it is not possible to scroll the page so that all the links in the menu are visible in the viewport. Use media queries to unfix the sticky header when appropriate. See https://www.w3.org/WAI/WCAG22/Techniques/css/C34 for guidance.\nhttps://london.atlassian.net/browse/RLAC-276","At 150% zoom, the mobile layout is displayed as expected, but when the mobile menu is displayed, the following behaviours occur:\n1) At 300% zoom there is truncation of text in each case detail section. Also the header takes up 50% of the vertical space. This  header should be unstuck so that the whole page can be viewed using th e vertical scrollbar. This is not a WCAG non conformance to this criteria as it only applies to 400% zoom.\n2) At 400% zoom  there is truncation of text in each case detail section. Also the header takes up 80% of the vertical space. This  header should be unstuck so that the whole page can be viewed using the vertical scrollbar. This is a WCAG non conformance and should be fixed.\nThese tests were done using a 1080-pixel high monitor\nhttps://london.atlassian.net/browse/RLAC-281","At 150% zoom, the mobile layout is displayed as expected, but when the mobile menu is displayed, the following behaviours occur:\n1) At 300% zoom  Also the header takes up 50% of the vertical space. This  header should be unstuck so that the whole page can be viewed using th e vertical scrollbar. This is not a WCAG non conformance to this criteria as it only applies to 400% zoom.\n2) At 400% zoom  the '*' text overlaps the 'Read only' text for the 'Enforcement Action Type' label This is a WCAG non conformance and should be fixed.\nComment: The header takes up 80% of the vertical space. This  header should be unstuck so that the whole page can be viewed using the vertical scrollbar.\nThese tests were done using a 1080-pixel high monitor\nhttps://london.atlassian.net/browse/RLAC-284","At 150% zoom, the mobile layout is displayed as expected, but when the mobile menu is displayed, the following behaviours occur:\n1) At 250% zoom there is truncation of text with the 'Reset progress and start again' button only partially visible. This is not a WCAG non conformance to this criteria as it only applies to 400% zoom.\n2) At 300% through to 400% the whole of the 'Required steps section' is no longer displayed. This is a WCAG non conformance.\nComment: At 400% zoom the header takes up 80% of the vertical space. This  header should be unstuck so that the whole page can be viewed using the vertical scrollbar.\nThese tests were done using a 1080-pixel high monitor\nhttps://london.atlassian.net/browse/RLAC-288","At 150% zoom, the mobile layout is displayed as expected, but when the mobile menu is displayed, the following behaviours occur:\n1) At 250% zoom there is truncation of text with the 'Reset progress and start again' button only partially visible. This is not a WCAG non conformance to this criteria as it only applies to 400% zoom.\n2) At 300% through to 400% the whole of the 'Required steps section' is no longer displayed. This is a WCAG non conformance.\nComment: At 400% zoom the header takes up 80% of the vertical space. This  header should be unstuck so that the whole page can be viewed using the vertical scrollbar.\nThese tests were done using a 1080-pixel high monitor\nhttps://london.atlassian.net/browse/RLAC-299","At 150% zoom, the mobile layout is displayed as expected, but when the mobile menu is displayed, the following behaviours occur:\n1) At 250% zoom there is truncation of text with the 'Reset progress and start again' button only partially visible. This is not a WCAG non conformance to this criteria as it only applies to 400% zoom.\n2) At 300% through to 400% the whole of the 'Required steps section' is no longer displayed. This is a WCAG non conformance.\nComment: At 400% zoom the header takes up 80% of the vertical space. This  header should be unstuck so that the whole page can be viewed using the vertical scrollbar.\nThese tests were done using a 1080-pixel high monitor\nhttps://london.atlassian.net/browse/RLAC-300","At 150% zoom, the mobile layout is displayed as expected, but when the mobile menu is displayed, the following behaviours occur:\n1)  At 400% zoom the header takes up 80% of the vertical space. This  header should be unstuck so that the whole page can be viewed using the vertical scrollbar.\nThese tests were done using a 1080-pixel high monitor\nhttps://london.atlassian.net/browse/RLAC-301","At 150% zoom, the mobile layout is displayed as expected, but when the mobile menu is displayed, the following behaviours occur:\n1)  At 400% zoom the header takes up 80% of the vertical space. This  header should be unstuck so that the whole page can be viewed using the vertical scrollbar.\nThese tests were done using a 1080-pixel high monitor\nhttps://london.atlassian.net/browse/RLAC-302","At 150% zoom, the mobile layout is displayed as expected, but when the mobile menu is displayed, the following behaviours occur:\n1)  At 400% zoom there is truncation of link text for each description in the description list. This is a WCAG non conformance.\nAlso the header takes up 80% of the vertical space. This  header should be unstuck so that the whole page can be viewed using the vertical scrollbar.\nThese tests were done using a 1080-pixel high monitor\nhttps://london.atlassian.net/browse/RLAC-303"]
["1.4.11","AA","Non-text Contrast","The visual presentation of the following have a contrast ratio of at least 3:1 against adjacent colour(s):","See front-end spreadsheet","See front-end spreadsheet","See front-end spreadsheet","See front-end spreadsheet","See front-end spreadsheet","See front-end spreadsheet","See front-end spreadsheet",{"$f":"IF('Non-text Contrast'!AH4=\"0 Faults\",\"PASS\",\"NON CONFORMANT\")","v":"PASS"},{"$f":"IF('Non-text Contrast'!AI4=\"0 Faults\",\"PASS\",\"NON CONFORMANT\")","v":"PASS"},{"$f":"IF('Non-text Contrast'!AJ4=\"0 Faults\",\"PASS\",\"NON CONFORMANT\")","v":"PASS"},{"$f":"IF('Non-text Contrast'!AK4=\"0 Faults\",\"PASS\",\"NON CONFORMANT\")","v":"PASS"},{"$f":"IF('Non-text Contrast'!AL4=\"0 Faults\",\"PASS\",\"NON CONFORMANT\")","v":"PASS"},{"$f":"IF('Non-text Contrast'!AM4=\"0 Faults\",\"PASS\",\"NON CONFORMANT\")","v":"PASS"},{"$f":"IF('Non-text Contrast'!AN4=\"0 Faults\",\"PASS\",\"NON CONFORMANT\")","v":"PASS"},{"$f":"IF('Non-text Contrast'!AO4=\"0 Faults\",\"PASS\",\"NON CONFORMANT\")","v":"PASS"},{"$f":"IF('Non-text Contrast'!AP4=\"0 Faults\",\"PASS\",\"NON CONFORMANT\")","v":"PASS"},{"$f":"IF('Non-text Contrast'!AQ4=\"0 Faults\",\"PASS\",\"NON CONFORMANT\")","v":"PASS"},{"$f":"IF('Non-text Contrast'!AR4=\"0 Faults\",\"PASS\",\"NON CONFORMANT\")","v":"PASS"},{"$f":"IF('Non-text Contrast'!AS4=\"0 Faults\",\"PASS\",\"NON CONFORMANT\")","v":"PASS"},{"$f":"IF('Non-text Contrast'!AT4=\"0 Faults\",\"PASS\",\"NON CONFORMANT\")","v":"PASS"},{"$f":"IF('Non-text Contrast'!AU4=\"0 Faults\",\"PASS\",\"NON CONFORMANT\")","v":"PASS"},{"$f":"IF('[2]Non-text Contrast'!AV4=\"0 Faults\",\"PASS\",\"NON CONFORMANT\")","v":"PASS"},{"$f":"IF('[2]Non-text Contrast'!AW4=\"0 Faults\",\"PASS\",\"NON CONFORMANT\")","v":"PASS"},{"$f":"IF('[2]Non-text Contrast'!AX4=\"0 Faults\",\"PASS\",\"NON CONFORMANT\")","v":"PASS"},{"$f":"IF('[2]Non-text Contrast'!AY4=\"0 Faults\",\"PASS\",\"NON CONFORMANT\")","v":"PASS"},{"$f":"IF('[2]Non-text Contrast'!AZ4=\"0 Faults\",\"PASS\",\"NON CONFORMANT\")","v":"PASS"},{"$f":"IF('[2]Non-text Contrast'!BA4=\"0 Faults\",\"PASS\",\"NON CONFORMANT\")","v":"PASS"},{"$f":"IF('Non-text Contrast'!BB4=\"0 Faults\",\"PASS\",\"NON CONFORMANT\")","v":"PASS"},{"$f":"IF('Non-text Contrast'!BC4=\"0 Faults\",\"PASS\",\"NON CONFORMANT\")","v":"PASS"},{"$f":"IF('Non-text Contrast'!BD4=\"0 Faults\",\"PASS\",\"NON CONFORMANT\")","v":"PASS"},{"$f":"IF('Non-text Contrast'!BE4=\"0 Faults\",\"PASS\",\"NON CONFORMANT\")","v":"PASS"},{"$f":"IF('Non-text Contrast'!BF4=\"0 Faults\",\"PASS\",\"NON CONFORMANT\")","v":"PASS"},{"$f":"IF('Non-text Contrast'!BG4=\"0 Faults\",\"PASS\",\"NON CONFORMANT\")","v":"PASS"},{"$f":"IF('Non-text Contrast'!BH4=\"0 Faults\",\"PASS\",\"NON CONFORMANT\")","v":"PASS"},{"$f":"IF('Non-text Contrast'!BI4=\"0 Faults\",\"PASS\",\"NON CONFORMANT\")","v":"PASS"},{"$f":"IF('Non-text Contrast'!BJ4=\"0 Faults\",\"PASS\",\"NON CONFORMANT\")","v":"PASS"},{"$f":"IF('Non-text Contrast'!BK4=\"0 Faults\",\"PASS\",\"NON CONFORMANT\")","v":"PASS"},{"$f":"IF('Non-text Contrast'!BL4=\"0 Faults\",\"PASS\",\"NON CONFORMANT\")","v":"PASS"},{"$f":"IF('Non-text Contrast'!BM4=\"0 Faults\",\"PASS\",\"NON CONFORMANT\")","v":"PASS"},{"$f":"IF('Non-text Contrast'!BN4=\"0 Faults\",\"PASS\",\"NON CONFORMANT\")","v":"PASS"},{"$f":"IF('Non-text Contrast'!BO4=\"0 Faults\",\"PASS\",\"NON CONFORMANT\")","v":"PASS"},{"$f":"IF('Non-text Contrast'!BP4=\"0 Faults\",\"PASS\",\"NON CONFORMANT\")","v":"PASS"},{"$f":"IF('Non-text Contrast'!BQ4=\"0 Faults\",\"PASS\",\"NON CONFORMANT\")","v":"PASS"},{"$f":"IF('Non-text Contrast'!BR4=\"0 Faults\",\"PASS\",\"NON CONFORMANT\")","v":"PASS"},{"$f":"IF('Non-text Contrast'!BS4=\"0 Faults\",\"PASS\",\"NON CONFORMANT\")","v":"PASS"},{"$f":"IF('Non-text Contrast'!BT4=\"0 Faults\",\"PASS\",\"NON CONFORMANT\")","v":"PASS"},{"$f":"IF('Non-text Contrast'!BU4=\"0 Faults\",\"PASS\",\"NON CONFORMANT\")","v":"PASS"},{"$f":"IF('Non-text Contrast'!BV4=\"0 Faults\",\"PASS\",\"NON CONFORMANT\")","v":"PASS"},{"$f":"IF('Non-text Contrast'!BW4=\"0 Faults\",\"PASS\",\"NON CONFORMANT\")","v":"PASS"},{"$f":"IF('Non-text Contrast'!BX4=\"0 Faults\",\"PASS\",\"NON CONFORMANT\")","v":"PASS"},{"$f":"IF('Non-text Contrast'!BY4=\"0 Faults\",\"PASS\",\"NON CONFORMANT\")","v":"PASS"},{"$f":"IF('Non-text Contrast'!BZ4=\"0 Faults\",\"PASS\",\"NON CONFORMANT\")","v":"PASS"},{"$f":"IF('Non-text Contrast'!CA4=\"0 Faults\",\"PASS\",\"NON CONFORMANT\")","v":"PASS"},{"$f":"IF('Non-text Contrast'!CB4=\"0 Faults\",\"PASS\",\"NON CONFORMANT\")","v":"PASS"},{"$f":"IF('Non-text Contrast'!CC4=\"0 Faults\",\"PASS\",\"NON CONFORMANT\")","v":"PASS"},{"$f":"IF('Non-text Contrast'!CD4=\"0 Faults\",\"PASS\",\"NON CONFORMANT\")","v":"PASS"},{"$f":"IF('Non-text Contrast'!CE4=\"0 Faults\",\"PASS\",\"NON CONFORMANT\")","v":"PASS"},{"$f":"IF('Non-text Contrast'!CF4=\"0 Faults\",\"PASS\",\"NON CONFORMANT\")","v":"PASS"},{"$f":"IF('Non-text Contrast'!CG4=\"0 Faults\",\"PASS\",\"NON CONFORMANT\")","v":"PASS"},{"$f":"IF('Non-text Contrast'!CH4=\"0 Faults\",\"PASS\",\"NON CONFORMANT\")","v":"PASS"},{"$f":"IF('Non-text Contrast'!CI4=\"0 Faults\",\"PASS\",\"NON CONFORMANT\")","v":"PASS"},{"$f":"IF('Non-text Contrast'!CJ4=\"0 Faults\",\"PASS\",\"NON CONFORMANT\")","v":"PASS"},{"$f":"IF('Non-text Contrast'!CK4=\"0 Faults\",\"PASS\",\"NON CONFORMANT\")","v":"PASS"},{"$f":"IF('Non-text Contrast'!CL4=\"0 Faults\",\"PASS\",\"NON CONFORMANT\")","v":"PASS"},{"$f":"IF('Non-text Contrast'!CM4=\"0 Faults\",\"PASS\",\"NON CONFORMANT\")","v":"PASS"},{"$f":"IF('Non-text Contrast'!CN4=\"0 Faults\",\"PASS\",\"NON CONFORMANT\")","v":"PASS"},{"$f":"IF('Non-text Contrast'!CO4=\"0 Faults\",\"PASS\",\"NON CONFORMANT\")","v":"PASS"},{"$f":"IF('Non-text Contrast'!CP4=\"0 Faults\",\"PASS\",\"NON CONFORMANT\")","v":"PASS"},{"$f":"IF('Non-text Contrast'!CQ4=\"0 Faults\",\"PASS\",\"NON CONFORMANT\")","v":"PASS"},{"$f":"IF('Non-text Contrast'!CR4=\"0 Faults\",\"PASS\",\"NON CONFORMANT\")","v":"PASS"},{"$f":"IF('Non-text Contrast'!CS4=\"0 Faults\",\"PASS\",\"NON CONFORMANT\")","v":"PASS"},{"$f":"IF('Non-text Contrast'!CT4=\"0 Faults\",\"PASS\",\"NON CONFORMANT\")","v":"PASS"},{"$f":"IF('Non-text Contrast'!CU4=\"0 Faults\",\"PASS\",\"NON CONFORMANT\")","v":"PASS"},{"$f":"IF('Non-text Contrast'!CV4=\"0 Faults\",\"PASS\",\"NON CONFORMANT\")","v":"PASS"},{"$f":"IF('Non-text Contrast'!CW4=\"0 Faults\",\"PASS\",\"NON CONFORMANT\")","v":"PASS"},{"$f":"IF('Non-text Contrast'!CX4=\"0 Faults\",\"PASS\",\"NON CONFORMANT\")","v":"PASS"},{"$f":"IF('Non-text Contrast'!CY4=\"0 Faults\",\"PASS\",\"NON CONFORMANT\")","v":"PASS"},{"$f":"IF('Non-text Contrast'!CZ4=\"0 Faults\",\"PASS\",\"NON CONFORMANT\")","v":"PASS"},{"$f":"IF('Non-text Contrast'!DA4=\"0 Faults\",\"PASS\",\"NON CONFORMANT\")","v":"PASS"},{"$f":"IF('Non-text Contrast'!DB4=\"0 Faults\",\"PASS\",\"NON CONFORMANT\")","v":"PASS"},{"$f":"IF('Non-text Contrast'!DC4=\"0 Faults\",\"PASS\",\"NON CONFORMANT\")","v":"PASS"},{"$f":"IF('Non-text Contrast'!DD4=\"0 Faults\",\"PASS\",\"NON CONFORMANT\")","v":"PASS"},{"$f":"IF('Non-text Contrast'!DE4=\"0 Faults\",\"PASS\",\"NON CONFORMANT\")","v":"PASS"},{"$f":"IF('Non-text Contrast'!DF4=\"0 Faults\",\"PASS\",\"NON CONFORMANT\")","v":"PASS"},{"$f":"IF('Non-text Contrast'!DG4=\"0 Faults\",\"PASS\",\"NON CONFORMANT\")","v":"PASS"},{"$f":"IF('Non-text Contrast'!DH4=\"0 Faults\",\"PASS\",\"NON CONFORMANT\")","v":"PASS"},{"$f":"IF('Non-text Contrast'!DI4=\"0 Faults\",\"PASS\",\"NON CONFORMANT\")","v":"PASS"},{"$f":"IF('Non-text Contrast'!DJ4=\"0 Faults\",\"PASS\",\"NON CONFORMANT\")","v":"PASS"},{"$f":"IF('Non-text Contrast'!DK4=\"0 Faults\",\"PASS\",\"NON CONFORMANT\")","v":"PASS"},{"$f":"IF('Non-text Contrast'!DL4=\"0 Faults\",\"PASS\",\"NON CONFORMANT\")","v":"PASS"},{"$f":"IF('Non-text Contrast'!DM4=\"0 Faults\",\"PASS\",\"NON CONFORMANT\")","v":"PASS"},{"$f":"IF('Non-text Contrast'!DN4=\"0 Faults\",\"PASS\",\"NON CONFORMANT\")","v":"PASS"},{"$f":"IF('Non-text Contrast'!DO4=\"0 Faults\",\"PASS\",\"NON CONFORMANT\")","v":"PASS"},{"$f":"IF('Non-text Contrast'!DP4=\"0 Faults\",\"PASS\",\"NON CONFORMANT\")","v":"PASS"},{"$f":"IF('Non-text Contrast'!DQ4=\"0 Faults\",\"PASS\",\"NON CONFORMANT\")","v":"PASS"},{"$f":"IF('Non-text Contrast'!DR4=\"0 Faults\",\"PASS\",\"NON CONFORMANT\")","v":"PASS"},{"$f":"IF('Non-text Contrast'!DS4=\"0 Faults\",\"PASS\",\"NON CONFORMANT\")","v":"PASS"},{"$f":"IF('Non-text Contrast'!DT4=\"0 Faults\",\"PASS\",\"NON CONFORMANT\")","v":"PASS"},{"$f":"IF('Non-text Contrast'!DU4=\"0 Faults\",\"PASS\",\"NON CONFORMANT\")","v":"PASS"},{"$f":"IF('Non-text Contrast'!DV4=\"0 Faults\",\"PASS\",\"NON CONFORMANT\")","v":"PASS"},{"$f":"IF('Non-text Contrast'!DW4=\"0 Faults\",\"PASS\",\"NON CONFORMANT\")","v":"PASS"},{"$f":"IF('Non-text Contrast'!DX4=\"0 Faults\",\"PASS\",\"NON CONFORMANT\")","v":"PASS"},{"$f":"IF('Non-text Contrast'!DY4=\"0 Faults\",\"PASS\",\"NON CONFORMANT\")","v":"PASS"},{"$f":"IF('Non-text Contrast'!DZ4=\"0 Faults\",\"PASS\",\"NON CONFORMANT\")","v":"PASS"},{"$f":"IF('Non-text Contrast'!EA4=\"0 Faults\",\"PASS\",\"NON CONFORMANT\")","v":"PASS"},{"$f":"IF('Non-text Contrast'!EB4=\"0 Faults\",\"PASS\",\"NON CONFORMANT\")","v":"PASS"},{"$f":"IF('Non-text Contrast'!EC4=\"0 Faults\",\"PASS\",\"NON CONFORMANT\")","v":"PASS"},{"$f":"IF('Non-text Contrast'!ED4=\"0 Faults\",\"PASS\",\"NON CONFORMANT\")","v":"PASS"},{"$f":"IF('Non-text Contrast'!EE4=\"0 Faults\",\"PASS\",\"NON CONFORMANT\")","v":"PASS"},{"$f":"IF('Non-text Contrast'!EF4=\"0 Faults\",\"PASS\",\"NON CONFORMANT\")","v":"PASS"},{"$f":"IF('Non-text Contrast'!EG4=\"0 Faults\",\"PASS\",\"NON CONFORMANT\")","v":"PASS"},{"$f":"IF('Non-text Contrast'!EH4=\"0 Faults\",\"PASS\",\"NON CONFORMANT\")","v":"PASS"},{"$f":"IF('Non-text Contrast'!EI4=\"0 Faults\",\"PASS\",\"NON CONFORMANT\")","v":"PASS"},{"$f":"IF('Non-text Contrast'!EJ4=\"0 Faults\",\"PASS\",\"NON CONFORMANT\")","v":"PASS"},{"$f":"IF('Non-text Contrast'!EK4=\"0 Faults\",\"PASS\",\"NON CONFORMANT\")","v":"PASS"},{"$f":"IF('Non-text Contrast'!EL4=\"0 Faults\",\"PASS\",\"NON CONFORMANT\")","v":"PASS"},{"$f":"IF('Non-text Contrast'!EM4=\"0 Faults\",\"PASS\",\"NON CONFORMANT\")","v":"PASS"},{"$f":"IF('Non-text Contrast'!EN4=\"0 Faults\",\"PASS\",\"NON CONFORMANT\")","v":"PASS"},{"$f":"IF('Non-text Contrast'!EO4=\"0 Faults\",\"PASS\",\"NON CONFORMANT\")","v":"PASS"},{"$f":"IF('Non-text Contrast'!EP4=\"0 Faults\",\"PASS\",\"NON CONFORMANT\")","v":"PASS"},{"$f":"IF('Non-text Contrast'!EQ4=\"0 Faults\",\"PASS\",\"NON CONFORMANT\")","v":"PASS"},{"$f":"IF('Non-text Contrast'!ER4=\"0 Faults\",\"PASS\",\"NON CONFORMANT\")","v":"PASS"},{"$f":"IF('Non-text Contrast'!ES4=\"0 Faults\",\"PASS\",\"NON CONFORMANT\")","v":"PASS"},{"$f":"IF('Non-text Contrast'!ET4=\"0 Faults\",\"PASS\",\"NON CONFORMANT\")","v":"PASS"},{"$f":"IF('Non-text Contrast'!EU4=\"0 Faults\",\"PASS\",\"NON CONFORMANT\")","v":"PASS"},{"$f":"IF('Non-text Contrast'!EV4=\"0 Faults\",\"PASS\",\"NON CONFORMANT\")","v":"PASS"},{"$f":"IF('Non-text Contrast'!EW4=\"0 Faults\",\"PASS\",\"NON CONFORMANT\")","v":"PASS"},{"$f":"IF('Non-text Contrast'!EX4=\"0 Faults\",\"PASS\",\"NON CONFORMANT\")","v":"PASS"},{"$f":"IF('Non-text Contrast'!EY4=\"0 Faults\",\"PASS\",\"NON CONFORMANT\")","v":"PASS"},{"$f":"IF('Non-text Contrast'!EZ4=\"0 Faults\",\"PASS\",\"NON CONFORMANT\")","v":"PASS"},{"$f":"IF('Non-text Contrast'!FA4=\"0 Faults\",\"PASS\",\"NON CONFORMANT\")","v":"PASS"},{"$f":"IF('Non-text Contrast'!FB4=\"0 Faults\",\"PASS\",\"NON CONFORMANT\")","v":"PASS"},{"$f":"IF('Non-text Contrast'!FC4=\"0 Faults\",\"PASS\",\"NON CONFORMANT\")","v":"PASS"},{"$f":"IF('Non-text Contrast'!FD4=\"0 Faults\",\"PASS\",\"NON CONFORMANT\")","v":"PASS"},{"$f":"IF('Non-text Contrast'!FE4=\"0 Faults\",\"PASS\",\"NON CONFORMANT\")","v":"PASS"},{"$f":"IF('Non-text Contrast'!FF4=\"0 Faults\",\"PASS\",\"NON CONFORMANT\")","v":"PASS"},{"$f":"IF('Non-text Contrast'!FG4=\"0 Faults\",\"PASS\",\"NON CONFORMANT\")","v":"PASS"},{"$f":"IF('Non-text Contrast'!FH4=\"0 Faults\",\"PASS\",\"NON CONFORMANT\")","v":"PASS"},{"$f":"IF('Non-text Contrast'!FI4=\"0 Faults\",\"PASS\",\"NON CONFORMANT\")","v":"PASS"},{"$f":"IF('Non-text Contrast'!FJ4=\"0 Faults\",\"PASS\",\"NON CONFORMANT\")","v":"PASS"},{"$f":"IF('Non-text Contrast'!FK4=\"0 Faults\",\"PASS\",\"NON CONFORMANT\")","v":"PASS"},{"$f":"IF('Non-text Contrast'!FL4=\"0 Faults\",\"PASS\",\"NON CONFORMANT\")","v":"PASS"},{"$f":"IF('Non-text Contrast'!FM4=\"0 Faults\",\"PASS\",\"NON CONFORMANT\")","v":"PASS"},{"$f":"IF('Non-text Contrast'!FN4=\"0 Faults\",\"PASS\",\"NON CONFORMANT\")","v":"PASS"},{"$f":"IF('Non-text Contrast'!FO4=\"0 Faults\",\"PASS\",\"NON CONFORMANT\")","v":"PASS"},{"$f":"IF('Non-text Contrast'!FP4=\"0 Faults\",\"PASS\",\"NON CONFORMANT\")","v":"PASS"},{"$f":"IF('Non-text Contrast'!FQ4=\"0 Faults\",\"PASS\",\"NON CONFORMANT\")","v":"PASS"},{"$f":"IF('Non-text Contrast'!FR4=\"0 Faults\",\"PASS\",\"NON CONFORMANT\")","v":"PASS"},{"$f":"IF('Non-text Contrast'!FS4=\"0 Faults\",\"PASS\",\"NON CONFORMANT\")","v":"PASS"},{"$f":"IF('Non-text Contrast'!FT4=\"0 Faults\",\"PASS\",\"NON CONFORMANT\")","v":"PASS"}]
[null,null,null,"\nUser Interface Components: Visual information required to identify user interface components and states, except for inactive components or where the appearance of the component is determined by the user agent and not modified by the author;\nGraphical Objects: Parts of graphics required to understand the content, except when a particular presentation of graphics is essential to the information being conveyed.","NOT TESTED","NOT TESTED","NOT TESTED","NOT TESTED","NOT TESTED","NOT TESTED","NOT TESTED",{"$f":"IF('Non-text Contrast'!AH4=\"0 Faults\",\"\",LEFT('Non-text Contrast'!AH4,FIND(\" \",'Non-text Contrast'!AH4)-1) &\" combination\" & IF('Non-text Contrast'!AH4=\"1 Fault\",\"\",\"s\") & \" of adjacent colours do\" & IF('Non-text Contrast'!AH4=\"1 Fault\",\"es\",\"\") & \" not have sufficient contrast. Please see the Non-text Contrast worksheet.\")","v":""},{"$f":"IF('Non-text Contrast'!AI4=\"0 Faults\",\"\",LEFT('Non-text Contrast'!AI4,FIND(\" \",'Non-text Contrast'!AI4)-1) &\" combination\" & IF('Non-text Contrast'!AI4=\"1 Fault\",\"\",\"s\") & \" of adjacent colours do\" & IF('Non-text Contrast'!AI4=\"1 Fault\",\"es\",\"\") & \" not have sufficient contrast. Please see the Non-text Contrast worksheet.\")","v":""},{"$f":"IF('Non-text Contrast'!AJ4=\"0 Faults\",\"\",LEFT('Non-text Contrast'!AJ4,FIND(\" \",'Non-text Contrast'!AJ4)-1) &\" combination\" & IF('Non-text Contrast'!AJ4=\"1 Fault\",\"\",\"s\") & \" of adjacent colours do\" & IF('Non-text Contrast'!AJ4=\"1 Fault\",\"es\",\"\") & \" not have sufficient contrast. Please see the Non-text Contrast worksheet.\")","v":""},{"$f":"IF('Non-text Contrast'!AK4=\"0 Faults\",\"\",LEFT('Non-text Contrast'!AK4,FIND(\" \",'Non-text Contrast'!AK4)-1) &\" combination\" & IF('Non-text Contrast'!AK4=\"1 Fault\",\"\",\"s\") & \" of adjacent colours do\" & IF('Non-text Contrast'!AK4=\"1 Fault\",\"es\",\"\") & \" not have sufficient contrast. Please see the Non-text Contrast worksheet.\")","v":""},{"$f":"IF('Non-text Contrast'!AL4=\"0 Faults\",\"\",LEFT('Non-text Contrast'!AL4,FIND(\" \",'Non-text Contrast'!AL4)-1) &\" combination\" & IF('Non-text Contrast'!AL4=\"1 Fault\",\"\",\"s\") & \" of adjacent colours do\" & IF('Non-text Contrast'!AL4=\"1 Fault\",\"es\",\"\") & \" not have sufficient contrast. Please see the Non-text Contrast worksheet.\")","v":""},{"$f":"IF('Non-text Contrast'!AM4=\"0 Faults\",\"\",LEFT('Non-text Contrast'!AM4,FIND(\" \",'Non-text Contrast'!AM4)-1) &\" combination\" & IF('Non-text Contrast'!AM4=\"1 Fault\",\"\",\"s\") & \" of adjacent colours do\" & IF('Non-text Contrast'!AM4=\"1 Fault\",\"es\",\"\") & \" not have sufficient contrast. Please see the Non-text Contrast worksheet.\")","v":""},{"$f":"IF('Non-text Contrast'!AN4=\"0 Faults\",\"\",LEFT('Non-text Contrast'!AN4,FIND(\" \",'Non-text Contrast'!AN4)-1) &\" combination\" & IF('Non-text Contrast'!AN4=\"1 Fault\",\"\",\"s\") & \" of adjacent colours do\" & IF('Non-text Contrast'!AN4=\"1 Fault\",\"es\",\"\") & \" not have sufficient contrast. Please see the Non-text Contrast worksheet.\")","v":""},{"$f":"IF('Non-text Contrast'!AO4=\"0 Faults\",\"\",LEFT('Non-text Contrast'!AO4,FIND(\" \",'Non-text Contrast'!AO4)-1) &\" combination\" & IF('Non-text Contrast'!AO4=\"1 Fault\",\"\",\"s\") & \" of adjacent colours do\" & IF('Non-text Contrast'!AO4=\"1 Fault\",\"es\",\"\") & \" not have sufficient contrast. Please see the Non-text Contrast worksheet.\")","v":""},{"$f":"IF('Non-text Contrast'!AP4=\"0 Faults\",\"\",LEFT('Non-text Contrast'!AP4,FIND(\" \",'Non-text Contrast'!AP4)-1) &\" combination\" & IF('Non-text Contrast'!AP4=\"1 Fault\",\"\",\"s\") & \" of adjacent colours do\" & IF('Non-text Contrast'!AP4=\"1 Fault\",\"es\",\"\") & \" not have sufficient contrast. Please see the Non-text Contrast worksheet.\")","v":""},{"$f":"IF('Non-text Contrast'!AQ4=\"0 Faults\",\"\",LEFT('Non-text Contrast'!AQ4,FIND(\" \",'Non-text Contrast'!AQ4)-1) &\" combination\" & IF('Non-text Contrast'!AQ4=\"1 Fault\",\"\",\"s\") & \" of adjacent colours do\" & IF('Non-text Contrast'!AQ4=\"1 Fault\",\"es\",\"\") & \" not have sufficient contrast. Please see the Non-text Contrast worksheet.\")","v":""},{"$f":"IF('Non-text Contrast'!AR4=\"0 Faults\",\"\",LEFT('Non-text Contrast'!AR4,FIND(\" \",'Non-text Contrast'!AR4)-1) &\" combination\" & IF('Non-text Contrast'!AR4=\"1 Fault\",\"\",\"s\") & \" of adjacent colours do\" & IF('Non-text Contrast'!AR4=\"1 Fault\",\"es\",\"\") & \" not have sufficient contrast. Please see the Non-text Contrast worksheet.\")","v":""},{"$f":"IF('Non-text Contrast'!AS4=\"0 Faults\",\"\",LEFT('Non-text Contrast'!AS4,FIND(\" \",'Non-text Contrast'!AS4)-1) &\" combination\" & IF('Non-text Contrast'!AS4=\"1 Fault\",\"\",\"s\") & \" of adjacent colours do\" & IF('Non-text Contrast'!AS4=\"1 Fault\",\"es\",\"\") & \" not have sufficient contrast. Please see the Non-text Contrast worksheet.\")","v":""},{"$f":"IF('Non-text Contrast'!AT4=\"0 Faults\",\"\",LEFT('Non-text Contrast'!AT4,FIND(\" \",'Non-text Contrast'!AT4)-1) &\" combination\" & IF('Non-text Contrast'!AT4=\"1 Fault\",\"\",\"s\") & \" of adjacent colours do\" & IF('Non-text Contrast'!AT4=\"1 Fault\",\"es\",\"\") & \" not have sufficient contrast. Please see the Non-text Contrast worksheet.\")","v":""},{"$f":"IF('Non-text Contrast'!AU4=\"0 Faults\",\"\",LEFT('Non-text Contrast'!AU4,FIND(\" \",'Non-text Contrast'!AU4)-1) &\" combination\" & IF('Non-text Contrast'!AU4=\"1 Fault\",\"\",\"s\") & \" of adjacent colours do\" & IF('Non-text Contrast'!AU4=\"1 Fault\",\"es\",\"\") & \" not have sufficient contrast. Please see the Non-text Contrast worksheet.\")","v":""},{"$f":"IF('[2]Non-text Contrast'!AV4=\"0 Faults\",\"\",LEFT('[2]Non-text Contrast'!AV4,FIND(\" \",'[2]Non-text Contrast'!AV4)-1) &\" combination\" & IF('[2]Non-text Contrast'!AV4=\"1 Fault\",\"\",\"s\") & \" of adjacent colours do\" & IF('[2]Non-text Contrast'!AV4=\"1 Fault\",\"es\",\"\") & \" not have sufficient contrast. Please see the Non-text Contrast worksheet.\")","v":""},{"$f":"IF('[2]Non-text Contrast'!AW4=\"0 Faults\",\"\",LEFT('[2]Non-text Contrast'!AW4,FIND(\" \",'[2]Non-text Contrast'!AW4)-1) &\" combination\" & IF('[2]Non-text Contrast'!AW4=\"1 Fault\",\"\",\"s\") & \" of adjacent colours do\" & IF('[2]Non-text Contrast'!AW4=\"1 Fault\",\"es\",\"\") & \" not have sufficient contrast. Please see the Non-text Contrast worksheet.\")","v":""},{"$f":"IF('[2]Non-text Contrast'!AX4=\"0 Faults\",\"\",LEFT('[2]Non-text Contrast'!AX4,FIND(\" \",'[2]Non-text Contrast'!AX4)-1) &\" combination\" & IF('[2]Non-text Contrast'!AX4=\"1 Fault\",\"\",\"s\") & \" of adjacent colours do\" & IF('[2]Non-text Contrast'!AX4=\"1 Fault\",\"es\",\"\") & \" not have sufficient contrast. Please see the Non-text Contrast worksheet.\")","v":""},{"$f":"IF('[2]Non-text Contrast'!AY4=\"0 Faults\",\"\",LEFT('[2]Non-text Contrast'!AY4,FIND(\" \",'[2]Non-text Contrast'!AY4)-1) &\" combination\" & IF('[2]Non-text Contrast'!AY4=\"1 Fault\",\"\",\"s\") & \" of adjacent colours do\" & IF('[2]Non-text Contrast'!AY4=\"1 Fault\",\"es\",\"\") & \" not have sufficient contrast. Please see the Non-text Contrast worksheet.\")","v":""},{"$f":"IF('[2]Non-text Contrast'!AZ4=\"0 Faults\",\"\",LEFT('[2]Non-text Contrast'!AZ4,FIND(\" \",'[2]Non-text Contrast'!AZ4)-1) &\" combination\" & IF('[2]Non-text Contrast'!AZ4=\"1 Fault\",\"\",\"s\") & \" of adjacent colours do\" & IF('[2]Non-text Contrast'!AZ4=\"1 Fault\",\"es\",\"\") & \" not have sufficient contrast. Please see the Non-text Contrast worksheet.\")","v":""},{"$f":"IF('[2]Non-text Contrast'!BA4=\"0 Faults\",\"\",LEFT('[2]Non-text Contrast'!BA4,FIND(\" \",'[2]Non-text Contrast'!BA4)-1) &\" combination\" & IF('[2]Non-text Contrast'!BA4=\"1 Fault\",\"\",\"s\") & \" of adjacent colours do\" & IF('[2]Non-text Contrast'!BA4=\"1 Fault\",\"es\",\"\") & \" not have sufficient contrast. Please see the Non-text Contrast worksheet.\")","v":""},{"$f":"IF('Non-text Contrast'!BB4=\"0 Faults\",\"\",LEFT('Non-text Contrast'!BB4,FIND(\" \",'Non-text Contrast'!BB4)-1) &\" combination\" & IF('Non-text Contrast'!BB4=\"1 Fault\",\"\",\"s\") & \" of adjacent colours do\" & IF('Non-text Contrast'!BB4=\"1 Fault\",\"es\",\"\") & \" not have sufficient contrast. Please see the Non-text Contrast worksheet.\")","v":""},{"$f":"IF('Non-text Contrast'!BC4=\"0 Faults\",\"\",LEFT('Non-text Contrast'!BC4,FIND(\" \",'Non-text Contrast'!BC4)-1) &\" combination\" & IF('Non-text Contrast'!BC4=\"1 Fault\",\"\",\"s\") & \" of adjacent colours do\" & IF('Non-text Contrast'!BC4=\"1 Fault\",\"es\",\"\") & \" not have sufficient contrast. Please see the Non-text Contrast worksheet.\")","v":""},{"$f":"IF('Non-text Contrast'!BD4=\"0 Faults\",\"\",LEFT('Non-text Contrast'!BD4,FIND(\" \",'Non-text Contrast'!BD4)-1) &\" combination\" & IF('Non-text Contrast'!BD4=\"1 Fault\",\"\",\"s\") & \" of adjacent colours do\" & IF('Non-text Contrast'!BD4=\"1 Fault\",\"es\",\"\") & \" not have sufficient contrast. Please see the Non-text Contrast worksheet.\")","v":""},{"$f":"IF('Non-text Contrast'!BE4=\"0 Faults\",\"\",LEFT('Non-text Contrast'!BE4,FIND(\" \",'Non-text Contrast'!BE4)-1) &\" combination\" & IF('Non-text Contrast'!BE4=\"1 Fault\",\"\",\"s\") & \" of adjacent colours do\" & IF('Non-text Contrast'!BE4=\"1 Fault\",\"es\",\"\") & \" not have sufficient contrast. Please see the Non-text Contrast worksheet.\")","v":""},{"$f":"IF('Non-text Contrast'!BF4=\"0 Faults\",\"\",LEFT('Non-text Contrast'!BF4,FIND(\" \",'Non-text Contrast'!BF4)-1) &\" combination\" & IF('Non-text Contrast'!BF4=\"1 Fault\",\"\",\"s\") & \" of adjacent colours do\" & IF('Non-text Contrast'!BF4=\"1 Fault\",\"es\",\"\") & \" not have sufficient contrast. Please see the Non-text Contrast worksheet.\")","v":""},{"$f":"IF('Non-text Contrast'!BG4=\"0 Faults\",\"\",LEFT('Non-text Contrast'!BG4,FIND(\" \",'Non-text Contrast'!BG4)-1) &\" combination\" & IF('Non-text Contrast'!BG4=\"1 Fault\",\"\",\"s\") & \" of adjacent colours do\" & IF('Non-text Contrast'!BG4=\"1 Fault\",\"es\",\"\") & \" not have sufficient contrast. Please see the Non-text Contrast worksheet.\")","v":""},{"$f":"IF('Non-text Contrast'!BH4=\"0 Faults\",\"\",LEFT('Non-text Contrast'!BH4,FIND(\" \",'Non-text Contrast'!BH4)-1) &\" combination\" & IF('Non-text Contrast'!BH4=\"1 Fault\",\"\",\"s\") & \" of adjacent colours do\" & IF('Non-text Contrast'!BH4=\"1 Fault\",\"es\",\"\") & \" not have sufficient contrast. Please see the Non-text Contrast worksheet.\")","v":""},{"$f":"IF('Non-text Contrast'!BI4=\"0 Faults\",\"\",LEFT('Non-text Contrast'!BI4,FIND(\" \",'Non-text Contrast'!BI4)-1) &\" combination\" & IF('Non-text Contrast'!BI4=\"1 Fault\",\"\",\"s\") & \" of adjacent colours do\" & IF('Non-text Contrast'!BI4=\"1 Fault\",\"es\",\"\") & \" not have sufficient contrast. Please see the Non-text Contrast worksheet.\")","v":""},{"$f":"IF('Non-text Contrast'!BJ4=\"0 Faults\",\"\",LEFT('Non-text Contrast'!BJ4,FIND(\" \",'Non-text Contrast'!BJ4)-1) &\" combination\" & IF('Non-text Contrast'!BJ4=\"1 Fault\",\"\",\"s\") & \" of adjacent colours do\" & IF('Non-text Contrast'!BJ4=\"1 Fault\",\"es\",\"\") & \" not have sufficient contrast. Please see the Non-text Contrast worksheet.\")","v":""},{"$f":"IF('Non-text Contrast'!BK4=\"0 Faults\",\"\",LEFT('Non-text Contrast'!BK4,FIND(\" \",'Non-text Contrast'!BK4)-1) &\" combination\" & IF('Non-text Contrast'!BK4=\"1 Fault\",\"\",\"s\") & \" of adjacent colours do\" & IF('Non-text Contrast'!BK4=\"1 Fault\",\"es\",\"\") & \" not have sufficient contrast. Please see the Non-text Contrast worksheet.\")","v":""},{"$f":"IF('Non-text Contrast'!BL4=\"0 Faults\",\"\",LEFT('Non-text Contrast'!BL4,FIND(\" \",'Non-text Contrast'!BL4)-1) &\" combination\" & IF('Non-text Contrast'!BL4=\"1 Fault\",\"\",\"s\") & \" of adjacent colours do\" & IF('Non-text Contrast'!BL4=\"1 Fault\",\"es\",\"\") & \" not have sufficient contrast. Please see the Non-text Contrast worksheet.\")","v":""},{"$f":"IF('Non-text Contrast'!BM4=\"0 Faults\",\"\",LEFT('Non-text Contrast'!BM4,FIND(\" \",'Non-text Contrast'!BM4)-1) &\" combination\" & IF('Non-text Contrast'!BM4=\"1 Fault\",\"\",\"s\") & \" of adjacent colours do\" & IF('Non-text Contrast'!BM4=\"1 Fault\",\"es\",\"\") & \" not have sufficient contrast. Please see the Non-text Contrast worksheet.\")","v":""},{"$f":"IF('Non-text Contrast'!BN4=\"0 Faults\",\"\",LEFT('Non-text Contrast'!BN4,FIND(\" \",'Non-text Contrast'!BN4)-1) &\" combination\" & IF('Non-text Contrast'!BN4=\"1 Fault\",\"\",\"s\") & \" of adjacent colours do\" & IF('Non-text Contrast'!BN4=\"1 Fault\",\"es\",\"\") & \" not have sufficient contrast. Please see the Non-text Contrast worksheet.\")","v":""},{"$f":"IF('Non-text Contrast'!BO4=\"0 Faults\",\"\",LEFT('Non-text Contrast'!BO4,FIND(\" \",'Non-text Contrast'!BO4)-1) &\" combination\" & IF('Non-text Contrast'!BO4=\"1 Fault\",\"\",\"s\") & \" of adjacent colours do\" & IF('Non-text Contrast'!BO4=\"1 Fault\",\"es\",\"\") & \" not have sufficient contrast. Please see the Non-text Contrast worksheet.\")","v":""},{"$f":"IF('Non-text Contrast'!BP4=\"0 Faults\",\"\",LEFT('Non-text Contrast'!BP4,FIND(\" \",'Non-text Contrast'!BP4)-1) &\" combination\" & IF('Non-text Contrast'!BP4=\"1 Fault\",\"\",\"s\") & \" of adjacent colours do\" & IF('Non-text Contrast'!BP4=\"1 Fault\",\"es\",\"\") & \" not have sufficient contrast. Please see the Non-text Contrast worksheet.\")","v":""},{"$f":"IF('Non-text Contrast'!BQ4=\"0 Faults\",\"\",LEFT('Non-text Contrast'!BQ4,FIND(\" \",'Non-text Contrast'!BQ4)-1) &\" combination\" & IF('Non-text Contrast'!BQ4=\"1 Fault\",\"\",\"s\") & \" of adjacent colours do\" & IF('Non-text Contrast'!BQ4=\"1 Fault\",\"es\",\"\") & \" not have sufficient contrast. Please see the Non-text Contrast worksheet.\")","v":""},{"$f":"IF('Non-text Contrast'!BR4=\"0 Faults\",\"\",LEFT('Non-text Contrast'!BR4,FIND(\" \",'Non-text Contrast'!BR4)-1) &\" combination\" & IF('Non-text Contrast'!BR4=\"1 Fault\",\"\",\"s\") & \" of adjacent colours do\" & IF('Non-text Contrast'!BR4=\"1 Fault\",\"es\",\"\") & \" not have sufficient contrast. Please see the Non-text Contrast worksheet.\")","v":""},{"$f":"IF('Non-text Contrast'!BS4=\"0 Faults\",\"\",LEFT('Non-text Contrast'!BS4,FIND(\" \",'Non-text Contrast'!BS4)-1) &\" combination\" & IF('Non-text Contrast'!BS4=\"1 Fault\",\"\",\"s\") & \" of adjacent colours do\" & IF('Non-text Contrast'!BS4=\"1 Fault\",\"es\",\"\") & \" not have sufficient contrast. Please see the Non-text Contrast worksheet.\")","v":""},{"$f":"IF('Non-text Contrast'!BT4=\"0 Faults\",\"\",LEFT('Non-text Contrast'!BT4,FIND(\" \",'Non-text Contrast'!BT4)-1) &\" combination\" & IF('Non-text Contrast'!BT4=\"1 Fault\",\"\",\"s\") & \" of adjacent colours do\" & IF('Non-text Contrast'!BT4=\"1 Fault\",\"es\",\"\") & \" not have sufficient contrast. Please see the Non-text Contrast worksheet.\")","v":""},{"$f":"IF('Non-text Contrast'!BU4=\"0 Faults\",\"\",LEFT('Non-text Contrast'!BU4,FIND(\" \",'Non-text Contrast'!BU4)-1) &\" combination\" & IF('Non-text Contrast'!BU4=\"1 Fault\",\"\",\"s\") & \" of adjacent colours do\" & IF('Non-text Contrast'!BU4=\"1 Fault\",\"es\",\"\") & \" not have sufficient contrast. Please see the Non-text Contrast worksheet.\")","v":""},{"$f":"IF('Non-text Contrast'!BV4=\"0 Faults\",\"\",LEFT('Non-text Contrast'!BV4,FIND(\" \",'Non-text Contrast'!BV4)-1) &\" combination\" & IF('Non-text Contrast'!BV4=\"1 Fault\",\"\",\"s\") & \" of adjacent colours do\" & IF('Non-text Contrast'!BV4=\"1 Fault\",\"es\",\"\") & \" not have sufficient contrast. Please see the Non-text Contrast worksheet.\")","v":""},{"$f":"IF('Non-text Contrast'!BW4=\"0 Faults\",\"\",LEFT('Non-text Contrast'!BW4,FIND(\" \",'Non-text Contrast'!BW4)-1) &\" combination\" & IF('Non-text Contrast'!BW4=\"1 Fault\",\"\",\"s\") & \" of adjacent colours do\" & IF('Non-text Contrast'!BW4=\"1 Fault\",\"es\",\"\") & \" not have sufficient contrast. Please see the Non-text Contrast worksheet.\")","v":""},{"$f":"IF('Non-text Contrast'!BX4=\"0 Faults\",\"\",LEFT('Non-text Contrast'!BX4,FIND(\" \",'Non-text Contrast'!BX4)-1) &\" combination\" & IF('Non-text Contrast'!BX4=\"1 Fault\",\"\",\"s\") & \" of adjacent colours do\" & IF('Non-text Contrast'!BX4=\"1 Fault\",\"es\",\"\") & \" not have sufficient contrast. Please see the Non-text Contrast worksheet.\")","v":""},{"$f":"IF('Non-text Contrast'!BY4=\"0 Faults\",\"\",LEFT('Non-text Contrast'!BY4,FIND(\" \",'Non-text Contrast'!BY4)-1) &\" combination\" & IF('Non-text Contrast'!BY4=\"1 Fault\",\"\",\"s\") & \" of adjacent colours do\" & IF('Non-text Contrast'!BY4=\"1 Fault\",\"es\",\"\") & \" not have sufficient contrast. Please see the Non-text Contrast worksheet.\")","v":""},{"$f":"IF('Non-text Contrast'!BZ4=\"0 Faults\",\"\",LEFT('Non-text Contrast'!BZ4,FIND(\" \",'Non-text Contrast'!BZ4)-1) &\" combination\" & IF('Non-text Contrast'!BZ4=\"1 Fault\",\"\",\"s\") & \" of adjacent colours do\" & IF('Non-text Contrast'!BZ4=\"1 Fault\",\"es\",\"\") & \" not have sufficient contrast. Please see the Non-text Contrast worksheet.\")","v":""},{"$f":"IF('Non-text Contrast'!CA4=\"0 Faults\",\"\",LEFT('Non-text Contrast'!CA4,FIND(\" \",'Non-text Contrast'!CA4)-1) &\" combination\" & IF('Non-text Contrast'!CA4=\"1 Fault\",\"\",\"s\") & \" of adjacent colours do\" & IF('Non-text Contrast'!CA4=\"1 Fault\",\"es\",\"\") & \" not have sufficient contrast. Please see the Non-text Contrast worksheet.\")","v":""},{"$f":"IF('Non-text Contrast'!CB4=\"0 Faults\",\"\",LEFT('Non-text Contrast'!CB4,FIND(\" \",'Non-text Contrast'!CB4)-1) &\" combination\" & IF('Non-text Contrast'!CB4=\"1 Fault\",\"\",\"s\") & \" of adjacent colours do\" & IF('Non-text Contrast'!CB4=\"1 Fault\",\"es\",\"\") & \" not have sufficient contrast. Please see the Non-text Contrast worksheet.\")","v":""},{"$f":"IF('Non-text Contrast'!CC4=\"0 Faults\",\"\",LEFT('Non-text Contrast'!CC4,FIND(\" \",'Non-text Contrast'!CC4)-1) &\" combination\" & IF('Non-text Contrast'!CC4=\"1 Fault\",\"\",\"s\") & \" of adjacent colours do\" & IF('Non-text Contrast'!CC4=\"1 Fault\",\"es\",\"\") & \" not have sufficient contrast. Please see the Non-text Contrast worksheet.\")","v":""},{"$f":"IF('Non-text Contrast'!CD4=\"0 Faults\",\"\",LEFT('Non-text Contrast'!CD4,FIND(\" \",'Non-text Contrast'!CD4)-1) &\" combination\" & IF('Non-text Contrast'!CD4=\"1 Fault\",\"\",\"s\") & \" of adjacent colours do\" & IF('Non-text Contrast'!CD4=\"1 Fault\",\"es\",\"\") & \" not have sufficient contrast. Please see the Non-text Contrast worksheet.\")","v":""},{"$f":"IF('Non-text Contrast'!CE4=\"0 Faults\",\"\",LEFT('Non-text Contrast'!CE4,FIND(\" \",'Non-text Contrast'!CE4)-1) &\" combination\" & IF('Non-text Contrast'!CE4=\"1 Fault\",\"\",\"s\") & \" of adjacent colours do\" & IF('Non-text Contrast'!CE4=\"1 Fault\",\"es\",\"\") & \" not have sufficient contrast. Please see the Non-text Contrast worksheet.\")","v":""},{"$f":"IF('Non-text Contrast'!CF4=\"0 Faults\",\"\",LEFT('Non-text Contrast'!CF4,FIND(\" \",'Non-text Contrast'!CF4)-1) &\" combination\" & IF('Non-text Contrast'!CF4=\"1 Fault\",\"\",\"s\") & \" of adjacent colours do\" & IF('Non-text Contrast'!CF4=\"1 Fault\",\"es\",\"\") & \" not have sufficient contrast. Please see the Non-text Contrast worksheet.\")","v":""},{"$f":"IF('Non-text Contrast'!CG4=\"0 Faults\",\"\",LEFT('Non-text Contrast'!CG4,FIND(\" \",'Non-text Contrast'!CG4)-1) &\" combination\" & IF('Non-text Contrast'!CG4=\"1 Fault\",\"\",\"s\") & \" of adjacent colours do\" & IF('Non-text Contrast'!CG4=\"1 Fault\",\"es\",\"\") & \" not have sufficient contrast. Please see the Non-text Contrast worksheet.\")","v":""},{"$f":"IF('Non-text Contrast'!CH4=\"0 Faults\",\"\",LEFT('Non-text Contrast'!CH4,FIND(\" \",'Non-text Contrast'!CH4)-1) &\" combination\" & IF('Non-text Contrast'!CH4=\"1 Fault\",\"\",\"s\") & \" of adjacent colours do\" & IF('Non-text Contrast'!CH4=\"1 Fault\",\"es\",\"\") & \" not have sufficient contrast. Please see the Non-text Contrast worksheet.\")","v":""},{"$f":"IF('Non-text Contrast'!CI4=\"0 Faults\",\"\",LEFT('Non-text Contrast'!CI4,FIND(\" \",'Non-text Contrast'!CI4)-1) &\" combination\" & IF('Non-text Contrast'!CI4=\"1 Fault\",\"\",\"s\") & \" of adjacent colours do\" & IF('Non-text Contrast'!CI4=\"1 Fault\",\"es\",\"\") & \" not have sufficient contrast. Please see the Non-text Contrast worksheet.\")","v":""},{"$f":"IF('Non-text Contrast'!CJ4=\"0 Faults\",\"\",LEFT('Non-text Contrast'!CJ4,FIND(\" \",'Non-text Contrast'!CJ4)-1) &\" combination\" & IF('Non-text Contrast'!CJ4=\"1 Fault\",\"\",\"s\") & \" of adjacent colours do\" & IF('Non-text Contrast'!CJ4=\"1 Fault\",\"es\",\"\") & \" not have sufficient contrast. Please see the Non-text Contrast worksheet.\")","v":""},{"$f":"IF('Non-text Contrast'!CK4=\"0 Faults\",\"\",LEFT('Non-text Contrast'!CK4,FIND(\" \",'Non-text Contrast'!CK4)-1) &\" combination\" & IF('Non-text Contrast'!CK4=\"1 Fault\",\"\",\"s\") & \" of adjacent colours do\" & IF('Non-text Contrast'!CK4=\"1 Fault\",\"es\",\"\") & \" not have sufficient contrast. Please see the Non-text Contrast worksheet.\")","v":""},{"$f":"IF('Non-text Contrast'!CL4=\"0 Faults\",\"\",LEFT('Non-text Contrast'!CL4,FIND(\" \",'Non-text Contrast'!CL4)-1) &\" combination\" & IF('Non-text Contrast'!CL4=\"1 Fault\",\"\",\"s\") & \" of adjacent colours do\" & IF('Non-text Contrast'!CL4=\"1 Fault\",\"es\",\"\") & \" not have sufficient contrast. Please see the Non-text Contrast worksheet.\")","v":""},{"$f":"IF('Non-text Contrast'!CM4=\"0 Faults\",\"\",LEFT('Non-text Contrast'!CM4,FIND(\" \",'Non-text Contrast'!CM4)-1) &\" combination\" & IF('Non-text Contrast'!CM4=\"1 Fault\",\"\",\"s\") & \" of adjacent colours do\" & IF('Non-text Contrast'!CM4=\"1 Fault\",\"es\",\"\") & \" not have sufficient contrast. Please see the Non-text Contrast worksheet.\")","v":""},{"$f":"IF('Non-text Contrast'!CN4=\"0 Faults\",\"\",LEFT('Non-text Contrast'!CN4,FIND(\" \",'Non-text Contrast'!CN4)-1) &\" combination\" & IF('Non-text Contrast'!CN4=\"1 Fault\",\"\",\"s\") & \" of adjacent colours do\" & IF('Non-text Contrast'!CN4=\"1 Fault\",\"es\",\"\") & \" not have sufficient contrast. Please see the Non-text Contrast worksheet.\")","v":""},{"$f":"IF('Non-text Contrast'!CO4=\"0 Faults\",\"\",LEFT('Non-text Contrast'!CO4,FIND(\" \",'Non-text Contrast'!CO4)-1) &\" combination\" & IF('Non-text Contrast'!CO4=\"1 Fault\",\"\",\"s\") & \" of adjacent colours do\" & IF('Non-text Contrast'!CO4=\"1 Fault\",\"es\",\"\") & \" not have sufficient contrast. Please see the Non-text Contrast worksheet.\")","v":""},{"$f":"IF('Non-text Contrast'!CP4=\"0 Faults\",\"\",LEFT('Non-text Contrast'!CP4,FIND(\" \",'Non-text Contrast'!CP4)-1) &\" combination\" & IF('Non-text Contrast'!CP4=\"1 Fault\",\"\",\"s\") & \" of adjacent colours do\" & IF('Non-text Contrast'!CP4=\"1 Fault\",\"es\",\"\") & \" not have sufficient contrast. Please see the Non-text Contrast worksheet.\")","v":""},{"$f":"IF('Non-text Contrast'!CQ4=\"0 Faults\",\"\",LEFT('Non-text Contrast'!CQ4,FIND(\" \",'Non-text Contrast'!CQ4)-1) &\" combination\" & IF('Non-text Contrast'!CQ4=\"1 Fault\",\"\",\"s\") & \" of adjacent colours do\" & IF('Non-text Contrast'!CQ4=\"1 Fault\",\"es\",\"\") & \" not have sufficient contrast. Please see the Non-text Contrast worksheet.\")","v":""},{"$f":"IF('Non-text Contrast'!CR4=\"0 Faults\",\"\",LEFT('Non-text Contrast'!CR4,FIND(\" \",'Non-text Contrast'!CR4)-1) &\" combination\" & IF('Non-text Contrast'!CR4=\"1 Fault\",\"\",\"s\") & \" of adjacent colours do\" & IF('Non-text Contrast'!CR4=\"1 Fault\",\"es\",\"\") & \" not have sufficient contrast. Please see the Non-text Contrast worksheet.\")","v":""},{"$f":"IF('Non-text Contrast'!CS4=\"0 Faults\",\"\",LEFT('Non-text Contrast'!CS4,FIND(\" \",'Non-text Contrast'!CS4)-1) &\" combination\" & IF('Non-text Contrast'!CS4=\"1 Fault\",\"\",\"s\") & \" of adjacent colours do\" & IF('Non-text Contrast'!CS4=\"1 Fault\",\"es\",\"\") & \" not have sufficient contrast. Please see the Non-text Contrast worksheet.\")","v":""},{"$f":"IF('Non-text Contrast'!CT4=\"0 Faults\",\"\",LEFT('Non-text Contrast'!CT4,FIND(\" \",'Non-text Contrast'!CT4)-1) &\" combination\" & IF('Non-text Contrast'!CT4=\"1 Fault\",\"\",\"s\") & \" of adjacent colours do\" & IF('Non-text Contrast'!CT4=\"1 Fault\",\"es\",\"\") & \" not have sufficient contrast. Please see the Non-text Contrast worksheet.\")","v":""},{"$f":"IF('Non-text Contrast'!CU4=\"0 Faults\",\"\",LEFT('Non-text Contrast'!CU4,FIND(\" \",'Non-text Contrast'!CU4)-1) &\" combination\" & IF('Non-text Contrast'!CU4=\"1 Fault\",\"\",\"s\") & \" of adjacent colours do\" & IF('Non-text Contrast'!CU4=\"1 Fault\",\"es\",\"\") & \" not have sufficient contrast. Please see the Non-text Contrast worksheet.\")","v":""},{"$f":"IF('Non-text Contrast'!CV4=\"0 Faults\",\"\",LEFT('Non-text Contrast'!CV4,FIND(\" \",'Non-text Contrast'!CV4)-1) &\" combination\" & IF('Non-text Contrast'!CV4=\"1 Fault\",\"\",\"s\") & \" of adjacent colours do\" & IF('Non-text Contrast'!CV4=\"1 Fault\",\"es\",\"\") & \" not have sufficient contrast. Please see the Non-text Contrast worksheet.\")","v":""},{"$f":"IF('Non-text Contrast'!CW4=\"0 Faults\",\"\",LEFT('Non-text Contrast'!CW4,FIND(\" \",'Non-text Contrast'!CW4)-1) &\" combination\" & IF('Non-text Contrast'!CW4=\"1 Fault\",\"\",\"s\") & \" of adjacent colours do\" & IF('Non-text Contrast'!CW4=\"1 Fault\",\"es\",\"\") & \" not have sufficient contrast. Please see the Non-text Contrast worksheet.\")","v":""},{"$f":"IF('Non-text Contrast'!CX4=\"0 Faults\",\"\",LEFT('Non-text Contrast'!CX4,FIND(\" \",'Non-text Contrast'!CX4)-1) &\" combination\" & IF('Non-text Contrast'!CX4=\"1 Fault\",\"\",\"s\") & \" of adjacent colours do\" & IF('Non-text Contrast'!CX4=\"1 Fault\",\"es\",\"\") & \" not have sufficient contrast. Please see the Non-text Contrast worksheet.\")","v":""},{"$f":"IF('Non-text Contrast'!CY4=\"0 Faults\",\"\",LEFT('Non-text Contrast'!CY4,FIND(\" \",'Non-text Contrast'!CY4)-1) &\" combination\" & IF('Non-text Contrast'!CY4=\"1 Fault\",\"\",\"s\") & \" of adjacent colours do\" & IF('Non-text Contrast'!CY4=\"1 Fault\",\"es\",\"\") & \" not have sufficient contrast. Please see the Non-text Contrast worksheet.\")","v":""},{"$f":"IF('Non-text Contrast'!CZ4=\"0 Faults\",\"\",LEFT('Non-text Contrast'!CZ4,FIND(\" \",'Non-text Contrast'!CZ4)-1) &\" combination\" & IF('Non-text Contrast'!CZ4=\"1 Fault\",\"\",\"s\") & \" of adjacent colours do\" & IF('Non-text Contrast'!CZ4=\"1 Fault\",\"es\",\"\") & \" not have sufficient contrast. Please see the Non-text Contrast worksheet.\")","v":""},{"$f":"IF('Non-text Contrast'!DA4=\"0 Faults\",\"\",LEFT('Non-text Contrast'!DA4,FIND(\" \",'Non-text Contrast'!DA4)-1) &\" combination\" & IF('Non-text Contrast'!DA4=\"1 Fault\",\"\",\"s\") & \" of adjacent colours do\" & IF('Non-text Contrast'!DA4=\"1 Fault\",\"es\",\"\") & \" not have sufficient contrast. Please see the Non-text Contrast worksheet.\")","v":""},{"$f":"IF('Non-text Contrast'!DB4=\"0 Faults\",\"\",LEFT('Non-text Contrast'!DB4,FIND(\" \",'Non-text Contrast'!DB4)-1) &\" combination\" & IF('Non-text Contrast'!DB4=\"1 Fault\",\"\",\"s\") & \" of adjacent colours do\" & IF('Non-text Contrast'!DB4=\"1 Fault\",\"es\",\"\") & \" not have sufficient contrast. Please see the Non-text Contrast worksheet.\")","v":""},{"$f":"IF('Non-text Contrast'!DC4=\"0 Faults\",\"\",LEFT('Non-text Contrast'!DC4,FIND(\" \",'Non-text Contrast'!DC4)-1) &\" combination\" & IF('Non-text Contrast'!DC4=\"1 Fault\",\"\",\"s\") & \" of adjacent colours do\" & IF('Non-text Contrast'!DC4=\"1 Fault\",\"es\",\"\") & \" not have sufficient contrast. Please see the Non-text Contrast worksheet.\")","v":""},{"$f":"IF('Non-text Contrast'!DD4=\"0 Faults\",\"\",LEFT('Non-text Contrast'!DD4,FIND(\" \",'Non-text Contrast'!DD4)-1) &\" combination\" & IF('Non-text Contrast'!DD4=\"1 Fault\",\"\",\"s\") & \" of adjacent colours do\" & IF('Non-text Contrast'!DD4=\"1 Fault\",\"es\",\"\") & \" not have sufficient contrast. Please see the Non-text Contrast worksheet.\")","v":""},{"$f":"IF('Non-text Contrast'!DE4=\"0 Faults\",\"\",LEFT('Non-text Contrast'!DE4,FIND(\" \",'Non-text Contrast'!DE4)-1) &\" combination\" & IF('Non-text Contrast'!DE4=\"1 Fault\",\"\",\"s\") & \" of adjacent colours do\" & IF('Non-text Contrast'!DE4=\"1 Fault\",\"es\",\"\") & \" not have sufficient contrast. Please see the Non-text Contrast worksheet.\")","v":""},{"$f":"IF('Non-text Contrast'!DF4=\"0 Faults\",\"\",LEFT('Non-text Contrast'!DF4,FIND(\" \",'Non-text Contrast'!DF4)-1) &\" combination\" & IF('Non-text Contrast'!DF4=\"1 Fault\",\"\",\"s\") & \" of adjacent colours do\" & IF('Non-text Contrast'!DF4=\"1 Fault\",\"es\",\"\") & \" not have sufficient contrast. Please see the Non-text Contrast worksheet.\")","v":""},{"$f":"IF('Non-text Contrast'!DG4=\"0 Faults\",\"\",LEFT('Non-text Contrast'!DG4,FIND(\" \",'Non-text Contrast'!DG4)-1) &\" combination\" & IF('Non-text Contrast'!DG4=\"1 Fault\",\"\",\"s\") & \" of adjacent colours do\" & IF('Non-text Contrast'!DG4=\"1 Fault\",\"es\",\"\") & \" not have sufficient contrast. Please see the Non-text Contrast worksheet.\")","v":""},{"$f":"IF('Non-text Contrast'!DH4=\"0 Faults\",\"\",LEFT('Non-text Contrast'!DH4,FIND(\" \",'Non-text Contrast'!DH4)-1) &\" combination\" & IF('Non-text Contrast'!DH4=\"1 Fault\",\"\",\"s\") & \" of adjacent colours do\" & IF('Non-text Contrast'!DH4=\"1 Fault\",\"es\",\"\") & \" not have sufficient contrast. Please see the Non-text Contrast worksheet.\")","v":""},{"$f":"IF('Non-text Contrast'!DI4=\"0 Faults\",\"\",LEFT('Non-text Contrast'!DI4,FIND(\" \",'Non-text Contrast'!DI4)-1) &\" combination\" & IF('Non-text Contrast'!DI4=\"1 Fault\",\"\",\"s\") & \" of adjacent colours do\" & IF('Non-text Contrast'!DI4=\"1 Fault\",\"es\",\"\") & \" not have sufficient contrast. Please see the Non-text Contrast worksheet.\")","v":""},{"$f":"IF('Non-text Contrast'!DJ4=\"0 Faults\",\"\",LEFT('Non-text Contrast'!DJ4,FIND(\" \",'Non-text Contrast'!DJ4)-1) &\" combination\" & IF('Non-text Contrast'!DJ4=\"1 Fault\",\"\",\"s\") & \" of adjacent colours do\" & IF('Non-text Contrast'!DJ4=\"1 Fault\",\"es\",\"\") & \" not have sufficient contrast. Please see the Non-text Contrast worksheet.\")","v":""},{"$f":"IF('Non-text Contrast'!DK4=\"0 Faults\",\"\",LEFT('Non-text Contrast'!DK4,FIND(\" \",'Non-text Contrast'!DK4)-1) &\" combination\" & IF('Non-text Contrast'!DK4=\"1 Fault\",\"\",\"s\") & \" of adjacent colours do\" & IF('Non-text Contrast'!DK4=\"1 Fault\",\"es\",\"\") & \" not have sufficient contrast. Please see the Non-text Contrast worksheet.\")","v":""},{"$f":"IF('Non-text Contrast'!DL4=\"0 Faults\",\"\",LEFT('Non-text Contrast'!DL4,FIND(\" \",'Non-text Contrast'!DL4)-1) &\" combination\" & IF('Non-text Contrast'!DL4=\"1 Fault\",\"\",\"s\") & \" of adjacent colours do\" & IF('Non-text Contrast'!DL4=\"1 Fault\",\"es\",\"\") & \" not have sufficient contrast. Please see the Non-text Contrast worksheet.\")","v":""},{"$f":"IF('Non-text Contrast'!DM4=\"0 Faults\",\"\",LEFT('Non-text Contrast'!DM4,FIND(\" \",'Non-text Contrast'!DM4)-1) &\" combination\" & IF('Non-text Contrast'!DM4=\"1 Fault\",\"\",\"s\") & \" of adjacent colours do\" & IF('Non-text Contrast'!DM4=\"1 Fault\",\"es\",\"\") & \" not have sufficient contrast. Please see the Non-text Contrast worksheet.\")","v":""},{"$f":"IF('Non-text Contrast'!DN4=\"0 Faults\",\"\",LEFT('Non-text Contrast'!DN4,FIND(\" \",'Non-text Contrast'!DN4)-1) &\" combination\" & IF('Non-text Contrast'!DN4=\"1 Fault\",\"\",\"s\") & \" of adjacent colours do\" & IF('Non-text Contrast'!DN4=\"1 Fault\",\"es\",\"\") & \" not have sufficient contrast. Please see the Non-text Contrast worksheet.\")","v":""},{"$f":"IF('Non-text Contrast'!DO4=\"0 Faults\",\"\",LEFT('Non-text Contrast'!DO4,FIND(\" \",'Non-text Contrast'!DO4)-1) &\" combination\" & IF('Non-text Contrast'!DO4=\"1 Fault\",\"\",\"s\") & \" of adjacent colours do\" & IF('Non-text Contrast'!DO4=\"1 Fault\",\"es\",\"\") & \" not have sufficient contrast. Please see the Non-text Contrast worksheet.\")","v":""},{"$f":"IF('Non-text Contrast'!DP4=\"0 Faults\",\"\",LEFT('Non-text Contrast'!DP4,FIND(\" \",'Non-text Contrast'!DP4)-1) &\" combination\" & IF('Non-text Contrast'!DP4=\"1 Fault\",\"\",\"s\") & \" of adjacent colours do\" & IF('Non-text Contrast'!DP4=\"1 Fault\",\"es\",\"\") & \" not have sufficient contrast. Please see the Non-text Contrast worksheet.\")","v":""},{"$f":"IF('Non-text Contrast'!DQ4=\"0 Faults\",\"\",LEFT('Non-text Contrast'!DQ4,FIND(\" \",'Non-text Contrast'!DQ4)-1) &\" combination\" & IF('Non-text Contrast'!DQ4=\"1 Fault\",\"\",\"s\") & \" of adjacent colours do\" & IF('Non-text Contrast'!DQ4=\"1 Fault\",\"es\",\"\") & \" not have sufficient contrast. Please see the Non-text Contrast worksheet.\")","v":""},{"$f":"IF('Non-text Contrast'!DR4=\"0 Faults\",\"\",LEFT('Non-text Contrast'!DR4,FIND(\" \",'Non-text Contrast'!DR4)-1) &\" combination\" & IF('Non-text Contrast'!DR4=\"1 Fault\",\"\",\"s\") & \" of adjacent colours do\" & IF('Non-text Contrast'!DR4=\"1 Fault\",\"es\",\"\") & \" not have sufficient contrast. Please see the Non-text Contrast worksheet.\")","v":""},{"$f":"IF('Non-text Contrast'!DS4=\"0 Faults\",\"\",LEFT('Non-text Contrast'!DS4,FIND(\" \",'Non-text Contrast'!DS4)-1) &\" combination\" & IF('Non-text Contrast'!DS4=\"1 Fault\",\"\",\"s\") & \" of adjacent colours do\" & IF('Non-text Contrast'!DS4=\"1 Fault\",\"es\",\"\") & \" not have sufficient contrast. Please see the Non-text Contrast worksheet.\")","v":""},{"$f":"IF('Non-text Contrast'!DT4=\"0 Faults\",\"\",LEFT('Non-text Contrast'!DT4,FIND(\" \",'Non-text Contrast'!DT4)-1) &\" combination\" & IF('Non-text Contrast'!DT4=\"1 Fault\",\"\",\"s\") & \" of adjacent colours do\" & IF('Non-text Contrast'!DT4=\"1 Fault\",\"es\",\"\") & \" not have sufficient contrast. Please see the Non-text Contrast worksheet.\")","v":""},{"$f":"IF('Non-text Contrast'!DU4=\"0 Faults\",\"\",LEFT('Non-text Contrast'!DU4,FIND(\" \",'Non-text Contrast'!DU4)-1) &\" combination\" & IF('Non-text Contrast'!DU4=\"1 Fault\",\"\",\"s\") & \" of adjacent colours do\" & IF('Non-text Contrast'!DU4=\"1 Fault\",\"es\",\"\") & \" not have sufficient contrast. Please see the Non-text Contrast worksheet.\")","v":""},{"$f":"IF('Non-text Contrast'!DV4=\"0 Faults\",\"\",LEFT('Non-text Contrast'!DV4,FIND(\" \",'Non-text Contrast'!DV4)-1) &\" combination\" & IF('Non-text Contrast'!DV4=\"1 Fault\",\"\",\"s\") & \" of adjacent colours do\" & IF('Non-text Contrast'!DV4=\"1 Fault\",\"es\",\"\") & \" not have sufficient contrast. Please see the Non-text Contrast worksheet.\")","v":""},{"$f":"IF('Non-text Contrast'!DW4=\"0 Faults\",\"\",LEFT('Non-text Contrast'!DW4,FIND(\" \",'Non-text Contrast'!DW4)-1) &\" combination\" & IF('Non-text Contrast'!DW4=\"1 Fault\",\"\",\"s\") & \" of adjacent colours do\" & IF('Non-text Contrast'!DW4=\"1 Fault\",\"es\",\"\") & \" not have sufficient contrast. Please see the Non-text Contrast worksheet.\")","v":""},{"$f":"IF('Non-text Contrast'!DX4=\"0 Faults\",\"\",LEFT('Non-text Contrast'!DX4,FIND(\" \",'Non-text Contrast'!DX4)-1) &\" combination\" & IF('Non-text Contrast'!DX4=\"1 Fault\",\"\",\"s\") & \" of adjacent colours do\" & IF('Non-text Contrast'!DX4=\"1 Fault\",\"es\",\"\") & \" not have sufficient contrast. Please see the Non-text Contrast worksheet.\")","v":""},{"$f":"IF('Non-text Contrast'!DY4=\"0 Faults\",\"\",LEFT('Non-text Contrast'!DY4,FIND(\" \",'Non-text Contrast'!DY4)-1) &\" combination\" & IF('Non-text Contrast'!DY4=\"1 Fault\",\"\",\"s\") & \" of adjacent colours do\" & IF('Non-text Contrast'!DY4=\"1 Fault\",\"es\",\"\") & \" not have sufficient contrast. Please see the Non-text Contrast worksheet.\")","v":""},{"$f":"IF('Non-text Contrast'!DZ4=\"0 Faults\",\"\",LEFT('Non-text Contrast'!DZ4,FIND(\" \",'Non-text Contrast'!DZ4)-1) &\" combination\" & IF('Non-text Contrast'!DZ4=\"1 Fault\",\"\",\"s\") & \" of adjacent colours do\" & IF('Non-text Contrast'!DZ4=\"1 Fault\",\"es\",\"\") & \" not have sufficient contrast. Please see the Non-text Contrast worksheet.\")","v":""},{"$f":"IF('Non-text Contrast'!EA4=\"0 Faults\",\"\",LEFT('Non-text Contrast'!EA4,FIND(\" \",'Non-text Contrast'!EA4)-1) &\" combination\" & IF('Non-text Contrast'!EA4=\"1 Fault\",\"\",\"s\") & \" of adjacent colours do\" & IF('Non-text Contrast'!EA4=\"1 Fault\",\"es\",\"\") & \" not have sufficient contrast. Please see the Non-text Contrast worksheet.\")","v":""},{"$f":"IF('Non-text Contrast'!EB4=\"0 Faults\",\"\",LEFT('Non-text Contrast'!EB4,FIND(\" \",'Non-text Contrast'!EB4)-1) &\" combination\" & IF('Non-text Contrast'!EB4=\"1 Fault\",\"\",\"s\") & \" of adjacent colours do\" & IF('Non-text Contrast'!EB4=\"1 Fault\",\"es\",\"\") & \" not have sufficient contrast. Please see the Non-text Contrast worksheet.\")","v":""},{"$f":"IF('Non-text Contrast'!EC4=\"0 Faults\",\"\",LEFT('Non-text Contrast'!EC4,FIND(\" \",'Non-text Contrast'!EC4)-1) &\" combination\" & IF('Non-text Contrast'!EC4=\"1 Fault\",\"\",\"s\") & \" of adjacent colours do\" & IF('Non-text Contrast'!EC4=\"1 Fault\",\"es\",\"\") & \" not have sufficient contrast. Please see the Non-text Contrast worksheet.\")","v":""},{"$f":"IF('Non-text Contrast'!ED4=\"0 Faults\",\"\",LEFT('Non-text Contrast'!ED4,FIND(\" \",'Non-text Contrast'!ED4)-1) &\" combination\" & IF('Non-text Contrast'!ED4=\"1 Fault\",\"\",\"s\") & \" of adjacent colours do\" & IF('Non-text Contrast'!ED4=\"1 Fault\",\"es\",\"\") & \" not have sufficient contrast. Please see the Non-text Contrast worksheet.\")","v":""},{"$f":"IF('Non-text Contrast'!EE4=\"0 Faults\",\"\",LEFT('Non-text Contrast'!EE4,FIND(\" \",'Non-text Contrast'!EE4)-1) &\" combination\" & IF('Non-text Contrast'!EE4=\"1 Fault\",\"\",\"s\") & \" of adjacent colours do\" & IF('Non-text Contrast'!EE4=\"1 Fault\",\"es\",\"\") & \" not have sufficient contrast. Please see the Non-text Contrast worksheet.\")","v":""},{"$f":"IF('Non-text Contrast'!EF4=\"0 Faults\",\"\",LEFT('Non-text Contrast'!EF4,FIND(\" \",'Non-text Contrast'!EF4)-1) &\" combination\" & IF('Non-text Contrast'!EF4=\"1 Fault\",\"\",\"s\") & \" of adjacent colours do\" & IF('Non-text Contrast'!EF4=\"1 Fault\",\"es\",\"\") & \" not have sufficient contrast. Please see the Non-text Contrast worksheet.\")","v":""},{"$f":"IF('Non-text Contrast'!EG4=\"0 Faults\",\"\",LEFT('Non-text Contrast'!EG4,FIND(\" \",'Non-text Contrast'!EG4)-1) &\" combination\" & IF('Non-text Contrast'!EG4=\"1 Fault\",\"\",\"s\") & \" of adjacent colours do\" & IF('Non-text Contrast'!EG4=\"1 Fault\",\"es\",\"\") & \" not have sufficient contrast. Please see the Non-text Contrast worksheet.\")","v":""},{"$f":"IF('Non-text Contrast'!EH4=\"0 Faults\",\"\",LEFT('Non-text Contrast'!EH4,FIND(\" \",'Non-text Contrast'!EH4)-1) &\" combination\" & IF('Non-text Contrast'!EH4=\"1 Fault\",\"\",\"s\") & \" of adjacent colours do\" & IF('Non-text Contrast'!EH4=\"1 Fault\",\"es\",\"\") & \" not have sufficient contrast. Please see the Non-text Contrast worksheet.\")","v":""},{"$f":"IF('Non-text Contrast'!EI4=\"0 Faults\",\"\",LEFT('Non-text Contrast'!EI4,FIND(\" \",'Non-text Contrast'!EI4)-1) &\" combination\" & IF('Non-text Contrast'!EI4=\"1 Fault\",\"\",\"s\") & \" of adjacent colours do\" & IF('Non-text Contrast'!EI4=\"1 Fault\",\"es\",\"\") & \" not have sufficient contrast. Please see the Non-text Contrast worksheet.\")","v":""},{"$f":"IF('Non-text Contrast'!EJ4=\"0 Faults\",\"\",LEFT('Non-text Contrast'!EJ4,FIND(\" \",'Non-text Contrast'!EJ4)-1) &\" combination\" & IF('Non-text Contrast'!EJ4=\"1 Fault\",\"\",\"s\") & \" of adjacent colours do\" & IF('Non-text Contrast'!EJ4=\"1 Fault\",\"es\",\"\") & \" not have sufficient contrast. Please see the Non-text Contrast worksheet.\")","v":""},{"$f":"IF('Non-text Contrast'!EK4=\"0 Faults\",\"\",LEFT('Non-text Contrast'!EK4,FIND(\" \",'Non-text Contrast'!EK4)-1) &\" combination\" & IF('Non-text Contrast'!EK4=\"1 Fault\",\"\",\"s\") & \" of adjacent colours do\" & IF('Non-text Contrast'!EK4=\"1 Fault\",\"es\",\"\") & \" not have sufficient contrast. Please see the Non-text Contrast worksheet.\")","v":""},{"$f":"IF('Non-text Contrast'!EL4=\"0 Faults\",\"\",LEFT('Non-text Contrast'!EL4,FIND(\" \",'Non-text Contrast'!EL4)-1) &\" combination\" & IF('Non-text Contrast'!EL4=\"1 Fault\",\"\",\"s\") & \" of adjacent colours do\" & IF('Non-text Contrast'!EL4=\"1 Fault\",\"es\",\"\") & \" not have sufficient contrast. Please see the Non-text Contrast worksheet.\")","v":""},{"$f":"IF('Non-text Contrast'!EM4=\"0 Faults\",\"\",LEFT('Non-text Contrast'!EM4,FIND(\" \",'Non-text Contrast'!EM4)-1) &\" combination\" & IF('Non-text Contrast'!EM4=\"1 Fault\",\"\",\"s\") & \" of adjacent colours do\" & IF('Non-text Contrast'!EM4=\"1 Fault\",\"es\",\"\") & \" not have sufficient contrast. Please see the Non-text Contrast worksheet.\")","v":""},{"$f":"IF('Non-text Contrast'!EN4=\"0 Faults\",\"\",LEFT('Non-text Contrast'!EN4,FIND(\" \",'Non-text Contrast'!EN4)-1) &\" combination\" & IF('Non-text Contrast'!EN4=\"1 Fault\",\"\",\"s\") & \" of adjacent colours do\" & IF('Non-text Contrast'!EN4=\"1 Fault\",\"es\",\"\") & \" not have sufficient contrast. Please see the Non-text Contrast worksheet.\")","v":""},{"$f":"IF('Non-text Contrast'!EO4=\"0 Faults\",\"\",LEFT('Non-text Contrast'!EO4,FIND(\" \",'Non-text Contrast'!EO4)-1) &\" combination\" & IF('Non-text Contrast'!EO4=\"1 Fault\",\"\",\"s\") & \" of adjacent colours do\" & IF('Non-text Contrast'!EO4=\"1 Fault\",\"es\",\"\") & \" not have sufficient contrast. Please see the Non-text Contrast worksheet.\")","v":""},{"$f":"IF('Non-text Contrast'!EP4=\"0 Faults\",\"\",LEFT('Non-text Contrast'!EP4,FIND(\" \",'Non-text Contrast'!EP4)-1) &\" combination\" & IF('Non-text Contrast'!EP4=\"1 Fault\",\"\",\"s\") & \" of adjacent colours do\" & IF('Non-text Contrast'!EP4=\"1 Fault\",\"es\",\"\") & \" not have sufficient contrast. Please see the Non-text Contrast worksheet.\")","v":""},{"$f":"IF('Non-text Contrast'!EQ4=\"0 Faults\",\"\",LEFT('Non-text Contrast'!EQ4,FIND(\" \",'Non-text Contrast'!EQ4)-1) &\" combination\" & IF('Non-text Contrast'!EQ4=\"1 Fault\",\"\",\"s\") & \" of adjacent colours do\" & IF('Non-text Contrast'!EQ4=\"1 Fault\",\"es\",\"\") & \" not have sufficient contrast. Please see the Non-text Contrast worksheet.\")","v":""},{"$f":"IF('Non-text Contrast'!ER4=\"0 Faults\",\"\",LEFT('Non-text Contrast'!ER4,FIND(\" \",'Non-text Contrast'!ER4)-1) &\" combination\" & IF('Non-text Contrast'!ER4=\"1 Fault\",\"\",\"s\") & \" of adjacent colours do\" & IF('Non-text Contrast'!ER4=\"1 Fault\",\"es\",\"\") & \" not have sufficient contrast. Please see the Non-text Contrast worksheet.\")","v":""},{"$f":"IF('Non-text Contrast'!ES4=\"0 Faults\",\"\",LEFT('Non-text Contrast'!ES4,FIND(\" \",'Non-text Contrast'!ES4)-1) &\" combination\" & IF('Non-text Contrast'!ES4=\"1 Fault\",\"\",\"s\") & \" of adjacent colours do\" & IF('Non-text Contrast'!ES4=\"1 Fault\",\"es\",\"\") & \" not have sufficient contrast. Please see the Non-text Contrast worksheet.\")","v":""},{"$f":"IF('Non-text Contrast'!ET4=\"0 Faults\",\"\",LEFT('Non-text Contrast'!ET4,FIND(\" \",'Non-text Contrast'!ET4)-1) &\" combination\" & IF('Non-text Contrast'!ET4=\"1 Fault\",\"\",\"s\") & \" of adjacent colours do\" & IF('Non-text Contrast'!ET4=\"1 Fault\",\"es\",\"\") & \" not have sufficient contrast. Please see the Non-text Contrast worksheet.\")","v":""},{"$f":"IF('Non-text Contrast'!EU4=\"0 Faults\",\"\",LEFT('Non-text Contrast'!EU4,FIND(\" \",'Non-text Contrast'!EU4)-1) &\" combination\" & IF('Non-text Contrast'!EU4=\"1 Fault\",\"\",\"s\") & \" of adjacent colours do\" & IF('Non-text Contrast'!EU4=\"1 Fault\",\"es\",\"\") & \" not have sufficient contrast. Please see the Non-text Contrast worksheet.\")","v":""},{"$f":"IF('Non-text Contrast'!EV4=\"0 Faults\",\"\",LEFT('Non-text Contrast'!EV4,FIND(\" \",'Non-text Contrast'!EV4)-1) &\" combination\" & IF('Non-text Contrast'!EV4=\"1 Fault\",\"\",\"s\") & \" of adjacent colours do\" & IF('Non-text Contrast'!EV4=\"1 Fault\",\"es\",\"\") & \" not have sufficient contrast. Please see the Non-text Contrast worksheet.\")","v":""},{"$f":"IF('Non-text Contrast'!EW4=\"0 Faults\",\"\",LEFT('Non-text Contrast'!EW4,FIND(\" \",'Non-text Contrast'!EW4)-1) &\" combination\" & IF('Non-text Contrast'!EW4=\"1 Fault\",\"\",\"s\") & \" of adjacent colours do\" & IF('Non-text Contrast'!EW4=\"1 Fault\",\"es\",\"\") & \" not have sufficient contrast. Please see the Non-text Contrast worksheet.\")","v":""},{"$f":"IF('Non-text Contrast'!EX4=\"0 Faults\",\"\",LEFT('Non-text Contrast'!EX4,FIND(\" \",'Non-text Contrast'!EX4)-1) &\" combination\" & IF('Non-text Contrast'!EX4=\"1 Fault\",\"\",\"s\") & \" of adjacent colours do\" & IF('Non-text Contrast'!EX4=\"1 Fault\",\"es\",\"\") & \" not have sufficient contrast. Please see the Non-text Contrast worksheet.\")","v":""},{"$f":"IF('Non-text Contrast'!EY4=\"0 Faults\",\"\",LEFT('Non-text Contrast'!EY4,FIND(\" \",'Non-text Contrast'!EY4)-1) &\" combination\" & IF('Non-text Contrast'!EY4=\"1 Fault\",\"\",\"s\") & \" of adjacent colours do\" & IF('Non-text Contrast'!EY4=\"1 Fault\",\"es\",\"\") & \" not have sufficient contrast. Please see the Non-text Contrast worksheet.\")","v":""},{"$f":"IF('Non-text Contrast'!EZ4=\"0 Faults\",\"\",LEFT('Non-text Contrast'!EZ4,FIND(\" \",'Non-text Contrast'!EZ4)-1) &\" combination\" & IF('Non-text Contrast'!EZ4=\"1 Fault\",\"\",\"s\") & \" of adjacent colours do\" & IF('Non-text Contrast'!EZ4=\"1 Fault\",\"es\",\"\") & \" not have sufficient contrast. Please see the Non-text Contrast worksheet.\")","v":""},{"$f":"IF('Non-text Contrast'!FA4=\"0 Faults\",\"\",LEFT('Non-text Contrast'!FA4,FIND(\" \",'Non-text Contrast'!FA4)-1) &\" combination\" & IF('Non-text Contrast'!FA4=\"1 Fault\",\"\",\"s\") & \" of adjacent colours do\" & IF('Non-text Contrast'!FA4=\"1 Fault\",\"es\",\"\") & \" not have sufficient contrast. Please see the Non-text Contrast worksheet.\")","v":""},{"$f":"IF('Non-text Contrast'!FB4=\"0 Faults\",\"\",LEFT('Non-text Contrast'!FB4,FIND(\" \",'Non-text Contrast'!FB4)-1) &\" combination\" & IF('Non-text Contrast'!FB4=\"1 Fault\",\"\",\"s\") & \" of adjacent colours do\" & IF('Non-text Contrast'!FB4=\"1 Fault\",\"es\",\"\") & \" not have sufficient contrast. Please see the Non-text Contrast worksheet.\")","v":""},{"$f":"IF('Non-text Contrast'!FC4=\"0 Faults\",\"\",LEFT('Non-text Contrast'!FC4,FIND(\" \",'Non-text Contrast'!FC4)-1) &\" combination\" & IF('Non-text Contrast'!FC4=\"1 Fault\",\"\",\"s\") & \" of adjacent colours do\" & IF('Non-text Contrast'!FC4=\"1 Fault\",\"es\",\"\") & \" not have sufficient contrast. Please see the Non-text Contrast worksheet.\")","v":""},{"$f":"IF('Non-text Contrast'!FD4=\"0 Faults\",\"\",LEFT('Non-text Contrast'!FD4,FIND(\" \",'Non-text Contrast'!FD4)-1) &\" combination\" & IF('Non-text Contrast'!FD4=\"1 Fault\",\"\",\"s\") & \" of adjacent colours do\" & IF('Non-text Contrast'!FD4=\"1 Fault\",\"es\",\"\") & \" not have sufficient contrast. Please see the Non-text Contrast worksheet.\")","v":""},{"$f":"IF('Non-text Contrast'!FE4=\"0 Faults\",\"\",LEFT('Non-text Contrast'!FE4,FIND(\" \",'Non-text Contrast'!FE4)-1) &\" combination\" & IF('Non-text Contrast'!FE4=\"1 Fault\",\"\",\"s\") & \" of adjacent colours do\" & IF('Non-text Contrast'!FE4=\"1 Fault\",\"es\",\"\") & \" not have sufficient contrast. Please see the Non-text Contrast worksheet.\")","v":""},{"$f":"IF('Non-text Contrast'!FF4=\"0 Faults\",\"\",LEFT('Non-text Contrast'!FF4,FIND(\" \",'Non-text Contrast'!FF4)-1) &\" combination\" & IF('Non-text Contrast'!FF4=\"1 Fault\",\"\",\"s\") & \" of adjacent colours do\" & IF('Non-text Contrast'!FF4=\"1 Fault\",\"es\",\"\") & \" not have sufficient contrast. Please see the Non-text Contrast worksheet.\")","v":""},{"$f":"IF('Non-text Contrast'!FG4=\"0 Faults\",\"\",LEFT('Non-text Contrast'!FG4,FIND(\" \",'Non-text Contrast'!FG4)-1) &\" combination\" & IF('Non-text Contrast'!FG4=\"1 Fault\",\"\",\"s\") & \" of adjacent colours do\" & IF('Non-text Contrast'!FG4=\"1 Fault\",\"es\",\"\") & \" not have sufficient contrast. Please see the Non-text Contrast worksheet.\")","v":""},{"$f":"IF('Non-text Contrast'!FH4=\"0 Faults\",\"\",LEFT('Non-text Contrast'!FH4,FIND(\" \",'Non-text Contrast'!FH4)-1) &\" combination\" & IF('Non-text Contrast'!FH4=\"1 Fault\",\"\",\"s\") & \" of adjacent colours do\" & IF('Non-text Contrast'!FH4=\"1 Fault\",\"es\",\"\") & \" not have sufficient contrast. Please see the Non-text Contrast worksheet.\")","v":""},{"$f":"IF('Non-text Contrast'!FI4=\"0 Faults\",\"\",LEFT('Non-text Contrast'!FI4,FIND(\" \",'Non-text Contrast'!FI4)-1) &\" combination\" & IF('Non-text Contrast'!FI4=\"1 Fault\",\"\",\"s\") & \" of adjacent colours do\" & IF('Non-text Contrast'!FI4=\"1 Fault\",\"es\",\"\") & \" not have sufficient contrast. Please see the Non-text Contrast worksheet.\")","v":""},{"$f":"IF('Non-text Contrast'!FJ4=\"0 Faults\",\"\",LEFT('Non-text Contrast'!FJ4,FIND(\" \",'Non-text Contrast'!FJ4)-1) &\" combination\" & IF('Non-text Contrast'!FJ4=\"1 Fault\",\"\",\"s\") & \" of adjacent colours do\" & IF('Non-text Contrast'!FJ4=\"1 Fault\",\"es\",\"\") & \" not have sufficient contrast. Please see the Non-text Contrast worksheet.\")","v":""},{"$f":"IF('Non-text Contrast'!FK4=\"0 Faults\",\"\",LEFT('Non-text Contrast'!FK4,FIND(\" \",'Non-text Contrast'!FK4)-1) &\" combination\" & IF('Non-text Contrast'!FK4=\"1 Fault\",\"\",\"s\") & \" of adjacent colours do\" & IF('Non-text Contrast'!FK4=\"1 Fault\",\"es\",\"\") & \" not have sufficient contrast. Please see the Non-text Contrast worksheet.\")","v":""},{"$f":"IF('Non-text Contrast'!FL4=\"0 Faults\",\"\",LEFT('Non-text Contrast'!FL4,FIND(\" \",'Non-text Contrast'!FL4)-1) &\" combination\" & IF('Non-text Contrast'!FL4=\"1 Fault\",\"\",\"s\") & \" of adjacent colours do\" & IF('Non-text Contrast'!FL4=\"1 Fault\",\"es\",\"\") & \" not have sufficient contrast. Please see the Non-text Contrast worksheet.\")","v":""},{"$f":"IF('Non-text Contrast'!FM4=\"0 Faults\",\"\",LEFT('Non-text Contrast'!FM4,FIND(\" \",'Non-text Contrast'!FM4)-1) &\" combination\" & IF('Non-text Contrast'!FM4=\"1 Fault\",\"\",\"s\") & \" of adjacent colours do\" & IF('Non-text Contrast'!FM4=\"1 Fault\",\"es\",\"\") & \" not have sufficient contrast. Please see the Non-text Contrast worksheet.\")","v":""},{"$f":"IF('Non-text Contrast'!FN4=\"0 Faults\",\"\",LEFT('Non-text Contrast'!FN4,FIND(\" \",'Non-text Contrast'!FN4)-1) &\" combination\" & IF('Non-text Contrast'!FN4=\"1 Fault\",\"\",\"s\") & \" of adjacent colours do\" & IF('Non-text Contrast'!FN4=\"1 Fault\",\"es\",\"\") & \" not have sufficient contrast. Please see the Non-text Contrast worksheet.\")","v":""},{"$f":"IF('Non-text Contrast'!FO4=\"0 Faults\",\"\",LEFT('Non-text Contrast'!FO4,FIND(\" \",'Non-text Contrast'!FO4)-1) &\" combination\" & IF('Non-text Contrast'!FO4=\"1 Fault\",\"\",\"s\") & \" of adjacent colours do\" & IF('Non-text Contrast'!FO4=\"1 Fault\",\"es\",\"\") & \" not have sufficient contrast. Please see the Non-text Contrast worksheet.\")","v":""},{"$f":"IF('Non-text Contrast'!FP4=\"0 Faults\",\"\",LEFT('Non-text Contrast'!FP4,FIND(\" \",'Non-text Contrast'!FP4)-1) &\" combination\" & IF('Non-text Contrast'!FP4=\"1 Fault\",\"\",\"s\") & \" of adjacent colours do\" & IF('Non-text Contrast'!FP4=\"1 Fault\",\"es\",\"\") & \" not have sufficient contrast. Please see the Non-text Contrast worksheet.\")","v":""},{"$f":"IF('Non-text Contrast'!FQ4=\"0 Faults\",\"\",LEFT('Non-text Contrast'!FQ4,FIND(\" \",'Non-text Contrast'!FQ4)-1) &\" combination\" & IF('Non-text Contrast'!FQ4=\"1 Fault\",\"\",\"s\") & \" of adjacent colours do\" & IF('Non-text Contrast'!FQ4=\"1 Fault\",\"es\",\"\") & \" not have sufficient contrast. Please see the Non-text Contrast worksheet.\")","v":""},{"$f":"IF('Non-text Contrast'!FR4=\"0 Faults\",\"\",LEFT('Non-text Contrast'!FR4,FIND(\" \",'Non-text Contrast'!FR4)-1) &\" combination\" & IF('Non-text Contrast'!FR4=\"1 Fault\",\"\",\"s\") & \" of adjacent colours do\" & IF('Non-text Contrast'!FR4=\"1 Fault\",\"es\",\"\") & \" not have sufficient contrast. Please see the Non-text Contrast worksheet.\")","v":""},{"$f":"IF('Non-text Contrast'!FS4=\"0 Faults\",\"\",LEFT('Non-text Contrast'!FS4,FIND(\" \",'Non-text Contrast'!FS4)-1) &\" combination\" & IF('Non-text Contrast'!FS4=\"1 Fault\",\"\",\"s\") & \" of adjacent colours do\" & IF('Non-text Contrast'!FS4=\"1 Fault\",\"es\",\"\") & \" not have sufficient contrast. Please see the Non-text Contrast worksheet.\")","v":""},{"$f":"IF('Non-text Contrast'!FT4=\"0 Faults\",\"\",LEFT('Non-text Contrast'!FT4,FIND(\" \",'Non-text Contrast'!FT4)-1) &\" combination\" & IF('Non-text Contrast'!FT4=\"1 Fault\",\"\",\"s\") & \" of adjacent colours do\" & IF('Non-text Contrast'!FT4=\"1 Fault\",\"es\",\"\") & \" not have sufficient contrast. Please see the Non-text Contrast worksheet.\")","v":""}]
[null,null,null,"Comments:","See front-end spreadsheet","See front-end spreadsheet","See front-end spreadsheet","See front-end spreadsheet","See front-end spreadsheet","See front-end spreadsheet","See front-end spreadsheet"]
["1.4.12","AA","Text Spacing","In content implemented using mark-up languages that support the following text style properties, no loss of content or functionality occurs by setting all of the following and by changing no other style property:","NOT TESTED","NOT TESTED","NOT TESTED","NOT TESTED","NOT TESTED","NOT TESTED","NOT TESTED","PASS","PASS","PASS","PASS","PASS","PASS","PASS","PASS","PASS","PASS","PASS","PASS","PASS","PASS","PASS","PASS","PASS","PASS","PASS","PASS"]
[null,null,null,"Line height (line spacing) to at least 1.5 times the font size;\nSpacing following paragraphs to at least 2 times the font size;\nLetter spacing (tracking) to at least 0.12 times the font size;\nWord spacing to at least 0.16 times the font size.\nException: Human languages and scripts that do not make use of one or more of these text style properties in written text can conform using only the properties that exist for that combination of language and script.","See front-end spreadsheet","See front-end spreadsheet","See front-end spreadsheet","See front-end spreadsheet","See front-end spreadsheet","See front-end spreadsheet","See front-end spreadsheet"]
["1.4.13","AA","Content on Hover or Focus","Where receiving and then removing pointer hover or keyboard focus triggers additional content to become visible and then hidden, the following are true:","NOT TESTED","NOT TESTED","NOT TESTED","NOT TESTED","NOT TESTED","NOT TESTED","NOT TESTED","N/A","N/A","N/A","N/A","N/A","N/A","N/A","N/A","N/A","N/A","N/A","N/A","N/A","N/A","N/A","N/A","N/A","N/A","N/A","N/A"]
[null,null,null,"\nDismissable: A mechanism is available to dismiss the additional content without moving pointer hover or keyboard focus, unless the additional content communicates an input error or does not obscure or replace other content;\nHoverable: If pointer hover can trigger the additional content, then the pointer can be moved over the additional content without the additional content disappearing;\nPersistent: The additional content remains visible until the hover or focus trigger is removed, the user dismisses it, or its information is no longer valid.\nException: The visual presentation of the additional content is controlled by the user agent and is not modified by the author.\n","See front-end spreadsheet","See front-end spreadsheet","See front-end spreadsheet","See front-end spreadsheet","See front-end spreadsheet","See front-end spreadsheet","See front-end spreadsheet","No content becomes visible or hidden upon receiving or removing hover or focus.","No content becomes visible or hidden upon receiving or removing hover or focus.","No content becomes visible or hidden upon receiving or removing hover or focus.","No content becomes visible or hidden upon receiving or removing hover or focus.","No content becomes visible or hidden upon receiving or removing hover or focus.","No content becomes visible or hidden upon receiving or removing hover or focus.","No content becomes visible or hidden upon receiving or removing hover or focus.","No content becomes visible or hidden upon receiving or removing hover or focus.","No content becomes visible or hidden upon receiving or removing hover or focus.","No content becomes visible or hidden upon receiving or removing hover or focus.","No content becomes visible or hidden upon receiving or removing hover or focus.","No content becomes visible or hidden upon receiving or removing hover or focus.","No content becomes visible or hidden upon receiving or removing hover or focus.","No content becomes visible or hidden upon receiving or removing hover or focus.","No content becomes visible or hidden upon receiving or removing hover or focus.","No content becomes visible or hidden upon receiving or removing hover or focus.","No content becomes visible or hidden upon receiving or removing hover or focus.","No content becomes visible or hidden upon receiving or removing hover or focus.","No content becomes visible or hidden upon receiving or removing hover or focus.","No content becomes visible or hidden upon receiving or removing hover or focus."]
["W3C Ref.","Level.",null,"Principle 2: Operable - User interface components and navigation must be operable."]
["2.4.5","AA","Multiple Ways","More than one way is available to locate a Web page within a set of Web pages except where the Web Page is the result of, or a step in, a process. ","NOT TESTED","NOT TESTED","NOT TESTED","NOT TESTED","NOT TESTED","NOT TESTED","NOT TESTED","N/A","N/A","N/A","N/A","N/A","N/A","N/A","N/A","N/A","N/A","N/A","N/A","N/A","N/A","N/A","N/A","N/A","N/A","N/A","N/A"]
[null,null,null,null,"See front-end spreadsheet","See front-end spreadsheet","See front-end spreadsheet","See front-end spreadsheet","See front-end spreadsheet","See front-end spreadsheet","See front-end spreadsheet","Does not apply to components.","Does not apply to components.","The page is the result of, or a step in, a process.","Does not apply to components.","Does not apply to components.","Does not apply to components.","The webpage is the result of, or a step in, a process.","The webpage is the result of, or a step in, a process.","The webpage is the result of, or a step in, a process.","The webpage is the result of, or a step in, a process.","The webpage is the result of, or a step in, a process.","The webpage is the result of, or a step in, a process.","The webpage is the result of, or a step in, a process.","The webpage is the result of, or a step in, a process.","Does not apply to components.","Does not apply to components.","Does not apply to components.","Does not apply to components.","Does not apply to components.","Does not apply to components."]
["2.4.6","AA","Headings and Labels","Headings and labels describe topic or purpose.","NOT TESTED","NOT TESTED","NOT TESTED","NOT TESTED","NOT TESTED","NOT TESTED","NOT TESTED","PASS","N/A","PASS","PASS","N/A","N/A","PASS","PASS","PASS","PASS","PASS","PASS","PASS","PASS","PASS","PASS","PASS","PASS","PASS","PASS"]
[null,null,null,null,"See front-end spreadsheet","See front-end spreadsheet","See front-end spreadsheet","See front-end spreadsheet","See front-end spreadsheet","See front-end spreadsheet","See front-end spreadsheet",null,"There are no headings or labels.",null,null,"There are no headings or labels.","There are no headings or labels."]
["2.4.7","AA","Focus Visible","Any keyboard operable user interface has a mode of operation where the keyboard focus indicator is visible.","NOT TESTED","NOT TESTED","NOT TESTED","NOT TESTED","NOT TESTED","NOT TESTED","NOT TESTED","N/A","N/A","PASS","PASS","PASS","PASS","PASS","PASS","PASS","PASS","PASS","PASS","PASS","PASS","PASS","PASS","PASS","PASS","PASS","PASS"]
[null,null,null,null,"See front-end spreadsheet","See front-end spreadsheet","See front-end spreadsheet","See front-end spreadsheet","See front-end spreadsheet","See front-end spreadsheet","See front-end spreadsheet","There are no focusable components.","There are no focusable components."]
["W3C Ref.","Level.",null,"Principle 3: Understandable - Information and the operation of user interface must be understandable."]
["3.1.2","AA","Language of Parts","The human language of each passage or phrase in the content can be programmatically determined except for proper names, technical terms, words of indeterminate language, and words or phrases that have become part of the vernacular of the immediately surrounding text.","NOT TESTED","NOT TESTED","NOT TESTED","NOT TESTED","NOT TESTED","NOT TESTED","NOT TESTED","N/A","N/A","N/A","N/A","N/A","N/A","N/A","N/A","N/A","N/A","N/A","N/A","N/A","N/A","N/A","N/A","N/A","N/A","N/A","N/A"]
[null,null,null,null,"See front-end spreadsheet","See front-end spreadsheet","See front-end spreadsheet","See front-end spreadsheet","See front-end spreadsheet","See front-end spreadsheet","See front-end spreadsheet","The human language does not change.","The human language does not change.","The human language does not change.","The human language does not change.","The human language does not change.","The human language does not change.","The human language does not change.","The human language does not change.","The human language does not change.","The human language does not change.","The human language does not change.","The human language does not change.","The human language does not change.","The human language does not change.","The human language does not change.","The human language does not change.","The human language does not change.","The human language does not change.","The human language does not change.","The human language does not change."]
["3.2.3","AA","Consistent Navigation","Navigational mechanisms that are repeated on multiple Web pages within a set of Web pages occur in the same relative order each time they are repeated, unless a change is initiated by the user.","NOT TESTED","NOT TESTED","NOT TESTED","NOT TESTED","NOT TESTED","NOT TESTED","NOT TESTED","N/A","N/A","N/A","PASS","PASS","PASS","PASS","PASS","PASS","PASS","PASS","PASS","PASS","PASS","N/A","N/A","N/A","N/A","N/A","N/A"]
[null,null,null,null,"See front-end spreadsheet","See front-end spreadsheet","See front-end spreadsheet","See front-end spreadsheet","See front-end spreadsheet","See front-end spreadsheet","See front-end spreadsheet","There are no navigational mechanisms.","There are no navigational mechanisms.","There are no navigational mechanisms.",null,null,null,null,null,null,null,null,null,null,null,"There are no navigational mechanisms.","There are no navigational mechanisms.","There are no navigational mechanisms.","There are no navigational mechanisms.","There are no navigational mechanisms.","There are no navigational mechanisms."]
["3.2.4","AA","Consistent Identification","Components that have the same functionality within a set of Web pages are identified consistently.","NOT TESTED","NOT TESTED","NOT TESTED","NOT TESTED","NOT TESTED","NOT TESTED","NOT TESTED","N/A","N/A","PASS","PASS","PASS","PASS","PASS","PASS","PASS","PASS","PASS","PASS","PASS","PASS","PASS","PASS","PASS","PASS","PASS","PASS"]
[null,null,null,null,"See front-end spreadsheet","See front-end spreadsheet","See front-end spreadsheet","See front-end spreadsheet","See front-end spreadsheet","See front-end spreadsheet","See front-end spreadsheet","There is no functionality.","There is no functionality."]
["3.3.3","AA","Error Suggestion","If an input error is automatically detected and suggestions for correction are known, then the suggestions are provided to the user, unless it would jeopardize the security or purpose of the content.","NOT TESTED","NOT TESTED","NOT TESTED","NOT TESTED","NOT TESTED","NOT TESTED","NOT TESTED","N/A","N/A","PASS","N/A","N/A","N/A","N/A","PASS","N/A","PASS","PASS","N/A","N/A","N/A","PASS","PASS","PASS","PASS","PASS","PASS"]
[null,null,null,null,"See front-end spreadsheet","See front-end spreadsheet","See front-end spreadsheet","See front-end spreadsheet","See front-end spreadsheet","See front-end spreadsheet","See front-end spreadsheet","There is no provision for user input.","There is no provision for user input.",null,"There is no provision for user input.","There is no provision for user input.","There is no provision for user input.","There is no provision for user input.",null,"No input errors can occur.",null,null,"No input errors can occur.","No input errors can occur.","No input errors can occur."]
["3.3.4","AA","Error Prevention (Legal, Financial, Data)","For Web pages that cause legal commitments or financial transactions for the user to occur, that modify or delete user-controllable data in data storage systems, or that submit user test responses, at least one of the following is true: Reversible, Checked, Confirmed.","NOT TESTED","NOT TESTED","NOT TESTED","NOT TESTED","NOT TESTED","NOT TESTED","NOT TESTED","N/A","N/A","N/A","N/A","N/A","N/A","N/A","N/A","N/A","N/A","N/A","N/A","N/A","N/A","N/A","N/A","N/A","N/A","N/A","N/A"]
[null,null,null,null,"See front-end spreadsheet","See front-end spreadsheet","See front-end spreadsheet","See front-end spreadsheet","See front-end spreadsheet","See front-end spreadsheet","See front-end spreadsheet","No legal commitments or financial transactions for the user occur, user-controllable data is not modified or deleted in data storage systems, and no user test responses are submitted.","No legal commitments or financial transactions for the user occur, user-controllable data is not modified or deleted in data storage systems, and no user test responses are submitted.","No legal commitments or financial transactions for the user occur, user-controllable data is not modified or deleted in data storage systems, and no user test responses are submitted.","No legal commitments or financial transactions for the user occur, user-controllable data is not modified or deleted in data storage systems, and no user test responses are submitted.","No legal commitments or financial transactions for the user occur, user-controllable data is not modified or deleted in data storage systems, and no user test responses are submitted.","No legal commitments or financial transactions for the user occur, user-controllable data is not modified or deleted in data storage systems, and no user test responses are submitted.","No legal commitments or financial transactions for the user occur, user-controllable data is not modified or deleted in data storage systems, and no user test responses are submitted.","No legal commitments or financial transactions for the user occur, user-controllable data is not modified or deleted in data storage systems, and no user test responses are submitted.","No legal commitments or financial transactions for the user occur, user-controllable data is not modified or deleted in data storage systems, and no user test responses are submitted.","No legal commitments or financial transactions for the user occur, user-controllable data is not modified or deleted in data storage systems, and no user test responses are submitted.","No legal commitments or financial transactions for the user occur, user-controllable data is not modified or deleted in data storage systems, and no user test responses are submitted.","No legal commitments or financial transactions for the user occur, user-controllable data is not modified or deleted in data storage systems, and no user test responses are submitted.","No legal commitments or financial transactions for the user occur, user-controllable data is not modified or deleted in data storage systems, and no user test responses are submitted.","No legal commitments or financial transactions for the user occur, user-controllable data is not modified or deleted in data storage systems, and no user test responses are submitted.","No legal commitments or financial transactions for the user occur, user-controllable data is not modified or deleted in data storage systems, and no user test responses are submitted.","No legal commitments or financial transactions for the user occur, user-controllable data is not modified or deleted in data storage systems, and no user test responses are submitted.","No legal commitments or financial transactions for the user occur, user-controllable data is not modified or deleted in data storage systems, and no user test responses are submitted.","No legal commitments or financial transactions for the user occur, user-controllable data is not modified or deleted in data storage systems, and no user test responses are submitted.","No legal commitments or financial transactions for the user occur, user-controllable data is not modified or deleted in data storage systems, and no user test responses are submitted.","No legal commitments or financial transactions for the user occur, user-controllable data is not modified or deleted in data storage systems, and no user test responses are submitted."]
["W3C Ref.","Level.",null,"Guideline 4.1 Compatible: Maximize compatibility with current and future user agents, including assistive technologies."]
["4.1.3","AA","Status Messages","In content implemented using mark-up languages, status messages can be programmatically determined through role or properties such that they can be presented to the user by assistive technologies without receiving focus.","NOT TESTED","NOT TESTED","NOT TESTED","NOT TESTED","NOT TESTED","NOT TESTED","NOT TESTED","N/A","N/A","PASS","N/A","N/A","N/A","N/A","PASS","N/A","PASS","PASS","N/A","N/A","N/A","N/A","N/A","N/A","N/A","N/A","N/A"]
[null,null,null,null,"See front-end spreadsheet","See front-end spreadsheet","See front-end spreadsheet","See front-end spreadsheet","See front-end spreadsheet","See front-end spreadsheet","See front-end spreadsheet","There are no status messages.","There are no status messages.",null,"There are no status messages.","There are no status messages.","There are no status messages.","There are no status messages.",null,"There are no status messages.",null,null,"There are no status messages.","There are no status messages.","There are no status messages.","There are no status messages.","There are no status messages.","There are no status messages.","There are no status messages.","There are no status messages.","There are no status messages."]
[]
["Level AAA Success Criteria"]
["W3C Ref.","Level.",null,"Principle 1: Perceivable - Information and user interface components must be presentable to users in ways they can perceive."]
["1.2.6","AAA","Sign Language (Prerecorded)","Sign language interpretation is provided for all prerecorded audio content in synchronized media.","NOT TESTED","NOT TESTED","NOT TESTED","NOT TESTED","NOT TESTED","NOT TESTED","NOT TESTED","NOT TESTED","NOT TESTED","NOT TESTED","NOT TESTED","NOT TESTED","NOT TESTED","NOT TESTED","NOT TESTED","NOT TESTED","NOT TESTED","NOT TESTED","NOT TESTED","NOT TESTED","NOT TESTED","NOT TESTED","NOT TESTED","NOT TESTED","NOT TESTED","NOT TESTED","NOT TESTED","NOT TESTED","NOT TESTED","NOT TESTED","NOT TESTED","NOT TESTED","NOT TESTED","NOT TESTED","NOT TESTED","NOT TESTED","NOT TESTED","NOT TESTED","NOT TESTED","NOT TESTED","NOT TESTED","NOT TESTED","NOT TESTED","NOT TESTED","NOT TESTED","NOT TESTED","NOT TESTED","NOT TESTED","NOT TESTED","NOT TESTED","NOT TESTED","NOT TESTED","NOT TESTED","NOT TESTED","NOT TESTED","NOT TESTED","NOT TESTED","NOT TESTED","NOT TESTED","NOT TESTED","NOT TESTED","NOT TESTED","NOT TESTED","NOT TESTED","NOT TESTED","NOT TESTED","NOT TESTED","NOT TESTED","NOT TESTED","NOT TESTED","NOT TESTED","NOT TESTED","NOT TESTED","NOT TESTED","NOT TESTED","NOT TESTED","NOT TESTED","NOT TESTED","NOT TESTED","NOT TESTED","NOT TESTED","NOT TESTED","NOT TESTED","NOT TESTED","NOT TESTED","NOT TESTED","NOT TESTED","NOT TESTED","NOT TESTED","NOT TESTED","NOT TESTED","NOT TESTED","NOT TESTED","NOT TESTED","NOT TESTED","NOT TESTED","NOT TESTED","NOT TESTED","NOT TESTED","NOT TESTED","NOT TESTED","NOT TESTED","NOT TESTED","NOT TESTED","NOT TESTED","NOT TESTED","NOT TESTED","NOT TESTED","NOT TESTED","NOT TESTED","NOT TESTED","NOT TESTED","NOT TESTED","NOT TESTED","NOT TESTED","NOT TESTED","NOT TESTED","NOT TESTED","NOT TESTED","NOT TESTED","NOT TESTED","NOT TESTED","NOT TESTED","NOT TESTED","NOT TESTED","NOT TESTED","NOT TESTED","NOT TESTED","NOT TESTED","NOT TESTED","NOT TESTED","NOT TESTED","NOT TESTED","NOT TESTED","NOT TESTED","NOT TESTED","NOT TESTED","NOT TESTED","NOT TESTED","NOT TESTED","NOT TESTED","NOT TESTED","NOT TESTED","NOT TESTED","NOT TESTED","NOT TESTED","NOT TESTED","NOT TESTED","NOT TESTED","NOT TESTED"]
[null,null,null,null,"When testing for conformance with AA, leave all AAA results set to Not Tested.\n\nWhen testing for conformance with AAA, delete the Not Tested result setting from all 50 columns even if fewer than 50 are being tested."]
["1.2.7","AAA","Extended Audio Description (Prerecorded)","Where pauses in foreground audio are insufficient to allow audio descriptions to convey the sense of the video, extended audio description is provided for all prerecorded video content in synchronized media.","NOT TESTED","NOT TESTED","NOT TESTED","NOT TESTED","NOT TESTED","NOT TESTED","NOT TESTED","NOT TESTED","NOT TESTED","NOT TESTED","NOT TESTED","NOT TESTED","NOT TESTED","NOT TESTED","NOT TESTED","NOT TESTED","NOT TESTED","NOT TESTED","NOT TESTED","NOT TESTED","NOT TESTED","NOT TESTED","NOT TESTED","NOT TESTED","NOT TESTED","NOT TESTED","NOT TESTED","NOT TESTED","NOT TESTED","NOT TESTED","NOT TESTED","NOT TESTED","NOT TESTED","NOT TESTED","NOT TESTED","NOT TESTED","NOT TESTED","NOT TESTED","NOT TESTED","NOT TESTED","NOT TESTED","NOT TESTED","NOT TESTED","NOT TESTED","NOT TESTED","NOT TESTED","NOT TESTED","NOT TESTED","NOT TESTED","NOT TESTED","NOT TESTED","NOT TESTED","NOT TESTED","NOT TESTED","NOT TESTED","NOT TESTED","NOT TESTED","NOT TESTED","NOT TESTED","NOT TESTED","NOT TESTED","NOT TESTED","NOT TESTED","NOT TESTED","NOT TESTED","NOT TESTED","NOT TESTED","NOT TESTED","NOT TESTED","NOT TESTED","NOT TESTED","NOT TESTED","NOT TESTED","NOT TESTED","NOT TESTED","NOT TESTED","NOT TESTED","NOT TESTED","NOT TESTED","NOT TESTED","NOT TESTED","NOT TESTED","NOT TESTED","NOT TESTED","NOT TESTED","NOT TESTED","NOT TESTED","NOT TESTED","NOT TESTED","NOT TESTED","NOT TESTED","NOT TESTED","NOT TESTED","NOT TESTED","NOT TESTED","NOT TESTED","NOT TESTED","NOT TESTED","NOT TESTED","NOT TESTED","NOT TESTED","NOT TESTED","NOT TESTED","NOT TESTED","NOT TESTED","NOT TESTED","NOT TESTED","NOT TESTED","NOT TESTED","NOT TESTED","NOT TESTED","NOT TESTED","NOT TESTED","NOT TESTED","NOT TESTED","NOT TESTED","NOT TESTED","NOT TESTED","NOT TESTED","NOT TESTED","NOT TESTED","NOT TESTED","NOT TESTED","NOT TESTED","NOT TESTED","NOT TESTED","NOT TESTED","NOT TESTED","NOT TESTED","NOT TESTED","NOT TESTED","NOT TESTED","NOT TESTED","NOT TESTED","NOT TESTED","NOT TESTED","NOT TESTED","NOT TESTED","NOT TESTED","NOT TESTED","NOT TESTED","NOT TESTED","NOT TESTED","NOT TESTED","NOT TESTED","NOT TESTED","NOT TESTED","NOT TESTED","NOT TESTED","NOT TESTED"]
[]
["1.2.8","AAA","Media Alternative (Prerecorded)","An alternative for time-based media is provided for all prerecorded synchronized media and for all prerecorded video-only media.","NOT TESTED","NOT TESTED","NOT TESTED","NOT TESTED","NOT TESTED","NOT TESTED","NOT TESTED","NOT TESTED","NOT TESTED","NOT TESTED","NOT TESTED","NOT TESTED","NOT TESTED","NOT TESTED","NOT TESTED","NOT TESTED","NOT TESTED","NOT TESTED","NOT TESTED","NOT TESTED","NOT TESTED","NOT TESTED","NOT TESTED","NOT TESTED","NOT TESTED","NOT TESTED","NOT TESTED","NOT TESTED","NOT TESTED","NOT TESTED","NOT TESTED","NOT TESTED","NOT TESTED","NOT TESTED","NOT TESTED","NOT TESTED","NOT TESTED","NOT TESTED","NOT TESTED","NOT TESTED","NOT TESTED","NOT TESTED","NOT TESTED","NOT TESTED","NOT TESTED","NOT TESTED","NOT TESTED","NOT TESTED","NOT TESTED","NOT TESTED","NOT TESTED","NOT TESTED","NOT TESTED","NOT TESTED","NOT TESTED","NOT TESTED","NOT TESTED","NOT TESTED","NOT TESTED","NOT TESTED","NOT TESTED","NOT TESTED","NOT TESTED","NOT TESTED","NOT TESTED","NOT TESTED","NOT TESTED","NOT TESTED","NOT TESTED","NOT TESTED","NOT TESTED","NOT TESTED","NOT TESTED","NOT TESTED","NOT TESTED","NOT TESTED","NOT TESTED","NOT TESTED","NOT TESTED","NOT TESTED","NOT TESTED","NOT TESTED","NOT TESTED","NOT TESTED","NOT TESTED","NOT TESTED","NOT TESTED","NOT TESTED","NOT TESTED","NOT TESTED","NOT TESTED","NOT TESTED","NOT TESTED","NOT TESTED","NOT TESTED","NOT TESTED","NOT TESTED","NOT TESTED","NOT TESTED","NOT TESTED","NOT TESTED","NOT TESTED","NOT TESTED","NOT TESTED","NOT TESTED","NOT TESTED","NOT TESTED","NOT TESTED","NOT TESTED","NOT TESTED","NOT TESTED","NOT TESTED","NOT TESTED","NOT TESTED","NOT TESTED","NOT TESTED","NOT TESTED","NOT TESTED","NOT TESTED","NOT TESTED","NOT TESTED","NOT TESTED","NOT TESTED","NOT TESTED","NOT TESTED","NOT TESTED","NOT TESTED","NOT TESTED","NOT TESTED","NOT TESTED","NOT TESTED","NOT TESTED","NOT TESTED","NOT TESTED","NOT TESTED","NOT TESTED","NOT TESTED","NOT TESTED","NOT TESTED","NOT TESTED","NOT TESTED","NOT TESTED","NOT TESTED","NOT TESTED","NOT TESTED","NOT TESTED","NOT TESTED","NOT TESTED","NOT TESTED","NOT TESTED"]
[]
["1.2.9","AAA","Audio-only (Live)","An alternative for time-based media that presents equivalent information for live audio-only content is provided.","NOT TESTED","NOT TESTED","NOT TESTED","NOT TESTED","NOT TESTED","NOT TESTED","NOT TESTED","NOT TESTED","NOT TESTED","NOT TESTED","NOT TESTED","NOT TESTED","NOT TESTED","NOT TESTED","NOT TESTED","NOT TESTED","NOT TESTED","NOT TESTED","NOT TESTED","NOT TESTED","NOT TESTED","NOT TESTED","NOT TESTED","NOT TESTED","NOT TESTED","NOT TESTED","NOT TESTED","NOT TESTED","NOT TESTED","NOT TESTED","NOT TESTED","NOT TESTED","NOT TESTED","NOT TESTED","NOT TESTED","NOT TESTED","NOT TESTED","NOT TESTED","NOT TESTED","NOT TESTED","NOT TESTED","NOT TESTED","NOT TESTED","NOT TESTED","NOT TESTED","NOT TESTED","NOT TESTED","NOT TESTED","NOT TESTED","NOT TESTED","NOT TESTED","NOT TESTED","NOT TESTED","NOT TESTED","NOT TESTED","NOT TESTED","NOT TESTED","NOT TESTED","NOT TESTED","NOT TESTED","NOT TESTED","NOT TESTED","NOT TESTED","NOT TESTED","NOT TESTED","NOT TESTED","NOT TESTED","NOT TESTED","NOT TESTED","NOT TESTED","NOT TESTED","NOT TESTED","NOT TESTED","NOT TESTED","NOT TESTED","NOT TESTED","NOT TESTED","NOT TESTED","NOT TESTED","NOT TESTED","NOT TESTED","NOT TESTED","NOT TESTED","NOT TESTED","NOT TESTED","NOT TESTED","NOT TESTED","NOT TESTED","NOT TESTED","NOT TESTED","NOT TESTED","NOT TESTED","NOT TESTED","NOT TESTED","NOT TESTED","NOT TESTED","NOT TESTED","NOT TESTED","NOT TESTED","NOT TESTED","NOT TESTED","NOT TESTED","NOT TESTED","NOT TESTED","NOT TESTED","NOT TESTED","NOT TESTED","NOT TESTED","NOT TESTED","NOT TESTED","NOT TESTED","NOT TESTED","NOT TESTED","NOT TESTED","NOT TESTED","NOT TESTED","NOT TESTED","NOT TESTED","NOT TESTED","NOT TESTED","NOT TESTED","NOT TESTED","NOT TESTED","NOT TESTED","NOT TESTED","NOT TESTED","NOT TESTED","NOT TESTED","NOT TESTED","NOT TESTED","NOT TESTED","NOT TESTED","NOT TESTED","NOT TESTED","NOT TESTED","NOT TESTED","NOT TESTED","NOT TESTED","NOT TESTED","NOT TESTED","NOT TESTED","NOT TESTED","NOT TESTED","NOT TESTED","NOT TESTED","NOT TESTED","NOT TESTED","NOT TESTED","NOT TESTED","NOT TESTED"]
[]
["1.3.6","AAA","Identify Purpose","In content implemented using markup languages, the purpose of User Interface Components, icons, and regions can be programmatically determined.","NOT TESTED","NOT TESTED","NOT TESTED","NOT TESTED","NOT TESTED","NOT TESTED","NOT TESTED","NOT TESTED","NOT TESTED","NOT TESTED","NOT TESTED","NOT TESTED","NOT TESTED","NOT TESTED","NOT TESTED","NOT TESTED","NOT TESTED","NOT TESTED","NOT TESTED","NOT TESTED","NOT TESTED","NOT TESTED","NOT TESTED","NOT TESTED","NOT TESTED","NOT TESTED","NOT TESTED","NOT TESTED","NOT TESTED","NOT TESTED","NOT TESTED","NOT TESTED","NOT TESTED","NOT TESTED","NOT TESTED","NOT TESTED","NOT TESTED","NOT TESTED","NOT TESTED","NOT TESTED","NOT TESTED","NOT TESTED","NOT TESTED","NOT TESTED","NOT TESTED","NOT TESTED","NOT TESTED","NOT TESTED","NOT TESTED","NOT TESTED","NOT TESTED","NOT TESTED","NOT TESTED","NOT TESTED","NOT TESTED","NOT TESTED","NOT TESTED","NOT TESTED","NOT TESTED","NOT TESTED","NOT TESTED","NOT TESTED","NOT TESTED","NOT TESTED","NOT TESTED","NOT TESTED","NOT TESTED","NOT TESTED","NOT TESTED","NOT TESTED","NOT TESTED","NOT TESTED","NOT TESTED","NOT TESTED","NOT TESTED","NOT TESTED","NOT TESTED","NOT TESTED","NOT TESTED","NOT TESTED","NOT TESTED","NOT TESTED","NOT TESTED","NOT TESTED","NOT TESTED","NOT TESTED","NOT TESTED","NOT TESTED","NOT TESTED","NOT TESTED","NOT TESTED","NOT TESTED","NOT TESTED","NOT TESTED","NOT TESTED","NOT TESTED","NOT TESTED","NOT TESTED","NOT TESTED","NOT TESTED","NOT TESTED","NOT TESTED","NOT TESTED","NOT TESTED","NOT TESTED","NOT TESTED","NOT TESTED","NOT TESTED","NOT TESTED","NOT TESTED","NOT TESTED","NOT TESTED","NOT TESTED","NOT TESTED","NOT TESTED","NOT TESTED","NOT TESTED","NOT TESTED","NOT TESTED","NOT TESTED","NOT TESTED","NOT TESTED","NOT TESTED","NOT TESTED","NOT TESTED","NOT TESTED","NOT TESTED","NOT TESTED","NOT TESTED","NOT TESTED","NOT TESTED","NOT TESTED","NOT TESTED","NOT TESTED","NOT TESTED","NOT TESTED","NOT TESTED","NOT TESTED","NOT TESTED","NOT TESTED","NOT TESTED","NOT TESTED","NOT TESTED","NOT TESTED","NOT TESTED","NOT TESTED","NOT TESTED","NOT TESTED","NOT TESTED","NOT TESTED"]
[]
["1.4.6","AAA","Contrast (Enhanced)","The visual presentation of text and images of text has a contrast ratio of at least 7:1, except for the following:","NOT TESTED","NOT TESTED","NOT TESTED","NOT TESTED","NOT TESTED","NOT TESTED","NOT TESTED","NOT TESTED","NOT TESTED","NOT TESTED","NOT TESTED","NOT TESTED","NOT TESTED","NOT TESTED","NOT TESTED","NOT TESTED","NOT TESTED","NOT TESTED","NOT TESTED","NOT TESTED","NOT TESTED","NOT TESTED","NOT TESTED","NOT TESTED","NOT TESTED","NOT TESTED","NOT TESTED","NOT TESTED","NOT TESTED","NOT TESTED","NOT TESTED","NOT TESTED","NOT TESTED","NOT TESTED","NOT TESTED","NOT TESTED","NOT TESTED","NOT TESTED","NOT TESTED","NOT TESTED","NOT TESTED","NOT TESTED","NOT TESTED","NOT TESTED","NOT TESTED","NOT TESTED","NOT TESTED","NOT TESTED","NOT TESTED","NOT TESTED","NOT TESTED","NOT TESTED","NOT TESTED","NOT TESTED","NOT TESTED","NOT TESTED","NOT TESTED","NOT TESTED","NOT TESTED","NOT TESTED","NOT TESTED","NOT TESTED","NOT TESTED","NOT TESTED","NOT TESTED","NOT TESTED","NOT TESTED","NOT TESTED","NOT TESTED","NOT TESTED","NOT TESTED","NOT TESTED","NOT TESTED","NOT TESTED","NOT TESTED","NOT TESTED","NOT TESTED","NOT TESTED","NOT TESTED","NOT TESTED","NOT TESTED","NOT TESTED","NOT TESTED","NOT TESTED","NOT TESTED","NOT TESTED","NOT TESTED","NOT TESTED","NOT TESTED","NOT TESTED","NOT TESTED","NOT TESTED","NOT TESTED","NOT TESTED","NOT TESTED","NOT TESTED","NOT TESTED","NOT TESTED","NOT TESTED","NOT TESTED","NOT TESTED","NOT TESTED","NOT TESTED","NOT TESTED","NOT TESTED","NOT TESTED","NOT TESTED","NOT TESTED","NOT TESTED","NOT TESTED","NOT TESTED","NOT TESTED","NOT TESTED","NOT TESTED","NOT TESTED","NOT TESTED","NOT TESTED","NOT TESTED","NOT TESTED","NOT TESTED","NOT TESTED","NOT TESTED","NOT TESTED","NOT TESTED","NOT TESTED","NOT TESTED","NOT TESTED","NOT TESTED","NOT TESTED","NOT TESTED","NOT TESTED","NOT TESTED","NOT TESTED","NOT TESTED","NOT TESTED","NOT TESTED","NOT TESTED","NOT TESTED","NOT TESTED","NOT TESTED","NOT TESTED","NOT TESTED","NOT TESTED","NOT TESTED","NOT TESTED","NOT TESTED","NOT TESTED","NOT TESTED","NOT TESTED","NOT TESTED"]
[null,null,null,"\nLarge Text: Large-scale text and images of large-scale text have a contrast ratio of at least 4.5:1;\nIncidental: Text or images of text that are part of an inactive user interface component, that are pure decoration, that are not visible to anyone, or that are part of a picture that contains significant other visual content, have no contrast requirement.\nLogotypes: Text that is part of a logo or brand name has no contrast requirement."]
["1.4.7","AAA","Low or No Background Audio","For prerecorded audio-only content that (1) contains primarily speech in the foreground, (2) is not an audio CAPTCHA or audio logo, and (3) is not vocalization intended to be primarily musical expression such as singing or rapping, at least one of the following is true:","NOT TESTED","NOT TESTED","NOT TESTED","NOT TESTED","NOT TESTED","NOT TESTED","NOT TESTED","NOT TESTED","NOT TESTED","NOT TESTED","NOT TESTED","NOT TESTED","NOT TESTED","NOT TESTED","NOT TESTED","NOT TESTED","NOT TESTED","NOT TESTED","NOT TESTED","NOT TESTED","NOT TESTED","NOT TESTED","NOT TESTED","NOT TESTED","NOT TESTED","NOT TESTED","NOT TESTED","NOT TESTED","NOT TESTED","NOT TESTED","NOT TESTED","NOT TESTED","NOT TESTED","NOT TESTED","NOT TESTED","NOT TESTED","NOT TESTED","NOT TESTED","NOT TESTED","NOT TESTED","NOT TESTED","NOT TESTED","NOT TESTED","NOT TESTED","NOT TESTED","NOT TESTED","NOT TESTED","NOT TESTED","NOT TESTED","NOT TESTED","NOT TESTED","NOT TESTED","NOT TESTED","NOT TESTED","NOT TESTED","NOT TESTED","NOT TESTED","NOT TESTED","NOT TESTED","NOT TESTED","NOT TESTED","NOT TESTED","NOT TESTED","NOT TESTED","NOT TESTED","NOT TESTED","NOT TESTED","NOT TESTED","NOT TESTED","NOT TESTED","NOT TESTED","NOT TESTED","NOT TESTED","NOT TESTED","NOT TESTED","NOT TESTED","NOT TESTED","NOT TESTED","NOT TESTED","NOT TESTED","NOT TESTED","NOT TESTED","NOT TESTED","NOT TESTED","NOT TESTED","NOT TESTED","NOT TESTED","NOT TESTED","NOT TESTED","NOT TESTED","NOT TESTED","NOT TESTED","NOT TESTED","NOT TESTED","NOT TESTED","NOT TESTED","NOT TESTED","NOT TESTED","NOT TESTED","NOT TESTED","NOT TESTED","NOT TESTED","NOT TESTED","NOT TESTED","NOT TESTED","NOT TESTED","NOT TESTED","NOT TESTED","NOT TESTED","NOT TESTED","NOT TESTED","NOT TESTED","NOT TESTED","NOT TESTED","NOT TESTED","NOT TESTED","NOT TESTED","NOT TESTED","NOT TESTED","NOT TESTED","NOT TESTED","NOT TESTED","NOT TESTED","NOT TESTED","NOT TESTED","NOT TESTED","NOT TESTED","NOT TESTED","NOT TESTED","NOT TESTED","NOT TESTED","NOT TESTED","NOT TESTED","NOT TESTED","NOT TESTED","NOT TESTED","NOT TESTED","NOT TESTED","NOT TESTED","NOT TESTED","NOT TESTED","NOT TESTED","NOT TESTED","NOT TESTED","NOT TESTED","NOT TESTED","NOT TESTED","NOT TESTED","NOT TESTED","NOT TESTED"]
[null,null,null,"\nNo Background: The audio does not contain background sounds.\nTurn Off: The background sounds can be turned off.\n20 dB: The background sounds are at least 20 decibels lower than the foreground speech content, with the exception of occasional sounds that last for only one or two seconds.\n"]
["1.4.8","AAA","Visual Presentation","For the visual presentation of blocks of text, a mechanism is available to achieve the following:","NOT TESTED","NOT TESTED","NOT TESTED","NOT TESTED","NOT TESTED","NOT TESTED","NOT TESTED","NOT TESTED","NOT TESTED","NOT TESTED","NOT TESTED","NOT TESTED","NOT TESTED","NOT TESTED","NOT TESTED","NOT TESTED","NOT TESTED","NOT TESTED","NOT TESTED","NOT TESTED","NOT TESTED","NOT TESTED","NOT TESTED","NOT TESTED","NOT TESTED","NOT TESTED","NOT TESTED","NOT TESTED","NOT TESTED","NOT TESTED","NOT TESTED","NOT TESTED","NOT TESTED","NOT TESTED","NOT TESTED","NOT TESTED","NOT TESTED","NOT TESTED","NOT TESTED","NOT TESTED","NOT TESTED","NOT TESTED","NOT TESTED","NOT TESTED","NOT TESTED","NOT TESTED","NOT TESTED","NOT TESTED","NOT TESTED","NOT TESTED","NOT TESTED","NOT TESTED","NOT TESTED","NOT TESTED","NOT TESTED","NOT TESTED","NOT TESTED","NOT TESTED","NOT TESTED","NOT TESTED","NOT TESTED","NOT TESTED","NOT TESTED","NOT TESTED","NOT TESTED","NOT TESTED","NOT TESTED","NOT TESTED","NOT TESTED","NOT TESTED","NOT TESTED","NOT TESTED","NOT TESTED","NOT TESTED","NOT TESTED","NOT TESTED","NOT TESTED","NOT TESTED","NOT TESTED","NOT TESTED","NOT TESTED","NOT TESTED","NOT TESTED","NOT TESTED","NOT TESTED","NOT TESTED","NOT TESTED","NOT TESTED","NOT TESTED","NOT TESTED","NOT TESTED","NOT TESTED","NOT TESTED","NOT TESTED","NOT TESTED","NOT TESTED","NOT TESTED","NOT TESTED","NOT TESTED","NOT TESTED","NOT TESTED","NOT TESTED","NOT TESTED","NOT TESTED","NOT TESTED","NOT TESTED","NOT TESTED","NOT TESTED","NOT TESTED","NOT TESTED","NOT TESTED","NOT TESTED","NOT TESTED","NOT TESTED","NOT TESTED","NOT TESTED","NOT TESTED","NOT TESTED","NOT TESTED","NOT TESTED","NOT TESTED","NOT TESTED","NOT TESTED","NOT TESTED","NOT TESTED","NOT TESTED","NOT TESTED","NOT TESTED","NOT TESTED","NOT TESTED","NOT TESTED","NOT TESTED","NOT TESTED","NOT TESTED","NOT TESTED","NOT TESTED","NOT TESTED","NOT TESTED","NOT TESTED","NOT TESTED","NOT TESTED","NOT TESTED","NOT TESTED","NOT TESTED","NOT TESTED","NOT TESTED","NOT TESTED","NOT TESTED","NOT TESTED","NOT TESTED"]
[null,null,null,"\na) Foreground and background colors can be selected by the user.\nb) Width is no more than 80 characters or glyphs (40 if CJK).\nc) Text is not justified (aligned to both the left and the right margins).\nd) Line spacing (leading) is at least space-and-a-half within paragraphs, and paragraph spacing is at least 1.5 times larger than the line spacing.\ne) Text can be resized without assistive technology up to 200 percent in a way that does not require the user to scroll horizontally to read a line of text on a full-screen window."]
["1.4.9","AAA","Images of Text (No Exception)","Images of text are only used for pure decoration or where a particular presentation of text is essential to the information being conveyed.","NOT TESTED","NOT TESTED","NOT TESTED","NOT TESTED","NOT TESTED","NOT TESTED","NOT TESTED","NOT TESTED","NOT TESTED","NOT TESTED","NOT TESTED","NOT TESTED","NOT TESTED","NOT TESTED","NOT TESTED","NOT TESTED","NOT TESTED","NOT TESTED","NOT TESTED","NOT TESTED","NOT TESTED","NOT TESTED","NOT TESTED","NOT TESTED","NOT TESTED","NOT TESTED","NOT TESTED","NOT TESTED","NOT TESTED","NOT TESTED","NOT TESTED","NOT TESTED","NOT TESTED","NOT TESTED","NOT TESTED","NOT TESTED","NOT TESTED","NOT TESTED","NOT TESTED","NOT TESTED","NOT TESTED","NOT TESTED","NOT TESTED","NOT TESTED","NOT TESTED","NOT TESTED","NOT TESTED","NOT TESTED","NOT TESTED","NOT TESTED","NOT TESTED","NOT TESTED","NOT TESTED","NOT TESTED","NOT TESTED","NOT TESTED","NOT TESTED","NOT TESTED","NOT TESTED","NOT TESTED","NOT TESTED","NOT TESTED","NOT TESTED","NOT TESTED","NOT TESTED","NOT TESTED","NOT TESTED","NOT TESTED","NOT TESTED","NOT TESTED","NOT TESTED","NOT TESTED","NOT TESTED","NOT TESTED","NOT TESTED","NOT TESTED","NOT TESTED","NOT TESTED","NOT TESTED","NOT TESTED","NOT TESTED","NOT TESTED","NOT TESTED","NOT TESTED","NOT TESTED","NOT TESTED","NOT TESTED","NOT TESTED","NOT TESTED","NOT TESTED","NOT TESTED","NOT TESTED","NOT TESTED","NOT TESTED","NOT TESTED","NOT TESTED","NOT TESTED","NOT TESTED","NOT TESTED","NOT TESTED","NOT TESTED","NOT TESTED","NOT TESTED","NOT TESTED","NOT TESTED","NOT TESTED","NOT TESTED","NOT TESTED","NOT TESTED","NOT TESTED","NOT TESTED","NOT TESTED","NOT TESTED","NOT TESTED","NOT TESTED","NOT TESTED","NOT TESTED","NOT TESTED","NOT TESTED","NOT TESTED","NOT TESTED","NOT TESTED","NOT TESTED","NOT TESTED","NOT TESTED","NOT TESTED","NOT TESTED","NOT TESTED","NOT TESTED","NOT TESTED","NOT TESTED","NOT TESTED","NOT TESTED","NOT TESTED","NOT TESTED","NOT TESTED","NOT TESTED","NOT TESTED","NOT TESTED","NOT TESTED","NOT TESTED","NOT TESTED","NOT TESTED","NOT TESTED","NOT TESTED","NOT TESTED","NOT TESTED","NOT TESTED","NOT TESTED","NOT TESTED"]
[]
["2.1.3","AAA","Keyboard (No Exception)","All functionality of the content is operable through a keyboard interface without requiring specific timings for individual keystrokes.","NOT TESTED","NOT TESTED","NOT TESTED","NOT TESTED","NOT TESTED","NOT TESTED","NOT TESTED","NOT TESTED","NOT TESTED","NOT TESTED","NOT TESTED","NOT TESTED","NOT TESTED","NOT TESTED","NOT TESTED","NOT TESTED","NOT TESTED","NOT TESTED","NOT TESTED","NOT TESTED","NOT TESTED","NOT TESTED","NOT TESTED","NOT TESTED","NOT TESTED","NOT TESTED","NOT TESTED","NOT TESTED","NOT TESTED","NOT TESTED","NOT TESTED","NOT TESTED","NOT TESTED","NOT TESTED","NOT TESTED","NOT TESTED","NOT TESTED","NOT TESTED","NOT TESTED","NOT TESTED","NOT TESTED","NOT TESTED","NOT TESTED","NOT TESTED","NOT TESTED","NOT TESTED","NOT TESTED","NOT TESTED","NOT TESTED","NOT TESTED","NOT TESTED","NOT TESTED","NOT TESTED","NOT TESTED","NOT TESTED","NOT TESTED","NOT TESTED","NOT TESTED","NOT TESTED","NOT TESTED","NOT TESTED","NOT TESTED","NOT TESTED","NOT TESTED","NOT TESTED","NOT TESTED","NOT TESTED","NOT TESTED","NOT TESTED","NOT TESTED","NOT TESTED","NOT TESTED","NOT TESTED","NOT TESTED","NOT TESTED","NOT TESTED","NOT TESTED","NOT TESTED","NOT TESTED","NOT TESTED","NOT TESTED","NOT TESTED","NOT TESTED","NOT TESTED","NOT TESTED","NOT TESTED","NOT TESTED","NOT TESTED","NOT TESTED","NOT TESTED","NOT TESTED","NOT TESTED","NOT TESTED","NOT TESTED","NOT TESTED","NOT TESTED","NOT TESTED","NOT TESTED","NOT TESTED","NOT TESTED","NOT TESTED","NOT TESTED","NOT TESTED","NOT TESTED","NOT TESTED","NOT TESTED","NOT TESTED","NOT TESTED","NOT TESTED","NOT TESTED","NOT TESTED","NOT TESTED","NOT TESTED","NOT TESTED","NOT TESTED","NOT TESTED","NOT TESTED","NOT TESTED","NOT TESTED","NOT TESTED","NOT TESTED","NOT TESTED","NOT TESTED","NOT TESTED","NOT TESTED","NOT TESTED","NOT TESTED","NOT TESTED","NOT TESTED","NOT TESTED","NOT TESTED","NOT TESTED","NOT TESTED","NOT TESTED","NOT TESTED","NOT TESTED","NOT TESTED","NOT TESTED","NOT TESTED","NOT TESTED","NOT TESTED","NOT TESTED","NOT TESTED","NOT TESTED","NOT TESTED","NOT TESTED","NOT TESTED","NOT TESTED","NOT TESTED","NOT TESTED"]
[]
["2.2.3","AAA","No Timing","Timing is not an essential part of the event or activity presented by the content, except for non-interactive synchronized media and real-time events.","NOT TESTED","NOT TESTED","NOT TESTED","NOT TESTED","NOT TESTED","NOT TESTED","NOT TESTED","NOT TESTED","NOT TESTED","NOT TESTED","NOT TESTED","NOT TESTED","NOT TESTED","NOT TESTED","NOT TESTED","NOT TESTED","NOT TESTED","NOT TESTED","NOT TESTED","NOT TESTED","NOT TESTED","NOT TESTED","NOT TESTED","NOT TESTED","NOT TESTED","NOT TESTED","NOT TESTED","NOT TESTED","NOT TESTED","NOT TESTED","NOT TESTED","NOT TESTED","NOT TESTED","NOT TESTED","NOT TESTED","NOT TESTED","NOT TESTED","NOT TESTED","NOT TESTED","NOT TESTED","NOT TESTED","NOT TESTED","NOT TESTED","NOT TESTED","NOT TESTED","NOT TESTED","NOT TESTED","NOT TESTED","NOT TESTED","NOT TESTED","NOT TESTED","NOT TESTED","NOT TESTED","NOT TESTED","NOT TESTED","NOT TESTED","NOT TESTED","NOT TESTED","NOT TESTED","NOT TESTED","NOT TESTED","NOT TESTED","NOT TESTED","NOT TESTED","NOT TESTED","NOT TESTED","NOT TESTED","NOT TESTED","NOT TESTED","NOT TESTED","NOT TESTED","NOT TESTED","NOT TESTED","NOT TESTED","NOT TESTED","NOT TESTED","NOT TESTED","NOT TESTED","NOT TESTED","NOT TESTED","NOT TESTED","NOT TESTED","NOT TESTED","NOT TESTED","NOT TESTED","NOT TESTED","NOT TESTED","NOT TESTED","NOT TESTED","NOT TESTED","NOT TESTED","NOT TESTED","NOT TESTED","NOT TESTED","NOT TESTED","NOT TESTED","NOT TESTED","NOT TESTED","NOT TESTED","NOT TESTED","NOT TESTED","NOT TESTED","NOT TESTED","NOT TESTED","NOT TESTED","NOT TESTED","NOT TESTED","NOT TESTED","NOT TESTED","NOT TESTED","NOT TESTED","NOT TESTED","NOT TESTED","NOT TESTED","NOT TESTED","NOT TESTED","NOT TESTED","NOT TESTED","NOT TESTED","NOT TESTED","NOT TESTED","NOT TESTED","NOT TESTED","NOT TESTED","NOT TESTED","NOT TESTED","NOT TESTED","NOT TESTED","NOT TESTED","NOT TESTED","NOT TESTED","NOT TESTED","NOT TESTED","NOT TESTED","NOT TESTED","NOT TESTED","NOT TESTED","NOT TESTED","NOT TESTED","NOT TESTED","NOT TESTED","NOT TESTED","NOT TESTED","NOT TESTED","NOT TESTED","NOT TESTED","NOT TESTED","NOT TESTED","NOT TESTED","NOT TESTED"]
[]
["2.2.4","AAA","Interruptions","Interruptions can be postponed or suppressed by the user, except interruptions involving an emergency.","NOT TESTED","NOT TESTED","NOT TESTED","NOT TESTED","NOT TESTED","NOT TESTED","NOT TESTED","NOT TESTED","NOT TESTED","NOT TESTED","NOT TESTED","NOT TESTED","NOT TESTED","NOT TESTED","NOT TESTED","NOT TESTED","NOT TESTED","NOT TESTED","NOT TESTED","NOT TESTED","NOT TESTED","NOT TESTED","NOT TESTED","NOT TESTED","NOT TESTED","NOT TESTED","NOT TESTED","NOT TESTED","NOT TESTED","NOT TESTED","NOT TESTED","NOT TESTED","NOT TESTED","NOT TESTED","NOT TESTED","NOT TESTED","NOT TESTED","NOT TESTED","NOT TESTED","NOT TESTED","NOT TESTED","NOT TESTED","NOT TESTED","NOT TESTED","NOT TESTED","NOT TESTED","NOT TESTED","NOT TESTED","NOT TESTED","NOT TESTED","NOT TESTED","NOT TESTED","NOT TESTED","NOT TESTED","NOT TESTED","NOT TESTED","NOT TESTED","NOT TESTED","NOT TESTED","NOT TESTED","NOT TESTED","NOT TESTED","NOT TESTED","NOT TESTED","NOT TESTED","NOT TESTED","NOT TESTED","NOT TESTED","NOT TESTED","NOT TESTED","NOT TESTED","NOT TESTED","NOT TESTED","NOT TESTED","NOT TESTED","NOT TESTED","NOT TESTED","NOT TESTED","NOT TESTED","NOT TESTED","NOT TESTED","NOT TESTED","NOT TESTED","NOT TESTED","NOT TESTED","NOT TESTED","NOT TESTED","NOT TESTED","NOT TESTED","NOT TESTED","NOT TESTED","NOT TESTED","NOT TESTED","NOT TESTED","NOT TESTED","NOT TESTED","NOT TESTED","NOT TESTED","NOT TESTED","NOT TESTED","NOT TESTED","NOT TESTED","NOT TESTED","NOT TESTED","NOT TESTED","NOT TESTED","NOT TESTED","NOT TESTED","NOT TESTED","NOT TESTED","NOT TESTED","NOT TESTED","NOT TESTED","NOT TESTED","NOT TESTED","NOT TESTED","NOT TESTED","NOT TESTED","NOT TESTED","NOT TESTED","NOT TESTED","NOT TESTED","NOT TESTED","NOT TESTED","NOT TESTED","NOT TESTED","NOT TESTED","NOT TESTED","NOT TESTED","NOT TESTED","NOT TESTED","NOT TESTED","NOT TESTED","NOT TESTED","NOT TESTED","NOT TESTED","NOT TESTED","NOT TESTED","NOT TESTED","NOT TESTED","NOT TESTED","NOT TESTED","NOT TESTED","NOT TESTED","NOT TESTED","NOT TESTED","NOT TESTED","NOT TESTED","NOT TESTED","NOT TESTED"]
[]
["2.2.5","AAA","Re-authenticating","When an authenticated session expires, the user can continue the activity without loss of data after re-authenticating.","NOT TESTED","NOT TESTED","NOT TESTED","NOT TESTED","NOT TESTED","NOT TESTED","NOT TESTED","NOT TESTED","NOT TESTED","NOT TESTED","NOT TESTED","NOT TESTED","NOT TESTED","NOT TESTED","NOT TESTED","NOT TESTED","NOT TESTED","NOT TESTED","NOT TESTED","NOT TESTED","NOT TESTED","NOT TESTED","NOT TESTED","NOT TESTED","NOT TESTED","NOT TESTED","NOT TESTED","NOT TESTED","NOT TESTED","NOT TESTED","NOT TESTED","NOT TESTED","NOT TESTED","NOT TESTED","NOT TESTED","NOT TESTED","NOT TESTED","NOT TESTED","NOT TESTED","NOT TESTED","NOT TESTED","NOT TESTED","NOT TESTED","NOT TESTED","NOT TESTED","NOT TESTED","NOT TESTED","NOT TESTED","NOT TESTED","NOT TESTED","NOT TESTED","NOT TESTED","NOT TESTED","NOT TESTED","NOT TESTED","NOT TESTED","NOT TESTED","NOT TESTED","NOT TESTED","NOT TESTED","NOT TESTED","NOT TESTED","NOT TESTED","NOT TESTED","NOT TESTED","NOT TESTED","NOT TESTED","NOT TESTED","NOT TESTED","NOT TESTED","NOT TESTED","NOT TESTED","NOT TESTED","NOT TESTED","NOT TESTED","NOT TESTED","NOT TESTED","NOT TESTED","NOT TESTED","NOT TESTED","NOT TESTED","NOT TESTED","NOT TESTED","NOT TESTED","NOT TESTED","NOT TESTED","NOT TESTED","NOT TESTED","NOT TESTED","NOT TESTED","NOT TESTED","NOT TESTED","NOT TESTED","NOT TESTED","NOT TESTED","NOT TESTED","NOT TESTED","NOT TESTED","NOT TESTED","NOT TESTED","NOT TESTED","NOT TESTED","NOT TESTED","NOT TESTED","NOT TESTED","NOT TESTED","NOT TESTED","NOT TESTED","NOT TESTED","NOT TESTED","NOT TESTED","NOT TESTED","NOT TESTED","NOT TESTED","NOT TESTED","NOT TESTED","NOT TESTED","NOT TESTED","NOT TESTED","NOT TESTED","NOT TESTED","NOT TESTED","NOT TESTED","NOT TESTED","NOT TESTED","NOT TESTED","NOT TESTED","NOT TESTED","NOT TESTED","NOT TESTED","NOT TESTED","NOT TESTED","NOT TESTED","NOT TESTED","NOT TESTED","NOT TESTED","NOT TESTED","NOT TESTED","NOT TESTED","NOT TESTED","NOT TESTED","NOT TESTED","NOT TESTED","NOT TESTED","NOT TESTED","NOT TESTED","NOT TESTED","NOT TESTED","NOT TESTED","NOT TESTED"]
[]
["2.2.6","AAA","Timeouts","Users are warned of the duration of any user inactivity that could cause data loss, unless the data is preserved for more than 20 hours when the user does not take any actions.","NOT TESTED","NOT TESTED","NOT TESTED","NOT TESTED","NOT TESTED","NOT TESTED","NOT TESTED","NOT TESTED","NOT TESTED","NOT TESTED","NOT TESTED","NOT TESTED","NOT TESTED","NOT TESTED","NOT TESTED","NOT TESTED","NOT TESTED","NOT TESTED","NOT TESTED","NOT TESTED","NOT TESTED","NOT TESTED","NOT TESTED","NOT TESTED","NOT TESTED","NOT TESTED","NOT TESTED","NOT TESTED","NOT TESTED","NOT TESTED","NOT TESTED","NOT TESTED","NOT TESTED","NOT TESTED","NOT TESTED","NOT TESTED","NOT TESTED","NOT TESTED","NOT TESTED","NOT TESTED","NOT TESTED","NOT TESTED","NOT TESTED","NOT TESTED","NOT TESTED","NOT TESTED","NOT TESTED","NOT TESTED","NOT TESTED","NOT TESTED","NOT TESTED","NOT TESTED","NOT TESTED","NOT TESTED","NOT TESTED","NOT TESTED","NOT TESTED","NOT TESTED","NOT TESTED","NOT TESTED","NOT TESTED","NOT TESTED","NOT TESTED","NOT TESTED","NOT TESTED","NOT TESTED","NOT TESTED","NOT TESTED","NOT TESTED","NOT TESTED","NOT TESTED","NOT TESTED","NOT TESTED","NOT TESTED","NOT TESTED","NOT TESTED","NOT TESTED","NOT TESTED","NOT TESTED","NOT TESTED","NOT TESTED","NOT TESTED","NOT TESTED","NOT TESTED","NOT TESTED","NOT TESTED","NOT TESTED","NOT TESTED","NOT TESTED","NOT TESTED","NOT TESTED","NOT TESTED","NOT TESTED","NOT TESTED","NOT TESTED","NOT TESTED","NOT TESTED","NOT TESTED","NOT TESTED","NOT TESTED","NOT TESTED","NOT TESTED","NOT TESTED","NOT TESTED","NOT TESTED","NOT TESTED","NOT TESTED","NOT TESTED","NOT TESTED","NOT TESTED","NOT TESTED","NOT TESTED","NOT TESTED","NOT TESTED","NOT TESTED","NOT TESTED","NOT TESTED","NOT TESTED","NOT TESTED","NOT TESTED","NOT TESTED","NOT TESTED","NOT TESTED","NOT TESTED","NOT TESTED","NOT TESTED","NOT TESTED","NOT TESTED","NOT TESTED","NOT TESTED","NOT TESTED","NOT TESTED","NOT TESTED","NOT TESTED","NOT TESTED","NOT TESTED","NOT TESTED","NOT TESTED","NOT TESTED","NOT TESTED","NOT TESTED","NOT TESTED","NOT TESTED","NOT TESTED","NOT TESTED","NOT TESTED","NOT TESTED","NOT TESTED","NOT TESTED","NOT TESTED"]
[]
["2.3.2","AAA","Three Flashes","Web pages do not contain anything that flashes more than three times in any one second period.","NOT TESTED","NOT TESTED","NOT TESTED","NOT TESTED","NOT TESTED","NOT TESTED","NOT TESTED","NOT TESTED","NOT TESTED","NOT TESTED","NOT TESTED","NOT TESTED","NOT TESTED","NOT TESTED","NOT TESTED","NOT TESTED","NOT TESTED","NOT TESTED","NOT TESTED","NOT TESTED","NOT TESTED","NOT TESTED","NOT TESTED","NOT TESTED","NOT TESTED","NOT TESTED","NOT TESTED","NOT TESTED","NOT TESTED","NOT TESTED","NOT TESTED","NOT TESTED","NOT TESTED","NOT TESTED","NOT TESTED","NOT TESTED","NOT TESTED","NOT TESTED","NOT TESTED","NOT TESTED","NOT TESTED","NOT TESTED","NOT TESTED","NOT TESTED","NOT TESTED","NOT TESTED","NOT TESTED","NOT TESTED","NOT TESTED","NOT TESTED","NOT TESTED","NOT TESTED","NOT TESTED","NOT TESTED","NOT TESTED","NOT TESTED","NOT TESTED","NOT TESTED","NOT TESTED","NOT TESTED","NOT TESTED","NOT TESTED","NOT TESTED","NOT TESTED","NOT TESTED","NOT TESTED","NOT TESTED","NOT TESTED","NOT TESTED","NOT TESTED","NOT TESTED","NOT TESTED","NOT TESTED","NOT TESTED","NOT TESTED","NOT TESTED","NOT TESTED","NOT TESTED","NOT TESTED","NOT TESTED","NOT TESTED","NOT TESTED","NOT TESTED","NOT TESTED","NOT TESTED","NOT TESTED","NOT TESTED","NOT TESTED","NOT TESTED","NOT TESTED","NOT TESTED","NOT TESTED","NOT TESTED","NOT TESTED","NOT TESTED","NOT TESTED","NOT TESTED","NOT TESTED","NOT TESTED","NOT TESTED","NOT TESTED","NOT TESTED","NOT TESTED","NOT TESTED","NOT TESTED","NOT TESTED","NOT TESTED","NOT TESTED","NOT TESTED","NOT TESTED","NOT TESTED","NOT TESTED","NOT TESTED","NOT TESTED","NOT TESTED","NOT TESTED","NOT TESTED","NOT TESTED","NOT TESTED","NOT TESTED","NOT TESTED","NOT TESTED","NOT TESTED","NOT TESTED","NOT TESTED","NOT TESTED","NOT TESTED","NOT TESTED","NOT TESTED","NOT TESTED","NOT TESTED","NOT TESTED","NOT TESTED","NOT TESTED","NOT TESTED","NOT TESTED","NOT TESTED","NOT TESTED","NOT TESTED","NOT TESTED","NOT TESTED","NOT TESTED","NOT TESTED","NOT TESTED","NOT TESTED","NOT TESTED","NOT TESTED","NOT TESTED","NOT TESTED","NOT TESTED"]
[]
["2.3.3","AAA","Animation from Interactions","Motion animation triggered by interaction can be disabled, unless the animation is essential to the functionality or the information being conveyed.","NOT TESTED","NOT TESTED","NOT TESTED","NOT TESTED","NOT TESTED","NOT TESTED","NOT TESTED","NOT TESTED","NOT TESTED","NOT TESTED","NOT TESTED","NOT TESTED","NOT TESTED","NOT TESTED","NOT TESTED","NOT TESTED","NOT TESTED","NOT TESTED","NOT TESTED","NOT TESTED","NOT TESTED","NOT TESTED","NOT TESTED","NOT TESTED","NOT TESTED","NOT TESTED","NOT TESTED","NOT TESTED","NOT TESTED","NOT TESTED","NOT TESTED","NOT TESTED","NOT TESTED","NOT TESTED","NOT TESTED","NOT TESTED","NOT TESTED","NOT TESTED","NOT TESTED","NOT TESTED","NOT TESTED","NOT TESTED","NOT TESTED","NOT TESTED","NOT TESTED","NOT TESTED","NOT TESTED","NOT TESTED","NOT TESTED","NOT TESTED","NOT TESTED","NOT TESTED","NOT TESTED","NOT TESTED","NOT TESTED","NOT TESTED","NOT TESTED","NOT TESTED","NOT TESTED","NOT TESTED","NOT TESTED","NOT TESTED","NOT TESTED","NOT TESTED","NOT TESTED","NOT TESTED","NOT TESTED","NOT TESTED","NOT TESTED","NOT TESTED","NOT TESTED","NOT TESTED","NOT TESTED","NOT TESTED","NOT TESTED","NOT TESTED","NOT TESTED","NOT TESTED","NOT TESTED","NOT TESTED","NOT TESTED","NOT TESTED","NOT TESTED","NOT TESTED","NOT TESTED","NOT TESTED","NOT TESTED","NOT TESTED","NOT TESTED","NOT TESTED","NOT TESTED","NOT TESTED","NOT TESTED","NOT TESTED","NOT TESTED","NOT TESTED","NOT TESTED","NOT TESTED","NOT TESTED","NOT TESTED","NOT TESTED","NOT TESTED","NOT TESTED","NOT TESTED","NOT TESTED","NOT TESTED","NOT TESTED","NOT TESTED","NOT TESTED","NOT TESTED","NOT TESTED","NOT TESTED","NOT TESTED","NOT TESTED","NOT TESTED","NOT TESTED","NOT TESTED","NOT TESTED","NOT TESTED","NOT TESTED","NOT TESTED","NOT TESTED","NOT TESTED","NOT TESTED","NOT TESTED","NOT TESTED","NOT TESTED","NOT TESTED","NOT TESTED","NOT TESTED","NOT TESTED","NOT TESTED","NOT TESTED","NOT TESTED","NOT TESTED","NOT TESTED","NOT TESTED","NOT TESTED","NOT TESTED","NOT TESTED","NOT TESTED","NOT TESTED","NOT TESTED","NOT TESTED","NOT TESTED","NOT TESTED","NOT TESTED","NOT TESTED","NOT TESTED","NOT TESTED"]
[]
["2.4.8","AAA","Location","Information about the user's location within a set of Web pages is available.","NOT TESTED","NOT TESTED","NOT TESTED","NOT TESTED","NOT TESTED","NOT TESTED","NOT TESTED","NOT TESTED","NOT TESTED","NOT TESTED","NOT TESTED","NOT TESTED","NOT TESTED","NOT TESTED","NOT TESTED","NOT TESTED","NOT TESTED","NOT TESTED","NOT TESTED","NOT TESTED","NOT TESTED","NOT TESTED","NOT TESTED","NOT TESTED","NOT TESTED","NOT TESTED","NOT TESTED","NOT TESTED","NOT TESTED","NOT TESTED","NOT TESTED","NOT TESTED","NOT TESTED","NOT TESTED","NOT TESTED","NOT TESTED","NOT TESTED","NOT TESTED","NOT TESTED","NOT TESTED","NOT TESTED","NOT TESTED","NOT TESTED","NOT TESTED","NOT TESTED","NOT TESTED","NOT TESTED","NOT TESTED","NOT TESTED","NOT TESTED","NOT TESTED","NOT TESTED","NOT TESTED","NOT TESTED","NOT TESTED","NOT TESTED","NOT TESTED","NOT TESTED","NOT TESTED","NOT TESTED","NOT TESTED","NOT TESTED","NOT TESTED","NOT TESTED","NOT TESTED","NOT TESTED","NOT TESTED","NOT TESTED","NOT TESTED","NOT TESTED","NOT TESTED","NOT TESTED","NOT TESTED","NOT TESTED","NOT TESTED","NOT TESTED","NOT TESTED","NOT TESTED","NOT TESTED","NOT TESTED","NOT TESTED","NOT TESTED","NOT TESTED","NOT TESTED","NOT TESTED","NOT TESTED","NOT TESTED","NOT TESTED","NOT TESTED","NOT TESTED","NOT TESTED","NOT TESTED","NOT TESTED","NOT TESTED","NOT TESTED","NOT TESTED","NOT TESTED","NOT TESTED","NOT TESTED","NOT TESTED","NOT TESTED","NOT TESTED","NOT TESTED","NOT TESTED","NOT TESTED","NOT TESTED","NOT TESTED","NOT TESTED","NOT TESTED","NOT TESTED","NOT TESTED","NOT TESTED","NOT TESTED","NOT TESTED","NOT TESTED","NOT TESTED","NOT TESTED","NOT TESTED","NOT TESTED","NOT TESTED","NOT TESTED","NOT TESTED","NOT TESTED","NOT TESTED","NOT TESTED","NOT TESTED","NOT TESTED","NOT TESTED","NOT TESTED","NOT TESTED","NOT TESTED","NOT TESTED","NOT TESTED","NOT TESTED","NOT TESTED","NOT TESTED","NOT TESTED","NOT TESTED","NOT TESTED","NOT TESTED","NOT TESTED","NOT TESTED","NOT TESTED","NOT TESTED","NOT TESTED","NOT TESTED","NOT TESTED","NOT TESTED","NOT TESTED","NOT TESTED"]
[]
["2.4.9","AAA","Link Purpose (Link Only)","A mechanism is available to allow the purpose of each link to be identified from link text alone, except where the purpose of the link would be ambiguous to users in general.","NOT TESTED","NOT TESTED","NOT TESTED","NOT TESTED","NOT TESTED","NOT TESTED","NOT TESTED","NOT TESTED","NOT TESTED","NOT TESTED","NOT TESTED","NOT TESTED","NOT TESTED","NOT TESTED","NOT TESTED","NOT TESTED","NOT TESTED","NOT TESTED","NOT TESTED","NOT TESTED","NOT TESTED","NOT TESTED","NOT TESTED","NOT TESTED","NOT TESTED","NOT TESTED","NOT TESTED","NOT TESTED","NOT TESTED","NOT TESTED","NOT TESTED","NOT TESTED","NOT TESTED","NOT TESTED","NOT TESTED","NOT TESTED","NOT TESTED","NOT TESTED","NOT TESTED","NOT TESTED","NOT TESTED","NOT TESTED","NOT TESTED","NOT TESTED","NOT TESTED","NOT TESTED","NOT TESTED","NOT TESTED","NOT TESTED","NOT TESTED","NOT TESTED","NOT TESTED","NOT TESTED","NOT TESTED","NOT TESTED","NOT TESTED","NOT TESTED","NOT TESTED","NOT TESTED","NOT TESTED","NOT TESTED","NOT TESTED","NOT TESTED","NOT TESTED","NOT TESTED","NOT TESTED","NOT TESTED","NOT TESTED","NOT TESTED","NOT TESTED","NOT TESTED","NOT TESTED","NOT TESTED","NOT TESTED","NOT TESTED","NOT TESTED","NOT TESTED","NOT TESTED","NOT TESTED","NOT TESTED","NOT TESTED","NOT TESTED","NOT TESTED","NOT TESTED","NOT TESTED","NOT TESTED","NOT TESTED","NOT TESTED","NOT TESTED","NOT TESTED","NOT TESTED","NOT TESTED","NOT TESTED","NOT TESTED","NOT TESTED","NOT TESTED","NOT TESTED","NOT TESTED","NOT TESTED","NOT TESTED","NOT TESTED","NOT TESTED","NOT TESTED","NOT TESTED","NOT TESTED","NOT TESTED","NOT TESTED","NOT TESTED","NOT TESTED","NOT TESTED","NOT TESTED","NOT TESTED","NOT TESTED","NOT TESTED","NOT TESTED","NOT TESTED","NOT TESTED","NOT TESTED","NOT TESTED","NOT TESTED","NOT TESTED","NOT TESTED","NOT TESTED","NOT TESTED","NOT TESTED","NOT TESTED","NOT TESTED","NOT TESTED","NOT TESTED","NOT TESTED","NOT TESTED","NOT TESTED","NOT TESTED","NOT TESTED","NOT TESTED","NOT TESTED","NOT TESTED","NOT TESTED","NOT TESTED","NOT TESTED","NOT TESTED","NOT TESTED","NOT TESTED","NOT TESTED","NOT TESTED","NOT TESTED","NOT TESTED","NOT TESTED","NOT TESTED","NOT TESTED"]
[]
["2.4.10","AAA","Section Headings","Section headings are used to organize the content.","NOT TESTED","NOT TESTED","NOT TESTED","NOT TESTED","NOT TESTED","NOT TESTED","NOT TESTED","NOT TESTED","NOT TESTED","NOT TESTED","NOT TESTED","NOT TESTED","NOT TESTED","NOT TESTED","NOT TESTED","NOT TESTED","NOT TESTED","NOT TESTED","NOT TESTED","NOT TESTED","NOT TESTED","NOT TESTED","NOT TESTED","NOT TESTED","NOT TESTED","NOT TESTED","NOT TESTED","NOT TESTED","NOT TESTED","NOT TESTED","NOT TESTED","NOT TESTED","NOT TESTED","NOT TESTED","NOT TESTED","NOT TESTED","NOT TESTED","NOT TESTED","NOT TESTED","NOT TESTED","NOT TESTED","NOT TESTED","NOT TESTED","NOT TESTED","NOT TESTED","NOT TESTED","NOT TESTED","NOT TESTED","NOT TESTED","NOT TESTED","NOT TESTED","NOT TESTED","NOT TESTED","NOT TESTED","NOT TESTED","NOT TESTED","NOT TESTED","NOT TESTED","NOT TESTED","NOT TESTED","NOT TESTED","NOT TESTED","NOT TESTED","NOT TESTED","NOT TESTED","NOT TESTED","NOT TESTED","NOT TESTED","NOT TESTED","NOT TESTED","NOT TESTED","NOT TESTED","NOT TESTED","NOT TESTED","NOT TESTED","NOT TESTED","NOT TESTED","NOT TESTED","NOT TESTED","NOT TESTED","NOT TESTED","NOT TESTED","NOT TESTED","NOT TESTED","NOT TESTED","NOT TESTED","NOT TESTED","NOT TESTED","NOT TESTED","NOT TESTED","NOT TESTED","NOT TESTED","NOT TESTED","NOT TESTED","NOT TESTED","NOT TESTED","NOT TESTED","NOT TESTED","NOT TESTED","NOT TESTED","NOT TESTED","NOT TESTED","NOT TESTED","NOT TESTED","NOT TESTED","NOT TESTED","NOT TESTED","NOT TESTED","NOT TESTED","NOT TESTED","NOT TESTED","NOT TESTED","NOT TESTED","NOT TESTED","NOT TESTED","NOT TESTED","NOT TESTED","NOT TESTED","NOT TESTED","NOT TESTED","NOT TESTED","NOT TESTED","NOT TESTED","NOT TESTED","NOT TESTED","NOT TESTED","NOT TESTED","NOT TESTED","NOT TESTED","NOT TESTED","NOT TESTED","NOT TESTED","NOT TESTED","NOT TESTED","NOT TESTED","NOT TESTED","NOT TESTED","NOT TESTED","NOT TESTED","NOT TESTED","NOT TESTED","NOT TESTED","NOT TESTED","NOT TESTED","NOT TESTED","NOT TESTED","NOT TESTED","NOT TESTED","NOT TESTED","NOT TESTED"]
[]
["2.5.5","AAA","Target Size","The size of the target for pointer inputs is at least 44 by 44 CSS pixels except when:","NOT TESTED","NOT TESTED","NOT TESTED","NOT TESTED","NOT TESTED","NOT TESTED","NOT TESTED","NOT TESTED","NOT TESTED","NOT TESTED","NOT TESTED","NOT TESTED","NOT TESTED","NOT TESTED","NOT TESTED","NOT TESTED","NOT TESTED","NOT TESTED","NOT TESTED","NOT TESTED","NOT TESTED","NOT TESTED","NOT TESTED","NOT TESTED","NOT TESTED","NOT TESTED","NOT TESTED","NOT TESTED","NOT TESTED","NOT TESTED","NOT TESTED","NOT TESTED","NOT TESTED","NOT TESTED","NOT TESTED","NOT TESTED","NOT TESTED","NOT TESTED","NOT TESTED","NOT TESTED","NOT TESTED","NOT TESTED","NOT TESTED","NOT TESTED","NOT TESTED","NOT TESTED","NOT TESTED","NOT TESTED","NOT TESTED","NOT TESTED","NOT TESTED","NOT TESTED","NOT TESTED","NOT TESTED","NOT TESTED","NOT TESTED","NOT TESTED","NOT TESTED","NOT TESTED","NOT TESTED","NOT TESTED","NOT TESTED","NOT TESTED","NOT TESTED","NOT TESTED","NOT TESTED","NOT TESTED","NOT TESTED","NOT TESTED","NOT TESTED","NOT TESTED","NOT TESTED","NOT TESTED","NOT TESTED","NOT TESTED","NOT TESTED","NOT TESTED","NOT TESTED","NOT TESTED","NOT TESTED","NOT TESTED","NOT TESTED","NOT TESTED","NOT TESTED","NOT TESTED","NOT TESTED","NOT TESTED","NOT TESTED","NOT TESTED","NOT TESTED","NOT TESTED","NOT TESTED","NOT TESTED","NOT TESTED","NOT TESTED","NOT TESTED","NOT TESTED","NOT TESTED","NOT TESTED","NOT TESTED","NOT TESTED","NOT TESTED","NOT TESTED","NOT TESTED","NOT TESTED","NOT TESTED","NOT TESTED","NOT TESTED","NOT TESTED","NOT TESTED","NOT TESTED","NOT TESTED","NOT TESTED","NOT TESTED","NOT TESTED","NOT TESTED","NOT TESTED","NOT TESTED","NOT TESTED","NOT TESTED","NOT TESTED","NOT TESTED","NOT TESTED","NOT TESTED","NOT TESTED","NOT TESTED","NOT TESTED","NOT TESTED","NOT TESTED","NOT TESTED","NOT TESTED","NOT TESTED","NOT TESTED","NOT TESTED","NOT TESTED","NOT TESTED","NOT TESTED","NOT TESTED","NOT TESTED","NOT TESTED","NOT TESTED","NOT TESTED","NOT TESTED","NOT TESTED","NOT TESTED","NOT TESTED","NOT TESTED","NOT TESTED","NOT TESTED","NOT TESTED"]
[null,null,null,"\nEquivalent: The target is available through an equivalent link or control on the same page that is at least 44 by 44 CSS pixels;\nInline: The target is in a sentence or block of text;\nUser Agent Control: The size of the target is determined by the user agent and is not modified by the author;\nEssential: A particular presentation of the target is essential to the information being conveyed.\n"]
["2.5.6","AAA","Concurrent Input Mechanisms","Web content does not restrict use of input modalities available on a platform except where the restriction is essential, required to ensure the security of the content, or required to respect user settings.","NOT TESTED","NOT TESTED","NOT TESTED","NOT TESTED","NOT TESTED","NOT TESTED","NOT TESTED","NOT TESTED","NOT TESTED","NOT TESTED","NOT TESTED","NOT TESTED","NOT TESTED","NOT TESTED","NOT TESTED","NOT TESTED","NOT TESTED","NOT TESTED","NOT TESTED","NOT TESTED","NOT TESTED","NOT TESTED","NOT TESTED","NOT TESTED","NOT TESTED","NOT TESTED","NOT TESTED","NOT TESTED","NOT TESTED","NOT TESTED","NOT TESTED","NOT TESTED","NOT TESTED","NOT TESTED","NOT TESTED","NOT TESTED","NOT TESTED","NOT TESTED","NOT TESTED","NOT TESTED","NOT TESTED","NOT TESTED","NOT TESTED","NOT TESTED","NOT TESTED","NOT TESTED","NOT TESTED","NOT TESTED","NOT TESTED","NOT TESTED","NOT TESTED","NOT TESTED","NOT TESTED","NOT TESTED","NOT TESTED","NOT TESTED","NOT TESTED","NOT TESTED","NOT TESTED","NOT TESTED","NOT TESTED","NOT TESTED","NOT TESTED","NOT TESTED","NOT TESTED","NOT TESTED","NOT TESTED","NOT TESTED","NOT TESTED","NOT TESTED","NOT TESTED","NOT TESTED","NOT TESTED","NOT TESTED","NOT TESTED","NOT TESTED","NOT TESTED","NOT TESTED","NOT TESTED","NOT TESTED","NOT TESTED","NOT TESTED","NOT TESTED","NOT TESTED","NOT TESTED","NOT TESTED","NOT TESTED","NOT TESTED","NOT TESTED","NOT TESTED","NOT TESTED","NOT TESTED","NOT TESTED","NOT TESTED","NOT TESTED","NOT TESTED","NOT TESTED","NOT TESTED","NOT TESTED","NOT TESTED","NOT TESTED","NOT TESTED","NOT TESTED","NOT TESTED","NOT TESTED","NOT TESTED","NOT TESTED","NOT TESTED","NOT TESTED","NOT TESTED","NOT TESTED","NOT TESTED","NOT TESTED","NOT TESTED","NOT TESTED","NOT TESTED","NOT TESTED","NOT TESTED","NOT TESTED","NOT TESTED","NOT TESTED","NOT TESTED","NOT TESTED","NOT TESTED","NOT TESTED","NOT TESTED","NOT TESTED","NOT TESTED","NOT TESTED","NOT TESTED","NOT TESTED","NOT TESTED","NOT TESTED","NOT TESTED","NOT TESTED","NOT TESTED","NOT TESTED","NOT TESTED","NOT TESTED","NOT TESTED","NOT TESTED","NOT TESTED","NOT TESTED","NOT TESTED","NOT TESTED","NOT TESTED","NOT TESTED","NOT TESTED","NOT TESTED","NOT TESTED"]
[]
["3.1.3","AAA","Unusual Words","A mechanism is available for identifying specific definitions of words or phrases used in an unusual or restricted way, including idioms and jargon.","NOT TESTED","NOT TESTED","NOT TESTED","NOT TESTED","NOT TESTED","NOT TESTED","NOT TESTED","NOT TESTED","NOT TESTED","NOT TESTED","NOT TESTED","NOT TESTED","NOT TESTED","NOT TESTED","NOT TESTED","NOT TESTED","NOT TESTED","NOT TESTED","NOT TESTED","NOT TESTED","NOT TESTED","NOT TESTED","NOT TESTED","NOT TESTED","NOT TESTED","NOT TESTED","NOT TESTED","NOT TESTED","NOT TESTED","NOT TESTED","NOT TESTED","NOT TESTED","NOT TESTED","NOT TESTED","NOT TESTED","NOT TESTED","NOT TESTED","NOT TESTED","NOT TESTED","NOT TESTED","NOT TESTED","NOT TESTED","NOT TESTED","NOT TESTED","NOT TESTED","NOT TESTED","NOT TESTED","NOT TESTED","NOT TESTED","NOT TESTED","NOT TESTED","NOT TESTED","NOT TESTED","NOT TESTED","NOT TESTED","NOT TESTED","NOT TESTED","NOT TESTED","NOT TESTED","NOT TESTED","NOT TESTED","NOT TESTED","NOT TESTED","NOT TESTED","NOT TESTED","NOT TESTED","NOT TESTED","NOT TESTED","NOT TESTED","NOT TESTED","NOT TESTED","NOT TESTED","NOT TESTED","NOT TESTED","NOT TESTED","NOT TESTED","NOT TESTED","NOT TESTED","NOT TESTED","NOT TESTED","NOT TESTED","NOT TESTED","NOT TESTED","NOT TESTED","NOT TESTED","NOT TESTED","NOT TESTED","NOT TESTED","NOT TESTED","NOT TESTED","NOT TESTED","NOT TESTED","NOT TESTED","NOT TESTED","NOT TESTED","NOT TESTED","NOT TESTED","NOT TESTED","NOT TESTED","NOT TESTED","NOT TESTED","NOT TESTED","NOT TESTED","NOT TESTED","NOT TESTED","NOT TESTED","NOT TESTED","NOT TESTED","NOT TESTED","NOT TESTED","NOT TESTED","NOT TESTED","NOT TESTED","NOT TESTED","NOT TESTED","NOT TESTED","NOT TESTED","NOT TESTED","NOT TESTED","NOT TESTED","NOT TESTED","NOT TESTED","NOT TESTED","NOT TESTED","NOT TESTED","NOT TESTED","NOT TESTED","NOT TESTED","NOT TESTED","NOT TESTED","NOT TESTED","NOT TESTED","NOT TESTED","NOT TESTED","NOT TESTED","NOT TESTED","NOT TESTED","NOT TESTED","NOT TESTED","NOT TESTED","NOT TESTED","NOT TESTED","NOT TESTED","NOT TESTED","NOT TESTED","NOT TESTED","NOT TESTED","NOT TESTED","NOT TESTED","NOT TESTED"]
[]
["3.1.4","AAA","Abbreviations","A mechanism for identifying the expanded form or meaning of abbreviations is available.","NOT TESTED","NOT TESTED","NOT TESTED","NOT TESTED","NOT TESTED","NOT TESTED","NOT TESTED","NOT TESTED","NOT TESTED","NOT TESTED","NOT TESTED","NOT TESTED","NOT TESTED","NOT TESTED","NOT TESTED","NOT TESTED","NOT TESTED","NOT TESTED","NOT TESTED","NOT TESTED","NOT TESTED","NOT TESTED","NOT TESTED","NOT TESTED","NOT TESTED","NOT TESTED","NOT TESTED","NOT TESTED","NOT TESTED","NOT TESTED","NOT TESTED","NOT TESTED","NOT TESTED","NOT TESTED","NOT TESTED","NOT TESTED","NOT TESTED","NOT TESTED","NOT TESTED","NOT TESTED","NOT TESTED","NOT TESTED","NOT TESTED","NOT TESTED","NOT TESTED","NOT TESTED","NOT TESTED","NOT TESTED","NOT TESTED","NOT TESTED","NOT TESTED","NOT TESTED","NOT TESTED","NOT TESTED","NOT TESTED","NOT TESTED","NOT TESTED","NOT TESTED","NOT TESTED","NOT TESTED","NOT TESTED","NOT TESTED","NOT TESTED","NOT TESTED","NOT TESTED","NOT TESTED","NOT TESTED","NOT TESTED","NOT TESTED","NOT TESTED","NOT TESTED","NOT TESTED","NOT TESTED","NOT TESTED","NOT TESTED","NOT TESTED","NOT TESTED","NOT TESTED","NOT TESTED","NOT TESTED","NOT TESTED","NOT TESTED","NOT TESTED","NOT TESTED","NOT TESTED","NOT TESTED","NOT TESTED","NOT TESTED","NOT TESTED","NOT TESTED","NOT TESTED","NOT TESTED","NOT TESTED","NOT TESTED","NOT TESTED","NOT TESTED","NOT TESTED","NOT TESTED","NOT TESTED","NOT TESTED","NOT TESTED","NOT TESTED","NOT TESTED","NOT TESTED","NOT TESTED","NOT TESTED","NOT TESTED","NOT TESTED","NOT TESTED","NOT TESTED","NOT TESTED","NOT TESTED","NOT TESTED","NOT TESTED","NOT TESTED","NOT TESTED","NOT TESTED","NOT TESTED","NOT TESTED","NOT TESTED","NOT TESTED","NOT TESTED","NOT TESTED","NOT TESTED","NOT TESTED","NOT TESTED","NOT TESTED","NOT TESTED","NOT TESTED","NOT TESTED","NOT TESTED","NOT TESTED","NOT TESTED","NOT TESTED","NOT TESTED","NOT TESTED","NOT TESTED","NOT TESTED","NOT TESTED","NOT TESTED","NOT TESTED","NOT TESTED","NOT TESTED","NOT TESTED","NOT TESTED","NOT TESTED","NOT TESTED","NOT TESTED","NOT TESTED","NOT TESTED"]
[]
["3.1.5","AAA","Reading Level","When text requires reading ability more advanced than the lower secondary education level after removal of proper names and titles, supplemental content, or a version that does not require reading ability more advanced than the lower secondary education level, is available.","NOT TESTED","NOT TESTED","NOT TESTED","NOT TESTED","NOT TESTED","NOT TESTED","NOT TESTED","NOT TESTED","NOT TESTED","NOT TESTED","NOT TESTED","NOT TESTED","NOT TESTED","NOT TESTED","NOT TESTED","NOT TESTED","NOT TESTED","NOT TESTED","NOT TESTED","NOT TESTED","NOT TESTED","NOT TESTED","NOT TESTED","NOT TESTED","NOT TESTED","NOT TESTED","NOT TESTED","NOT TESTED","NOT TESTED","NOT TESTED","NOT TESTED","NOT TESTED","NOT TESTED","NOT TESTED","NOT TESTED","NOT TESTED","NOT TESTED","NOT TESTED","NOT TESTED","NOT TESTED","NOT TESTED","NOT TESTED","NOT TESTED","NOT TESTED","NOT TESTED","NOT TESTED","NOT TESTED","NOT TESTED","NOT TESTED","NOT TESTED","NOT TESTED","NOT TESTED","NOT TESTED","NOT TESTED","NOT TESTED","NOT TESTED","NOT TESTED","NOT TESTED","NOT TESTED","NOT TESTED","NOT TESTED","NOT TESTED","NOT TESTED","NOT TESTED","NOT TESTED","NOT TESTED","NOT TESTED","NOT TESTED","NOT TESTED","NOT TESTED","NOT TESTED","NOT TESTED","NOT TESTED","NOT TESTED","NOT TESTED","NOT TESTED","NOT TESTED","NOT TESTED","NOT TESTED","NOT TESTED","NOT TESTED","NOT TESTED","NOT TESTED","NOT TESTED","NOT TESTED","NOT TESTED","NOT TESTED","NOT TESTED","NOT TESTED","NOT TESTED","NOT TESTED","NOT TESTED","NOT TESTED","NOT TESTED","NOT TESTED","NOT TESTED","NOT TESTED","NOT TESTED","NOT TESTED","NOT TESTED","NOT TESTED","NOT TESTED","NOT TESTED","NOT TESTED","NOT TESTED","NOT TESTED","NOT TESTED","NOT TESTED","NOT TESTED","NOT TESTED","NOT TESTED","NOT TESTED","NOT TESTED","NOT TESTED","NOT TESTED","NOT TESTED","NOT TESTED","NOT TESTED","NOT TESTED","NOT TESTED","NOT TESTED","NOT TESTED","NOT TESTED","NOT TESTED","NOT TESTED","NOT TESTED","NOT TESTED","NOT TESTED","NOT TESTED","NOT TESTED","NOT TESTED","NOT TESTED","NOT TESTED","NOT TESTED","NOT TESTED","NOT TESTED","NOT TESTED","NOT TESTED","NOT TESTED","NOT TESTED","NOT TESTED","NOT TESTED","NOT TESTED","NOT TESTED","NOT TESTED","NOT TESTED","NOT TESTED","NOT TESTED","NOT TESTED","NOT TESTED"]
[]
["3.1.6","AAA","Pronunciation","A mechanism is available for identifying specific pronunciation of words where meaning of the words, in context, is ambiguous without knowing the pronunciation.","NOT TESTED","NOT TESTED","NOT TESTED","NOT TESTED","NOT TESTED","NOT TESTED","NOT TESTED","NOT TESTED","NOT TESTED","NOT TESTED","NOT TESTED","NOT TESTED","NOT TESTED","NOT TESTED","NOT TESTED","NOT TESTED","NOT TESTED","NOT TESTED","NOT TESTED","NOT TESTED","NOT TESTED","NOT TESTED","NOT TESTED","NOT TESTED","NOT TESTED","NOT TESTED","NOT TESTED","NOT TESTED","NOT TESTED","NOT TESTED","NOT TESTED","NOT TESTED","NOT TESTED","NOT TESTED","NOT TESTED","NOT TESTED","NOT TESTED","NOT TESTED","NOT TESTED","NOT TESTED","NOT TESTED","NOT TESTED","NOT TESTED","NOT TESTED","NOT TESTED","NOT TESTED","NOT TESTED","NOT TESTED","NOT TESTED","NOT TESTED","NOT TESTED","NOT TESTED","NOT TESTED","NOT TESTED","NOT TESTED","NOT TESTED","NOT TESTED","NOT TESTED","NOT TESTED","NOT TESTED","NOT TESTED","NOT TESTED","NOT TESTED","NOT TESTED","NOT TESTED","NOT TESTED","NOT TESTED","NOT TESTED","NOT TESTED","NOT TESTED","NOT TESTED","NOT TESTED","NOT TESTED","NOT TESTED","NOT TESTED","NOT TESTED","NOT TESTED","NOT TESTED","NOT TESTED","NOT TESTED","NOT TESTED","NOT TESTED","NOT TESTED","NOT TESTED","NOT TESTED","NOT TESTED","NOT TESTED","NOT TESTED","NOT TESTED","NOT TESTED","NOT TESTED","NOT TESTED","NOT TESTED","NOT TESTED","NOT TESTED","NOT TESTED","NOT TESTED","NOT TESTED","NOT TESTED","NOT TESTED","NOT TESTED","NOT TESTED","NOT TESTED","NOT TESTED","NOT TESTED","NOT TESTED","NOT TESTED","NOT TESTED","NOT TESTED","NOT TESTED","NOT TESTED","NOT TESTED","NOT TESTED","NOT TESTED","NOT TESTED","NOT TESTED","NOT TESTED","NOT TESTED","NOT TESTED","NOT TESTED","NOT TESTED","NOT TESTED","NOT TESTED","NOT TESTED","NOT TESTED","NOT TESTED","NOT TESTED","NOT TESTED","NOT TESTED","NOT TESTED","NOT TESTED","NOT TESTED","NOT TESTED","NOT TESTED","NOT TESTED","NOT TESTED","NOT TESTED","NOT TESTED","NOT TESTED","NOT TESTED","NOT TESTED","NOT TESTED","NOT TESTED","NOT TESTED","NOT TESTED","NOT TESTED","NOT TESTED","NOT TESTED","NOT TESTED","NOT TESTED"]
[]
["3.2.5","AAA","Change on Request","Changes of context are initiated only by user request or a mechanism is available to turn off such changes.","NOT TESTED","NOT TESTED","NOT TESTED","NOT TESTED","NOT TESTED","NOT TESTED","NOT TESTED","NOT TESTED","NOT TESTED","NOT TESTED","NOT TESTED","NOT TESTED","NOT TESTED","NOT TESTED","NOT TESTED","NOT TESTED","NOT TESTED","NOT TESTED","NOT TESTED","NOT TESTED","NOT TESTED","NOT TESTED","NOT TESTED","NOT TESTED","NOT TESTED","NOT TESTED","NOT TESTED","NOT TESTED","NOT TESTED","NOT TESTED","NOT TESTED","NOT TESTED","NOT TESTED","NOT TESTED","NOT TESTED","NOT TESTED","NOT TESTED","NOT TESTED","NOT TESTED","NOT TESTED","NOT TESTED","NOT TESTED","NOT TESTED","NOT TESTED","NOT TESTED","NOT TESTED","NOT TESTED","NOT TESTED","NOT TESTED","NOT TESTED","NOT TESTED","NOT TESTED","NOT TESTED","NOT TESTED","NOT TESTED","NOT TESTED","NOT TESTED","NOT TESTED","NOT TESTED","NOT TESTED","NOT TESTED","NOT TESTED","NOT TESTED","NOT TESTED","NOT TESTED","NOT TESTED","NOT TESTED","NOT TESTED","NOT TESTED","NOT TESTED","NOT TESTED","NOT TESTED","NOT TESTED","NOT TESTED","NOT TESTED","NOT TESTED","NOT TESTED","NOT TESTED","NOT TESTED","NOT TESTED","NOT TESTED","NOT TESTED","NOT TESTED","NOT TESTED","NOT TESTED","NOT TESTED","NOT TESTED","NOT TESTED","NOT TESTED","NOT TESTED","NOT TESTED","NOT TESTED","NOT TESTED","NOT TESTED","NOT TESTED","NOT TESTED","NOT TESTED","NOT TESTED","NOT TESTED","NOT TESTED","NOT TESTED","NOT TESTED","NOT TESTED","NOT TESTED","NOT TESTED","NOT TESTED","NOT TESTED","NOT TESTED","NOT TESTED","NOT TESTED","NOT TESTED","NOT TESTED","NOT TESTED","NOT TESTED","NOT TESTED","NOT TESTED","NOT TESTED","NOT TESTED","NOT TESTED","NOT TESTED","NOT TESTED","NOT TESTED","NOT TESTED","NOT TESTED","NOT TESTED","NOT TESTED","NOT TESTED","NOT TESTED","NOT TESTED","NOT TESTED","NOT TESTED","NOT TESTED","NOT TESTED","NOT TESTED","NOT TESTED","NOT TESTED","NOT TESTED","NOT TESTED","NOT TESTED","NOT TESTED","NOT TESTED","NOT TESTED","NOT TESTED","NOT TESTED","NOT TESTED","NOT TESTED","NOT TESTED","NOT TESTED","NOT TESTED","NOT TESTED"]
[]
["3.3.5","AAA","Help","Context-sensitive help is available.","NOT TESTED","NOT TESTED","NOT TESTED","NOT TESTED","NOT TESTED","NOT TESTED","NOT TESTED","NOT TESTED","NOT TESTED","NOT TESTED","NOT TESTED","NOT TESTED","NOT TESTED","NOT TESTED","NOT TESTED","NOT TESTED","NOT TESTED","NOT TESTED","NOT TESTED","NOT TESTED","NOT TESTED","NOT TESTED","NOT TESTED","NOT TESTED","NOT TESTED","NOT TESTED","NOT TESTED","NOT TESTED","NOT TESTED","NOT TESTED","NOT TESTED","NOT TESTED","NOT TESTED","NOT TESTED","NOT TESTED","NOT TESTED","NOT TESTED","NOT TESTED","NOT TESTED","NOT TESTED","NOT TESTED","NOT TESTED","NOT TESTED","NOT TESTED","NOT TESTED","NOT TESTED","NOT TESTED","NOT TESTED","NOT TESTED","NOT TESTED","NOT TESTED","NOT TESTED","NOT TESTED","NOT TESTED","NOT TESTED","NOT TESTED","NOT TESTED","NOT TESTED","NOT TESTED","NOT TESTED","NOT TESTED","NOT TESTED","NOT TESTED","NOT TESTED","NOT TESTED","NOT TESTED","NOT TESTED","NOT TESTED","NOT TESTED","NOT TESTED","NOT TESTED","NOT TESTED","NOT TESTED","NOT TESTED","NOT TESTED","NOT TESTED","NOT TESTED","NOT TESTED","NOT TESTED","NOT TESTED","NOT TESTED","NOT TESTED","NOT TESTED","NOT TESTED","NOT TESTED","NOT TESTED","NOT TESTED","NOT TESTED","NOT TESTED","NOT TESTED","NOT TESTED","NOT TESTED","NOT TESTED","NOT TESTED","NOT TESTED","NOT TESTED","NOT TESTED","NOT TESTED","NOT TESTED","NOT TESTED","NOT TESTED","NOT TESTED","NOT TESTED","NOT TESTED","NOT TESTED","NOT TESTED","NOT TESTED","NOT TESTED","NOT TESTED","NOT TESTED","NOT TESTED","NOT TESTED","NOT TESTED","NOT TESTED","NOT TESTED","NOT TESTED","NOT TESTED","NOT TESTED","NOT TESTED","NOT TESTED","NOT TESTED","NOT TESTED","NOT TESTED","NOT TESTED","NOT TESTED","NOT TESTED","NOT TESTED","NOT TESTED","NOT TESTED","NOT TESTED","NOT TESTED","NOT TESTED","NOT TESTED","NOT TESTED","NOT TESTED","NOT TESTED","NOT TESTED","NOT TESTED","NOT TESTED","NOT TESTED","NOT TESTED","NOT TESTED","NOT TESTED","NOT TESTED","NOT TESTED","NOT TESTED","NOT TESTED","NOT TESTED","NOT TESTED","NOT TESTED"]
[]
["3.3.6","AAA","Error Prevention (All)","For Web pages that require the user to submit information, at least one of the following is true:","NOT TESTED","NOT TESTED","NOT TESTED","NOT TESTED","NOT TESTED","NOT TESTED","NOT TESTED","NOT TESTED","NOT TESTED","NOT TESTED","NOT TESTED","NOT TESTED","NOT TESTED","NOT TESTED","NOT TESTED","NOT TESTED","NOT TESTED","NOT TESTED","NOT TESTED","NOT TESTED","NOT TESTED","NOT TESTED","NOT TESTED","NOT TESTED","NOT TESTED","NOT TESTED","NOT TESTED","NOT TESTED","NOT TESTED","NOT TESTED","NOT TESTED","NOT TESTED","NOT TESTED","NOT TESTED","NOT TESTED","NOT TESTED","NOT TESTED","NOT TESTED","NOT TESTED","NOT TESTED","NOT TESTED","NOT TESTED","NOT TESTED","NOT TESTED","NOT TESTED","NOT TESTED","NOT TESTED","NOT TESTED","NOT TESTED","NOT TESTED","NOT TESTED","NOT TESTED","NOT TESTED","NOT TESTED","NOT TESTED","NOT TESTED","NOT TESTED","NOT TESTED","NOT TESTED","NOT TESTED","NOT TESTED","NOT TESTED","NOT TESTED","NOT TESTED","NOT TESTED","NOT TESTED","NOT TESTED","NOT TESTED","NOT TESTED","NOT TESTED","NOT TESTED","NOT TESTED","NOT TESTED","NOT TESTED","NOT TESTED","NOT TESTED","NOT TESTED","NOT TESTED","NOT TESTED","NOT TESTED","NOT TESTED","NOT TESTED","NOT TESTED","NOT TESTED","NOT TESTED","NOT TESTED","NOT TESTED","NOT TESTED","NOT TESTED","NOT TESTED","NOT TESTED","NOT TESTED","NOT TESTED","NOT TESTED","NOT TESTED","NOT TESTED","NOT TESTED","NOT TESTED","NOT TESTED","NOT TESTED","NOT TESTED","NOT TESTED","NOT TESTED","NOT TESTED","NOT TESTED","NOT TESTED","NOT TESTED","NOT TESTED","NOT TESTED","NOT TESTED","NOT TESTED","NOT TESTED","NOT TESTED","NOT TESTED","NOT TESTED","NOT TESTED","NOT TESTED","NOT TESTED","NOT TESTED","NOT TESTED","NOT TESTED","NOT TESTED","NOT TESTED","NOT TESTED","NOT TESTED","NOT TESTED","NOT TESTED","NOT TESTED","NOT TESTED","NOT TESTED","NOT TESTED","NOT TESTED","NOT TESTED","NOT TESTED","NOT TESTED","NOT TESTED","NOT TESTED","NOT TESTED","NOT TESTED","NOT TESTED","NOT TESTED","NOT TESTED","NOT TESTED","NOT TESTED","NOT TESTED","NOT TESTED","NOT TESTED","NOT TESTED","NOT TESTED","NOT TESTED"]
[null,null,null,"\nReversible: Submissions are reversible.\nChecked: Data entered by the user is checked for input errors and the user is provided an opportunity to correct them.\nConfirmed: A mechanism is available for reviewing, confirming, and correcting information before finalizing the submission.\n"]
["End of content."]

{"sheet":"Colour Contrast Analysis","index":6,"n_rows":75,"n_cols":176,"rows_kept":75,"cut":false,"hidden":false,"merged":[[0,0,1,21]]}
["\nColour Contrast Analysis for combinations of\ntext and background colours (level AA)",null,null,null,null,null,null,null,null,null,null,null,null,null,null,null,null,null,null,null,null,null,null,null,null,{"$f":"IF(INDIRECT(\"'Statistics'!\" & ADDRESS(COLUMN()-11,2))=\"\",\"\",INDIRECT(\"'Statistics'!\" & ADDRESS(COLUMN()-11,2)))","v":"page 1"},"page 2","page 3","page 4","page 5","page 6","page 7","Header (Pre-login) (Admin)","Footer (Pre-login) (Admin)","Login (Admin)","Header (Post-login) (Admin)","Footer (Post-login) (Admin)","Menu (Admin)","View record (Admin)","Edit record (Admin)","Step 1: Enforcement Action Type ","Step 1: Postal Address","Step 3: Enforcement Action - Details","My Records","Users","Search","decision-1692365159.pdf","Edit user","Letter Template: Letters Decision Amend","Suspend Enforcement Actions (Public) (Checkbox only)","Suspend Enforcement Actions (Public) - are you sure?","Decision Letter Entities (Table only)","Page 28","Page 29","Page 30","Page 31","Page 32",{"$f":"IF(INDIRECT(\"'Statistics'!\" & ADDRESS(COLUMN()-11,2))=\"\",\"\",INDIRECT(\"'Statistics'!\" & ADDRESS(COLUMN()-11,2)))","v":"Page 33"},"Page 34","Page 35","Page 36","Page 37","Page 38","Page 39","Page 40","Page 41","Page 42","Page 43","Page 44","Page 45","Page 46","Page 47","Page 48","Page 49","Page 50","Page 51","Page 52","Page 53","Page 54","Page 55","Page 56","Page 57","Page 58","Page 59","Page 60","Page 61","Page 62","Page 63","Page 64",{"$f":"IF(INDIRECT(\"'Statistics'!\" & ADDRESS(COLUMN()-11,2))=\"\",\"\",INDIRECT(\"'Statistics'!\" & ADDRESS(COLUMN()-11,2)))","v":"Page 65"},"Page 66","Page 67","Page 68","Page 69","Page 70","Page 71","Page 72","Page 73","Page 74","Page 75","Page 76","Page 77","Page 78","Page 79","Page 80","Page 81","Page 82","Page 83","Page 84","Page 85","Page 86","Page 87","Page 88","Page 89","Page 90","Page 91","Page 92","Page 93","Page 94","Page 95","Page 96",{"$f":"IF(INDIRECT(\"'Statistics'!\" & ADDRESS(COLUMN()-11,2))=\"\",\"\",INDIRECT(\"'Statistics'!\" & ADDRESS(COLUMN()-11,2)))","v":"Page 97"},"Page 98","Page 99","Page 100","Page 101","Page 102","Page 103","Page 104","Page 105","Page 106","Page 107","Page 108","Page 109","Page 110","Page 111","Page 112","Page 113","Page 114","Page 115","Page 116","Page 117","Page 118","Page 119","Page 120","Page 121","Page 122","Page 123","Page 124","Page 125","Page 126","Page 127","Page 128",{"$f":"IF(INDIRECT(\"'Statistics'!\" & ADDRESS(COLUMN()-11,2))=\"\",\"\",INDIRECT(\"'Statistics'!\" & ADDRESS(COLUMN()-11,2)))","v":"Page 129"},"Page 130","Page 131","Page 132","Page 133","Page 134","Page 135","Page 136","Page 137","Page 138","Page 139","Page 140","Page 141","Page 142","Page 143","Page 144","Page 145","Page 146","Page 147","Page 148","Page 149","Page 150","End of content."]
[null,null,null,null,null,null,null,null,null,null,null,null,null,null,null,null,null,null,null,null,null,null,null,null,null,{"$f":"IF(INDIRECT(\"'Statistics'!\" & ADDRESS(COLUMN()-11,3))=\"\",\"\",INDIRECT(\"'Statistics'!\" & ADDRESS(COLUMN()-11,3)))","v":""},"","","","","","","https://rlac-test.glatest.org.uk/login","https://rlac-test.glatest.org.uk/login","https://rlac-test.glatest.org.uk/login","https://rlac-test.glatest.org.uk/login","https://rlac-test.glatest.org.uk/login","https://rlac-test.glatest.org.uk/login","https://rlac-test.glatest.org.uk/app/records/entity?id=952","https://rlac-test.glatest.org.uk/app/records/entity?id=952","https://rlac-test.glatest.org.uk/app/records/create","https://rlac-test.glatest.org.uk/app/records/create","https://rlac-test.glatest.org.uk/app/records/create","URL 30","https://rlac-test.glatest.org.uk/app/users","https://rlac-test.glatest.org.uk/app/records/search","N/A","https://rlac-test.glatest.org.uk/app/users/entity?id=251","https://rlac-test.glatest.org.uk/app/configure/letters-decision-amend","https://rlac-test.glatest.org.uk/app/workflow/suspend-records/public","https://rlac-test.glatest.org.uk/app/workflow/suspend-records/public","https://rlac-test.glatest.org.uk/app/manage/decision-letters","URL 30","URL 30","URL 30","URL 31","URL 32",{"$f":"IF(INDIRECT(\"'Statistics'!\" & ADDRESS(COLUMN()-11,3))=\"\",\"\",INDIRECT(\"'Statistics'!\" & ADDRESS(COLUMN()-11,3)))","v":"URL 33"},"URL 34","URL 35","URL 36","URL 37","URL 38","URL 39","URL 40","URL 41","URL 42","URL 43","URL 44","URL 45","URL 46","URL 47","URL 48","URL 49","URL 50","URL 51","URL 52","URL 53","URL 54","URL 55","URL 56","URL 57","URL 58","URL 59","URL 60","URL 61","URL 62","URL 63","URL 64",{"$f":"IF(INDIRECT(\"'Statistics'!\" & ADDRESS(COLUMN()-11,3))=\"\",\"\",INDIRECT(\"'Statistics'!\" & ADDRESS(COLUMN()-11,3)))","v":"URL 65"},"URL 66","URL 67","URL 68","URL 69","URL 70","URL 71","URL 72","URL 73","URL 74","URL 75","URL 76","URL 77","URL 78","URL 79","URL 80","URL 81","URL 82","URL 83","URL 84","URL 85","URL 86","URL 87","URL 88","URL 89","URL 90","URL 91","URL 92","URL 93","URL 94","URL 95","URL 96",{"$f":"IF(INDIRECT(\"'Statistics'!\" & ADDRESS(COLUMN()-11,3))=\"\",\"\",INDIRECT(\"'Statistics'!\" & ADDRESS(COLUMN()-11,3)))","v":"URL 97"},"URL 98","URL 99","URL 100","URL 101","URL 102","URL 103","URL 104","URL 105","URL 106","URL 107","URL 108","URL 109","URL 110","URL 111","URL 112","URL 113","URL 114","URL 115","URL 116","URL 117","URL 118","URL 119","URL 120","URL 121","URL 122","URL 123","URL 124","URL 125","URL 126","URL 127","URL 128",{"$f":"IF(INDIRECT(\"'Statistics'!\" & ADDRESS(COLUMN()-11,3))=\"\",\"\",INDIRECT(\"'Statistics'!\" & ADDRESS(COLUMN()-11,3)))","v":"URL 129"},"URL 130","URL 131","URL 132","URL 133","URL 134","URL 135","URL 136","URL 137","URL 138","URL 139","URL 140","URL 141","URL 142","URL 143","URL 144","URL 145","URL 146","URL 147","URL 148","URL 149","URL 150"]
[null,null,null,null,null,null,null,null,null,null,null,null,null,null,null,null,null,null,null,null,null,null,null,null,null,"Page #1","Page #2","Page #3","Page #4","Page #5","Page #6","Page #7","Page #8","Page #9","Page #10","Page #11","Page #12","Page #13","Page #14","Page #15","Page #16","Page #17","Page #18","Page #19","Page #20","Page #21","Page #22","Page #23","Page #24","Page #25","Page #26","Page #27","Page #28","Page #29","Page #30","Page #31","Page #32","Page #33","Page #34","Page #35","Page #36","Page #37","Page #38","Page #39","Page #40","Page #41","Page #42","Page #43","Page #44","Page #45","Page #46","Page #47","Page #48","Page #49","Page #50","Page #51","Page #52","Page #53","Page #54","Page #55","Page #56","Page #57","Page #58","Page #59","Page #60","Page #61","Page #62","Page #63","Page #64","Page #65","Page #66","Page #67","Page #68","Page #69","Page #70","Page #71","Page #72","Page #73","Page #74","Page #75","Page #76","Page #77","Page #78","Page #79","Page #80","Page #81","Page #82","Page #83","Page #84","Page #85","Page #86","Page #87","Page #88","Page #89","Page #90","Page #91","Page #92","Page #93","Page #94","Page #95","Page #96","Page #97","Page #98","Page #99","Page #100","Page #101","Page #102","Page #103","Page #104","Page #105","Page #106","Page #107","Page #108","Page #109","Page #110","Page #111","Page #112","Page #113","Page #114","Page #115","Page #116","Page #117","Page #118","Page #119","Page #120","Page #121","Page #122","Page #123","Page #124","Page #125","Page #126","Page #127","Page #128","Page #129","Page #130","Page #131","Page #132","Page #133","Page #134","Page #135","Page #136","Page #137","Page #138","Page #139","Page #140","Page #141","Page #142","Page #143","Page #144","Page #145","Page #146","Page #147","Page #148","Page #149","Page #150"]
["Page Area","Image","Text \nColour","Back.\nColour","Large (18pt or 14pt bold)","Valid","R RGB","Fail Only","G RGB","G","B RGB","B","Luminance","Valid","R RGB","R","G RGB","G","B RGB","B","Luminance","Contrast Ratio","Exempt","All Results","Image / Text / Video",{"$f":"COUNTIF(Z5:Z1001,\"Fail\") & \" Fault\" & IF(COUNTIF(Z5:Z1001,\"Fail\")=1,\"\",\"s\") & \" + \" & CHAR(10) & COUNTIF(Z5:Z1001,\"Should Fix\") & \" Should Fix\"","v":"0 Faults + \n0 Should Fix"},{"$f":"COUNTIF(AA5:AA1001,\"Fail\") & \" Fault\" & IF(COUNTIF(AA5:AA1001,\"Fail\")=1,\"\",\"s\") & \" + \" & CHAR(10) & COUNTIF(AA5:AA1001,\"Should Fix\") & \" Should Fix\"","v":"0 Faults + \n0 Should Fix"},"0 Faults + \n0 Should Fix","0 Faults + \n0 Should Fix","0 Faults + \n0 Should Fix","0 Faults + \n0 Should Fix","0 Faults + \n0 Should Fix","0 Faults + \n0 Should Fix","0 Faults + \n0 Should Fix","0 Faults + \n0 Should Fix","0 Faults + \n0 Should Fix","0 Faults + \n0 Should Fix","0 Faults + \n0 Should Fix","0 Faults + \n0 Should Fix","0 Faults + \n0 Should Fix","0 Faults + \n0 Should Fix","0 Faults + \n0 Should Fix","0 Faults + \n0 Should Fix","0 Faults + \n0 Should Fix","0 Faults + \n0 Should Fix","0 Faults + \n0 Should Fix","0 Faults + \n0 Should Fix","0 Faults + \n0 Should Fix","0 Faults + \n0 Should Fix","0 Faults + \n0 Should Fix","0 Faults + \n0 Should Fix","0 Faults + \n0 Should Fix","0 Faults + \n0 Should Fix","0 Faults + \n0 Should Fix","0 Faults + \n0 Should Fix","0 Faults + \n0 Should Fix","0 Faults + \n0 Should Fix","0 Faults + \n0 Should Fix","0 Faults + \n0 Should Fix","0 Faults + \n0 Should Fix","0 Faults + \n0 Should Fix","0 Faults + \n0 Should Fix","0 Faults + \n0 Should Fix","0 Faults + \n0 Should Fix","0 Faults + \n0 Should Fix","0 Faults + \n0 Should Fix","0 Faults + \n0 Should Fix","0 Faults + \n0 Should Fix","0 Faults + \n0 Should Fix","0 Faults + \n0 Should Fix","0 Faults + \n0 Should Fix","0 Faults + \n0 Should Fix","0 Faults + \n0 Should Fix","0 Faults + \n0 Should Fix","0 Faults + \n0 Should Fix","0 Faults + \n0 Should Fix","0 Faults + \n0 Should Fix","0 Faults + \n0 Should Fix","0 Faults + \n0 Should Fix","0 Faults + \n0 Should Fix","0 Faults + \n0 Should Fix","0 Faults + \n0 Should Fix","0 Faults + \n0 Should Fix","0 Faults + \n0 Should Fix","0 Faults + \n0 Should Fix","0 Faults + \n0 Should Fix","0 Faults + \n0 Should Fix","0 Faults + \n0 Should Fix","0 Faults + \n0 Should Fix","0 Faults + \n0 Should Fix",{"$f":"COUNTIF(CM5:CM1001,\"Fail\") & \" Fault\" & IF(COUNTIF(CM5:CM1001,\"Fail\")=1,\"\",\"s\") & \" + \" & CHAR(10) & COUNTIF(CM5:CM1001,\"Should Fix\") & \" Should Fix\"","v":"0 Faults + \n0 Should Fix"},"0 Faults + \n0 Should Fix","0 Faults + \n0 Should Fix","0 Faults + \n0 Should Fix","0 Faults + \n0 Should Fix","0 Faults + \n0 Should Fix","0 Faults + \n0 Should Fix","0 Faults + \n0 Should Fix","0 Faults + \n0 Should Fix","0 Faults + \n0 Should Fix","0 Faults + \n0 Should Fix","0 Faults + \n0 Should Fix","0 Faults + \n0 Should Fix","0 Faults + \n0 Should Fix","0 Faults + \n0 Should Fix","0 Faults + \n0 Should Fix","0 Faults + \n0 Should Fix","0 Faults + \n0 Should Fix","0 Faults + \n0 Should Fix","0 Faults + \n0 Should Fix","0 Faults + \n0 Should Fix","0 Faults + \n0 Should Fix","0 Faults + \n0 Should Fix","0 Faults + \n0 Should Fix","0 Faults + \n0 Should Fix","0 Faults + \n0 Should Fix","0 Faults + \n0 Should Fix","0 Faults + \n0 Should Fix","0 Faults + \n0 Should Fix","0 Faults + \n0 Should Fix","0 Faults + \n0 Should Fix","0 Faults + \n0 Should Fix","0 Faults + \n0 Should Fix","0 Faults + \n0 Should Fix","0 Faults + \n0 Should Fix","0 Faults + \n0 Should Fix","0 Faults + \n0 Should Fix","0 Faults + \n0 Should Fix","0 Faults + \n0 Should Fix","0 Faults + \n0 Should Fix","0 Faults + \n0 Should Fix","0 Faults + \n0 Should Fix","0 Faults + \n0 Should Fix","0 Faults + \n0 Should Fix","0 Faults + \n0 Should Fix","0 Faults + \n0 Should Fix","0 Faults + \n0 Should Fix","0 Faults + \n0 Should Fix","0 Faults + \n0 Should Fix","0 Faults + \n0 Should Fix","0 Faults + \n0 Should Fix","0 Faults + \n0 Should Fix","0 Faults + \n0 Should Fix","0 Faults + \n0 Should Fix","0 Faults + \n0 Should Fix","0 Faults + \n0 Should Fix","0 Faults + \n0 Should Fix","0 Faults + \n0 Should Fix","0 Faults + \n0 Should Fix","0 Faults + \n0 Should Fix","0 Faults + \n0 Should Fix","0 Faults + \n0 Should Fix","0 Faults + \n0 Should Fix","0 Faults + \n0 Should Fix",{"$f":"COUNTIF(EY5:EY1001,\"Fail\") & \" Fault\" & IF(COUNTIF(EY5:EY1001,\"Fail\")=1,\"\",\"s\") & \" + \" & CHAR(10) & COUNTIF(EY5:EY1001,\"Should Fix\") & \" Should Fix\"","v":"0 Faults + \n0 Should Fix"},"0 Faults + \n0 Should Fix","0 Faults + \n0 Should Fix","0 Faults + \n0 Should Fix","0 Faults + \n0 Should Fix","0 Faults + \n0 Should Fix","0 Faults + \n0 Should Fix","0 Faults + \n0 Should Fix","0 Faults + \n0 Should Fix","0 Faults + \n0 Should Fix","0 Faults + \n0 Should Fix","0 Faults + \n0 Should Fix","0 Faults + \n0 Should Fix","0 Faults + \n0 Should Fix","0 Faults + \n0 Should Fix","0 Faults + \n0 Should Fix","0 Faults + \n0 Should Fix","0 Faults + \n0 Should Fix","0 Faults + \n0 Should Fix","0 Faults + \n0 Should Fix","0 Faults + \n0 Should Fix"]
[null,null,null,null,"Small",{"$f":"IF(LEN(D5)=0,\"\",AND(LEFT(D5,1)=\"#\",LEN(D5)=7))","v":""},{"$f":"HEX2DEC(RIGHT(LEFT(D5,3),2))","v":0},{"$f":"IF(G5/255<= 0.03928,G5/(255*12.92),(((G5/255)+0.055)/1.055)^2.4)","v":0},{"$f":"HEX2DEC(RIGHT(LEFT(D5,5),2))","v":0},{"$f":"IF(I5/255<= 0.03928,I5/(255*12.92),(((I5/255)+0.055)/1.055)^2.4)","v":0},{"$f":"HEX2DEC(RIGHT(D5,2))","v":0},{"$f":"IF(K5/255<= 0.03928,K5/(255*12.92),(((K5/255)+0.055)/1.055)^2.4)","v":0},{"$f":"(0.2126*H5)+(0.7152*J5)+(0.0722*L5)","v":0},{"$f":"IF(LEN(C5)=0,\"\",AND(LEFT(C5,1)=\"#\",LEN(C5)=7))","v":""},{"$f":"HEX2DEC(RIGHT(LEFT(C5,3),2))","v":0},{"$f":"IF(O5/255<= 0.03928,O5/(255*12.92),(((O5/255)+0.055)/1.055)^2.4)","v":0},{"$f":"HEX2DEC(RIGHT(LEFT(C5,5),2))","v":0},{"$f":"IF(Q5/255<= 0.03928,Q5/(255*12.92),(((Q5/255)+0.055)/1.055)^2.4)","v":0},{"$f":"HEX2DEC(RIGHT(C5,2))","v":0},{"$f":"IF(S5/255<= 0.03928,S5/(255*12.92),(((S5/255)+0.055)/1.055)^2.4)","v":0},{"$f":"(0.2126*P5)+(0.7152*R5)+(0.0722*T5)","v":0},{"$f":"IF(OR(F5=\"\",N5=\"\")=TRUE,\"\",IF(OR(F5=FALSE,N5=FALSE)=TRUE,\"ERROR\",ROUND(IF(M5>U5,(M5+0.05)/(U5+0.05),(U5+0.05)/(M5+0.05)),2)))","v":""},"No",{"$f":"IF(W5=\"Rendered Colours\",\"Should Fix\",IF(OR(W5=\"\",W5=\"No\")=TRUE,IF(V5=\"\",\"\",IF(V5>=Comboboxes!A$5,\"Pass\",IF(AND(V5>=Comboboxes!A$6,E5=\"Large\"),\"Pass (large text)\",\"Fail\"))),\"Exempt\"))","v":""},"Text","N/A","N/A","N/A","N/A","N/A","N/A","N/A","N/A","N/A","N/A","N/A","N/A","N/A","N/A","N/A","N/A","N/A","N/A","N/A","N/A","N/A","N/A","N/A","N/A","N/A","N/A","N/A","N/A","N/A","N/A"]
[null,null,null,null,"Small",{"$f":"IF(LEN(D6)=0,\"\",AND(LEFT(D6,1)=\"#\",LEN(D6)=7))","v":""},{"$f":"HEX2DEC(RIGHT(LEFT(D6,3),2))","v":0},0,{"$f":"HEX2DEC(RIGHT(LEFT(D6,5),2))","v":0},0,{"$f":"HEX2DEC(RIGHT(D6,2))","v":0},0,0,{"$f":"IF(LEN(C6)=0,\"\",AND(LEFT(C6,1)=\"#\",LEN(C6)=7))","v":""},{"$f":"HEX2DEC(RIGHT(LEFT(C6,3),2))","v":0},0,{"$f":"HEX2DEC(RIGHT(LEFT(C6,5),2))","v":0},0,{"$f":"HEX2DEC(RIGHT(C6,2))","v":0},0,0,"","No",{"$f":"IF(W6=\"Rendered Colours\",\"Should Fix\",IF(OR(W6=\"\",W6=\"No\")=TRUE,IF(V6=\"\",\"\",IF(V6>=Comboboxes!A$5,\"Pass\",IF(AND(V6>=Comboboxes!A$6,E6=\"Large\"),\"Pass (large text)\",\"Fail\"))),\"Exempt\"))","v":""},"Text","N/A","N/A","N/A","N/A","N/A","N/A","N/A","N/A","N/A","N/A","N/A","N/A","N/A","N/A","N/A","N/A","N/A","N/A","N/A","N/A","N/A","N/A","N/A","N/A","N/A","N/A","N/A","N/A","N/A","N/A"]
[null,null,null,null,"Small",{"$f":"IF(LEN(D7)=0,\"\",AND(LEFT(D7,1)=\"#\",LEN(D7)=7))","v":""},{"$f":"HEX2DEC(RIGHT(LEFT(D7,3),2))","v":0},0,{"$f":"HEX2DEC(RIGHT(LEFT(D7,5),2))","v":0},0,{"$f":"HEX2DEC(RIGHT(D7,2))","v":0},0,0,{"$f":"IF(LEN(C7)=0,\"\",AND(LEFT(C7,1)=\"#\",LEN(C7)=7))","v":""},{"$f":"HEX2DEC(RIGHT(LEFT(C7,3),2))","v":0},0,{"$f":"HEX2DEC(RIGHT(LEFT(C7,5),2))","v":0},0,{"$f":"HEX2DEC(RIGHT(C7,2))","v":0},0,0,"","No",{"$f":"IF(W7=\"Rendered Colours\",\"Should Fix\",IF(OR(W7=\"\",W7=\"No\")=TRUE,IF(V7=\"\",\"\",IF(V7>=Comboboxes!A$5,\"Pass\",IF(AND(V7>=Comboboxes!A$6,E7=\"Large\"),\"Pass (large text)\",\"Fail\"))),\"Exempt\"))","v":""},"Text","N/A","N/A","N/A","N/A","N/A","N/A","N/A","N/A","N/A","N/A","N/A","N/A","N/A","N/A","N/A","N/A","N/A","N/A","N/A","N/A","N/A","N/A","N/A","N/A","N/A","N/A","N/A","N/A","N/A","N/A"]
[null,null,null,null,"Small",{"$f":"IF(LEN(D8)=0,\"\",AND(LEFT(D8,1)=\"#\",LEN(D8)=7))","v":""},{"$f":"HEX2DEC(RIGHT(LEFT(D8,3),2))","v":0},0,{"$f":"HEX2DEC(RIGHT(LEFT(D8,5),2))","v":0},0,{"$f":"HEX2DEC(RIGHT(D8,2))","v":0},0,0,{"$f":"IF(LEN(C8)=0,\"\",AND(LEFT(C8,1)=\"#\",LEN(C8)=7))","v":""},{"$f":"HEX2DEC(RIGHT(LEFT(C8,3),2))","v":0},0,{"$f":"HEX2DEC(RIGHT(LEFT(C8,5),2))","v":0},0,{"$f":"HEX2DEC(RIGHT(C8,2))","v":0},0,0,"","No",{"$f":"IF(W8=\"Rendered Colours\",\"Should Fix\",IF(OR(W8=\"\",W8=\"No\")=TRUE,IF(V8=\"\",\"\",IF(V8>=Comboboxes!A$5,\"Pass\",IF(AND(V8>=Comboboxes!A$6,E8=\"Large\"),\"Pass (large text)\",\"Fail\"))),\"Exempt\"))","v":""},"Text","N/A","N/A","N/A","N/A","N/A","N/A","N/A","N/A","N/A","N/A","N/A","N/A","N/A","N/A","N/A","N/A","N/A","N/A","N/A","N/A","N/A","N/A","N/A","N/A","N/A","N/A","N/A","N/A","N/A","N/A"]
[null,null,null,null,"Small",{"$f":"IF(LEN(D9)=0,\"\",AND(LEFT(D9,1)=\"#\",LEN(D9)=7))","v":""},{"$f":"HEX2DEC(RIGHT(LEFT(D9,3),2))","v":0},0,{"$f":"HEX2DEC(RIGHT(LEFT(D9,5),2))","v":0},0,{"$f":"HEX2DEC(RIGHT(D9,2))","v":0},0,0,{"$f":"IF(LEN(C9)=0,\"\",AND(LEFT(C9,1)=\"#\",LEN(C9)=7))","v":""},{"$f":"HEX2DEC(RIGHT(LEFT(C9,3),2))","v":0},0,{"$f":"HEX2DEC(RIGHT(LEFT(C9,5),2))","v":0},0,{"$f":"HEX2DEC(RIGHT(C9,2))","v":0},0,0,"","No",{"$f":"IF(W9=\"Rendered Colours\",\"Should Fix\",IF(OR(W9=\"\",W9=\"No\")=TRUE,IF(V9=\"\",\"\",IF(V9>=Comboboxes!A$5,\"Pass\",IF(AND(V9>=Comboboxes!A$6,E9=\"Large\"),\"Pass (large text)\",\"Fail\"))),\"Exempt\"))","v":""},"Text","N/A","N/A","N/A","N/A","N/A","N/A","N/A","N/A","N/A","N/A","N/A","N/A","N/A","N/A","N/A","N/A","N/A","N/A","N/A","N/A","N/A","N/A","N/A","N/A","N/A","N/A","N/A","N/A","N/A","N/A"]
[null,null,null,null,"Small",{"$f":"IF(LEN(D10)=0,\"\",AND(LEFT(D10,1)=\"#\",LEN(D10)=7))","v":""},{"$f":"HEX2DEC(RIGHT(LEFT(D10,3),2))","v":0},0,{"$f":"HEX2DEC(RIGHT(LEFT(D10,5),2))","v":0},0,{"$f":"HEX2DEC(RIGHT(D10,2))","v":0},0,0,{"$f":"IF(LEN(C10)=0,\"\",AND(LEFT(C10,1)=\"#\",LEN(C10)=7))","v":""},{"$f":"HEX2DEC(RIGHT(LEFT(C10,3),2))","v":0},0,{"$f":"HEX2DEC(RIGHT(LEFT(C10,5),2))","v":0},0,{"$f":"HEX2DEC(RIGHT(C10,2))","v":0},0,0,"","No",{"$f":"IF(W10=\"Rendered Colours\",\"Should Fix\",IF(OR(W10=\"\",W10=\"No\")=TRUE,IF(V10=\"\",\"\",IF(V10>=Comboboxes!A$5,\"Pass\",IF(AND(V10>=Comboboxes!A$6,E10=\"Large\"),\"Pass (large text)\",\"Fail\"))),\"Exempt\"))","v":""},"Text","N/A","N/A","N/A","N/A","N/A","N/A","N/A","N/A","N/A","N/A","N/A","N/A","N/A","N/A","N/A","N/A","N/A","N/A","N/A","N/A","N/A","N/A","N/A","N/A","N/A","N/A","N/A","N/A","N/A","N/A"]
[null,null,null,null,"Small","",0,{"$f":"IF(G11/255<= 0.03928,G11/(255*12.92),(((G11/255)+0.055)/1.055)^2.4)","v":0},0,{"$f":"IF(I11/255<= 0.03928,I11/(255*12.92),(((I11/255)+0.055)/1.055)^2.4)","v":0},0,{"$f":"IF(K11/255<= 0.03928,K11/(255*12.92),(((K11/255)+0.055)/1.055)^2.4)","v":0},{"$f":"(0.2126*H11)+(0.7152*J11)+(0.0722*L11)","v":0},"",0,{"$f":"IF(O11/255<= 0.03928,O11/(255*12.92),(((O11/255)+0.055)/1.055)^2.4)","v":0},0,{"$f":"IF(Q11/255<= 0.03928,Q11/(255*12.92),(((Q11/255)+0.055)/1.055)^2.4)","v":0},0,{"$f":"IF(S11/255<= 0.03928,S11/(255*12.92),(((S11/255)+0.055)/1.055)^2.4)","v":0},{"$f":"(0.2126*P11)+(0.7152*R11)+(0.0722*T11)","v":0},{"$f":"IF(OR(F11=\"\",N11=\"\")=TRUE,\"\",IF(OR(F11=FALSE,N11=FALSE)=TRUE,\"ERROR\",ROUND(IF(M11>U11,(M11+0.05)/(U11+0.05),(U11+0.05)/(M11+0.05)),2)))","v":""},"No",{"$f":"IF(W11=\"Rendered Colours\",\"Should Fix\",IF(OR(W11=\"\",W11=\"No\")=TRUE,IF(V11=\"\",\"\",IF(V11>=Comboboxes!A$5,\"Pass\",IF(AND(V11>=Comboboxes!A$6,E11=\"Large\"),\"Pass (large text)\",\"Fail\"))),\"Exempt\"))","v":""},"Text","N/A","N/A","N/A","N/A","N/A","N/A","N/A","N/A","N/A","N/A","N/A","N/A","N/A","N/A","N/A","N/A","N/A","N/A","N/A","N/A","N/A","N/A","N/A","N/A","N/A","N/A","N/A","N/A","N/A","N/A"]
[null,null,null,null,"Small","",0,{"$f":"IF(G12/255<= 0.03928,G12/(255*12.92),(((G12/255)+0.055)/1.055)^2.4)","v":0},0,{"$f":"IF(I12/255<= 0.03928,I12/(255*12.92),(((I12/255)+0.055)/1.055)^2.4)","v":0},0,{"$f":"IF(K12/255<= 0.03928,K12/(255*12.92),(((K12/255)+0.055)/1.055)^2.4)","v":0},{"$f":"(0.2126*H12)+(0.7152*J12)+(0.0722*L12)","v":0},"",0,{"$f":"IF(O12/255<= 0.03928,O12/(255*12.92),(((O12/255)+0.055)/1.055)^2.4)","v":0},0,{"$f":"IF(Q12/255<= 0.03928,Q12/(255*12.92),(((Q12/255)+0.055)/1.055)^2.4)","v":0},0,{"$f":"IF(S12/255<= 0.03928,S12/(255*12.92),(((S12/255)+0.055)/1.055)^2.4)","v":0},{"$f":"(0.2126*P12)+(0.7152*R12)+(0.0722*T12)","v":0},{"$f":"IF(OR(F12=\"\",N12=\"\")=TRUE,\"\",IF(OR(F12=FALSE,N12=FALSE)=TRUE,\"ERROR\",ROUND(IF(M12>U12,(M12+0.05)/(U12+0.05),(U12+0.05)/(M12+0.05)),2)))","v":""},"No",{"$f":"IF(W12=\"Rendered Colours\",\"Should Fix\",IF(OR(W12=\"\",W12=\"No\")=TRUE,IF(V12=\"\",\"\",IF(V12>=Comboboxes!A$5,\"Pass\",IF(AND(V12>=Comboboxes!A$6,E12=\"Large\"),\"Pass (large text)\",\"Fail\"))),\"Exempt\"))","v":""},"Text","N/A","N/A","N/A","N/A","N/A","N/A","N/A","N/A","N/A","N/A","N/A","N/A","N/A","N/A","N/A","N/A","N/A","N/A","N/A","N/A","N/A","N/A","N/A","N/A","N/A","N/A","N/A","N/A","N/A","N/A"]
[null,null,null,null,"Small","",0,0,0,0,0,0,0,"",0,0,0,0,0,0,0,"","No",{"$f":"IF(W13=\"Rendered Colours\",\"Should Fix\",IF(OR(W13=\"\",W13=\"No\")=TRUE,IF(V13=\"\",\"\",IF(V13>=Comboboxes!A$5,\"Pass\",IF(AND(V13>=Comboboxes!A$6,E13=\"Large\"),\"Pass (large text)\",\"Fail\"))),\"Exempt\"))","v":""},"Text","N/A","N/A","N/A","N/A","N/A","N/A","N/A","N/A","N/A","N/A","N/A","N/A","N/A","N/A","N/A","N/A","N/A","N/A","N/A","N/A","N/A","N/A","N/A","N/A","N/A","N/A","N/A","N/A","N/A","N/A"]
[null,null,null,null,"Small","",0,0,0,0,0,0,0,"",0,0,0,0,0,0,0,"","No",{"$f":"IF(W14=\"Rendered Colours\",\"Should Fix\",IF(OR(W14=\"\",W14=\"No\")=TRUE,IF(V14=\"\",\"\",IF(V14>=Comboboxes!A$5,\"Pass\",IF(AND(V14>=Comboboxes!A$6,E14=\"Large\"),\"Pass (large text)\",\"Fail\"))),\"Exempt\"))","v":""},"Text","N/A","N/A","N/A","N/A","N/A","N/A","N/A","N/A","N/A","N/A","N/A","N/A","N/A","N/A","N/A","N/A","N/A","N/A","N/A","N/A","N/A","N/A","N/A","N/A","N/A","N/A","N/A","N/A","N/A","N/A"]
[null,null,null,null,"Small","",0,0,0,0,0,0,0,"",0,0,0,0,0,0,0,"","No",{"$f":"IF(W15=\"Rendered Colours\",\"Should Fix\",IF(OR(W15=\"\",W15=\"No\")=TRUE,IF(V15=\"\",\"\",IF(V15>=Comboboxes!A$5,\"Pass\",IF(AND(V15>=Comboboxes!A$6,E15=\"Large\"),\"Pass (large text)\",\"Fail\"))),\"Exempt\"))","v":""},"Text","N/A","N/A","N/A","N/A","N/A","N/A","N/A","N/A","N/A","N/A","N/A","N/A","N/A","N/A","N/A","N/A","N/A","N/A","N/A","N/A","N/A","N/A","N/A","N/A","N/A","N/A","N/A","N/A","N/A","N/A"]
[null,null,null,null,"Small","",0,0,0,0,0,0,0,"",0,0,0,0,0,0,0,"","No",{"$f":"IF(W16=\"Rendered Colours\",\"Should Fix\",IF(OR(W16=\"\",W16=\"No\")=TRUE,IF(V16=\"\",\"\",IF(V16>=Comboboxes!A$5,\"Pass\",IF(AND(V16>=Comboboxes!A$6,E16=\"Large\"),\"Pass (large text)\",\"Fail\"))),\"Exempt\"))","v":""},"Text","N/A","N/A","N/A","N/A","N/A","N/A","N/A","N/A","N/A","N/A","N/A","N/A","N/A","N/A","N/A","N/A","N/A","N/A","N/A","N/A","N/A","N/A","N/A","N/A","N/A","N/A","N/A","N/A","N/A","N/A"]
[null,null,null,null,"Small","",0,0,0,0,0,0,0,"",0,0,0,0,0,0,0,"","No",{"$f":"IF(W17=\"Rendered Colours\",\"Should Fix\",IF(OR(W17=\"\",W17=\"No\")=TRUE,IF(V17=\"\",\"\",IF(V17>=Comboboxes!A$5,\"Pass\",IF(AND(V17>=Comboboxes!A$6,E17=\"Large\"),\"Pass (large text)\",\"Fail\"))),\"Exempt\"))","v":""},"Text","N/A","N/A","N/A","N/A","N/A","N/A","N/A","N/A","N/A","N/A","N/A","N/A","N/A","N/A","N/A","N/A","N/A","N/A","N/A","N/A","N/A","N/A","N/A","N/A","N/A","N/A","N/A","N/A","N/A","N/A"]
[null,null,null,null,"Small","",0,0,0,0,0,0,0,"",0,0,0,0,0,0,0,"","No",{"$f":"IF(W18=\"Rendered Colours\",\"Should Fix\",IF(OR(W18=\"\",W18=\"No\")=TRUE,IF(V18=\"\",\"\",IF(V18>=Comboboxes!A$5,\"Pass\",IF(AND(V18>=Comboboxes!A$6,E18=\"Large\"),\"Pass (large text)\",\"Fail\"))),\"Exempt\"))","v":""},"Text","N/A","N/A","N/A","N/A","N/A","N/A","N/A","N/A","N/A","N/A","N/A","N/A","N/A","N/A","N/A","N/A","N/A","N/A","N/A","N/A","N/A","N/A","N/A","N/A","N/A","N/A","N/A","N/A","N/A","N/A"]
[null,null,null,null,"Small","",0,0,0,0,0,0,0,"",0,0,0,0,0,0,0,"","No",{"$f":"IF(W19=\"Rendered Colours\",\"Should Fix\",IF(OR(W19=\"\",W19=\"No\")=TRUE,IF(V19=\"\",\"\",IF(V19>=Comboboxes!A$5,\"Pass\",IF(AND(V19>=Comboboxes!A$6,E19=\"Large\"),\"Pass (large text)\",\"Fail\"))),\"Exempt\"))","v":""},"Text","N/A","N/A","N/A","N/A","N/A","N/A","N/A","N/A","N/A","N/A","N/A","N/A","N/A","N/A","N/A","N/A","N/A","N/A","N/A","N/A","N/A","N/A","N/A","N/A","N/A","N/A","N/A","N/A","N/A","N/A"]
[null,null,null,null,"Small","",0,0,0,0,0,0,0,"",0,0,0,0,0,0,0,"","No",{"$f":"IF(W20=\"Rendered Colours\",\"Should Fix\",IF(OR(W20=\"\",W20=\"No\")=TRUE,IF(V20=\"\",\"\",IF(V20>=Comboboxes!A$5,\"Pass\",IF(AND(V20>=Comboboxes!A$6,E20=\"Large\"),\"Pass (large text)\",\"Fail\"))),\"Exempt\"))","v":""},"Text","N/A","N/A","N/A","N/A","N/A","N/A","N/A","N/A","N/A","N/A","N/A","N/A","N/A","N/A","N/A","N/A","N/A","N/A","N/A","N/A","N/A","N/A","N/A","N/A","N/A","N/A","N/A","N/A","N/A","N/A"]
[null,null,null,null,"Small","",0,0,0,0,0,0,0,"",0,0,0,0,0,0,0,"","No",{"$f":"IF(W21=\"Rendered Colours\",\"Should Fix\",IF(OR(W21=\"\",W21=\"No\")=TRUE,IF(V21=\"\",\"\",IF(V21>=Comboboxes!A$5,\"Pass\",IF(AND(V21>=Comboboxes!A$6,E21=\"Large\"),\"Pass (large text)\",\"Fail\"))),\"Exempt\"))","v":""},"Text","N/A","N/A","N/A","N/A","N/A","N/A","N/A","N/A","N/A","N/A","N/A","N/A","N/A","N/A","N/A","N/A","N/A","N/A","N/A","N/A","N/A","N/A","N/A","N/A","N/A","N/A","N/A","N/A","N/A","N/A"]
[null,null,null,null,"Small","",0,0,0,0,0,0,0,"",0,0,0,0,0,0,0,"","No",{"$f":"IF(W22=\"Rendered Colours\",\"Should Fix\",IF(OR(W22=\"\",W22=\"No\")=TRUE,IF(V22=\"\",\"\",IF(V22>=Comboboxes!A$5,\"Pass\",IF(AND(V22>=Comboboxes!A$6,E22=\"Large\"),\"Pass (large text)\",\"Fail\"))),\"Exempt\"))","v":""},"Text","N/A","N/A","N/A","N/A","N/A","N/A","N/A","N/A","N/A","N/A","N/A","N/A","N/A","N/A","N/A","N/A","N/A","N/A","N/A","N/A","N/A","N/A","N/A","N/A","N/A","N/A","N/A","N/A","N/A","N/A"]
[null,null,null,null,"Small","",0,0,0,0,0,0,0,"",0,0,0,0,0,0,0,"","No",{"$f":"IF(W23=\"Rendered Colours\",\"Should Fix\",IF(OR(W23=\"\",W23=\"No\")=TRUE,IF(V23=\"\",\"\",IF(V23>=Comboboxes!A$5,\"Pass\",IF(AND(V23>=Comboboxes!A$6,E23=\"Large\"),\"Pass (large text)\",\"Fail\"))),\"Exempt\"))","v":""},"Text","N/A","N/A","N/A","N/A","N/A","N/A","N/A","N/A","N/A","N/A","N/A","N/A","N/A","N/A","N/A","N/A","N/A","N/A","N/A","N/A","N/A","N/A","N/A","N/A","N/A","N/A","N/A","N/A","N/A","N/A"]
[null,null,null,null,"Small","",0,0,0,0,0,0,0,"",0,0,0,0,0,0,0,"","No",{"$f":"IF(W24=\"Rendered Colours\",\"Should Fix\",IF(OR(W24=\"\",W24=\"No\")=TRUE,IF(V24=\"\",\"\",IF(V24>=Comboboxes!A$5,\"Pass\",IF(AND(V24>=Comboboxes!A$6,E24=\"Large\"),\"Pass (large text)\",\"Fail\"))),\"Exempt\"))","v":""},"Text","N/A","N/A","N/A","N/A","N/A","N/A","N/A","N/A","N/A","N/A","N/A","N/A","N/A","N/A","N/A","N/A","N/A","N/A","N/A","N/A","N/A","N/A","N/A","N/A","N/A","N/A","N/A","N/A","N/A","N/A"]
[null,null,null,null,"Small","",0,0,0,0,0,0,0,"",0,0,0,0,0,0,0,"","No",{"$f":"IF(W25=\"Rendered Colours\",\"Should Fix\",IF(OR(W25=\"\",W25=\"No\")=TRUE,IF(V25=\"\",\"\",IF(V25>=Comboboxes!A$5,\"Pass\",IF(AND(V25>=Comboboxes!A$6,E25=\"Large\"),\"Pass (large text)\",\"Fail\"))),\"Exempt\"))","v":""},"Text","N/A","N/A","N/A","N/A","N/A","N/A","N/A","N/A","N/A","N/A","N/A","N/A","N/A","N/A","N/A","N/A","N/A","N/A","N/A","N/A","N/A","N/A","N/A","N/A","N/A","N/A","N/A","N/A","N/A","N/A"]
[null,null,null,null,"Small","",0,0,0,0,0,0,0,"",0,0,0,0,0,0,0,"","No",{"$f":"IF(W26=\"Rendered Colours\",\"Should Fix\",IF(OR(W26=\"\",W26=\"No\")=TRUE,IF(V26=\"\",\"\",IF(V26>=Comboboxes!A$5,\"Pass\",IF(AND(V26>=Comboboxes!A$6,E26=\"Large\"),\"Pass (large text)\",\"Fail\"))),\"Exempt\"))","v":""},"Text","N/A","N/A","N/A","N/A","N/A","N/A","N/A","N/A","N/A","N/A","N/A","N/A","N/A","N/A","N/A","N/A","N/A","N/A","N/A","N/A","N/A","N/A","N/A","N/A","N/A","N/A","N/A","N/A","N/A","N/A"]
[null,null,null,null,"Small","",0,0,0,0,0,0,0,"",0,0,0,0,0,0,0,"","No",{"$f":"IF(W27=\"Rendered Colours\",\"Should Fix\",IF(OR(W27=\"\",W27=\"No\")=TRUE,IF(V27=\"\",\"\",IF(V27>=Comboboxes!A$5,\"Pass\",IF(AND(V27>=Comboboxes!A$6,E27=\"Large\"),\"Pass (large text)\",\"Fail\"))),\"Exempt\"))","v":""},"Text","N/A","N/A","N/A","N/A","N/A","N/A","N/A","N/A","N/A","N/A","N/A","N/A","N/A","N/A","N/A","N/A","N/A","N/A","N/A","N/A","N/A","N/A","N/A","N/A","N/A","N/A","N/A","N/A","N/A","N/A"]
[null,null,null,null,"Small","",0,0,0,0,0,0,0,"",0,0,0,0,0,0,0,"","No",{"$f":"IF(W28=\"Rendered Colours\",\"Should Fix\",IF(OR(W28=\"\",W28=\"No\")=TRUE,IF(V28=\"\",\"\",IF(V28>=Comboboxes!A$5,\"Pass\",IF(AND(V28>=Comboboxes!A$6,E28=\"Large\"),\"Pass (large text)\",\"Fail\"))),\"Exempt\"))","v":""},"Text","N/A","N/A","N/A","N/A","N/A","N/A","N/A","N/A","N/A","N/A","N/A","N/A","N/A","N/A","N/A","N/A","N/A","N/A","N/A","N/A","N/A","N/A","N/A","N/A","N/A","N/A","N/A","N/A","N/A","N/A"]
[null,null,null,null,"Small","",0,0,0,0,0,0,0,"",0,0,0,0,0,0,0,"","No",{"$f":"IF(W29=\"Rendered Colours\",\"Should Fix\",IF(OR(W29=\"\",W29=\"No\")=TRUE,IF(V29=\"\",\"\",IF(V29>=Comboboxes!A$5,\"Pass\",IF(AND(V29>=Comboboxes!A$6,E29=\"Large\"),\"Pass (large text)\",\"Fail\"))),\"Exempt\"))","v":""},"Text","N/A","N/A","N/A","N/A","N/A","N/A","N/A","N/A","N/A","N/A","N/A","N/A","N/A","N/A","N/A","N/A","N/A","N/A","N/A","N/A","N/A","N/A","N/A","N/A","N/A","N/A","N/A","N/A","N/A","N/A"]
[null,null,null,null,"Small","",0,0,0,0,0,0,{"$f":"(0.2126*H30)+(0.7152*J30)+(0.0722*L30)","v":0},"",0,0,0,0,0,0,{"$f":"(0.2126*P30)+(0.7152*R30)+(0.0722*T30)","v":0},"","No",{"$f":"IF(W30=\"Rendered Colours\",\"Should Fix\",IF(OR(W30=\"\",W30=\"No\")=TRUE,IF(V30=\"\",\"\",IF(V30>=Comboboxes!A$5,\"Pass\",IF(AND(V30>=Comboboxes!A$6,E30=\"Large\"),\"Pass (large text)\",\"Fail\"))),\"Exempt\"))","v":""},"Text","N/A","N/A","N/A","N/A","N/A","N/A","N/A","N/A","N/A","N/A","N/A","N/A","N/A","N/A","N/A","N/A","N/A","N/A","N/A","N/A","N/A","N/A","N/A","N/A","N/A","N/A","N/A","N/A","N/A","N/A"]
[null,null,null,null,"Small","",0,0,0,0,0,0,0,"",0,0,0,0,0,0,0,"","No",{"$f":"IF(W31=\"Rendered Colours\",\"Should Fix\",IF(OR(W31=\"\",W31=\"No\")=TRUE,IF(V31=\"\",\"\",IF(V31>=Comboboxes!A$5,\"Pass\",IF(AND(V31>=Comboboxes!A$6,E31=\"Large\"),\"Pass (large text)\",\"Fail\"))),\"Exempt\"))","v":""},"Text","N/A","N/A","N/A","N/A","N/A","N/A","N/A","N/A","N/A","N/A","N/A","N/A","N/A","N/A","N/A","N/A","N/A","N/A","N/A","N/A","N/A","N/A","N/A","N/A","N/A","N/A","N/A","N/A","N/A","N/A"]
[null,null,null,null,"Small","",0,0,0,0,0,0,0,"",0,0,0,0,0,0,0,"","No",{"$f":"IF(W32=\"Rendered Colours\",\"Should Fix\",IF(OR(W32=\"\",W32=\"No\")=TRUE,IF(V32=\"\",\"\",IF(V32>=Comboboxes!A$5,\"Pass\",IF(AND(V32>=Comboboxes!A$6,E32=\"Large\"),\"Pass (large text)\",\"Fail\"))),\"Exempt\"))","v":""},"Text","N/A","N/A","N/A","N/A","N/A","N/A","N/A","N/A","N/A","N/A","N/A","N/A","N/A","N/A","N/A","N/A","N/A","N/A","N/A","N/A","N/A","N/A","N/A","N/A","N/A","N/A","N/A","N/A","N/A","N/A"]
[null,null,null,null,"Small","",0,0,0,0,0,0,0,"",0,0,0,0,0,0,0,"","No",{"$f":"IF(W33=\"Rendered Colours\",\"Should Fix\",IF(OR(W33=\"\",W33=\"No\")=TRUE,IF(V33=\"\",\"\",IF(V33>=Comboboxes!A$5,\"Pass\",IF(AND(V33>=Comboboxes!A$6,E33=\"Large\"),\"Pass (large text)\",\"Fail\"))),\"Exempt\"))","v":""},"Text","N/A","N/A","N/A","N/A","N/A","N/A","N/A","N/A","N/A","N/A","N/A","N/A","N/A","N/A","N/A","N/A","N/A","N/A","N/A","N/A","N/A","N/A","N/A","N/A","N/A","N/A","N/A","N/A","N/A","N/A"]
[null,null,null,null,"Small","",0,0,0,0,0,0,0,"",0,0,0,0,0,0,0,"","No",{"$f":"IF(W34=\"Rendered Colours\",\"Should Fix\",IF(OR(W34=\"\",W34=\"No\")=TRUE,IF(V34=\"\",\"\",IF(V34>=Comboboxes!A$5,\"Pass\",IF(AND(V34>=Comboboxes!A$6,E34=\"Large\"),\"Pass (large text)\",\"Fail\"))),\"Exempt\"))","v":""},"Text","N/A","N/A","N/A","N/A","N/A","N/A","N/A","N/A","N/A","N/A","N/A","N/A","N/A","N/A","N/A","N/A","N/A","N/A","N/A","N/A","N/A","N/A","N/A","N/A","N/A","N/A","N/A","N/A","N/A","N/A"]
[null,null,null,null,"Small","",0,0,0,0,0,0,0,"",0,0,0,0,0,0,0,"","No",{"$f":"IF(W35=\"Rendered Colours\",\"Should Fix\",IF(OR(W35=\"\",W35=\"No\")=TRUE,IF(V35=\"\",\"\",IF(V35>=Comboboxes!A$5,\"Pass\",IF(AND(V35>=Comboboxes!A$6,E35=\"Large\"),\"Pass (large text)\",\"Fail\"))),\"Exempt\"))","v":""},"Text","N/A","N/A","N/A","N/A","N/A","N/A","N/A","N/A","N/A","N/A","N/A","N/A","N/A","N/A","N/A","N/A","N/A","N/A","N/A","N/A","N/A","N/A","N/A","N/A","N/A","N/A","N/A","N/A","N/A","N/A"]
[null,null,null,null,"Small","",0,0,0,0,0,0,0,"",0,0,0,0,0,0,0,"","No",{"$f":"IF(W36=\"Rendered Colours\",\"Should Fix\",IF(OR(W36=\"\",W36=\"No\")=TRUE,IF(V36=\"\",\"\",IF(V36>=Comboboxes!A$5,\"Pass\",IF(AND(V36>=Comboboxes!A$6,E36=\"Large\"),\"Pass (large text)\",\"Fail\"))),\"Exempt\"))","v":""},"Text","N/A","N/A","N/A","N/A","N/A","N/A","N/A","N/A","N/A","N/A","N/A","N/A","N/A","N/A","N/A","N/A","N/A","N/A","N/A","N/A","N/A","N/A","N/A","N/A","N/A","N/A","N/A","N/A","N/A","N/A"]
[null,null,null,null,"Small",{"$f":"IF(LEN(D37)=0,\"\",AND(LEFT(D37,1)=\"#\",LEN(D37)=7))","v":""},{"$f":"HEX2DEC(RIGHT(LEFT(D37,3),2))","v":0},0,{"$f":"HEX2DEC(RIGHT(LEFT(D37,5),2))","v":0},0,{"$f":"HEX2DEC(RIGHT(D37,2))","v":0},0,0,{"$f":"IF(LEN(C37)=0,\"\",AND(LEFT(C37,1)=\"#\",LEN(C37)=7))","v":""},{"$f":"HEX2DEC(RIGHT(LEFT(C37,3),2))","v":0},0,{"$f":"HEX2DEC(RIGHT(LEFT(C37,5),2))","v":0},0,{"$f":"HEX2DEC(RIGHT(C37,2))","v":0},0,0,"","No",{"$f":"IF(W37=\"Rendered Colours\",\"Should Fix\",IF(OR(W37=\"\",W37=\"No\")=TRUE,IF(V37=\"\",\"\",IF(V37>=Comboboxes!A$5,\"Pass\",IF(AND(V37>=Comboboxes!A$6,E37=\"Large\"),\"Pass (large text)\",\"Fail\"))),\"Exempt\"))","v":""},"Text","N/A","N/A","N/A","N/A","N/A","N/A","N/A","N/A","N/A","N/A","N/A","N/A","N/A","N/A","N/A","N/A","N/A","N/A","N/A","N/A","N/A","N/A","N/A","N/A","N/A","N/A","N/A","N/A","N/A","N/A"]
[null,null,null,null,"Small","",0,0,0,0,0,0,0,"",0,0,0,0,0,0,0,"","No",{"$f":"IF(W38=\"Rendered Colours\",\"Should Fix\",IF(OR(W38=\"\",W38=\"No\")=TRUE,IF(V38=\"\",\"\",IF(V38>=Comboboxes!A$5,\"Pass\",IF(AND(V38>=Comboboxes!A$6,E38=\"Large\"),\"Pass (large text)\",\"Fail\"))),\"Exempt\"))","v":""},"Text","N/A","N/A","N/A","N/A","N/A","N/A","N/A","N/A","N/A","N/A","N/A","N/A","N/A","N/A","N/A","N/A","N/A","N/A","N/A","N/A","N/A","N/A","N/A","N/A","N/A","N/A","N/A","N/A","N/A","N/A"]
[null,null,null,null,"Small","",0,0,0,0,0,0,0,"",0,0,0,0,0,0,0,"","No",{"$f":"IF(W39=\"Rendered Colours\",\"Should Fix\",IF(OR(W39=\"\",W39=\"No\")=TRUE,IF(V39=\"\",\"\",IF(V39>=Comboboxes!A$5,\"Pass\",IF(AND(V39>=Comboboxes!A$6,E39=\"Large\"),\"Pass (large text)\",\"Fail\"))),\"Exempt\"))","v":""},"Text","N/A","N/A","N/A","N/A","N/A","N/A","N/A","N/A","N/A","N/A","N/A","N/A","N/A","N/A","N/A","N/A","N/A","N/A","N/A","N/A","N/A","N/A","N/A","N/A","N/A","N/A","N/A","N/A","N/A","N/A"]
[null,null,null,null,"Small","",0,0,0,0,0,0,0,"",0,0,0,0,0,0,0,"","No",{"$f":"IF(W40=\"Rendered Colours\",\"Should Fix\",IF(OR(W40=\"\",W40=\"No\")=TRUE,IF(V40=\"\",\"\",IF(V40>=Comboboxes!A$5,\"Pass\",IF(AND(V40>=Comboboxes!A$6,E40=\"Large\"),\"Pass (large text)\",\"Fail\"))),\"Exempt\"))","v":""},"Text","N/A","N/A","N/A","N/A","N/A","N/A","N/A","N/A","N/A","N/A","N/A","N/A","N/A","N/A","N/A","N/A","N/A","N/A","N/A","N/A","N/A","N/A","N/A","N/A","N/A","N/A","N/A","N/A","N/A","N/A"]
[null,null,null,null,"Small","",0,0,0,0,0,0,0,"",0,0,0,0,0,0,0,"","No",{"$f":"IF(W41=\"Rendered Colours\",\"Should Fix\",IF(OR(W41=\"\",W41=\"No\")=TRUE,IF(V41=\"\",\"\",IF(V41>=Comboboxes!A$5,\"Pass\",IF(AND(V41>=Comboboxes!A$6,E41=\"Large\"),\"Pass (large text)\",\"Fail\"))),\"Exempt\"))","v":""},"Text","N/A","N/A","N/A","N/A","N/A","N/A","N/A","N/A","N/A","N/A","N/A","N/A","N/A","N/A","N/A","N/A","N/A","N/A","N/A","N/A","N/A","N/A","N/A","N/A","N/A","N/A","N/A","N/A","N/A","N/A"]
[null,null,null,null,"Small","",0,0,0,0,0,0,{"$f":"(0.2126*H42)+(0.7152*J42)+(0.0722*L42)","v":0},"",0,0,0,0,0,0,{"$f":"(0.2126*P42)+(0.7152*R42)+(0.0722*T42)","v":0},{"$f":"IF(OR(F42=\"\",N42=\"\")=TRUE,\"\",IF(OR(F42=FALSE,N42=FALSE)=TRUE,\"ERROR\",ROUND(IF(M42>U42,(M42+0.05)/(U42+0.05),(U42+0.05)/(M42+0.05)),2)))","v":""},"No",{"$f":"IF(W42=\"Rendered Colours\",\"Should Fix\",IF(OR(W42=\"\",W42=\"No\")=TRUE,IF(V42=\"\",\"\",IF(V42>=Comboboxes!A$5,\"Pass\",IF(AND(V42>=Comboboxes!A$6,E42=\"Large\"),\"Pass (large text)\",\"Fail\"))),\"Exempt\"))","v":""},"Text","N/A","N/A","N/A","N/A","N/A","N/A","N/A","N/A","N/A","N/A","N/A","N/A","N/A","N/A","N/A","N/A","N/A","N/A","N/A","N/A","N/A","N/A","N/A","N/A","N/A","N/A","N/A","N/A","N/A","N/A"]
[null,null,null,null,"Small","",0,0,0,0,0,0,0,"",0,0,0,0,0,0,0,"","No",{"$f":"IF(W43=\"Rendered Colours\",\"Should Fix\",IF(OR(W43=\"\",W43=\"No\")=TRUE,IF(V43=\"\",\"\",IF(V43>=Comboboxes!A$5,\"Pass\",IF(AND(V43>=Comboboxes!A$6,E43=\"Large\"),\"Pass (large text)\",\"Fail\"))),\"Exempt\"))","v":""},"Text","N/A","N/A","N/A","N/A","N/A","N/A","N/A","N/A","N/A","N/A","N/A","N/A","N/A","N/A","N/A","N/A","N/A","N/A","N/A","N/A","N/A","N/A","N/A","N/A","N/A","N/A","N/A","N/A","N/A","N/A"]
[null,null,null,null,"Small","",0,0,0,0,0,0,0,"",0,0,0,0,0,0,0,"","No",{"$f":"IF(W44=\"Rendered Colours\",\"Should Fix\",IF(OR(W44=\"\",W44=\"No\")=TRUE,IF(V44=\"\",\"\",IF(V44>=Comboboxes!A$5,\"Pass\",IF(AND(V44>=Comboboxes!A$6,E44=\"Large\"),\"Pass (large text)\",\"Fail\"))),\"Exempt\"))","v":""},"Text","N/A","N/A","N/A","N/A","N/A","N/A","N/A","N/A","N/A","N/A","N/A","N/A","N/A","N/A","N/A","N/A","N/A","N/A","N/A","N/A","N/A","N/A","N/A","N/A","N/A","N/A","N/A","N/A","N/A","N/A"]
[null,null,null,null,"Small","",0,0,0,0,0,0,0,"",0,0,0,0,0,0,0,"","No",{"$f":"IF(W45=\"Rendered Colours\",\"Should Fix\",IF(OR(W45=\"\",W45=\"No\")=TRUE,IF(V45=\"\",\"\",IF(V45>=Comboboxes!A$5,\"Pass\",IF(AND(V45>=Comboboxes!A$6,E45=\"Large\"),\"Pass (large text)\",\"Fail\"))),\"Exempt\"))","v":""},"Text","N/A","N/A","N/A","N/A","N/A","N/A","N/A","N/A","N/A","N/A","N/A","N/A","N/A","N/A","N/A","N/A","N/A","N/A","N/A","N/A","N/A","N/A","N/A","N/A","N/A","N/A","N/A","N/A","N/A","N/A"]
[null,null,null,null,"Small","",0,0,0,0,0,0,0,"",0,0,0,0,0,0,0,"","No",{"$f":"IF(W46=\"Rendered Colours\",\"Should Fix\",IF(OR(W46=\"\",W46=\"No\")=TRUE,IF(V46=\"\",\"\",IF(V46>=Comboboxes!A$5,\"Pass\",IF(AND(V46>=Comboboxes!A$6,E46=\"Large\"),\"Pass (large text)\",\"Fail\"))),\"Exempt\"))","v":""},"Text","N/A","N/A","N/A","N/A","N/A","N/A","N/A","N/A","N/A","N/A","N/A","N/A","N/A","N/A","N/A","N/A","N/A","N/A","N/A","N/A","N/A","N/A","N/A","N/A","N/A","N/A","N/A","N/A","N/A","N/A"]
[null,null,null,null,"Small","",0,0,0,0,0,0,0,"",0,0,0,0,0,0,0,"","No",{"$f":"IF(W47=\"Rendered Colours\",\"Should Fix\",IF(OR(W47=\"\",W47=\"No\")=TRUE,IF(V47=\"\",\"\",IF(V47>=Comboboxes!A$5,\"Pass\",IF(AND(V47>=Comboboxes!A$6,E47=\"Large\"),\"Pass (large text)\",\"Fail\"))),\"Exempt\"))","v":""},"Text","N/A","N/A","N/A","N/A","N/A","N/A","N/A","N/A","N/A","N/A","N/A","N/A","N/A","N/A","N/A","N/A","N/A","N/A","N/A","N/A","N/A","N/A","N/A","N/A","N/A","N/A","N/A","N/A","N/A","N/A"]
[null,null,null,null,"Small","",0,0,0,0,0,0,0,"",0,0,0,0,0,0,0,"","No",{"$f":"IF(W48=\"Rendered Colours\",\"Should Fix\",IF(OR(W48=\"\",W48=\"No\")=TRUE,IF(V48=\"\",\"\",IF(V48>=Comboboxes!A$5,\"Pass\",IF(AND(V48>=Comboboxes!A$6,E48=\"Large\"),\"Pass (large text)\",\"Fail\"))),\"Exempt\"))","v":""},"Text","N/A","N/A","N/A","N/A","N/A","N/A","N/A","N/A","N/A","N/A","N/A","N/A","N/A","N/A","N/A","N/A","N/A","N/A","N/A","N/A","N/A","N/A","N/A","N/A","N/A","N/A","N/A","N/A","N/A","N/A"]
[null,null,null,null,"Small","",0,0,0,0,0,0,0,"",0,0,0,0,0,0,0,"","No",{"$f":"IF(W49=\"Rendered Colours\",\"Should Fix\",IF(OR(W49=\"\",W49=\"No\")=TRUE,IF(V49=\"\",\"\",IF(V49>=Comboboxes!A$5,\"Pass\",IF(AND(V49>=Comboboxes!A$6,E49=\"Large\"),\"Pass (large text)\",\"Fail\"))),\"Exempt\"))","v":""},"Text","N/A","N/A","N/A","N/A","N/A","N/A","N/A","N/A","N/A","N/A","N/A","N/A","N/A","N/A","N/A","N/A","N/A","N/A","N/A","N/A","N/A","N/A","N/A","N/A","N/A","N/A","N/A","N/A","N/A","N/A"]
[null,null,null,null,"Small","",0,0,0,0,0,0,0,"",0,0,0,0,0,0,0,"","No",{"$f":"IF(W50=\"Rendered Colours\",\"Should Fix\",IF(OR(W50=\"\",W50=\"No\")=TRUE,IF(V50=\"\",\"\",IF(V50>=Comboboxes!A$5,\"Pass\",IF(AND(V50>=Comboboxes!A$6,E50=\"Large\"),\"Pass (large text)\",\"Fail\"))),\"Exempt\"))","v":""},"Text","N/A","N/A","N/A","N/A","N/A","N/A","N/A","N/A","N/A","N/A","N/A","N/A","N/A","N/A","N/A","N/A","N/A","N/A","N/A","N/A","N/A","N/A","N/A","N/A","N/A","N/A","N/A","N/A","N/A","N/A"]
[null,null,null,null,"Small","",0,0,0,0,0,0,0,"",0,0,0,0,0,0,0,"","No",{"$f":"IF(W51=\"Rendered Colours\",\"Should Fix\",IF(OR(W51=\"\",W51=\"No\")=TRUE,IF(V51=\"\",\"\",IF(V51>=Comboboxes!A$5,\"Pass\",IF(AND(V51>=Comboboxes!A$6,E51=\"Large\"),\"Pass (large text)\",\"Fail\"))),\"Exempt\"))","v":""},"Text","N/A","N/A","N/A","N/A","N/A","N/A","N/A","N/A","N/A","N/A","N/A","N/A","N/A","N/A","N/A","N/A","N/A","N/A","N/A","N/A","N/A","N/A","N/A","N/A","N/A","N/A","N/A","N/A","N/A","N/A"]
[null,null,null,null,"Small","",0,0,0,0,0,0,0,"",0,0,0,0,0,0,0,"","No",{"$f":"IF(W52=\"Rendered Colours\",\"Should Fix\",IF(OR(W52=\"\",W52=\"No\")=TRUE,IF(V52=\"\",\"\",IF(V52>=Comboboxes!A$5,\"Pass\",IF(AND(V52>=Comboboxes!A$6,E52=\"Large\"),\"Pass (large text)\",\"Fail\"))),\"Exempt\"))","v":""},"Text","N/A","N/A","N/A","N/A","N/A","N/A","N/A","N/A","N/A","N/A","N/A","N/A","N/A","N/A","N/A","N/A","N/A","N/A","N/A","N/A","N/A","N/A","N/A","N/A","N/A","N/A","N/A","N/A","N/A","N/A"]
[null,null,null,null,"Small","",0,0,0,0,0,0,0,"",0,0,0,0,0,0,0,"","No",{"$f":"IF(W53=\"Rendered Colours\",\"Should Fix\",IF(OR(W53=\"\",W53=\"No\")=TRUE,IF(V53=\"\",\"\",IF(V53>=Comboboxes!A$5,\"Pass\",IF(AND(V53>=Comboboxes!A$6,E53=\"Large\"),\"Pass (large text)\",\"Fail\"))),\"Exempt\"))","v":""},"Text","N/A","N/A","N/A","N/A","N/A","N/A","N/A","N/A","N/A","N/A","N/A","N/A","N/A","N/A","N/A","N/A","N/A","N/A","N/A","N/A","N/A","N/A","N/A","N/A","N/A","N/A","N/A","N/A","N/A","N/A"]
[null,null,null,null,"Small","",0,0,0,0,0,0,0,"",0,0,0,0,0,0,0,"","No",{"$f":"IF(W54=\"Rendered Colours\",\"Should Fix\",IF(OR(W54=\"\",W54=\"No\")=TRUE,IF(V54=\"\",\"\",IF(V54>=Comboboxes!A$5,\"Pass\",IF(AND(V54>=Comboboxes!A$6,E54=\"Large\"),\"Pass (large text)\",\"Fail\"))),\"Exempt\"))","v":""},"Text","N/A","N/A","N/A","N/A","N/A","N/A","N/A","N/A","N/A","N/A","N/A","N/A","N/A","N/A","N/A","N/A","N/A","N/A","N/A","N/A","N/A","N/A","N/A","N/A","N/A","N/A","N/A","N/A","N/A","N/A"]
[null,null,null,null,"Small","",0,0,0,0,0,0,0,"",0,0,0,0,0,0,0,"","No",{"$f":"IF(W55=\"Rendered Colours\",\"Should Fix\",IF(OR(W55=\"\",W55=\"No\")=TRUE,IF(V55=\"\",\"\",IF(V55>=Comboboxes!A$5,\"Pass\",IF(AND(V55>=Comboboxes!A$6,E55=\"Large\"),\"Pass (large text)\",\"Fail\"))),\"Exempt\"))","v":""},"Text","N/A","N/A","N/A","N/A","N/A","N/A","N/A","N/A","N/A","N/A","N/A","N/A","N/A","N/A","N/A","N/A","N/A","N/A","N/A","N/A","N/A","N/A","N/A","N/A","N/A","N/A","N/A","N/A","N/A","N/A"]
[null,null,null,null,"Small","",0,0,0,0,0,0,0,"",0,0,0,0,0,0,0,"","No",{"$f":"IF(W56=\"Rendered Colours\",\"Should Fix\",IF(OR(W56=\"\",W56=\"No\")=TRUE,IF(V56=\"\",\"\",IF(V56>=Comboboxes!A$5,\"Pass\",IF(AND(V56>=Comboboxes!A$6,E56=\"Large\"),\"Pass (large text)\",\"Fail\"))),\"Exempt\"))","v":""},"Text","N/A","N/A","N/A","N/A","N/A","N/A","N/A","N/A","N/A","N/A","N/A","N/A","N/A","N/A","N/A","N/A","N/A","N/A","N/A","N/A","N/A","N/A","N/A","N/A","N/A","N/A","N/A","N/A","N/A","N/A"]
[null,null,null,null,"Small","",0,0,0,0,0,0,0,"",0,0,0,0,0,0,0,"","No",{"$f":"IF(W57=\"Rendered Colours\",\"Should Fix\",IF(OR(W57=\"\",W57=\"No\")=TRUE,IF(V57=\"\",\"\",IF(V57>=Comboboxes!A$5,\"Pass\",IF(AND(V57>=Comboboxes!A$6,E57=\"Large\"),\"Pass (large text)\",\"Fail\"))),\"Exempt\"))","v":""},"Text","N/A","N/A","N/A","N/A","N/A","N/A","N/A","N/A","N/A","N/A","N/A","N/A","N/A","N/A","N/A","N/A","N/A","N/A","N/A","N/A","N/A","N/A","N/A","N/A","N/A","N/A","N/A","N/A","N/A","N/A"]
[null,null,null,null,"Small","",0,0,0,0,0,0,0,"",0,0,0,0,0,0,0,"","No",{"$f":"IF(W58=\"Rendered Colours\",\"Should Fix\",IF(OR(W58=\"\",W58=\"No\")=TRUE,IF(V58=\"\",\"\",IF(V58>=Comboboxes!A$5,\"Pass\",IF(AND(V58>=Comboboxes!A$6,E58=\"Large\"),\"Pass (large text)\",\"Fail\"))),\"Exempt\"))","v":""},"Text","N/A","N/A","N/A","N/A","N/A","N/A","N/A","N/A","N/A","N/A","N/A","N/A","N/A","N/A","N/A","N/A","N/A","N/A","N/A","N/A","N/A","N/A","N/A","N/A","N/A","N/A","N/A","N/A","N/A","N/A"]
[null,null,null,null,"Small","",0,0,0,0,0,0,0,"",0,0,0,0,0,0,0,"","No",{"$f":"IF(W59=\"Rendered Colours\",\"Should Fix\",IF(OR(W59=\"\",W59=\"No\")=TRUE,IF(V59=\"\",\"\",IF(V59>=Comboboxes!A$5,\"Pass\",IF(AND(V59>=Comboboxes!A$6,E59=\"Large\"),\"Pass (large text)\",\"Fail\"))),\"Exempt\"))","v":""},"Text","N/A","N/A","N/A","N/A","N/A","N/A","N/A","N/A","N/A","N/A","N/A","N/A","N/A","N/A","N/A","N/A","N/A","N/A","N/A","N/A","N/A","N/A","N/A","N/A","N/A","N/A","N/A","N/A","N/A","N/A"]
[null,null,null,null,"Small","",0,0,0,0,0,0,0,"",0,0,0,0,0,0,0,"","No",{"$f":"IF(W60=\"Rendered Colours\",\"Should Fix\",IF(OR(W60=\"\",W60=\"No\")=TRUE,IF(V60=\"\",\"\",IF(V60>=Comboboxes!A$5,\"Pass\",IF(AND(V60>=Comboboxes!A$6,E60=\"Large\"),\"Pass (large text)\",\"Fail\"))),\"Exempt\"))","v":""},"Text","N/A","N/A","N/A","N/A","N/A","N/A","N/A","N/A","N/A","N/A","N/A","N/A","N/A","N/A","N/A","N/A","N/A","N/A","N/A","N/A","N/A","N/A","N/A","N/A","N/A","N/A","N/A","N/A","N/A","N/A"]
[null,null,null,null,"Small","",0,0,0,0,0,0,0,"",0,0,0,0,0,0,0,"","No",{"$f":"IF(W61=\"Rendered Colours\",\"Should Fix\",IF(OR(W61=\"\",W61=\"No\")=TRUE,IF(V61=\"\",\"\",IF(V61>=Comboboxes!A$5,\"Pass\",IF(AND(V61>=Comboboxes!A$6,E61=\"Large\"),\"Pass (large text)\",\"Fail\"))),\"Exempt\"))","v":""},"Text","N/A","N/A","N/A","N/A","N/A","N/A","N/A","N/A","N/A","N/A","N/A","N/A","N/A","N/A","N/A","N/A","N/A","N/A","N/A","N/A","N/A","N/A","N/A","N/A","N/A","N/A","N/A","N/A","N/A","N/A"]
[null,null,null,null,"Small","",0,0,0,0,0,0,0,"",0,0,0,0,0,0,0,"","No",{"$f":"IF(W62=\"Rendered Colours\",\"Should Fix\",IF(OR(W62=\"\",W62=\"No\")=TRUE,IF(V62=\"\",\"\",IF(V62>=Comboboxes!A$5,\"Pass\",IF(AND(V62>=Comboboxes!A$6,E62=\"Large\"),\"Pass (large text)\",\"Fail\"))),\"Exempt\"))","v":""},"Text","N/A","N/A","N/A","N/A","N/A","N/A","N/A","N/A","N/A","N/A","N/A","N/A","N/A","N/A","N/A","N/A","N/A","N/A","N/A","N/A","N/A","N/A","N/A","N/A","N/A","N/A","N/A","N/A","N/A","N/A"]
[null,null,null,null,"Small","",0,0,0,0,0,0,0,"",0,0,0,0,0,0,0,"","No",{"$f":"IF(W63=\"Rendered Colours\",\"Should Fix\",IF(OR(W63=\"\",W63=\"No\")=TRUE,IF(V63=\"\",\"\",IF(V63>=Comboboxes!A$5,\"Pass\",IF(AND(V63>=Comboboxes!A$6,E63=\"Large\"),\"Pass (large text)\",\"Fail\"))),\"Exempt\"))","v":""},"Text","N/A","N/A","N/A","N/A","N/A","N/A","N/A","N/A","N/A","N/A","N/A","N/A","N/A","N/A","N/A","N/A","N/A","N/A","N/A","N/A","N/A","N/A","N/A","N/A","N/A","N/A","N/A","N/A","N/A","N/A"]
[null,null,null,null,"Small","",0,0,0,0,0,0,0,"",0,0,0,0,0,0,0,"","No",{"$f":"IF(W64=\"Rendered Colours\",\"Should Fix\",IF(OR(W64=\"\",W64=\"No\")=TRUE,IF(V64=\"\",\"\",IF(V64>=Comboboxes!A$5,\"Pass\",IF(AND(V64>=Comboboxes!A$6,E64=\"Large\"),\"Pass (large text)\",\"Fail\"))),\"Exempt\"))","v":""},"Text","N/A","N/A","N/A","N/A","N/A","N/A","N/A","N/A","N/A","N/A","N/A","N/A","N/A","N/A","N/A","N/A","N/A","N/A","N/A","N/A","N/A","N/A","N/A","N/A","N/A","N/A","N/A","N/A","N/A","N/A"]
[null,null,null,null,"Small","",0,0,0,0,0,0,0,"",0,0,0,0,0,0,0,"","No",{"$f":"IF(W65=\"Rendered Colours\",\"Should Fix\",IF(OR(W65=\"\",W65=\"No\")=TRUE,IF(V65=\"\",\"\",IF(V65>=Comboboxes!A$5,\"Pass\",IF(AND(V65>=Comboboxes!A$6,E65=\"Large\"),\"Pass (large text)\",\"Fail\"))),\"Exempt\"))","v":""},"Text","N/A","N/A","N/A","N/A","N/A","N/A","N/A","N/A","N/A","N/A","N/A","N/A","N/A","N/A","N/A","N/A","N/A","N/A","N/A","N/A","N/A","N/A","N/A","N/A","N/A","N/A","N/A","N/A","N/A","N/A"]
[null,null,null,null,"Small","",0,0,0,0,0,0,0,"",0,0,0,0,0,0,0,"","No",{"$f":"IF(W66=\"Rendered Colours\",\"Should Fix\",IF(OR(W66=\"\",W66=\"No\")=TRUE,IF(V66=\"\",\"\",IF(V66>=Comboboxes!A$5,\"Pass\",IF(AND(V66>=Comboboxes!A$6,E66=\"Large\"),\"Pass (large text)\",\"Fail\"))),\"Exempt\"))","v":""},"Text","N/A","N/A","N/A","N/A","N/A","N/A","N/A","N/A","N/A","N/A","N/A","N/A","N/A","N/A","N/A","N/A","N/A","N/A","N/A","N/A","N/A","N/A","N/A","N/A","N/A","N/A","N/A","N/A","N/A","N/A"]
[null,null,null,null,"Small","",0,0,0,0,0,0,0,"",0,0,0,0,0,0,0,"","No",{"$f":"IF(W67=\"Rendered Colours\",\"Should Fix\",IF(OR(W67=\"\",W67=\"No\")=TRUE,IF(V67=\"\",\"\",IF(V67>=Comboboxes!A$5,\"Pass\",IF(AND(V67>=Comboboxes!A$6,E67=\"Large\"),\"Pass (large text)\",\"Fail\"))),\"Exempt\"))","v":""},"Text","N/A","N/A","N/A","N/A","N/A","N/A","N/A","N/A","N/A","N/A","N/A","N/A","N/A","N/A","N/A","N/A","N/A","N/A","N/A","N/A","N/A","N/A","N/A","N/A","N/A","N/A","N/A","N/A","N/A","N/A"]
[null,null,null,null,"Small","",0,0,0,0,0,0,0,"",0,0,0,0,0,0,0,"","No",{"$f":"IF(W68=\"Rendered Colours\",\"Should Fix\",IF(OR(W68=\"\",W68=\"No\")=TRUE,IF(V68=\"\",\"\",IF(V68>=Comboboxes!A$5,\"Pass\",IF(AND(V68>=Comboboxes!A$6,E68=\"Large\"),\"Pass (large text)\",\"Fail\"))),\"Exempt\"))","v":""},"Text","N/A","N/A","N/A","N/A","N/A","N/A","N/A","N/A","N/A","N/A","N/A","N/A","N/A","N/A","N/A","N/A","N/A","N/A","N/A","N/A","N/A","N/A","N/A","N/A","N/A","N/A","N/A","N/A","N/A","N/A"]
[null,null,null,null,"Small","",0,0,0,0,0,0,{"$f":"(0.2126*H69)+(0.7152*J69)+(0.0722*L69)","v":0},"",0,0,0,0,0,0,{"$f":"(0.2126*P69)+(0.7152*R69)+(0.0722*T69)","v":0},{"$f":"IF(OR(F69=\"\",N69=\"\")=TRUE,\"\",IF(OR(F69=FALSE,N69=FALSE)=TRUE,\"ERROR\",ROUND(IF(M69>U69,(M69+0.05)/(U69+0.05),(U69+0.05)/(M69+0.05)),2)))","v":""},"No",{"$f":"IF(W69=\"Rendered Colours\",\"Should Fix\",IF(OR(W69=\"\",W69=\"No\")=TRUE,IF(V69=\"\",\"\",IF(V69>=Comboboxes!A$5,\"Pass\",IF(AND(V69>=Comboboxes!A$6,E69=\"Large\"),\"Pass (large text)\",\"Fail\"))),\"Exempt\"))","v":""},"Text","N/A","N/A","N/A","N/A","N/A","N/A","N/A","N/A","N/A","N/A","N/A","N/A","N/A","N/A","N/A","N/A","N/A","N/A","N/A","N/A","N/A","N/A","N/A","N/A","N/A","N/A","N/A","N/A","N/A","N/A"]
[null,null,null,null,"Small","",0,0,0,0,0,0,{"$f":"(0.2126*H70)+(0.7152*J70)+(0.0722*L70)","v":0},"",0,0,0,0,0,0,{"$f":"(0.2126*P70)+(0.7152*R70)+(0.0722*T70)","v":0},{"$f":"IF(OR(F70=\"\",N70=\"\")=TRUE,\"\",IF(OR(F70=FALSE,N70=FALSE)=TRUE,\"ERROR\",ROUND(IF(M70>U70,(M70+0.05)/(U70+0.05),(U70+0.05)/(M70+0.05)),2)))","v":""},"No",{"$f":"IF(W70=\"Rendered Colours\",\"Should Fix\",IF(OR(W70=\"\",W70=\"No\")=TRUE,IF(V70=\"\",\"\",IF(V70>=Comboboxes!A$5,\"Pass\",IF(AND(V70>=Comboboxes!A$6,E70=\"Large\"),\"Pass (large text)\",\"Fail\"))),\"Exempt\"))","v":""},"Text","N/A","N/A","N/A","N/A","N/A","N/A","N/A","N/A","N/A","N/A","N/A","N/A","N/A","N/A","N/A","N/A","N/A","N/A","N/A","N/A","N/A","N/A","N/A","N/A","N/A","N/A","N/A","N/A","N/A","N/A"]
[]
["Colour combinations shown in pink do not meet the contrast ratio (4.5:1 Minimum) recommended by W3C WCAG 2.0"]
[]
["Note that a contrast ratio of 3:1 is acceptable for large text e.g. 14 point bold or 18 point normal weight."]
["End of content."]

{"sheet":"Non-text Contrast","index":7,"n_rows":69,"n_cols":177,"rows_kept":69,"cut":false,"hidden":false,"merged":[[0,0,1,6]]}
["\nColour Contrast Analysis for combinations\nof adjacent colours",null,null,null,null,null,null,null,null,null,null,null,null,null,null,null,null,null,null,null,null,null,null,null,null,null,{"$f":"IF(INDIRECT(\"'Statistics'!\" & ADDRESS(COLUMN()-12,2))=\"\",\"\",INDIRECT(\"'Statistics'!\" & ADDRESS(COLUMN()-12,2)))","v":"page 1"},"page 2","page 3","page 4","page 5","page 6","page 7","Header (Pre-login) (Admin)","Footer (Pre-login) (Admin)","Login (Admin)","Header (Post-login) (Admin)","Footer (Post-login) (Admin)","Menu (Admin)","View record (Admin)","Edit record (Admin)","Step 1: Enforcement Action Type ","Step 1: Postal Address","Step 3: Enforcement Action - Details","My Records","Users","Search","decision-1692365159.pdf","Edit user","Letter Template: Letters Decision Amend","Suspend Enforcement Actions (Public) (Checkbox only)","Suspend Enforcement Actions (Public) - are you sure?","Decision Letter Entities (Table only)","Page 28","Page 29","Page 30","Page 31","Page 32",{"$f":"IF(INDIRECT(\"'Statistics'!\" & ADDRESS(COLUMN()-12,2))=\"\",\"\",INDIRECT(\"'Statistics'!\" & ADDRESS(COLUMN()-12,2)))","v":"Page 33"},"Page 34","Page 35","Page 36","Page 37","Page 38","Page 39","Page 40","Page 41","Page 42","Page 43","Page 44","Page 45","Page 46","Page 47","Page 48","Page 49","Page 50","Page 51","Page 52","Page 53","Page 54","Page 55","Page 56","Page 57","Page 58","Page 59","Page 60","Page 61","Page 62","Page 63","Page 64",{"$f":"IF(INDIRECT(\"'Statistics'!\" & ADDRESS(COLUMN()-12,2))=\"\",\"\",INDIRECT(\"'Statistics'!\" & ADDRESS(COLUMN()-12,2)))","v":"Page 65"},"Page 66","Page 67","Page 68","Page 69","Page 70","Page 71","Page 72","Page 73","Page 74","Page 75","Page 76","Page 77","Page 78","Page 79","Page 80","Page 81","Page 82","Page 83","Page 84","Page 85","Page 86","Page 87","Page 88","Page 89","Page 90","Page 91","Page 92","Page 93","Page 94","Page 95","Page 96",{"$f":"IF(INDIRECT(\"'Statistics'!\" & ADDRESS(COLUMN()-12,2))=\"\",\"\",INDIRECT(\"'Statistics'!\" & ADDRESS(COLUMN()-12,2)))","v":"Page 97"},"Page 98","Page 99","Page 100","Page 101","Page 102","Page 103","Page 104","Page 105","Page 106","Page 107","Page 108","Page 109","Page 110","Page 111","Page 112","Page 113","Page 114","Page 115","Page 116","Page 117","Page 118","Page 119","Page 120","Page 121","Page 122","Page 123","Page 124","Page 125","Page 126","Page 127","Page 128",{"$f":"IF(INDIRECT(\"'Statistics'!\" & ADDRESS(COLUMN()-12,2))=\"\",\"\",INDIRECT(\"'Statistics'!\" & ADDRESS(COLUMN()-12,2)))","v":"Page 129"},"Page 130","Page 131","Page 132","Page 133","Page 134","Page 135","Page 136","Page 137","Page 138","Page 139","Page 140","Page 141","Page 142","Page 143","Page 144","Page 145","Page 146","Page 147","Page 148","Page 149","Page 150","End of content."]
[null,null,null,null,null,null,null,null,null,null,null,null,null,null,null,null,null,null,null,null,null,null,null,null,null,null,{"$f":"IF(INDIRECT(\"'Statistics'!\" & ADDRESS(COLUMN()-12,3))=\"\",\"\",INDIRECT(\"'Statistics'!\" & ADDRESS(COLUMN()-12,3)))","v":""},"","","","","","","https://rlac-test.glatest.org.uk/login","https://rlac-test.glatest.org.uk/login","https://rlac-test.glatest.org.uk/login","https://rlac-test.glatest.org.uk/login","https://rlac-test.glatest.org.uk/login","https://rlac-test.glatest.org.uk/login","https://rlac-test.glatest.org.uk/app/records/entity?id=952","https://rlac-test.glatest.org.uk/app/records/entity?id=952","https://rlac-test.glatest.org.uk/app/records/create","https://rlac-test.glatest.org.uk/app/records/create","https://rlac-test.glatest.org.uk/app/records/create","URL 30","https://rlac-test.glatest.org.uk/app/users","https://rlac-test.glatest.org.uk/app/records/search","N/A","https://rlac-test.glatest.org.uk/app/users/entity?id=251","https://rlac-test.glatest.org.uk/app/configure/letters-decision-amend","https://rlac-test.glatest.org.uk/app/workflow/suspend-records/public","https://rlac-test.glatest.org.uk/app/workflow/suspend-records/public","https://rlac-test.glatest.org.uk/app/manage/decision-letters","URL 30","URL 30","URL 30","URL 31","URL 32",{"$f":"IF(INDIRECT(\"'Statistics'!\" & ADDRESS(COLUMN()-12,3))=\"\",\"\",INDIRECT(\"'Statistics'!\" & ADDRESS(COLUMN()-12,3)))","v":"URL 33"},"URL 34","URL 35","URL 36","URL 37","URL 38","URL 39","URL 40","URL 41","URL 42","URL 43","URL 44","URL 45","URL 46","URL 47","URL 48","URL 49","URL 50","URL 51","URL 52","URL 53","URL 54","URL 55","URL 56","URL 57","URL 58","URL 59","URL 60","URL 61","URL 62","URL 63","URL 64",{"$f":"IF(INDIRECT(\"'Statistics'!\" & ADDRESS(COLUMN()-12,3))=\"\",\"\",INDIRECT(\"'Statistics'!\" & ADDRESS(COLUMN()-12,3)))","v":"URL 65"},"URL 66","URL 67","URL 68","URL 69","URL 70","URL 71","URL 72","URL 73","URL 74","URL 75","URL 76","URL 77","URL 78","URL 79","URL 80","URL 81","URL 82","URL 83","URL 84","URL 85","URL 86","URL 87","URL 88","URL 89","URL 90","URL 91","URL 92","URL 93","URL 94","URL 95","URL 96",{"$f":"IF(INDIRECT(\"'Statistics'!\" & ADDRESS(COLUMN()-12,3))=\"\",\"\",INDIRECT(\"'Statistics'!\" & ADDRESS(COLUMN()-12,3)))","v":"URL 97"},"URL 98","URL 99","URL 100","URL 101","URL 102","URL 103","URL 104","URL 105","URL 106","URL 107","URL 108","URL 109","URL 110","URL 111","URL 112","URL 113","URL 114","URL 115","URL 116","URL 117","URL 118","URL 119","URL 120","URL 121","URL 122","URL 123","URL 124","URL 125","URL 126","URL 127","URL 128",{"$f":"IF(INDIRECT(\"'Statistics'!\" & ADDRESS(COLUMN()-12,3))=\"\",\"\",INDIRECT(\"'Statistics'!\" & ADDRESS(COLUMN()-12,3)))","v":"URL 129"},"URL 130","URL 131","URL 132","URL 133","URL 134","URL 135","URL 136","URL 137","URL 138","URL 139","URL 140","URL 141","URL 142","URL 143","URL 144","URL 145","URL 146","URL 147","URL 148","URL 149","URL 150"]
[null,null,null,null,null,null,null,null,null,null,null,null,null,null,null,null,null,null,null,null,null,null,null,null,null,null,"Page #1","Page #2","Page #3","Page #4","Page #5","Page #6","Page #7","Page #8","Page #9","Page #10","Page #11","Page #12","Page #13","Page #14","Page #15","Page #16","Page #17","Page #18","Page #19","Page #20","Page #21","Page #22","Page #23","Page #24","Page #25","Page #26","Page #27","Page #28","Page #29","Page #30","Page #31","Page #32","Page #33","Page #34","Page #35","Page #36","Page #37","Page #38","Page #39","Page #40","Page #41","Page #42","Page #43","Page #44","Page #45","Page #46","Page #47","Page #48","Page #49","Page #50","Page #51","Page #52","Page #53","Page #54","Page #55","Page #56","Page #57","Page #58","Page #59","Page #60","Page #61","Page #62","Page #63","Page #64","Page #65","Page #66","Page #67","Page #68","Page #69","Page #70","Page #71","Page #72","Page #73","Page #74","Page #75","Page #76","Page #77","Page #78","Page #79","Page #80","Page #81","Page #82","Page #83","Page #84","Page #85","Page #86","Page #87","Page #88","Page #89","Page #90","Page #91","Page #92","Page #93","Page #94","Page #95","Page #96","Page #97","Page #98","Page #99","Page #100","Page #101","Page #102","Page #103","Page #104","Page #105","Page #106","Page #107","Page #108","Page #109","Page #110","Page #111","Page #112","Page #113","Page #114","Page #115","Page #116","Page #117","Page #118","Page #119","Page #120","Page #121","Page #122","Page #123","Page #124","Page #125","Page #126","Page #127","Page #128","Page #129","Page #130","Page #131","Page #132","Page #133","Page #134","Page #135","Page #136","Page #137","Page #138","Page #139","Page #140","Page #141","Page #142","Page #143","Page #144","Page #145","Page #146","Page #147","Page #148","Page #149","Page #150"]
["Page Area","What we are comparing","Image","Recommendation (image)","Recommendation (description)","Colour","Adjacent Colour","Adjacent Colour","Adjacent Colour","Adjacent Colour","Adjacent Colour","Adjacent Colour","Adjacent Colour","Adjacent Colour","Adjacent Colour","Adjacent Colour","Adjacent Colour","Adjacent Colour","Adjacent Colour","Adjacent Colour","Adjacent Colour","Adjacent Colour","Adjacent Colour","Contrast Ratio","Exempt","All Results",{"$f":"COUNTIF(AA5:AA995,\"Fail\") & \" Fault\" & IF(COUNTIF(AA5:AA995,\"Fail\")=1,\"\",\"s\")","v":"0 Faults"},"0 Faults","0 Faults","0 Faults","0 Faults","0 Faults","0 Faults","0 Faults","0 Faults","0 Faults","0 Faults","0 Faults","0 Faults","0 Faults","0 Faults","0 Faults","0 Faults","0 Faults","0 Faults","0 Faults","0 Faults","0 Faults","0 Faults","0 Faults","0 Faults","0 Faults","0 Faults","0 Faults","0 Faults","0 Faults","0 Faults","0 Faults",{"$f":"COUNTIF(BG5:BG995,\"Fail\") & \" Fault\" & IF(COUNTIF(BG5:BG995,\"Fail\")=1,\"\",\"s\")","v":"0 Faults"},"0 Faults","0 Faults","0 Faults","0 Faults","0 Faults","0 Faults","0 Faults","0 Faults","0 Faults","0 Faults","0 Faults","0 Faults","0 Faults","0 Faults","0 Faults","0 Faults","0 Faults","0 Faults","0 Faults","0 Faults","0 Faults","0 Faults","0 Faults","0 Faults","0 Faults","0 Faults","0 Faults","0 Faults","0 Faults","0 Faults","0 Faults",{"$f":"COUNTIF(CM5:CM995,\"Fail\") & \" Fault\" & IF(COUNTIF(CM5:CM995,\"Fail\")=1,\"\",\"s\")","v":"0 Faults"},"0 Faults","0 Faults","0 Faults","0 Faults","0 Faults","0 Faults","0 Faults","0 Faults","0 Faults","0 Faults","0 Faults","0 Faults","0 Faults","0 Faults","0 Faults","0 Faults","0 Faults","0 Faults","0 Faults","0 Faults","0 Faults","0 Faults","0 Faults","0 Faults","0 Faults","0 Faults","0 Faults","0 Faults","0 Faults","0 Faults","0 Faults",{"$f":"COUNTIF(DS5:DS995,\"Fail\") & \" Fault\" & IF(COUNTIF(DS5:DS995,\"Fail\")=1,\"\",\"s\")","v":"0 Faults"},"0 Faults","0 Faults","0 Faults","0 Faults","0 Faults","0 Faults","0 Faults","0 Faults","0 Faults","0 Faults","0 Faults","0 Faults","0 Faults","0 Faults","0 Faults","0 Faults","0 Faults","0 Faults","0 Faults","0 Faults","0 Faults","0 Faults","0 Faults","0 Faults","0 Faults","0 Faults","0 Faults","0 Faults","0 Faults","0 Faults","0 Faults",{"$f":"COUNTIF(EY5:EY995,\"Fail\") & \" Fault\" & IF(COUNTIF(EY5:EY995,\"Fail\")=1,\"\",\"s\")","v":"0 Faults"},"0 Faults","0 Faults","0 Faults","0 Faults","0 Faults","0 Faults","0 Faults","0 Faults","0 Faults","0 Faults","0 Faults","0 Faults","0 Faults","0 Faults","0 Faults","0 Faults","0 Faults","0 Faults","0 Faults","0 Faults","0 Faults"]
[null,null,null,null,null,null,null,{"$f":"IF(LEN(F5)=0,\"\",AND(LEFT(F5,1)=\"#\",LEN(F5)=7))","v":""},{"$f":"HEX2DEC(RIGHT(LEFT(F5,3),2))","v":0},{"$f":"IF(I5/255<= 0.03928,I5/(255*12.92),(((I5/255)+0.055)/1.055)^2.4)","v":0},{"$f":"HEX2DEC(RIGHT(LEFT(F5,5),2))","v":0},{"$f":"IF(K5/255<= 0.03928,K5/(255*12.92),(((K5/255)+0.055)/1.055)^2.4)","v":0},{"$f":"HEX2DEC(RIGHT(F5,2))","v":0},{"$f":"IF(M5/255<= 0.03928,M5/(255*12.92),(((M5/255)+0.055)/1.055)^2.4)","v":0},{"$f":"(0.2126*J5)+(0.7152*L5)+(0.0722*N5)","v":0},{"$f":"IF(LEN(G5)=0,\"\",AND(LEFT(G5,1)=\"#\",LEN(G5)=7))","v":""},{"$f":"HEX2DEC(RIGHT(LEFT(G5,3),2))","v":0},{"$f":"IF(Q5/255<= 0.03928,Q5/(255*12.92),(((Q5/255)+0.055)/1.055)^2.4)","v":0},{"$f":"HEX2DEC(RIGHT(LEFT(G5,5),2))","v":0},{"$f":"IF(S5/255<= 0.03928,S5/(255*12.92),(((S5/255)+0.055)/1.055)^2.4)","v":0},{"$f":"HEX2DEC(RIGHT(G5,2))","v":0},{"$f":"IF(U5/255<= 0.03928,U5/(255*12.92),(((U5/255)+0.055)/1.055)^2.4)","v":0},{"$f":"(0.2126*R5)+(0.7152*T5)+(0.0722*V5)","v":0},{"$f":"IF(OR(H5=\"\",P5=\"\")=TRUE,\"\",IF(OR(H5=FALSE,P5=FALSE)=TRUE,\"ERROR\",ROUND(IF(O5>W5,(O5+0.05)/(W5+0.05),(W5+0.05)/(O5+0.05)),2)))","v":""},"No",{"$f":"IF(OR(Y5=\"\",Y5=\"No\")=TRUE,IF(X5=\"\",\"\",IF(X5>=3,\"Pass\",\"Fail\")),\"Exempt\")","v":""},"N/A","N/A","N/A","N/A","N/A","N/A","N/A","N/A","N/A","N/A","N/A","N/A","N/A","N/A","N/A","N/A","N/A","N/A","N/A","N/A","N/A","N/A","N/A","N/A","N/A","N/A","N/A","N/A","N/A","N/A"]
[null,null,null,null,null,null,null,"",0,{"$f":"IF(I6/255<= 0.03928,I6/(255*12.92),(((I6/255)+0.055)/1.055)^2.4)","v":0},0,{"$f":"IF(K6/255<= 0.03928,K6/(255*12.92),(((K6/255)+0.055)/1.055)^2.4)","v":0},0,{"$f":"IF(M6/255<= 0.03928,M6/(255*12.92),(((M6/255)+0.055)/1.055)^2.4)","v":0},{"$f":"(0.2126*J6)+(0.7152*L6)+(0.0722*N6)","v":0},"",0,{"$f":"IF(Q6/255<= 0.03928,Q6/(255*12.92),(((Q6/255)+0.055)/1.055)^2.4)","v":0},0,{"$f":"IF(S6/255<= 0.03928,S6/(255*12.92),(((S6/255)+0.055)/1.055)^2.4)","v":0},0,{"$f":"IF(U6/255<= 0.03928,U6/(255*12.92),(((U6/255)+0.055)/1.055)^2.4)","v":0},{"$f":"(0.2126*R6)+(0.7152*T6)+(0.0722*V6)","v":0},"","No","","N/A","N/A","N/A","N/A","N/A","N/A","N/A","N/A","N/A","N/A","N/A","N/A","N/A","N/A","N/A","N/A","N/A","N/A","N/A","N/A","N/A","N/A","N/A","N/A","N/A","N/A","N/A","N/A","N/A","N/A"]
[null,null,null,null,null,null,null,"",0,{"$f":"IF(I7/255<= 0.03928,I7/(255*12.92),(((I7/255)+0.055)/1.055)^2.4)","v":0},0,{"$f":"IF(K7/255<= 0.03928,K7/(255*12.92),(((K7/255)+0.055)/1.055)^2.4)","v":0},0,{"$f":"IF(M7/255<= 0.03928,M7/(255*12.92),(((M7/255)+0.055)/1.055)^2.4)","v":0},{"$f":"(0.2126*J7)+(0.7152*L7)+(0.0722*N7)","v":0},"",0,{"$f":"IF(Q7/255<= 0.03928,Q7/(255*12.92),(((Q7/255)+0.055)/1.055)^2.4)","v":0},0,{"$f":"IF(S7/255<= 0.03928,S7/(255*12.92),(((S7/255)+0.055)/1.055)^2.4)","v":0},0,{"$f":"IF(U7/255<= 0.03928,U7/(255*12.92),(((U7/255)+0.055)/1.055)^2.4)","v":0},{"$f":"(0.2126*R7)+(0.7152*T7)+(0.0722*V7)","v":0},"","No","","N/A","N/A","N/A","N/A","N/A","N/A","N/A","N/A","N/A","N/A","N/A","N/A","N/A","N/A","N/A","N/A","N/A","N/A","N/A","N/A","N/A","N/A","N/A","N/A","N/A","N/A","N/A","N/A","N/A","N/A"]
[null,null,null,null,null,null,null,"",0,0,0,0,0,0,0,"",0,0,0,0,0,0,0,"","No","","N/A","N/A","N/A","N/A","N/A","N/A","N/A","N/A","N/A","N/A","N/A","N/A","N/A","N/A","N/A","N/A","N/A","N/A","N/A","N/A","N/A","N/A","N/A","N/A","N/A","N/A","N/A","N/A","N/A","N/A"]
[null,null,null,null,null,null,null,"",0,0,0,0,0,0,0,"",0,0,0,0,0,0,0,"","No","","N/A","N/A","N/A","N/A","N/A","N/A","N/A","N/A","N/A","N/A","N/A","N/A","N/A","N/A","N/A","N/A","N/A","N/A","N/A","N/A","N/A","N/A","N/A","N/A","N/A","N/A","N/A","N/A","N/A","N/A"]
[null,null,null,null,null,null,null,"",0,0,0,0,0,0,0,"",0,0,0,0,0,0,0,"","No","","N/A","N/A","N/A","N/A","N/A","N/A","N/A","N/A","N/A","N/A","N/A","N/A","N/A","N/A","N/A","N/A","N/A","N/A","N/A","N/A","N/A","N/A","N/A","N/A","N/A","N/A","N/A","N/A","N/A","N/A"]
[null,null,null,null,null,null,null,"",0,0,0,0,0,0,0,"",0,0,0,0,0,0,0,"","No","","N/A","N/A","N/A","N/A","N/A","N/A","N/A","N/A","N/A","N/A","N/A","N/A","N/A","N/A","N/A","N/A","N/A","N/A","N/A","N/A","N/A","N/A","N/A","N/A","N/A","N/A","N/A","N/A","N/A","N/A"]
[null,null,null,null,null,null,null,"",0,0,0,0,0,0,0,"",0,0,0,0,0,0,0,"","No","","N/A","N/A","N/A","N/A","N/A","N/A","N/A","N/A","N/A","N/A","N/A","N/A","N/A","N/A","N/A","N/A","N/A","N/A","N/A","N/A","N/A","N/A","N/A","N/A","N/A","N/A","N/A","N/A","N/A","N/A"]
[null,null,null,null,null,null,null,"",0,0,0,0,0,0,0,"",0,0,0,0,0,0,0,"","No","","N/A","N/A","N/A","N/A","N/A","N/A","N/A","N/A","N/A","N/A","N/A","N/A","N/A","N/A","N/A","N/A","N/A","N/A","N/A","N/A","N/A","N/A","N/A","N/A","N/A","N/A","N/A","N/A","N/A","N/A"]
[null,null,null,null,null,null,null,"",0,0,0,0,0,0,0,"",0,0,0,0,0,0,0,"","No","","N/A","N/A","N/A","N/A","N/A","N/A","N/A","N/A","N/A","N/A","N/A","N/A","N/A","N/A","N/A","N/A","N/A","N/A","N/A","N/A","N/A","N/A","N/A","N/A","N/A","N/A","N/A","N/A","N/A","N/A"]
[null,null,null,null,null,null,null,"",0,0,0,0,0,0,0,"",0,0,0,0,0,0,0,"","No","","N/A","N/A","N/A","N/A","N/A","N/A","N/A","N/A","N/A","N/A","N/A","N/A","N/A","N/A","N/A","N/A","N/A","N/A","N/A","N/A","N/A","N/A","N/A","N/A","N/A","N/A","N/A","N/A","N/A","N/A"]
[null,null,null,null,null,null,null,"",0,0,0,0,0,0,0,"",0,0,0,0,0,0,0,"","No","","N/A","N/A","N/A","N/A","N/A","N/A","N/A","N/A","N/A","N/A","N/A","N/A","N/A","N/A","N/A","N/A","N/A","N/A","N/A","N/A","N/A","N/A","N/A","N/A","N/A","N/A","N/A","N/A","N/A","N/A"]
[null,null,null,null,null,null,null,"",0,0,0,0,0,0,0,"",0,0,0,0,0,0,0,"","No","","N/A","N/A","N/A","N/A","N/A","N/A","N/A","N/A","N/A","N/A","N/A","N/A","N/A","N/A","N/A","N/A","N/A","N/A","N/A","N/A","N/A","N/A","N/A","N/A","N/A","N/A","N/A","N/A","N/A","N/A"]
[null,null,null,null,null,null,null,"",0,0,0,0,0,0,0,"",0,0,0,0,0,0,0,"","No","","N/A","N/A","N/A","N/A","N/A","N/A","N/A","N/A","N/A","N/A","N/A","N/A","N/A","N/A","N/A","N/A","N/A","N/A","N/A","N/A","N/A","N/A","N/A","N/A","N/A","N/A","N/A","N/A","N/A","N/A"]
[null,null,null,null,null,null,null,"",0,0,0,0,0,0,0,"",0,0,0,0,0,0,0,"","No","","N/A","N/A","N/A","N/A","N/A","N/A","N/A","N/A","N/A","N/A","N/A","N/A","N/A","N/A","N/A","N/A","N/A","N/A","N/A","N/A","N/A","N/A","N/A","N/A","N/A","N/A","N/A","N/A","N/A","N/A"]
[null,null,null,null,null,null,null,"",0,0,0,0,0,0,0,"",0,0,0,0,0,0,0,"","No","","N/A","N/A","N/A","N/A","N/A","N/A","N/A","N/A","N/A","N/A","N/A","N/A","N/A","N/A","N/A","N/A","N/A","N/A","N/A","N/A","N/A","N/A","N/A","N/A","N/A","N/A","N/A","N/A","N/A","N/A"]
[null,null,null,null,null,null,null,"",0,0,0,0,0,0,0,"",0,0,0,0,0,0,0,"","No","","N/A","N/A","N/A","N/A","N/A","N/A","N/A","N/A","N/A","N/A","N/A","N/A","N/A","N/A","N/A","N/A","N/A","N/A","N/A","N/A","N/A","N/A","N/A","N/A","N/A","N/A","N/A","N/A","N/A","N/A"]
[null,null,null,null,null,null,null,"",0,0,0,0,0,0,0,"",0,0,0,0,0,0,0,"","No","","N/A","N/A","N/A","N/A","N/A","N/A","N/A","N/A","N/A","N/A","N/A","N/A","N/A","N/A","N/A","N/A","N/A","N/A","N/A","N/A","N/A","N/A","N/A","N/A","N/A","N/A","N/A","N/A","N/A","N/A"]
[null,null,null,null,null,null,null,"",0,0,0,0,0,0,0,"",0,0,0,0,0,0,0,"","No","","N/A","N/A","N/A","N/A","N/A","N/A","N/A","N/A","N/A","N/A","N/A","N/A","N/A","N/A","N/A","N/A","N/A","N/A","N/A","N/A","N/A","N/A","N/A","N/A","N/A","N/A","N/A","N/A","N/A","N/A"]
[null,null,null,null,null,null,null,"",0,0,0,0,0,0,0,"",0,0,0,0,0,0,0,"","No","","N/A","N/A","N/A","N/A","N/A","N/A","N/A","N/A","N/A","N/A","N/A","N/A","N/A","N/A","N/A","N/A","N/A","N/A","N/A","N/A","N/A","N/A","N/A","N/A","N/A","N/A","N/A","N/A","N/A","N/A"]
[null,null,null,null,null,null,null,"",0,0,0,0,0,0,0,"",0,0,0,0,0,0,0,"","No","","N/A","N/A","N/A","N/A","N/A","N/A","N/A","N/A","N/A","N/A","N/A","N/A","N/A","N/A","N/A","N/A","N/A","N/A","N/A","N/A","N/A","N/A","N/A","N/A","N/A","N/A","N/A","N/A","N/A","N/A"]
[null,null,null,null,null,null,null,"",0,0,0,0,0,0,0,"",0,0,0,0,0,0,0,"","No","","N/A","N/A","N/A","N/A","N/A","N/A","N/A","N/A","N/A","N/A","N/A","N/A","N/A","N/A","N/A","N/A","N/A","N/A","N/A","N/A","N/A","N/A","N/A","N/A","N/A","N/A","N/A","N/A","N/A","N/A"]
[null,null,null,null,null,null,null,"",0,0,0,0,0,0,0,"",0,0,0,0,0,0,0,"","No","","N/A","N/A","N/A","N/A","N/A","N/A","N/A","N/A","N/A","N/A","N/A","N/A","N/A","N/A","N/A","N/A","N/A","N/A","N/A","N/A","N/A","N/A","N/A","N/A","N/A","N/A","N/A","N/A","N/A","N/A"]
[null,null,null,null,null,null,null,"",0,0,0,0,0,0,0,"",0,0,0,0,0,0,0,"","No","","N/A","N/A","N/A","N/A","N/A","N/A","N/A","N/A","N/A","N/A","N/A","N/A","N/A","N/A","N/A","N/A","N/A","N/A","N/A","N/A","N/A","N/A","N/A","N/A","N/A","N/A","N/A","N/A","N/A","N/A"]
[null,null,null,null,null,null,null,"",0,0,0,0,0,0,0,"",0,0,0,0,0,0,0,"","No","","N/A","N/A","N/A","N/A","N/A","N/A","N/A","N/A","N/A","N/A","N/A","N/A","N/A","N/A","N/A","N/A","N/A","N/A","N/A","N/A","N/A","N/A","N/A","N/A","N/A","N/A","N/A","N/A","N/A","N/A"]
[null,null,null,null,null,null,null,"",0,0,0,0,0,0,0,"",0,0,0,0,0,0,0,"","No","","N/A","N/A","N/A","N/A","N/A","N/A","N/A","N/A","N/A","N/A","N/A","N/A","N/A","N/A","N/A","N/A","N/A","N/A","N/A","N/A","N/A","N/A","N/A","N/A","N/A","N/A","N/A","N/A","N/A","N/A"]
[null,null,null,null,null,null,null,{"$f":"IF(LEN(F31)=0,\"\",AND(LEFT(F31,1)=\"#\",LEN(F31)=7))","v":""},{"$f":"HEX2DEC(RIGHT(LEFT(F31,3),2))","v":0},0,{"$f":"HEX2DEC(RIGHT(LEFT(F31,5),2))","v":0},0,{"$f":"HEX2DEC(RIGHT(F31,2))","v":0},0,0,{"$f":"IF(LEN(G31)=0,\"\",AND(LEFT(G31,1)=\"#\",LEN(G31)=7))","v":""},{"$f":"HEX2DEC(RIGHT(LEFT(G31,3),2))","v":0},0,{"$f":"HEX2DEC(RIGHT(LEFT(G31,5),2))","v":0},0,{"$f":"HEX2DEC(RIGHT(G31,2))","v":0},0,0,{"$f":"IF(OR(H31=\"\",P31=\"\")=TRUE,\"\",IF(OR(H31=FALSE,P31=FALSE)=TRUE,\"ERROR\",ROUND(IF(O31>W31,(O31+0.05)/(W31+0.05),(W31+0.05)/(O31+0.05)),2)))","v":""},"No","","N/A","N/A","N/A","N/A","N/A","N/A","N/A","N/A","N/A","N/A","N/A","N/A","N/A","N/A","N/A","N/A","N/A","N/A","N/A","N/A","N/A","N/A","N/A","N/A","N/A","N/A","N/A","N/A","N/A","N/A"]
[null,null,null,null,null,null,null,"",0,0,0,0,0,0,0,"",0,0,0,0,0,0,0,"","No","","N/A","N/A","N/A","N/A","N/A","N/A","N/A","N/A","N/A","N/A","N/A","N/A","N/A","N/A","N/A","N/A","N/A","N/A","N/A","N/A","N/A","N/A","N/A","N/A","N/A","N/A","N/A","N/A","N/A","N/A"]
[null,null,null,null,null,null,null,"",0,0,0,0,0,0,0,"",0,0,0,0,0,0,0,"","No","","N/A","N/A","N/A","N/A","N/A","N/A","N/A","N/A","N/A","N/A","N/A","N/A","N/A","N/A","N/A","N/A","N/A","N/A","N/A","N/A","N/A","N/A","N/A","N/A","N/A","N/A","N/A","N/A","N/A","N/A"]
[null,null,null,null,null,null,null,"",0,0,0,0,0,0,0,"",0,0,0,0,0,0,0,"","No","","N/A","N/A","N/A","N/A","N/A","N/A","N/A","N/A","N/A","N/A","N/A","N/A","N/A","N/A","N/A","N/A","N/A","N/A","N/A","N/A","N/A","N/A","N/A","N/A","N/A","N/A","N/A","N/A","N/A","N/A"]
[null,null,null,null,null,null,null,"",0,0,0,0,0,0,0,"",0,0,0,0,0,0,0,"","No","","N/A","N/A","N/A","N/A","N/A","N/A","N/A","N/A","N/A","N/A","N/A","N/A","N/A","N/A","N/A","N/A","N/A","N/A","N/A","N/A","N/A","N/A","N/A","N/A","N/A","N/A","N/A","N/A","N/A","N/A"]
[null,null,null,null,null,null,null,"",0,0,0,0,0,0,0,"",0,0,0,0,0,0,0,"","No","","N/A","N/A","N/A","N/A","N/A","N/A","N/A","N/A","N/A","N/A","N/A","N/A","N/A","N/A","N/A","N/A","N/A","N/A","N/A","N/A","N/A","N/A","N/A","N/A","N/A","N/A","N/A","N/A","N/A","N/A"]
[null,null,null,null,null,null,null,"",0,0,0,0,0,0,0,"",0,0,0,0,0,0,0,"","No","","N/A","N/A","N/A","N/A","N/A","N/A","N/A","N/A","N/A","N/A","N/A","N/A","N/A","N/A","N/A","N/A","N/A","N/A","N/A","N/A","N/A","N/A","N/A","N/A","N/A","N/A","N/A","N/A","N/A","N/A"]
[null,null,null,null,null,null,null,"",0,0,0,0,0,0,0,"",0,0,0,0,0,0,0,"","No","","N/A","N/A","N/A","N/A","N/A","N/A","N/A","N/A","N/A","N/A","N/A","N/A","N/A","N/A","N/A","N/A","N/A","N/A","N/A","N/A","N/A","N/A","N/A","N/A","N/A","N/A","N/A","N/A","N/A","N/A"]
[null,null,null,null,null,null,null,"",0,0,0,0,0,0,0,"",0,0,0,0,0,0,0,"","No","","N/A","N/A","N/A","N/A","N/A","N/A","N/A","N/A","N/A","N/A","N/A","N/A","N/A","N/A","N/A","N/A","N/A","N/A","N/A","N/A","N/A","N/A","N/A","N/A","N/A","N/A","N/A","N/A","N/A","N/A"]
[null,null,null,null,null,null,null,"",0,0,0,0,0,0,0,"",0,0,0,0,0,0,0,"","No","","N/A","N/A","N/A","N/A","N/A","N/A","N/A","N/A","N/A","N/A","N/A","N/A","N/A","N/A","N/A","N/A","N/A","N/A","N/A","N/A","N/A","N/A","N/A","N/A","N/A","N/A","N/A","N/A","N/A","N/A"]
[null,null,null,null,null,null,null,"",0,0,0,0,0,0,0,"",0,0,0,0,0,0,0,"","No","","N/A","N/A","N/A","N/A","N/A","N/A","N/A","N/A","N/A","N/A","N/A","N/A","N/A","N/A","N/A","N/A","N/A","N/A","N/A","N/A","N/A","N/A","N/A","N/A","N/A","N/A","N/A","N/A","N/A","N/A"]
[null,null,null,null,null,null,null,"",0,0,0,0,0,0,0,"",0,0,0,0,0,0,0,"","No","","N/A","N/A","N/A","N/A","N/A","N/A","N/A","N/A","N/A","N/A","N/A","N/A","N/A","N/A","N/A","N/A","N/A","N/A","N/A","N/A","N/A","N/A","N/A","N/A","N/A","N/A","N/A","N/A","N/A","N/A"]
[null,null,null,null,null,null,null,"",0,0,0,0,0,0,0,"",0,0,0,0,0,0,0,"","No","","N/A","N/A","N/A","N/A","N/A","N/A","N/A","N/A","N/A","N/A","N/A","N/A","N/A","N/A","N/A","N/A","N/A","N/A","N/A","N/A","N/A","N/A","N/A","N/A","N/A","N/A","N/A","N/A","N/A","N/A"]
[null,null,null,null,null,null,null,"",0,0,0,0,0,0,0,"",0,0,0,0,0,0,0,"","No","","N/A","N/A","N/A","N/A","N/A","N/A","N/A","N/A","N/A","N/A","N/A","N/A","N/A","N/A","N/A","N/A","N/A","N/A","N/A","N/A","N/A","N/A","N/A","N/A","N/A","N/A","N/A","N/A","N/A","N/A"]
[null,null,null,null,null,null,null,"",0,0,0,0,0,0,0,"",0,0,0,0,0,0,0,"","No","","N/A","N/A","N/A","N/A","N/A","N/A","N/A","N/A","N/A","N/A","N/A","N/A","N/A","N/A","N/A","N/A","N/A","N/A","N/A","N/A","N/A","N/A","N/A","N/A","N/A","N/A","N/A","N/A","N/A","N/A"]
[null,null,null,null,null,null,null,"",0,0,0,0,0,0,0,"",0,0,0,0,0,0,0,"","No","","N/A","N/A","N/A","N/A","N/A","N/A","N/A","N/A","N/A","N/A","N/A","N/A","N/A","N/A","N/A","N/A","N/A","N/A","N/A","N/A","N/A","N/A","N/A","N/A","N/A","N/A","N/A","N/A","N/A","N/A"]
[null,null,null,null,null,null,null,"",0,0,0,0,0,0,0,"",0,0,0,0,0,0,0,"","No","","N/A","N/A","N/A","N/A","N/A","N/A","N/A","N/A","N/A","N/A","N/A","N/A","N/A","N/A","N/A","N/A","N/A","N/A","N/A","N/A","N/A","N/A","N/A","N/A","N/A","N/A","N/A","N/A","N/A","N/A"]
[null,null,null,null,null,null,null,"",0,0,0,0,0,0,0,"",0,0,0,0,0,0,0,"","No","","N/A","N/A","N/A","N/A","N/A","N/A","N/A","N/A","N/A","N/A","N/A","N/A","N/A","N/A","N/A","N/A","N/A","N/A","N/A","N/A","N/A","N/A","N/A","N/A","N/A","N/A","N/A","N/A","N/A","N/A"]
[null,null,null,null,null,null,null,"",0,0,0,0,0,0,0,"",0,0,0,0,0,0,0,"","No","","N/A","N/A","N/A","N/A","N/A","N/A","N/A","N/A","N/A","N/A","N/A","N/A","N/A","N/A","N/A","N/A","N/A","N/A","N/A","N/A","N/A","N/A","N/A","N/A","N/A","N/A","N/A","N/A","N/A","N/A"]
[null,null,null,null,null,null,null,"",0,0,0,0,0,0,0,"",0,0,0,0,0,0,0,"","No","","N/A","N/A","N/A","N/A","N/A","N/A","N/A","N/A","N/A","N/A","N/A","N/A","N/A","N/A","N/A","N/A","N/A","N/A","N/A","N/A","N/A","N/A","N/A","N/A","N/A","N/A","N/A","N/A","N/A","N/A"]
[null,null,null,null,null,null,null,"",0,0,0,0,0,0,0,"",0,0,0,0,0,0,0,"","No","","N/A","N/A","N/A","N/A","N/A","N/A","N/A","N/A","N/A","N/A","N/A","N/A","N/A","N/A","N/A","N/A","N/A","N/A","N/A","N/A","N/A","N/A","N/A","N/A","N/A","N/A","N/A","N/A","N/A","N/A"]
[null,null,null,null,null,null,null,"",0,0,0,0,0,0,0,"",0,0,0,0,0,0,0,"","No","","N/A","N/A","N/A","N/A","N/A","N/A","N/A","N/A","N/A","N/A","N/A","N/A","N/A","N/A","N/A","N/A","N/A","N/A","N/A","N/A","N/A","N/A","N/A","N/A","N/A","N/A","N/A","N/A","N/A","N/A"]
[null,null,null,null,null,null,null,"",0,0,0,0,0,0,0,"",0,0,0,0,0,0,0,"","No","","N/A","N/A","N/A","N/A","N/A","N/A","N/A","N/A","N/A","N/A","N/A","N/A","N/A","N/A","N/A","N/A","N/A","N/A","N/A","N/A","N/A","N/A","N/A","N/A","N/A","N/A","N/A","N/A","N/A","N/A"]
[null,null,null,null,null,null,null,"",0,0,0,0,0,0,0,"",0,0,0,0,0,0,0,"","No","","N/A","N/A","N/A","N/A","N/A","N/A","N/A","N/A","N/A","N/A","N/A","N/A","N/A","N/A","N/A","N/A","N/A","N/A","N/A","N/A","N/A","N/A","N/A","N/A","N/A","N/A","N/A","N/A","N/A","N/A"]
[null,null,null,null,null,null,null,"",0,0,0,0,0,0,0,"",0,0,0,0,0,0,0,"","No","","N/A","N/A","N/A","N/A","N/A","N/A","N/A","N/A","N/A","N/A","N/A","N/A","N/A","N/A","N/A","N/A","N/A","N/A","N/A","N/A","N/A","N/A","N/A","N/A","N/A","N/A","N/A","N/A","N/A","N/A"]
[null,null,null,null,null,null,null,"",0,0,0,0,0,0,0,"",0,0,0,0,0,0,0,"","No","","N/A","N/A","N/A","N/A","N/A","N/A","N/A","N/A","N/A","N/A","N/A","N/A","N/A","N/A","N/A","N/A","N/A","N/A","N/A","N/A","N/A","N/A","N/A","N/A","N/A","N/A","N/A","N/A","N/A","N/A"]
[null,null,null,null,null,null,null,"",0,0,0,0,0,0,0,"",0,0,0,0,0,0,0,"","No","","N/A","N/A","N/A","N/A","N/A","N/A","N/A","N/A","N/A","N/A","N/A","N/A","N/A","N/A","N/A","N/A","N/A","N/A","N/A","N/A","N/A","N/A","N/A","N/A","N/A","N/A","N/A","N/A","N/A","N/A"]
[null,null,null,null,null,null,null,"",0,0,0,0,0,0,0,"",0,0,0,0,0,0,0,"","No","","N/A","N/A","N/A","N/A","N/A","N/A","N/A","N/A","N/A","N/A","N/A","N/A","N/A","N/A","N/A","N/A","N/A","N/A","N/A","N/A","N/A","N/A","N/A","N/A","N/A","N/A","N/A","N/A","N/A","N/A"]
[null,null,null,null,null,null,null,"",0,0,0,0,0,0,0,"",0,0,0,0,0,0,0,"","No","","N/A","N/A","N/A","N/A","N/A","N/A","N/A","N/A","N/A","N/A","N/A","N/A","N/A","N/A","N/A","N/A","N/A","N/A","N/A","N/A","N/A","N/A","N/A","N/A","N/A","N/A","N/A","N/A","N/A","N/A"]
[null,null,null,null,null,null,null,"",0,0,0,0,0,0,0,"",0,0,0,0,0,0,0,"","No","","N/A","N/A","N/A","N/A","N/A","N/A","N/A","N/A","N/A","N/A","N/A","N/A","N/A","N/A","N/A","N/A","N/A","N/A","N/A","N/A","N/A","N/A","N/A","N/A","N/A","N/A","N/A","N/A","N/A","N/A"]
[null,null,null,null,null,null,null,"",0,0,0,0,0,0,0,"",0,0,0,0,0,0,0,"","No","","N/A","N/A","N/A","N/A","N/A","N/A","N/A","N/A","N/A","N/A","N/A","N/A","N/A","N/A","N/A","N/A","N/A","N/A","N/A","N/A","N/A","N/A","N/A","N/A","N/A","N/A","N/A","N/A","N/A","N/A"]
[null,null,null,null,null,null,null,"",0,0,0,0,0,0,0,"",0,0,0,0,0,0,0,"","No","","N/A","N/A","N/A","N/A","N/A","N/A","N/A","N/A","N/A","N/A","N/A","N/A","N/A","N/A","N/A","N/A","N/A","N/A","N/A","N/A","N/A","N/A","N/A","N/A","N/A","N/A","N/A","N/A","N/A","N/A"]
[null,null,null,null,null,null,null,"",0,0,0,0,0,0,0,"",0,0,0,0,0,0,0,{"$f":"IF(OR(H63=\"\",P63=\"\")=TRUE,\"\",IF(OR(H63=FALSE,P63=FALSE)=TRUE,\"ERROR\",ROUND(IF(O63>W63,(O63+0.05)/(W63+0.05),(W63+0.05)/(O63+0.05)),2)))","v":""},"No","","N/A","N/A","N/A","N/A","N/A","N/A","N/A","N/A","N/A","N/A","N/A","N/A","N/A","N/A","N/A","N/A","N/A","N/A","N/A","N/A","N/A","N/A","N/A","N/A","N/A","N/A","N/A","N/A","N/A","N/A"]
[null,null,null,null,null,null,null,"",0,0,0,0,0,0,0,"",0,0,0,0,0,0,0,{"$f":"IF(OR(H64=\"\",P64=\"\")=TRUE,\"\",IF(OR(H64=FALSE,P64=FALSE)=TRUE,\"ERROR\",ROUND(IF(O64>W64,(O64+0.05)/(W64+0.05),(W64+0.05)/(O64+0.05)),2)))","v":""},"No",{"$f":"IF(OR(Y64=\"\",Y64=\"No\")=TRUE,IF(X64=\"\",\"\",IF(X64>=3,\"Pass\",\"Fail\")),\"Exempt\")","v":""},"N/A","N/A","N/A","N/A","N/A","N/A","N/A","N/A","N/A","N/A","N/A","N/A","N/A","N/A","N/A","N/A","N/A","N/A","N/A","N/A","N/A","N/A","N/A","N/A","N/A","N/A","N/A","N/A","N/A","N/A"]
[null,null,null,null,null,null,null,"",0,0,0,0,0,0,{"$f":"(0.2126*J65)+(0.7152*L65)+(0.0722*N65)","v":0},"",0,0,0,0,0,0,{"$f":"(0.2126*R65)+(0.7152*T65)+(0.0722*V65)","v":0},{"$f":"IF(OR(H65=\"\",P65=\"\")=TRUE,\"\",IF(OR(H65=FALSE,P65=FALSE)=TRUE,\"ERROR\",ROUND(IF(O65>W65,(O65+0.05)/(W65+0.05),(W65+0.05)/(O65+0.05)),2)))","v":""},"No",{"$f":"IF(OR(Y65=\"\",Y65=\"No\")=TRUE,IF(X65=\"\",\"\",IF(X65>=3,\"Pass\",\"Fail\")),\"Exempt\")","v":""},"N/A","N/A","N/A","N/A","N/A","N/A","N/A","N/A","N/A","N/A","N/A","N/A","N/A","N/A","N/A","N/A","N/A","N/A","N/A","N/A","N/A","N/A","N/A","N/A","N/A","N/A","N/A","N/A","N/A","N/A"]
[null,null,null,null,null,null,null,"",0,0,0,0,0,0,{"$f":"(0.2126*J66)+(0.7152*L66)+(0.0722*N66)","v":0},"",0,0,0,0,0,0,{"$f":"(0.2126*R66)+(0.7152*T66)+(0.0722*V66)","v":0},{"$f":"IF(OR(H66=\"\",P66=\"\")=TRUE,\"\",IF(OR(H66=FALSE,P66=FALSE)=TRUE,\"ERROR\",ROUND(IF(O66>W66,(O66+0.05)/(W66+0.05),(W66+0.05)/(O66+0.05)),2)))","v":""},"No",{"$f":"IF(OR(Y66=\"\",Y66=\"No\")=TRUE,IF(X66=\"\",\"\",IF(X66>=3,\"Pass\",\"Fail\")),\"Exempt\")","v":""},"N/A","N/A","N/A","N/A","N/A","N/A","N/A","N/A","N/A","N/A","N/A","N/A","N/A","N/A","N/A","N/A","N/A","N/A","N/A","N/A","N/A","N/A","N/A","N/A","N/A","N/A","N/A","N/A","N/A","N/A"]
[]
["Colour combinations shown in pink do not meet the contrast ratio (3:1 Minimum) recommended by W3C WCAG 2.1"]
["End of content."]

{"sheet":"Changelog","index":8,"n_rows":61,"n_cols":2,"rows_kept":61,"cut":false,"hidden":true,"merged":[]}
["Version","Changes"]
[3.2,"1. Set the results for all AAA success criteria to Not Tested. Added instruction to delete them all when testing for compliance with AAA.\n\n2. Added a combobox to the header of the Colour Contrast Analysis worksheet to switch between the different thresholds that apply at AA and AAA. The combobox setting automatically sets the appropriate thresholds in the formulae in the Results column.\n\n3. Hid the Cover worksheet. We should update it at some point but it is very low priority.\n\n4. Changed the Hyperlink style so the URL on the Statistics sheet is 11pt bold, the same as the other cells."]
[3.3,"1. Added examples in the Non-text Contrast worksheet.\n\n2. Added the \"What we are comparing\" and \"Recommendation (description) columns to the Non-text Contrast worksheet and reduced the width of most columns.\n\n3. Fixed the VBA so the Fail Only link works on the Non-text Contrast worksheet."]
[3.4,"Screenshots worksheet\n1. Added this worksheet. It's primarily for adding screenshots of components or mobile app screens, both as a record of what was tested and also to avoid any ambiguity because components and mobile app screens often do not have a unique or reliable means of identification.\n\nStatistics worksheet\n2. Added the \"Page or Component\" column. This will eventually be used to calculate the number of errors per page. The current means of calculation gives incorrect results if we have columns of results for the header and footer or any other common component.\n3. Added the Scope selector so the tester can specify whether they are testing to level A, AA or AAA. This does not do much now, but it will perform important functions in future versions of the report.\n\nSuccess Criteria worksheet\n4. Added \"Press Ctrl+Colon to enter today's date\" in row 2 to remind testers to record the date each page was tested.\n5. Added formulae in row 6 to calculate the number of non-compliances per page.\n6. Added formulae to automatically populate the results for the colour contrast and non-text contrast success criteria.\n7. Increased the width of the results columns to 250px on the Success Criteria worksheet so row 6 does not wrap.\n8. Added \"View screenshot\" links in row 5. These point to the corresponding heading on the Screenshots worksheet.\n\nColour Contrast Analysis worksheet\n9. Added formulae in row 3 to calculate the number of non-compliances per page.\n10. Changed the options in the dropdown for the results to just Pass, Pass (large text), Fail and N/A.\n\nNon-text Contrast worksheet\n11. Added formulae in row 3 to calculate the number of non-compliances per page.\n12. Removed the Initial State column from the Non-text Contrast worksheet and renamed the Focus State heading to Image. This is because we have been misinterpreting SC 1.4.11 - it only requires comparison of colours that are displayed at the same time.\n13. Changed the options in the dropdown for the results to just Pass, Fail and N/A.\n14. Corrected the heading to refer to \"adjacent colours\" instead of \"background and foreground colours\"."]
[3.5,"Statistics worksheet\n1. Changed cell I10 from \"Flash Version\" to \"Secondary Browser 3\". This is because Flash is pretty much deprecated and we ought to start testing with Microsoft Edge as well as Chrome, Firefox and Internet Explorer 11.\n2. Merged cell D12 with the cells to its left to improve the appearance.\n\nSuccess Criteria worksheet\n3. Reversed the order of the \"Foreground colour\" and \"Background colour\" columns so they are consistent with the order in all the major colour contrast analysers."]
[3.6,"Statistics worksheet\n1. Added 100 more rows to accommodate 150 pages.\n2. Changed the formulae in E14 to T163 to the same formulae we used in the last BEIS Registry report. This allows additional rows and colums to be added much more easily.\n3. Fixed the formulae for the totals.\n4. Added the Document option to the Page or Component listbox.\n5. Added \"Primary PDF Reader\" to the Test Environment column.\n\nSuccess Criteria worksheet\n6. Added 100 more columns to accommodate 150 pages.\n7. Changed the formulae in E3 to EX4 to the same formulae we used in the last BEIS Registry report.\n8. Added the page numbers in row 5.\n9. Deleted the \"View screenshot\" links from the columns for pages 51 to 150 to avoid having to add 100 more headings on the Screenshots worksheet. Ideally, all components and pages that require screenshots will be in the first 50 pages. Testers can add more \"View screenshot\" links if required for a specific project.\n\nColour Contrast Analysis worksheet\n10. Added 100 more columns to accommodate 150 pages.\n11. Changed the formulae in Y1 to FR2 to the same formulae we used in the last BEIS Registry report.\n12. Added the page numbers in row 3.\n\nNon-text Contrast worksheet\n13. Added 100 more columns to accommodate 150 pages.\n14. Changed the formulae in Z1 to FS2 to the same formulae we used in the last BEIS Registry report.\n15. Added the page numbers in row 3.\n\nScreenshots worksheet\n16. Increased the width of column A to 900 pixels.\n17. Added a blank row between each heading and set the height to 60 pixels."]
[3.7,"Statistics worksheet\n1. Added fields to record the report reviewer's name and date in addition to the tester's name and date.\n\nSuccess Criteria worksheet\n2. Fixed the formulae in E3 to EX4. They were wrong by 1 because a row was added to the Statistics worksheet in version 3.6.\n\nColour Contrast Analysis worksheet\n3. Fixed the formulae in Y1 to FR2. They were wrong by 1 because a row was added to the Statistics worksheet in version 3.6.\n4. Set all results colums to 69 pixels wide. Some had been erroneously set to 64 pixels.\n\nNon-text Contrast worksheet\n5. Fixed the formulae in Z1 to FS2. They were wrong by 1 because a row was added to the Statistics worksheet in version 3.6."]
["3.10","Screenshots worksheet\n1. Added formulae to automatically populate all 150 headings by pulling through the page numbers and names from the Statistics worksheet. Updated the instructions accordingly."]
["3.10\ncont.","Statistics worksheet\n2.Changed all instances of \"COMPLIANT\" to \"CONFORMANT\".\n3. Changed the options for the Page or Component comboboxes to HTML Page, HTML Component, Document, Mobile App Screen and Mobile App Overlay. Changed them to use the list on the Comboboxes worksheet instead of a hard coded list.\n4. Changed the options for the Scope to use the list on the Comboboxes worksheet instead of a hard coded list."]
["3.10\ncont.","Success Criteria worksheet\n5. Updated all the URLs in column A to point to the relevant WCAG 2.1 Understanding page.\n6. Split the definitions of SC 2.1.4, 2.5.2, 2.5.4, 1.3.5, 1.4.5, 1.4.10, 1.4.11, 1.4.12, 1.4.13, 1.4.6, 1.4.7, 1.4.8. 2.5.5 and 3.3.6 into two cells, so the Pass / Fail status cells are not stupidly tall.\n7. Changed all instances of \"COMPLIANT\" to \"CONFORMANT\" to match the changes on the Statistics worksheet.\n8. Changed the data validation of the results status from a list to an array in the Comboboxes worksheet.\n9. Deleted about a million Conditional Formatting rules and reinstated the 7 we actually need.\n10. Changed the Freeze Panes setting so the Page # is now visible all the time."]
["3.10\ncont.","Conformance Statement worksheet\n11. Added this worksheet. Where possible, the data is automatically pulled through from the Statistics worksheet to minimise the amount of effort required. This sheet contains the only new VBA, which is being used to protect cells you are not supposed to edit."]
["3.10\ncont.","Colour Contrast Analysis worksheet\n12. Changed the Image / Text / Flash column heading to Image / Text / Video and changed the combobox options in that column.\n13. Deleted a few Conditional Formatting rules and reinstated the 3 we actually need."]
["3.10\ncont.","Non-text Contrast worksheet\n14. Added an Exempt column. Set the combobox options in that column to Pass, Fail, N/A and Exempt. Added “Exempt” to the options in the Results column.\n15. Fixed the formulae in row 1 that broke when I added the column.\n16. Deleted a few hundred Conditional Formatting rules and reinstated the 3 we actually need. Set Exempt to tan.\n17. Added some examples to show how to report exempt colour combinations."]
["3.11","Introduction worksheet\n1. Added this worksheet, mainly for the benefit of screen reader users."]
["3.11\ncont.","Screenshots worksheet\n2. Deleted the first two empty rows.\n3. Added two rows for each screenshot, making a total of three. This will allow the page to scroll more smoothly when it contains large images.\n4. Added a border around the three cells for each screenshot.\n5. Set the background colour of the whole worksheet to white, so the grid cells are not visible.\n6. Increased the height of the cells containing headings to 45px and bottom-aligned the text."]
["3.11\ncont.","Statistics worksheet\n7. Updated the formulae in columns I to T to take account of the two extra rows added to the Success Criteria worksheet."]
["3.11\ncont.","Conformance Statement worksheet\n8.Hid this worksheet because we almost never use it. It can be unhidden if we need it for a project."]
["3.11\ncont.","Success Criteria worksheet\n9. Moved the Page # to row 1.\n10. Moved the total number of non-conformances to row 5, so it is always visible.\n11. Added the following to SC 4.1.1: \"This is tested using the Nu Html Checker at https://validator.w3.org/nu/. The results are then filtered using the bookmarklet at https://github.com/stevefaulkner/wcagparsing/\".\n12. Added extra rows for Colour Contrast and Non-text Contrast so we can add comments in addition to the automatically generated text.\n"]
["3.11\ncont.","Colour Contrast Analysis worksheet\n13. Changed the title to \"Colour Contrast Analysis for combinations of text and background colours\".\n14. Changed the \"large or small\" text options from Yes and No to Large and Small.\n15. Reduced the width of the Foreground Colour and Background Colour columns to 70px and changed their headings to \"Text Colour\" and \"Back. Colour\" to make room for an extra \"Exempt\" column.\n16. Added an Exempt column with options of No, Disabled, Incidental and Redundant..\n17. Updated the formula in the Results column to take account of the Exempt status.\n18. Added Exempt to the options for the results in columns Z to FS.\n19. Added conditional formatting so cells containing \"Exempt\" have a tan background.\n20. Removed the level AA / AAA combobox because it is not supported by Macs. Added \"(level AA)\" to the page title."]
["3.11\ncont.","Non-text Contrast worksheet\n21. Added \"Redundant\" as an option in the Exempt column."]
["3.11\ncont.","Success Criteria, Colour Contrast Analysis and Non-text Contrast worksheets\n22. Fixed the cells containing the page names and URLs because they displayed errors in Macs. The fix was to open the file on a Mac, then for each row, select the range of cells, press Ctrl+U, then Apple+Enter. This removes the curly brace symbols from the start and end of each cell. These brackets are how Excel recognises an array formula, but it is not clear why they were not displayed in Windows."]
["3.11\ncont.","All worksheets\nAdded cells containing \"End of content\" in column A and row 1 to indicate that there is no more content below or to the right."]
["3.12","Conformance Statement worksheet\n1. Moved the content from column C to column A to improve accessibility. Set the cell indent to match the previous appearance. Amended the VBA so it prevents the cells in column A from being edited."]
["3.12\ncont.","Success Criteria worksheet\n2. Changed the description for SC 2.2.1 because the previous description was for 2.2.\n3. Deleted all the Conditional Formatting rules.\n4. Added VBA to ThisWorkbook to run when the document is opened. It deletes all existing conditional formatting rules on this worksheet and adds the correct ones. This fixes the fragmentation of the rules that happens for a variety of reasons. "]
["3.12\ncont.","Colour Contrast Analysis worksheet\n5. Deleted all the Conditional Formatting rules.\n6. Added VBA to ThisWorkbook to run when the document is opened. It deletes all existing conditional formatting rules on this worksheet and adds the correct ones."]
["3.12\ncont.","Non-text Contrast worksheet\n7. Deleted all the Conditional Formatting rules.\n8. Added VBA to ThisWorkbook to run when the document is opened. It deletes all existing conditional formatting rules on this worksheet and adds the correct ones."]
["3.13","Introduction\n1. Updated the description of the Screenshots worksheet to reflect the change described below."]
["3.13\ncont.","Screenshots\n2. Changed the layout so the screenshots are laid out horizontally instead of vertically. This allows us to insert full-page screenshots without causing excessive scrolling. The focus now moves to the first row when the \"View screenshot\" link is clicked in the Success Criteria worksheet, which means that the screenshot will always be in view now (it wasn't always before).\n3. Added a textbox containing instructions."]
["3.13\ncont.","Statistics\n4. Changed the vertical alignment of rows 2 to 11 to be Top instead of Bottom.\n5. Added a Tidy Document button in cells V1 and W1. This hides columns V to AA, then scrolls all sheets to the top left, sets zoom to 100% and puts focus in A1. Then it displays the Statistics worksheet.\n6. Deleted the colons in column A and capitalised all the row headings in rows 7 to 10."]
["3.13\ncont.","Success Criteria\n7. Added VBA to automatically hide the level AAA success criteria when the Scope is not set to AAA on the Statistics worksheet.\n8. Redesigned the \"View screenshot\" links to point to the new destinations in the Screenshots worksheet."]
["3.13\ncont.","Comboboxes\n9. Added \"Video File\" to the list of options that appear in the \"Page or Component\" column of the Statistics worksheet."]
["3.14","Screenshots\n1. Set width of columns to 800px so this can be used to set the width of inserted images.\n2. Added new instructions for embedding screenshots."]
["3.14\ncont.","Statistics\n3. Added \"Notes\" in cell A11.\n4. Added the following in cell C11:\n\"Delete or edit as appropriate:\nWhen any of the 4 different YouTube video types are viewed as full screen, the appearance and behaviour are the same as the extra large version (page #16).\n\nIn principle, the Accessibility tool could be used to provide an \"alternate conforming version\" of pages that contain colour contrast and non-text contrast non-conformances. However, the link to the tool is only in the footer, so we do not consider it to be sufficiently prominent. The link would need to be moved to the page header in order for the tool to provide an \"alternate conforming version.\""]
["3.14\ncont.","Success Criteria\n5. Add the HTML Page / HTML Component value to each column.\n6. Changed the order of the first 6 rows to the following. Needed to split rows 3 and 4 to create the extra rows.\n     Page Name (formula)\n     URL (formula)\n     HTML Page / HTML Component value (formula)\n     View screenshot (formula)\n     Initially tested on (text)\n     Date (text) Page # (text)\n7. Reworked the Key so it no longer contains merged cells.\n8. Removed the dropdowns from the two colour contrast rows, so there is only the formula. This stops idiots changing the status manually.\n9. Set the default column width to 350px.\n10. Added the following to cell E95 on the Success Criteria worksheet:\n\"Delete or modify as required.\nThe website relies almost entirely on the browser's default focus indicator. This almost always has sufficient colour contrast against the background in Chrome, Edge and Firefox, but it never does in Safari. We therefore recommend that the focus indicator style is always specified explicitly. It should be a 2px solid outline in a suitable colour. In almost all cases it will be beneficial to apply an \"outline-offset\" value of 2px to space it away from the focused element.\""]
["3.14\ncont.","Colour Contrast Analysis\n11. Made the clickable area of cell X4 smaller so it does not expand when a row is added. "]
["3.14\ncont.","Non-text Contrast\n12. Set row heights to 56px."]
["3.14\ncont.","Default Comments\n13. Added this worksheet. Populated it with some comments that can be copied and pasted manually until the process is automated."]
["3.15","Screenshots\n1. Fixed the formulae in row 1 to pull through the page name from the Success Criteria worksheet instead of the page type. This was necessitated by the changed order of the rows of the Success Criteria worksheet as described in change #6 in version 3.14."]
["3.15\ncont.","Statistics\n2. Fixed the formulae in columns E to O to pull through the results from the correct rows of the Success Criteria worksheet. This was necessitated by the two rows that were added to the Success Criteria worksheet as described in change #6 in version 3.14."]
["3.15\ncont.","Default Comments\n3. Changed the default comments for SC 1.3.5 from \"The form does not collect information about the user.\" To \"The input fields do not collect information about the user.\""]
["3.16","Statistics\n1. Added PDF and MS Word to the page type list so we can have specific comments for the non-applicable success criteria."]
["3.16\ncont.","Success Criteria\n2. Modified the VBA to change the Conditional Formatting rule to apply to row 6 instead of row 2 on the Success Criteria sheet because the date cells moved in a previous version.\n3. Changed the date format in row 6 to display the dates as dd mmmm yyyy.\n4. Added buttons to jump to the start of level A, AA and AAA."]
["3.17","Statistics\n1. Added the HTML Page (full)\" and \"HTML Page (excluding components)\" options to the \"Page or Component\" column."]
["3.17\ncont.","Success Criteria\n2. Added a \"Show Default Comments\" button that is only visible when column X is visible on the Statistics worksheet. The button opens a popup window that contains default comments relating to the status of whichever success criterion currently has focus. These comments are pulled through from the Default Comments worksheet and can be copied and pasted into the Success Criteria worksheet.\n3. Added the full normative text for SC 2.2.2 \n4. Modified the formula that calculates the status for C 1.4.3 (Colour Contrast) so it now reports \"Pass with comments\" if there are any technically conformant colour combinations that ought to be made higher contrast. Additional comments are automatically added to the cell below."]
["3.17\ncont.","Colour Contrast Analysis\n5. Added a \"Rendered Colours\" option to the combobox in the Exempt column, which gives the result \"Should Fix\". This is to be used when the rendered colours are non-conformant but the author specified colours are not, in which case we will now record both values. This allows us to record a technical pass based on the author specified colours, while raising a \"Pass with comments\" based on the rendered colours. The column heading for each page now shows statistics for both."]
["3.17\ncont.","Default Comments\n6. Deleted all the formulae and blank rows. Converted column A to text because the VBA did not work with the formulae. Added NOT TESTED and TO DO columns to avoid VBA errors, even though we don't need these columns."]
["3.18","Statistics\n1. Added VBA so the Conformance Statement worksheet is hidden automatically when leaving the Statistics worksheet if column X is hidden.\n2. Under the Scope heading, added a dropdown to select the WCAG specification. This can be set to 2.0, 2.1 or 2.2. The setting does not do anything automatically yet. In a future template version it will set the relevant rows of the Success Criteria worksheet to N/A and hide them."]
["3.18\ncont.","Conformance Statement\n3. Fixed the formulae so they pull the correct values in from other sheets.\n4. Removed the checkboxes.\n5. Added PNG. GIF and JPG to the list of relied-on technologies.\n6. Added instructions for creating a conformance statement PDF.\n7. Wrote some VBA to export the statement to a Word document, but realised it's easier to just copy and paste it, so I commented out all the VBA."]
["3.18\ncont.","Colour Contrast Analysis\n8. The result in column X was not being calculated in the first 5 rows in the v3.17 template because the formulae in the hidden columns had been accidentally deleted on those rows. Reinstated them."]
["3.18\ncont.","Comboboxes\n9. Added 2.0, 2.1 and 2.2 to create the list of options that appear in the \"WCAG\" dropdown list on the Statistics worksheet."]
["3.19","Statistics\n1. Added VBA so the rows are hidden if they contain the default page number. The exception is if the first page name is \"Page 1\" in which case no rows are hidden. The routine also hides the relevant columns on the Success Criteria, Colour Contrast Analysis and Non-text Contrast worksheets. The routine runs automatically when you switch to another worksheet.\n2. Changed the VBA cell reference from S5 to S6 so the level AAA success criteria are correctly hidden on the Success Criteria worksheet. This was necessary because I added WCAG in row 3 in the v3.18 template.\n3. Added VBA to look up the most recent template version in the Changelog worksheet and display it in cell Y1."]
["3.19\ncont.","Success Criteria\n4. Added VBA to automatically hide the level A and/or AA success criteria when the Scope is not set to A and/or AA on the Statistics worksheet. This was already being done for the level AAA success criteria."]
["3.19\ncont.","Colour Contrast Analysis\n5. Changed the initial colour of cell Z5 from green to black. No idea how it got to be green."]
["3.20","Statistics\n1. Unused columns are automatically hidden on the Screenshots worksheet when the Statistics worksheet loses focus.\n2. The Non-text Contrast worksheet is hidden automatically when WCAG 2.0 is selected.\n3. All the rows and columns are unhidden on all worksheets if cell B15 contains the string \"Page 1\". This will rarely be needed except when page names have been entered, then removed."]
["3.20\ncont.","Success Criteria\n4. Changed the text colour of cell E88 from red to black.\n5. The VBA for the \"Go to Level A\" button had become deleted, so reinstated it."]
["3.20\ncont.","Colour Contrast Analysis\n6. Fixed the capitalisation in the formulae in row 4. This was not causing an error."]
["3.20\ncont.","Default Comments\n7. Removed spaces from the end of default text strings.\n8. Added lots more default text."]
["3.21","Non-text Contrast\n1. Fixed a bug introduced in v3.20 whereby the wrong columns were hidden."]
["3.22","Statistics\n1. Made the numbers in column A into links to the appropriate column of the Success Criteria worksheet."]
["3.22\ncont.","Success Criteria\n2. Removed the border above the dates and reduced the height of row 6.\n3. Added a scrollbar to the popup window containing the default comments. Note that it does not work with a scrollwheel."]
["3.22\ncont.","Default Comments\n4. Added lots more default text."]

{"sheet":"Default Comments","index":9,"n_rows":55,"n_cols":10,"rows_kept":55,"cut":false,"hidden":true,"merged":[]}
["Level A Success Criteria"]
["W3C Ref.",{"$f":"IF('Success Criteria'!B9=\"\",\"\",'Success Criteria'!B9)","v":"Level."},{"$f":"IF('Success Criteria'!C9=\"\",\"\",'Success Criteria'!C9)","v":""},null,"N/A","PASS","Pass with comments","NON CONFORMANT","NOT TESTED","TO DO"]
["1.1.1",{"$f":"IF('Success Criteria'!B10=\"\",\"\",'Success Criteria'!B10)","v":"A"},{"$f":"IF('Success Criteria'!C10=\"\",\"\",'Success Criteria'!C10)","v":"Non-text Content"},{"$f":"IF('Success Criteria'!D10=\"\",\"\",'Success Criteria'!D10)","v":"All non-text content that is presented to the user has a text alternative that serves the equivalent purpose."},null,null,null,"Mandatory fields are indicated by an asterisk. Although it is a text character, WCAG regards it as \"symbolic text\" and requires that a text alternative is provided. Options include:\n1. Add the word \"required\" using text that is hidden using the \"clip\" technique.\n2. Add the attribute aria-required=\"true\" to the corresponding form control.\nIn both cases, the asterisk must be hidden from assistive technologies by putting it in a <span aria-hidden=\"true\"> element."]
["1.2.1",{"$f":"IF('Success Criteria'!B12=\"\",\"\",'Success Criteria'!B12)","v":"A"},{"$f":"IF('Success Criteria'!C12=\"\",\"\",'Success Criteria'!C12)","v":"Audio-only and Video-only (Pre-recorded)"},{"$f":"IF('Success Criteria'!D12=\"\",\"\",'Success Criteria'!D12)","v":"For pre-recorded audio-only and pre-recorded video-only media, an alternative for time-based media or an audio track is provided that presents equivalent information. "},"There is no pre-recorded audio-only or pre-recorded video-only media."]
["1.2.2",{"$f":"IF('Success Criteria'!B14=\"\",\"\",'Success Criteria'!B14)","v":"A"},{"$f":"IF('Success Criteria'!C14=\"\",\"\",'Success Criteria'!C14)","v":"Captions (Pre-recorded)"},{"$f":"IF('Success Criteria'!D14=\"\",\"\",'Success Criteria'!D14)","v":"Captions are provided for all pre-recorded audio content in synchronized media, except when the media is a media alternative for text and is clearly labelled as such. "},"There is no synchronised media."]
["1.2.3",{"$f":"IF('Success Criteria'!B16=\"\",\"\",'Success Criteria'!B16)","v":"A"},{"$f":"IF('Success Criteria'!C16=\"\",\"\",'Success Criteria'!C16)","v":"Audio Description or Media Alternative (Pre-recorded)"},{"$f":"IF('Success Criteria'!D16=\"\",\"\",'Success Criteria'!D16)","v":"An alternative for time-based media or audio description of the pre-recorded video content is provided for synchronized media, except when the media is a media alternative for text and is clearly labelled as such."},"There is no time-based media or synchronized media."]
["1.3.1",{"$f":"IF('Success Criteria'!B18=\"\",\"\",'Success Criteria'!B18)","v":"A"},{"$f":"IF('Success Criteria'!C18=\"\",\"\",'Success Criteria'!C18)","v":"Info and Relationships"},{"$f":"IF('Success Criteria'!D18=\"\",\"\",'Success Criteria'!D18)","v":"Information, structure, and relationships conveyed through presentation can be programmatically determined or are available in text."},null,null,"We recommend adding the attributes role=\"group\" and aria-label=\"[Accordion / Image Gallery / Carousel / etc.]\" to the accordion container element to programmatically group the [accordion / image gallery / carousel] components.","The column and row headers in the data table are correctly marked-up using <th> elements, but scope=\"col\" attributes must be added to each column header and scope=\"row\" attributes must be added to each row header to specify the scope. (edit as required if there are only column or row headers)\n\nJavaScript is being used to intentionally trap the focus in the cookie banner, i.e. it is designed to be a modal dialog. It must therefore be in a <dialog> element.\n\nAlthough JavaScript has been used to trap the focus in the overlay, this does not apply to screen readers in \"browse\" mode, so they can navigate out of the overlay into the rest of the page. Putting the overlay in a <dialog> [or <div role=\"dialog\" aria-modal=\"true\">] element as recommended in cell [whatever] will fix this for screen readers with desktop browsers, but this does not currently work with mobile browsers (although it should and may do one day). The solution is to put all the other page content (except other modal dialogs) into a <div> element that has the attribute aria-hidden=\"true\" when the overlay is open as shown below.\n<body>\n<div aria-hidden=\"true\">[All page content]</div> <dialog>[Cookie banner content]</dialog> <dialog id=\"gp-search\">[Search overlay content]</dialog> </body>\n\nThe overlay is correctly in a <dialog> [or <div role=\"dialog\" aria-modal=\"true\">] element so the focus is trapped for screen readers with desktop browsers, but this does not currently work with mobile browsers (although it should and may do one day). The solution is to put all the other page content (except other modal dialogs) into a <div> element that has the attribute aria-hidden=\"true\" when the overlay is open as shown below.\n<body>\n<div aria-hidden=\"true\">[All page content]</div> <dialog aria-hidden=\"true\">[Other dialog if required]</dialog> <dialog aria-hidden=\"true\">[Other dialog if required]</dialog> <dialog id=\"whatever\">[Overlay content]</dialog> </body>\n\nThe website is a single page application (SPA) so it does not reload when navigating between pages. An ARIA live region must therefore be used to programmatically convey when a new page has loaded. When a link is operated to load a new page, the sequence should be:\n1. Enter the name of the new page in the live region.\n2. Update the DOM with the new page content.\n3. Set “display:block” on the content in the live region to trigger the alert. After a short delay of not less than 100ms set “display:none” on the content in the live region.\nThe text must be hidden using the \"clip\" technique.\n<div aria-live=\"assertive\"><span class=\"hidden\" style=\"display:none\">[page name]</span></div> See https://developer.mozilla.org/en-US/docs/Web/Accessibility/ARIA/ARIA_Live_Regions"]
["1.3.2",{"$f":"IF('Success Criteria'!B20=\"\",\"\",'Success Criteria'!B20)","v":"A"},{"$f":"IF('Success Criteria'!C20=\"\",\"\",'Success Criteria'!C20)","v":"Meaningful Sequence"},{"$f":"IF('Success Criteria'!D20=\"\",\"\",'Success Criteria'!D20)","v":"When the sequence in which content is presented affects its meaning, a correct reading sequence can be programmatically determined."}]
["1.3.3",{"$f":"IF('Success Criteria'!B22=\"\",\"\",'Success Criteria'!B22)","v":"A"},{"$f":"IF('Success Criteria'!C22=\"\",\"\",'Success Criteria'!C22)","v":"Sensory Characteristics"},{"$f":"IF('Success Criteria'!D22=\"\",\"\",'Success Criteria'!D22)","v":"Instructions provided for understanding and operating content do not rely solely on sensory characteristics of components such as shape, size, visual location, orientation, or sound. "},"No instructions are provided for understanding and operating content."]
["1.4.1",{"$f":"IF('Success Criteria'!B24=\"\",\"\",'Success Criteria'!B24)","v":"A"},{"$f":"IF('Success Criteria'!C24=\"\",\"\",'Success Criteria'!C24)","v":"Use of Colour"},{"$f":"IF('Success Criteria'!D24=\"\",\"\",'Success Criteria'!D24)","v":"Colour is not used as the only visual means of conveying information, indicating an action, prompting a response, or distinguishing a visual element."},null,null,null,"The focus indication for [whatever] is a change of background colour from #nnnnnn to #nnnnnn, which has a colour contrast ratio of n:1, which is less than the minimum requirement of 3:1. We recommend applying the style \"outline: 2px solid #000000; outline-offset: 2px\" on focus in addition to the change of background colour, or instead of it."]
["1.4.2",{"$f":"IF('Success Criteria'!B26=\"\",\"\",'Success Criteria'!B26)","v":"A"},{"$f":"IF('Success Criteria'!C26=\"\",\"\",'Success Criteria'!C26)","v":"Audio Control"},{"$f":"IF('Success Criteria'!D26=\"\",\"\",'Success Criteria'!D26)","v":"If any audio on a Web page plays automatically for more than 3 seconds, either a mechanism is available to pause or stop the audio, or a mechanism is available to control audio volume independently from the overall system volume level. "},"There is no audio that plays automatically for more than 3 seconds."]
["2.1.1",{"$f":"IF('Success Criteria'!B29=\"\",\"\",'Success Criteria'!B29)","v":"A"},{"$f":"IF('Success Criteria'!C29=\"\",\"\",'Success Criteria'!C29)","v":"Keyboard Navigation"},{"$f":"IF('Success Criteria'!D29=\"\",\"\",'Success Criteria'!D29)","v":"All functionality of the content is operable through a keyboard interface without requiring specific timings for individual keystrokes, except where the underlying function requires input that depends on the path of the user's movement and not just the endpoints."},"There is no functionality.",null,null,"The [whatever] links do not receive focus, so they cannot be operated using keyboard controls. The <div> elements must be changed to <a> elements as recommended in cell [whatever].\n\nThe [whatever] buttons do not receive focus, so they cannot be operated using keyboard controls. They perform an operation on the current page rather than navigating to new pages, so the <div> elements must be changed to <button> elements as recommended in cell [whatever]."]
["2.1.2",{"$f":"IF('Success Criteria'!B31=\"\",\"\",'Success Criteria'!B31)","v":"A"},{"$f":"IF('Success Criteria'!C31=\"\",\"\",'Success Criteria'!C31)","v":"No Keyboard Trap"},{"$f":"IF('Success Criteria'!D31=\"\",\"\",'Success Criteria'!D31)","v":"If keyboard focus can be moved to a component of the page using a keyboard interface, then focus can be moved away from that component using only a keyboard interface, and, if it requires more than unmodified arrow or tab keys or other standard exit methods, the user is advised of the method for moving focus away."},"The content does not receive focus."]
["2.1.4",{"$f":"IF('Success Criteria'!B33=\"\",\"\",'Success Criteria'!B33)","v":"A"},{"$f":"IF('Success Criteria'!C33=\"\",\"\",'Success Criteria'!C33)","v":"Character Key Shortcuts"},{"$f":"IF('Success Criteria'!D33=\"\",\"\",'Success Criteria'!D33)","v":"If a keyboard shortcut is implemented in content using only letter (including upper- and lower-case letters), punctuation, number, or symbol characters, then at least one of the following is true:"},"No keyboard shortcuts have been implemented in content using only a single letter, punctuation, number, or symbol character."]
["2.2.1",{"$f":"IF('Success Criteria'!B35=\"\",\"\",'Success Criteria'!B35)","v":"A"},{"$f":"IF('Success Criteria'!C35=\"\",\"\",'Success Criteria'!C35)","v":"Timing Adjustable"},{"$f":"IF('Success Criteria'!D35=\"\",\"\",'Success Criteria'!D35)","v":"For each time limit that is set by the content, at least one of the following is true:"},"There are no time limits.\n\nThere are no time limits. As far as we can tell, sessions never expire when logged in.",null,null,"[If there is a single message] - The form uses native HTML5 data validation. The error message is only displayed for 5 seconds in Chrome and there is no way to change this. The HTML5 validation should be removed and replaced with client-side JavaScript validation and server-side validation (in case JavaScript is not enabled in a user's browser).\n\n[If there are multiple messages] - The form uses native HTML5 data validation. The error messages are only displayed for 5 seconds in Chrome and there is no way to change this. The HTML5 validation should be removed and replaced with client-side JavaScript validation and server-side validation (in case JavaScript is not enabled in a user's browser)."]
["2.2.2",{"$f":"IF('Success Criteria'!B37=\"\",\"\",'Success Criteria'!B37)","v":"A"},{"$f":"IF('Success Criteria'!C37=\"\",\"\",'Success Criteria'!C37)","v":"Pause, Stop, Hide"},{"$f":"IF('Success Criteria'!D37=\"\",\"\",'Success Criteria'!D37)","v":"For moving, blinking, scrolling, or auto-updating information, all of the following are true:\n"},"There is no moving, blinking, scrolling or auto updating information.",null,"","[describe the moving content] and there is no way to pause, stop or hide [it / them]. We recommend both of the following:\n1. Add a prominent Pause button, ideally near the top of the focus order. This is essential.\n2. Use the CSS “prefers-reduced-motion” property to automatically display a static image if the user has selected this setting in their operating system. This is optional. See https://developer.mozilla.org/en-US/docs/Web/CSS/@media/prefers-reduced-motion."]
["2.3.1",{"$f":"IF('Success Criteria'!B39=\"\",\"\",'Success Criteria'!B39)","v":"A"},{"$f":"IF('Success Criteria'!C39=\"\",\"\",'Success Criteria'!C39)","v":"Three Flashes or Below Threshold"},{"$f":"IF('Success Criteria'!D39=\"\",\"\",'Success Criteria'!D39)","v":"Web pages do not contain anything that flashes more than three times in any one second period, or the flash is below the general flash and red flash thresholds."},"","The page does not contain anything that flashes more than 3 times in any one second.",""]
["2.4.1",{"$f":"IF('Success Criteria'!B41=\"\",\"\",'Success Criteria'!B41)","v":"A"},{"$f":"IF('Success Criteria'!C41=\"\",\"\",'Success Criteria'!C41)","v":"Bypass Blocks"},{"$f":"IF('Success Criteria'!D41=\"\",\"\",'Success Criteria'!D41)","v":"A mechanism is available to bypass blocks of content that are repeated on multiple Web pages."},"Although the footer contains blocks of content that are repeated on multiple Web pages, there is no benefit in being able to bypass them.\n\nWhen closed, the burger button is a single tab stop, so there is no benefit in being able to bypass it.","","The \"Skip to content\" link points to the [enter the element  type and \"id\", such as <div id=\"content\">] element, which cannot receive focus. The link works in some browsers, but the attribute tabindex=\"0\" must be added to ensure it works reliably.","There is no mechanism to bypass the links in the header. Add a \"Skip to content\" link at the top of the <body> element that points to the <main> element. The link can be hidden using the “clip” technique and only become visible when it receives focus. There is a good example at https://www.gov.uk.\n\nThere is no mechanism to bypass the links in the header. Add a \"Skip to content\" link at the top of the <body> element that points to the element with the id=\"[whatever]\" attribute. The link can be hidden using the “clip” technique and only become visible when it receives focus. There is a good example at https://www.gov.uk.\n\nThere is no mechanism to bypass the links in the header. Add an “id” attribute to the <[whatever]> element. Add a \"Skip to content\" link at the top of the <body> element that points to the “id\" attribute. The link can be hidden using the “clip” technique and only become visible when it receives focus. There is a good example at https://www.gov.uk.\n\nThe code would look like this:\n<header>\n<a href=\"#main\">Skip to content</a>\n<div>[existing logo and buttons]</div>\n</header>\n<main id=\"main\">[main content]</main>"]
["2.4.2",{"$f":"IF('Success Criteria'!B43=\"\",\"\",'Success Criteria'!B43)","v":"A"},{"$f":"IF('Success Criteria'!C43=\"\",\"\",'Success Criteria'!C43)","v":"Page Titled"},{"$f":"IF('Success Criteria'!D43=\"\",\"\",'Success Criteria'!D43)","v":"Web pages have titles that describe topic or purpose."},"Does not apply to components.","","We recommend that the title is prepended with the word \"Error\" when the page reloads after being submitted with invalid data.","The <title> element has the content \"[whatever]\", which is the same as all other pages. It must be changed to \"[page name - website name]\". The page name must be first because it is most specific.  [For SPAs, add: The website is a single-page application (SPA), so there are no page reloads. It is therefore necessary to use JavaScript to update the contents of the <title> element when navigating from page to page.]"]
["2.4.3",{"$f":"IF('Success Criteria'!B45=\"\",\"\",'Success Criteria'!B45)","v":"A"},{"$f":"IF('Success Criteria'!C45=\"\",\"\",'Success Criteria'!C45)","v":"Focus Order"},{"$f":"IF('Success Criteria'!D45=\"\",\"\",'Success Criteria'!D45)","v":"If a Web page can be navigated sequentially and the navigation sequences affect meaning or operation, focusable components receive focus in an order that preserves meaning and operability."},"There are no focusable components.","","","Although JavaScript has been used to trap the focus in the overlay, this does not apply to screen readers in \"browse\" mode, so they can navigate out of the overlay into the rest of the page. Putting the overlay in a <dialog> element as recommended in cell [whatever] will fix this for screen readers with desktop browsers, but this does not currently work with mobile browsers (although it should and may do one day). The solution is to put all the other page content (except other modal dialogs) into a <div> element that has the attribute aria-hidden=\"true\" when the overlay is open as shown below.\n<body>\n<div aria-hidden=\"true\">[All page content]</div> <dialog>[Cookie banner content]</dialog> <dialog id=\"gp-search\">[Search overlay content]</dialog> </body>\n\nThe website is a single page application (SPA). It does not reload when navigating between pages, so the new focus position may be inappropriate or undefined. We recommend that the focus is placed at the top of the <body> element because this replicates normal browser behaviour. Alternatively, place the focus at the top of the main content. This behaviour must be the same when navigating between any two pages."]
["2.4.4",{"$f":"IF('Success Criteria'!B47=\"\",\"\",'Success Criteria'!B47)","v":"A"},{"$f":"IF('Success Criteria'!C47=\"\",\"\",'Success Criteria'!C47)","v":"Link Purpose (In Context)"},{"$f":"IF('Success Criteria'!D47=\"\",\"\",'Success Criteria'!D47)","v":"The purpose of each link can be determined from the link text alone or from the link text together with its programmatically determined link context, except where the purpose of the link would be ambiguous to users in general."},"There are no links.","","","There are multiple \"[whatever]\" links that point to different URLs, and the links do not have any programmatic context. The relevant [whatever] needs to be included in the link, although it does not need to be visible. Options include:\n1. Add the [whatever] as text that is hidden using the \"clip\" technique.\n2. Add an \"aria-label\" attribute to the <a> element, such as aria-label=\"[visible text] [whatever]\". Note that the \"aria-label\" value must contain the visible text.\n3. A more complex, but possibly more robust solution uses \"aria-labelledby\" attributes as follows:\n<h3 id=\"bar\">[whatever]</h3>\n<p>[some existing text]</p>\n<p><a href=\"#\" aria-labelledby=\"foo bar\">\n<span id=\"foo\" aria-hidden=\"true\">[visible text]<span class=\"hidden\"> with </span></span></a></p>"]
["2.5.1",{"$f":"IF('Success Criteria'!B49=\"\",\"\",'Success Criteria'!B49)","v":"A"},{"$f":"IF('Success Criteria'!C49=\"\",\"\",'Success Criteria'!C49)","v":"Pointer Gestures"},{"$f":"IF('Success Criteria'!D49=\"\",\"\",'Success Criteria'!D49)","v":"All functionality that uses multipoint or path-based gestures for operation can be operated with a single pointer without a path-based gesture, unless a multipoint or path-based gesture is essential."},"There is no functionality that uses multipoint or path-based gestures for operation.","",""]
["2.5.2",{"$f":"IF('Success Criteria'!B51=\"\",\"\",'Success Criteria'!B51)","v":"A"},{"$f":"IF('Success Criteria'!C51=\"\",\"\",'Success Criteria'!C51)","v":"Pointer Cancellation"},{"$f":"IF('Success Criteria'!D51=\"\",\"\",'Success Criteria'!D51)","v":"For functionality that can be operated using a single pointer, at least one of the following is true:"},"There is no functionality.","",""]
["2.5.3",{"$f":"IF('Success Criteria'!B53=\"\",\"\",'Success Criteria'!B53)","v":"A"},{"$f":"IF('Success Criteria'!C53=\"\",\"\",'Success Criteria'!C53)","v":"Label in Name"},{"$f":"IF('Success Criteria'!D53=\"\",\"\",'Success Criteria'!D53)","v":"For user interface components with labels that include text or images of text, the name contains the text that is presented visually."},"There are no user interface components.\n\nThere are no user interface components with labels that include text or images of text.","","","The [name of link or button] has the accessible name \"[whatever]\" due to [the attribute aria-label=\"Home\"]. The visible text must be the same as, or a substring of, the accessible name, so [recommendation]."]
["2.5.4",{"$f":"IF('Success Criteria'!B55=\"\",\"\",'Success Criteria'!B55)","v":"A"},{"$f":"IF('Success Criteria'!C55=\"\",\"\",'Success Criteria'!C55)","v":"Motion Actuation"},{"$f":"IF('Success Criteria'!D55=\"\",\"\",'Success Criteria'!D55)","v":"Functionality that can be operated by device motion or user motion can also be operated by user interface components and responding to the motion can be disabled to prevent accidental actuation, except when:"},"There is no functionality that can be operated by device motion or user motion.","",""]
["3.1.1",{"$f":"IF('Success Criteria'!B58=\"\",\"\",'Success Criteria'!B58)","v":"A"},{"$f":"IF('Success Criteria'!C58=\"\",\"\",'Success Criteria'!C58)","v":"Language of Page"},{"$f":"IF('Success Criteria'!D58=\"\",\"\",'Success Criteria'!D58)","v":"The default human language of each Web page can be programmatically determined. "},"Does not apply to components.","","The <html> element has the attribute lang=\"en-US\", which is American English. This is conformant, but we recommend changing it to \"en-GB\", which is British English, so screen readers use the appropriate accent.","The <html> element does not have a \"lang\" attribute. Add the attribute lang=\"en-GB\", which is British English, so screen readers use the appropriate accent.\n\nThe <html> element has the attribute lang=\"[whatever]\", which is not appropriate. Change it to \"en-GB\", which is British English, so screen readers use the appropriate accent."]
["3.2.1",{"$f":"IF('Success Criteria'!B60=\"\",\"\",'Success Criteria'!B60)","v":"A"},{"$f":"IF('Success Criteria'!C60=\"\",\"\",'Success Criteria'!C60)","v":"On Focus"},{"$f":"IF('Success Criteria'!D60=\"\",\"\",'Success Criteria'!D60)","v":"When any component receives focus, it does not initiate a change of context."},"There are no focusable components.","",""]
["3.2.2",{"$f":"IF('Success Criteria'!B62=\"\",\"\",'Success Criteria'!B62)","v":"A"},{"$f":"IF('Success Criteria'!C62=\"\",\"\",'Success Criteria'!C62)","v":"On Input"},{"$f":"IF('Success Criteria'!D62=\"\",\"\",'Success Criteria'!D62)","v":"Changing the setting of any user interface component does not automatically cause a change of context unless the user has been advised of the behaviour before using the component"},"There is no provision for user input.","",""]
["3.3.1",{"$f":"IF('Success Criteria'!B64=\"\",\"\",'Success Criteria'!B64)","v":"A"},{"$f":"IF('Success Criteria'!C64=\"\",\"\",'Success Criteria'!C64)","v":"Error Identification"},{"$f":"IF('Success Criteria'!D64=\"\",\"\",'Success Criteria'!D64)","v":"If an input error is automatically detected, the item that is in error is identified and the error is described to the user in text."},"Select:\nThere is no provision for user input.\n\nNo input errors can occur.\n\nNo input errors can occur because the Submit button is disabled until valid data has been entered in all mandatory input fields.","","","The form uses native HTML5 data validation. The error messages are initially displayed next to the appropriate textbox. However, if the page is scrolled in Firefox, the textboxes move but the error messages do not, so the error messages are no longer associated with the appropriate textbox. The HTML5 validation should be removed and replaced with client-side JavaScript validation and server-side validation (in case JavaScript is not enabled in a user's browser)."]
["3.3.2",{"$f":"IF('Success Criteria'!B66=\"\",\"\",'Success Criteria'!B66)","v":"A"},{"$f":"IF('Success Criteria'!C66=\"\",\"\",'Success Criteria'!C66)","v":"Labels or Instructions"},{"$f":"IF('Success Criteria'!D66=\"\",\"\",'Success Criteria'!D66)","v":"Labels or instructions are provided when content requires user input."},"There is no provision for user input.","",""]
["4.1.1",{"$f":"IF('Success Criteria'!B69=\"\",\"\",'Success Criteria'!B69)","v":"A"},{"$f":"IF('Success Criteria'!C69=\"\",\"\",'Success Criteria'!C69)","v":"Parsing"},{"$f":"IF('Success Criteria'!D69=\"\",\"\",'Success Criteria'!D69)","v":"In content implemented using mark-up languages, elements have complete start and end tags, elements are nested according to their specifications, elements do not contain duplicate attributes, and any IDs are unique, except where the specifications allow these features."},"","",""]
["4.1.2",{"$f":"IF('Success Criteria'!B71=\"\",\"\",'Success Criteria'!B71)","v":"A"},{"$f":"IF('Success Criteria'!C71=\"\",\"\",'Success Criteria'!C71)","v":"Name, Role, Value"},{"$f":"IF('Success Criteria'!D71=\"\",\"\",'Success Criteria'!D71)","v":"For all user interface components (including but not limited to: form elements, links and components generated by scripts), the name and role can be programmatically determined; states, properties, and values that can be set by the user can be programmatically set; and notification of changes to these items is available to user agents, including assistive technologies. "},"There are no user interface components.","",""]
[]
["Level AA Success Criteria"]
["W3C Ref.",{"$f":"IF('Success Criteria'!B75=\"\",\"\",'Success Criteria'!B75)","v":"Level."},{"$f":"IF('Success Criteria'!C75=\"\",\"\",'Success Criteria'!C75)","v":""},null,"","",""]
["1.2.4",{"$f":"IF('Success Criteria'!B76=\"\",\"\",'Success Criteria'!B76)","v":"AA"},{"$f":"IF('Success Criteria'!C76=\"\",\"\",'Success Criteria'!C76)","v":"Captions"},{"$f":"IF('Success Criteria'!D76=\"\",\"\",'Success Criteria'!D76)","v":"Captions are provided for all live audio content in synchronized media. "},"Select:\nThere is no synchronised media.\n\nThere is no live audio content in the synchronized media.","",""]
["1.2.5",{"$f":"IF('Success Criteria'!B78=\"\",\"\",'Success Criteria'!B78)","v":"AA"},{"$f":"IF('Success Criteria'!C78=\"\",\"\",'Success Criteria'!C78)","v":"Audio Description (Pre-recorded)"},{"$f":"IF('Success Criteria'!D78=\"\",\"\",'Success Criteria'!D78)","v":"Audio description is provided for all pre-recorded video content in synchronized media."},"There is no synchronised media.","",""]
["1.3.4",{"$f":"IF('Success Criteria'!B80=\"\",\"\",'Success Criteria'!B80)","v":"AA"},{"$f":"IF('Success Criteria'!C80=\"\",\"\",'Success Criteria'!C80)","v":"Orientation"},{"$f":"IF('Success Criteria'!D80=\"\",\"\",'Success Criteria'!D80)","v":"Content does not restrict its view and operation to a single display orientation, such as portrait or landscape, unless a specific display orientation is essential."},"","",""]
["1.3.5",{"$f":"IF('Success Criteria'!B82=\"\",\"\",'Success Criteria'!B82)","v":"AA"},{"$f":"IF('Success Criteria'!C82=\"\",\"\",'Success Criteria'!C82)","v":" Identify Input Purpose"},{"$f":"IF('Success Criteria'!D82=\"\",\"\",'Success Criteria'!D82)","v":"The purpose of each input field collecting information about the user can be programmatically determined when:"},"Select:\nThere is no provision for user input.\n\nThe input fields do not collect information about the user.\n\nThe input field does not collect information about the user.","","","Delete or edit as required.\nNote that this list is not complete. See https://www.w3.org/TR/WCAG21/#input-purposes\n[Optional: If the form is for personal use only, rather than business use...] The following \"autocomplete\" attributes must be added to the following textboxes:\nTitle: autocomplete=\"honorific-prefix\"\nFirst Name: autocomplete=\"given-name\"\nMiddle Name: autocomplete=\"additional-name\"\nLast Name: autocomplete=\"family-name\"\nDate of Birth: autocomplete=\"bday\"\nJob Title: autocomplete=\"organization-title\"\nCompany: autocomplete=\"organization\"\nTelephone: autocomplete=\"tel\"\nEmail: autocomplete=\"email\"\nAddress 1: autocomplete=\"address-line1\"\nAddress 2: autocomplete=\"address-line2\"\nAddress 3: autocomplete=\"address-line3\"\nCounty: autocomplete=\"address-level1\"\nCity: autocomplete=\"address-level2\"\nPostcode: autocomplete=\"postal-code\"\nCountry: autocomplete=\"country-name\""]
["1.4.3",{"$f":"IF('Success Criteria'!B84=\"\",\"\",'Success Criteria'!B84)","v":"AA"},{"$f":"IF('Success Criteria'!C84=\"\",\"\",'Success Criteria'!C84)","v":"Colour Contrast"},{"$f":"IF('Success Criteria'!D84=\"\",\"\",'Success Criteria'!D84)","v":"The visual presentation of text and images of text has a contrast ratio of at least 4.5:1"},null,null,"WCAG requires that this test is done by measuring the author's specified colours. However, due to the font's thin stroke and/or small size and/or the browser's anti-aliasing or font smoothing, the rendered colours are different and the perceived colour contrast is lower. This is not a WCAG non-conformance, but we recommend fixing it by using a different and/or larger font."]
["1.4.4",{"$f":"IF('Success Criteria'!B87=\"\",\"\",'Success Criteria'!B87)","v":"AA"},{"$f":"IF('Success Criteria'!C87=\"\",\"\",'Success Criteria'!C87)","v":"Resize Text"},{"$f":"IF('Success Criteria'!D87=\"\",\"\",'Success Criteria'!D87)","v":"Except for captions and images of text, text can be resized without assistive technology up to 200 percent without loss of content or functionality."},"","",""]
["1.4.5",{"$f":"IF('Success Criteria'!B89=\"\",\"\",'Success Criteria'!B89)","v":"AA"},{"$f":"IF('Success Criteria'!C89=\"\",\"\",'Success Criteria'!C89)","v":"Images of Text"},{"$f":"IF('Success Criteria'!D89=\"\",\"\",'Success Criteria'!D89)","v":"If the technologies being used can achieve the visual presentation, text is used to convey information rather than images of text except for the following:"},"There are no images of text.","",""]
["1.4.10",{"$f":"IF('Success Criteria'!B91=\"\",\"\",'Success Criteria'!B91)","v":"AA"},{"$f":"IF('Success Criteria'!C91=\"\",\"\",'Success Criteria'!C91)","v":"Reflow"},{"$f":"IF('Success Criteria'!D91=\"\",\"\",'Success Criteria'!D91)","v":"Content can be presented without loss of information or functionality, and without requiring scrolling in two dimensions for:"},"","",""]
["1.4.11",{"$f":"IF('Success Criteria'!B93=\"\",\"\",'Success Criteria'!B93)","v":"AA"},{"$f":"IF('Success Criteria'!C93=\"\",\"\",'Success Criteria'!C93)","v":"Non-text Contrast"},{"$f":"IF('Success Criteria'!D93=\"\",\"\",'Success Criteria'!D93)","v":"The visual presentation of the following have a contrast ratio of at least 3:1 against adjacent colour(s):"}]
["1.4.12",{"$f":"IF('Success Criteria'!B96=\"\",\"\",'Success Criteria'!B96)","v":"AA"},{"$f":"IF('Success Criteria'!C96=\"\",\"\",'Success Criteria'!C96)","v":"Text Spacing"},{"$f":"IF('Success Criteria'!D96=\"\",\"\",'Success Criteria'!D96)","v":"In content implemented using mark-up languages that support the following text style properties, no loss of content or functionality occurs by setting all of the following and by changing no other style property:"},"","",""]
["1.4.13",{"$f":"IF('Success Criteria'!B98=\"\",\"\",'Success Criteria'!B98)","v":"AA"},{"$f":"IF('Success Criteria'!C98=\"\",\"\",'Success Criteria'!C98)","v":"Content on Hover or Focus"},{"$f":"IF('Success Criteria'!D98=\"\",\"\",'Success Criteria'!D98)","v":"Where receiving and then removing pointer hover or keyboard focus triggers additional content to become visible and then hidden, the following are true:"},"No content becomes visible or hidden upon receiving or removing hover or focus.","","","A [whatever] is displayed when the [whatever] receives focus. There is no way to dismiss it without moving the keyboard focus. Add an event handler so the [whatever] is dismissed when the Esc key is pressed.\n\nA [whatever] is displayed when the pointer is hovered over the [whatever]. There is no way to dismiss it without moving the pointer. Add an event handler so the [whatever] is dismissed when the Esc key is pressed."]
["2.4.5",{"$f":"IF('Success Criteria'!B101=\"\",\"\",'Success Criteria'!B101)","v":"AA"},{"$f":"IF('Success Criteria'!C101=\"\",\"\",'Success Criteria'!C101)","v":"Multiple Ways"},{"$f":"IF('Success Criteria'!D101=\"\",\"\",'Success Criteria'!D101)","v":"More than one way is available to locate a Web page within a set of Web pages except where the Web Page is the result of, or a step in, a process. "},"Select:\nThe page is the result of, or a step in, a process.\n\nUsers will not want to intentionally access this page. (e.g. for a custom error page)\n\nDoes not apply to components.","The page can be located via the navigation menu and/or in-page links, the search feature or the site map page. (delete or edit as applicable)","","The page can only be located via the navigation menu and/or in-page links. We recommend adding a site search feature or a Site Map page that contains links to every page. [optional - The content of the Site Map page would need to be different when logged out or in.]"]
["2.4.6",{"$f":"IF('Success Criteria'!B103=\"\",\"\",'Success Criteria'!B103)","v":"AA"},{"$f":"IF('Success Criteria'!C103=\"\",\"\",'Success Criteria'!C103)","v":"Headings and Labels"},{"$f":"IF('Success Criteria'!D103=\"\",\"\",'Success Criteria'!D103)","v":"Headings and labels describe topic or purpose."},"There are no headings or labels.","",""]
["2.4.7",{"$f":"IF('Success Criteria'!B105=\"\",\"\",'Success Criteria'!B105)","v":"AA"},{"$f":"IF('Success Criteria'!C105=\"\",\"\",'Success Criteria'!C105)","v":"Focus Visible"},{"$f":"IF('Success Criteria'!D105=\"\",\"\",'Success Criteria'!D105)","v":"Any keyboard operable user interface has a mode of operation where the keyboard focus indicator is visible."},"There are no focusable components.","","","The [whatever] receives focus but does not have a focus indicator. We recommend applying the style \"outline: 2px solid #000000; outline-offset: 2px\" on focus.\n\nThe [whatever] receive focus but do not have a focus indicator. We recommend applying the style \"outline: 2px solid #000000; outline-offset: 2px\" on focus."]
["3.1.2",{"$f":"IF('Success Criteria'!B108=\"\",\"\",'Success Criteria'!B108)","v":"AA"},{"$f":"IF('Success Criteria'!C108=\"\",\"\",'Success Criteria'!C108)","v":"Language of Parts"},{"$f":"IF('Success Criteria'!D108=\"\",\"\",'Success Criteria'!D108)","v":"The human language of each passage or phrase in the content can be programmatically determined except for proper names, technical terms, words of indeterminate language, and words or phrases that have become part of the vernacular of the immediately surrounding text."},"The human language does not change.","",""]
["3.2.3",{"$f":"IF('Success Criteria'!B110=\"\",\"\",'Success Criteria'!B110)","v":"AA"},{"$f":"IF('Success Criteria'!C110=\"\",\"\",'Success Criteria'!C110)","v":"Consistent Navigation"},{"$f":"IF('Success Criteria'!D110=\"\",\"\",'Success Criteria'!D110)","v":"Navigational mechanisms that are repeated on multiple Web pages within a set of Web pages occur in the same relative order each time they are repeated, unless a change is initiated by the user."},"There are no navigational mechanisms.","",""]
["3.2.4",{"$f":"IF('Success Criteria'!B112=\"\",\"\",'Success Criteria'!B112)","v":"AA"},{"$f":"IF('Success Criteria'!C112=\"\",\"\",'Success Criteria'!C112)","v":"Consistent Identification"},{"$f":"IF('Success Criteria'!D112=\"\",\"\",'Success Criteria'!D112)","v":"Components that have the same functionality within a set of Web pages are identified consistently."},"There is no functionality.","",""]
["3.3.3",{"$f":"IF('Success Criteria'!B114=\"\",\"\",'Success Criteria'!B114)","v":"AA"},{"$f":"IF('Success Criteria'!C114=\"\",\"\",'Success Criteria'!C114)","v":"Error Suggestion"},{"$f":"IF('Success Criteria'!D114=\"\",\"\",'Success Criteria'!D114)","v":"If an input error is automatically detected and suggestions for correction are known, then the suggestions are provided to the user, unless it would jeopardize the security or purpose of the content."},"Select:\nThere is no provision for user input.\n\nNo input errors can occur.","",""]
["3.3.4",{"$f":"IF('Success Criteria'!B116=\"\",\"\",'Success Criteria'!B116)","v":"AA"},{"$f":"IF('Success Criteria'!C116=\"\",\"\",'Success Criteria'!C116)","v":"Error Prevention (Legal, Financial, Data)"},{"$f":"IF('Success Criteria'!D116=\"\",\"\",'Success Criteria'!D116)","v":"For Web pages that cause legal commitments or financial transactions for the user to occur, that modify or delete user-controllable data in data storage systems, or that submit user test responses, at least one of the following is true: Reversible, Checked, Confirmed."},"No legal commitments or financial transactions for the user occur, user-controllable data is not modified or deleted in data storage systems, and no user test responses are submitted.","",""]
["4.1.3","AA","Status Messages","In content implemented using mark-up languages, status messages can be programmatically determined through role or properties such that they can be presented to the user by assistive technologies without receiving focus.","There are no status messages.","","The native HTML5 data validation error messages are conveyed to assistive technologies. However, it is non-conformant with other success criteria. The HTML5 data validation must be removed and validation must be implemented using an ARIA live region. See https://developer.mozilla.org/en-US/docs/Web/Accessibility/ARIA/ARIA_Live_Regions.","When [whatever], a [whatever] message is displayed. It is a status message, but it cannot be programmatically determined through role or properties such that it can be presented to the user by assistive technologies without receiving focus. It must be implemented as an ARIA live region. See https://developer.mozilla.org/en-US/docs/Web/Accessibility/ARIA/ARIA_Live_Regions"]

{"sheet":"Comboboxes","index":10,"n_rows":16,"n_cols":12,"rows_kept":16,"cut":false,"hidden":true,"merged":[]}
["Level","Variable Name","Image","No","Pass","Please select","Yes","PASS","Please select","No","Pass","2.0"]
["(Level AA)","Option value 1","Text","Browser default colours","Fail","Fully conformant","No","PASS with comments","HTML Component","Disabled","Pass \n(large text)",2.1]
["(Level AAA)","Option value 2","Video","Disabled state","N/A","Partially conformant",null,"NON CONFORMANT","HTML Page (full)","Incidental","Fail",2.2000000000000002]
["(Level AA)","Selected value",null,"Redundant","Exempt","Non-conformant",null,"NOT TESTED","HTML Page (excluding components)","Redundant","N/A"]
[{"$f":"IF(A4=A2,4.5,7)","v":4.5},"Colour contrast ratio (small text)",null,null,null,"Not assessed",null,"N/A","PDF","Rendered Colours","Exempt"]
[{"$f":"IF(A4=A2,3,4.5)","v":3},"Colour contrast ratio (large text)",null,null,null,null,null,"TO DO","MS Word document",null,"Should Fix"]
[null,null,null,null,null,null,null,null,"Other document format"]
[null,null,null,null,null,null,null,null,"Mobile App Screen"]
[null,null,null,null,null,null,null,null,"Mobile App Overlay"]
[null,null,null,null,null,null,null,null,"Video File"]
["Enter data","Enter data"]
["View AA results","View results"]
["View AAA results"]
["Enter data","View results"]
[{"$f":"IF(Statistics!S$6=\"Yes\",7,4.5)","v":4.5},"Colour contrast ratio (small text)"]
[{"$f":"IF(Statistics!S$6=\"Yes\",4.5,3)","v":3},"Colour contrast ratio (large text)"]

{"sheet":"Data Table","index":11,"n_rows":51,"n_cols":7,"rows_kept":51,"cut":false,"hidden":true,"merged":[]}
["Page","WCAG 2.0 Level A Criteria\nFailed / Total\n","WCAG 2.0 Level AA Criteria\nFailed / Total\n","Total WCAG 2.0 Criteria\nFailed / Total\n",null,null,"Instructions for copying this data table into the Management Summary Report"]
[{"$f":"Statistics!B15","v":"page 1"},{"$f":"CONCATENATE(Statistics!F15,\" / 25\")","v":"0 / 25"},{"$f":"CONCATENATE(Statistics!J15,\" / 13\")","v":"0 / 13"},{"$f":"CONCATENATE(Statistics!R15,\" / 38\")","v":"0 / 38"},null,1,"Locate the Statistics data table in the Management Summary Report."]
[{"$f":"Statistics!B16","v":"page 2"},{"$f":"CONCATENATE(Statistics!F16,\" / 25\")","v":"0 / 25"},{"$f":"CONCATENATE(Statistics!J16,\" / 13\")","v":"0 / 13"},{"$f":"CONCATENATE(Statistics!R16,\" / 38\")","v":"0 / 38"},null,2,"Delete the contents of the data table."]
[{"$f":"Statistics!B17","v":"page 3"},{"$f":"CONCATENATE(Statistics!F17,\" / 25\")","v":"0 / 25"},{"$f":"CONCATENATE(Statistics!J17,\" / 13\")","v":"0 / 13"},{"$f":"CONCATENATE(Statistics!R17,\" / 38\")","v":"0 / 38"},null,3,"Add or delete rows and columns in the data table such that they match the number of rows and columns in the data in this worksheet, including the heading row."]
[{"$f":"Statistics!B18","v":"page 4"},{"$f":"CONCATENATE(Statistics!F18,\" / 25\")","v":"0 / 25"},{"$f":"CONCATENATE(Statistics!J18,\" / 13\")","v":"0 / 13"},{"$f":"CONCATENATE(Statistics!R18,\" / 38\")","v":"0 / 38"},null,4,"Select all the cells in the data table in this worksheet."]
[{"$f":"Statistics!B19","v":"page 5"},{"$f":"CONCATENATE(Statistics!F19,\" / 25\")","v":"0 / 25"},{"$f":"CONCATENATE(Statistics!J19,\" / 13\")","v":"0 / 13"},{"$f":"CONCATENATE(Statistics!R19,\" / 38\")","v":"0 / 38"},null,5,"Copy the cells (Ctrl+C is the easiest way to do this)."]
[{"$f":"Statistics!B20","v":"page 6"},{"$f":"CONCATENATE(Statistics!F20,\" / 25\")","v":"0 / 25"},{"$f":"CONCATENATE(Statistics!J20,\" / 13\")","v":"0 / 13"},{"$f":"CONCATENATE(Statistics!R20,\" / 38\")","v":"0 / 38"},null,6,"Select all the cells in the data table in the Management Summary Report."]
[{"$f":"Statistics!B21","v":"page 7"},{"$f":"CONCATENATE(Statistics!F21,\" / 25\")","v":"0 / 25"},{"$f":"CONCATENATE(Statistics!J21,\" / 13\")","v":"0 / 13"},{"$f":"CONCATENATE(Statistics!R21,\" / 38\")","v":"0 / 38"},null,7,"Paste the cells into the Management Summary Report (Ctrl+V is the easiest way to do this)."]
[{"$f":"Statistics!B22","v":"Header (Pre-login) (Admin)"},{"$f":"CONCATENATE(Statistics!F22,\" / 25\")","v":"0 / 25"},{"$f":"CONCATENATE(Statistics!J22,\" / 13\")","v":"0 / 13"},{"$f":"CONCATENATE(Statistics!R22,\" / 38\")","v":"0 / 38"},null,8,"While the cells are still selected, set the Paragraph Spacing to 3pt Before and 3pt After."]
[{"$f":"Statistics!B23","v":"Footer (Pre-login) (Admin)"},{"$f":"CONCATENATE(Statistics!F23,\" / 25\")","v":"0 / 25"},{"$f":"CONCATENATE(Statistics!J23,\" / 13\")","v":"0 / 13"},{"$f":"CONCATENATE(Statistics!R23,\" / 38\")","v":"0 / 38"},null,9,"Make the column headings bold."]
[{"$f":"Statistics!B24","v":"Login (Admin)"},{"$f":"CONCATENATE(Statistics!F24,\" / 25\")","v":"0 / 25"},{"$f":"CONCATENATE(Statistics!J24,\" / 13\")","v":"1 / 13"},{"$f":"CONCATENATE(Statistics!R24,\" / 38\")","v":"1 / 38"},null,10,"Select all the data cells but not the row and column headings."]
[{"$f":"Statistics!B25","v":"Header (Post-login) (Admin)"},{"$f":"CONCATENATE(Statistics!F25,\" / 25\")","v":"1 / 25"},{"$f":"CONCATENATE(Statistics!J25,\" / 13\")","v":"0 / 13"},{"$f":"CONCATENATE(Statistics!R25,\" / 38\")","v":"1 / 38"},null,11,"Right-click anywhere in the selected area. A dropdown menu will appear. Select Cell Alignment > Align Centre (the option in the middle)."]
[{"$f":"Statistics!B26","v":"Footer (Post-login) (Admin)"},{"$f":"CONCATENATE(Statistics!F26,\" / 25\")","v":"0 / 25"},{"$f":"CONCATENATE(Statistics!J26,\" / 13\")","v":"0 / 13"},{"$f":"CONCATENATE(Statistics!R26,\" / 38\")","v":"0 / 38"}]
[{"$f":"Statistics!B27","v":"Menu (Admin)"},{"$f":"CONCATENATE(Statistics!F27,\" / 25\")","v":"1 / 25"},{"$f":"CONCATENATE(Statistics!J27,\" / 13\")","v":"2 / 13"},{"$f":"CONCATENATE(Statistics!R27,\" / 38\")","v":"3 / 38"},null,null,"This sheet needs to be updated for WCAG 2.1 AAA"]
[{"$f":"Statistics!B28","v":"View record (Admin)"},{"$f":"CONCATENATE(Statistics!F28,\" / 25\")","v":"2 / 25"},{"$f":"CONCATENATE(Statistics!J28,\" / 13\")","v":"1 / 13"},{"$f":"CONCATENATE(Statistics!R28,\" / 38\")","v":"3 / 38"}]
[{"$f":"Statistics!B29","v":"Edit record (Admin)"},{"$f":"CONCATENATE(Statistics!F29,\" / 25\")","v":"3 / 25"},{"$f":"CONCATENATE(Statistics!J29,\" / 13\")","v":"1 / 13"},{"$f":"CONCATENATE(Statistics!R29,\" / 38\")","v":"4 / 38"}]
[{"$f":"Statistics!B30","v":"Step 1: Enforcement Action Type "},{"$f":"CONCATENATE(Statistics!F30,\" / 25\")","v":"3 / 25"},{"$f":"CONCATENATE(Statistics!J30,\" / 13\")","v":"1 / 13"},{"$f":"CONCATENATE(Statistics!R30,\" / 38\")","v":"4 / 38"}]
[{"$f":"Statistics!B31","v":"Step 1: Postal Address"},{"$f":"CONCATENATE(Statistics!F31,\" / 25\")","v":"3 / 25"},{"$f":"CONCATENATE(Statistics!J31,\" / 13\")","v":"1 / 13"},{"$f":"CONCATENATE(Statistics!R31,\" / 38\")","v":"4 / 38"}]
[{"$f":"Statistics!B32","v":"Step 3: Enforcement Action - Details"},{"$f":"CONCATENATE(Statistics!F32,\" / 25\")","v":"4 / 25"},{"$f":"CONCATENATE(Statistics!J32,\" / 13\")","v":"1 / 13"},{"$f":"CONCATENATE(Statistics!R32,\" / 38\")","v":"5 / 38"}]
[{"$f":"Statistics!B33","v":"My Records"},{"$f":"CONCATENATE(Statistics!F33,\" / 25\")","v":"4 / 25"},{"$f":"CONCATENATE(Statistics!J33,\" / 13\")","v":"1 / 13"},{"$f":"CONCATENATE(Statistics!R33,\" / 38\")","v":"5 / 38"}]
[{"$f":"Statistics!B34","v":"Users"},{"$f":"CONCATENATE(Statistics!F34,\" / 25\")","v":"5 / 25"},{"$f":"CONCATENATE(Statistics!J34,\" / 13\")","v":"1 / 13"},{"$f":"CONCATENATE(Statistics!R34,\" / 38\")","v":"6 / 38"}]
[{"$f":"Statistics!B35","v":"Search"},{"$f":"CONCATENATE(Statistics!F35,\" / 25\")","v":"4 / 25"},{"$f":"CONCATENATE(Statistics!J35,\" / 13\")","v":"1 / 13"},{"$f":"CONCATENATE(Statistics!R35,\" / 38\")","v":"5 / 38"}]
[{"$f":"Statistics!B36","v":"decision-1692365159.pdf"},{"$f":"CONCATENATE(Statistics!F36,\" / 25\")","v":"1 / 25"},{"$f":"CONCATENATE(Statistics!J36,\" / 13\")","v":"0 / 13"},{"$f":"CONCATENATE(Statistics!R36,\" / 38\")","v":"1 / 38"}]
[{"$f":"Statistics!B37","v":"Edit user"},{"$f":"CONCATENATE(Statistics!F37,\" / 25\")","v":"3 / 25"},{"$f":"CONCATENATE(Statistics!J37,\" / 13\")","v":"0 / 13"},{"$f":"CONCATENATE(Statistics!R37,\" / 38\")","v":"3 / 38"}]
[{"$f":"Statistics!B38","v":"Letter Template: Letters Decision Amend"},{"$f":"CONCATENATE(Statistics!F38,\" / 25\")","v":"3 / 25"},{"$f":"CONCATENATE(Statistics!J38,\" / 13\")","v":"0 / 13"},{"$f":"CONCATENATE(Statistics!R38,\" / 38\")","v":"3 / 38"}]
[{"$f":"Statistics!B39","v":"Suspend Enforcement Actions (Public) (Checkbox only)"},{"$f":"CONCATENATE(Statistics!F39,\" / 25\")","v":"1 / 25"},{"$f":"CONCATENATE(Statistics!J39,\" / 13\")","v":"0 / 13"},{"$f":"CONCATENATE(Statistics!R39,\" / 38\")","v":"1 / 38"}]
[{"$f":"Statistics!B40","v":"Suspend Enforcement Actions (Public) - are you sure?"},{"$f":"CONCATENATE(Statistics!F40,\" / 25\")","v":"1 / 25"},{"$f":"CONCATENATE(Statistics!J40,\" / 13\")","v":"0 / 13"},{"$f":"CONCATENATE(Statistics!R40,\" / 38\")","v":"1 / 38"}]
[{"$f":"Statistics!B41","v":"Decision Letter Entities (Table only)"},{"$f":"CONCATENATE(Statistics!F41,\" / 25\")","v":"0 / 25"},{"$f":"CONCATENATE(Statistics!J41,\" / 13\")","v":"0 / 13"},{"$f":"CONCATENATE(Statistics!R41,\" / 38\")","v":"0 / 38"}]
[{"$f":"Statistics!B42","v":"Page 28"},{"$f":"CONCATENATE(Statistics!F42,\" / 25\")","v":"0 / 25"},{"$f":"CONCATENATE(Statistics!J42,\" / 13\")","v":"0 / 13"},{"$f":"CONCATENATE(Statistics!R42,\" / 38\")","v":"0 / 38"}]
[{"$f":"Statistics!B43","v":"Page 29"},{"$f":"CONCATENATE(Statistics!F43,\" / 25\")","v":"0 / 25"},{"$f":"CONCATENATE(Statistics!J43,\" / 13\")","v":"0 / 13"},{"$f":"CONCATENATE(Statistics!R43,\" / 38\")","v":"0 / 38"}]
[{"$f":"Statistics!B44","v":"Page 30"},{"$f":"CONCATENATE(Statistics!F44,\" / 25\")","v":"0 / 25"},{"$f":"CONCATENATE(Statistics!J44,\" / 13\")","v":"0 / 13"},{"$f":"CONCATENATE(Statistics!R44,\" / 38\")","v":"0 / 38"}]
[{"$f":"Statistics!B45","v":"Page 31"},{"$f":"CONCATENATE(Statistics!F45,\" / 25\")","v":"0 / 25"},{"$f":"CONCATENATE(Statistics!J45,\" / 13\")","v":"0 / 13"},{"$f":"CONCATENATE(Statistics!R45,\" / 38\")","v":"0 / 38"}]
[{"$f":"Statistics!B46","v":"Page 32"},{"$f":"CONCATENATE(Statistics!F46,\" / 25\")","v":"0 / 25"},{"$f":"CONCATENATE(Statistics!J46,\" / 13\")","v":"0 / 13"},{"$f":"CONCATENATE(Statistics!R46,\" / 38\")","v":"0 / 38"}]
[{"$f":"Statistics!B47","v":"Page 33"},{"$f":"CONCATENATE(Statistics!F47,\" / 25\")","v":"0 / 25"},{"$f":"CONCATENATE(Statistics!J47,\" / 13\")","v":"0 / 13"},{"$f":"CONCATENATE(Statistics!R47,\" / 38\")","v":"0 / 38"}]
[{"$f":"Statistics!B48","v":"Page 34"},{"$f":"CONCATENATE(Statistics!F48,\" / 25\")","v":"0 / 25"},{"$f":"CONCATENATE(Statistics!J48,\" / 13\")","v":"0 / 13"},{"$f":"CONCATENATE(Statistics!R48,\" / 38\")","v":"0 / 38"}]
[{"$f":"Statistics!B49","v":"Page 35"},{"$f":"CONCATENATE(Statistics!F49,\" / 25\")","v":"0 / 25"},{"$f":"CONCATENATE(Statistics!J49,\" / 13\")","v":"0 / 13"},{"$f":"CONCATENATE(Statistics!R49,\" / 38\")","v":"0 / 38"}]
[{"$f":"Statistics!B50","v":"Page 36"},{"$f":"CONCATENATE(Statistics!F50,\" / 25\")","v":"0 / 25"},{"$f":"CONCATENATE(Statistics!J50,\" / 13\")","v":"0 / 13"},{"$f":"CONCATENATE(Statistics!R50,\" / 38\")","v":"0 / 38"}]
[{"$f":"Statistics!B51","v":"Page 37"},{"$f":"CONCATENATE(Statistics!F51,\" / 25\")","v":"0 / 25"},{"$f":"CONCATENATE(Statistics!J51,\" / 13\")","v":"0 / 13"},{"$f":"CONCATENATE(Statistics!R51,\" / 38\")","v":"0 / 38"}]
[{"$f":"Statistics!B52","v":"Page 38"},{"$f":"CONCATENATE(Statistics!F52,\" / 25\")","v":"0 / 25"},{"$f":"CONCATENATE(Statistics!J52,\" / 13\")","v":"0 / 13"},{"$f":"CONCATENATE(Statistics!R52,\" / 38\")","v":"0 / 38"}]
[{"$f":"Statistics!B53","v":"Page 39"},{"$f":"CONCATENATE(Statistics!F53,\" / 25\")","v":"0 / 25"},{"$f":"CONCATENATE(Statistics!J53,\" / 13\")","v":"0 / 13"},{"$f":"CONCATENATE(Statistics!R53,\" / 38\")","v":"0 / 38"}]
[{"$f":"Statistics!B54","v":"Page 40"},{"$f":"CONCATENATE(Statistics!F54,\" / 25\")","v":"0 / 25"},{"$f":"CONCATENATE(Statistics!J54,\" / 13\")","v":"0 / 13"},{"$f":"CONCATENATE(Statistics!R54,\" / 38\")","v":"0 / 38"}]
[{"$f":"Statistics!B55","v":"Page 41"},{"$f":"CONCATENATE(Statistics!F55,\" / 25\")","v":"0 / 25"},{"$f":"CONCATENATE(Statistics!J55,\" / 13\")","v":"0 / 13"},{"$f":"CONCATENATE(Statistics!R55,\" / 38\")","v":"0 / 38"}]
[{"$f":"Statistics!B56","v":"Page 42"},{"$f":"CONCATENATE(Statistics!F56,\" / 25\")","v":"0 / 25"},{"$f":"CONCATENATE(Statistics!J56,\" / 13\")","v":"0 / 13"},{"$f":"CONCATENATE(Statistics!R56,\" / 38\")","v":"0 / 38"}]
[{"$f":"Statistics!B57","v":"Page 43"},{"$f":"CONCATENATE(Statistics!F57,\" / 25\")","v":"0 / 25"},{"$f":"CONCATENATE(Statistics!J57,\" / 13\")","v":"0 / 13"},{"$f":"CONCATENATE(Statistics!R57,\" / 38\")","v":"0 / 38"}]
[{"$f":"Statistics!B58","v":"Page 44"},{"$f":"CONCATENATE(Statistics!F58,\" / 25\")","v":"0 / 25"},{"$f":"CONCATENATE(Statistics!J58,\" / 13\")","v":"0 / 13"},{"$f":"CONCATENATE(Statistics!R58,\" / 38\")","v":"0 / 38"}]
[{"$f":"Statistics!B59","v":"Page 45"},{"$f":"CONCATENATE(Statistics!F59,\" / 25\")","v":"0 / 25"},{"$f":"CONCATENATE(Statistics!J59,\" / 13\")","v":"0 / 13"},{"$f":"CONCATENATE(Statistics!R59,\" / 38\")","v":"0 / 38"}]
[{"$f":"Statistics!B60","v":"Page 46"},{"$f":"CONCATENATE(Statistics!F60,\" / 25\")","v":"0 / 25"},{"$f":"CONCATENATE(Statistics!J60,\" / 13\")","v":"0 / 13"},{"$f":"CONCATENATE(Statistics!R60,\" / 38\")","v":"0 / 38"}]
[{"$f":"Statistics!B61","v":"Page 47"},{"$f":"CONCATENATE(Statistics!F61,\" / 25\")","v":"0 / 25"},{"$f":"CONCATENATE(Statistics!J61,\" / 13\")","v":"0 / 13"},{"$f":"CONCATENATE(Statistics!R61,\" / 38\")","v":"0 / 38"}]
[{"$f":"Statistics!B62","v":"Page 48"},{"$f":"CONCATENATE(Statistics!F62,\" / 25\")","v":"0 / 25"},{"$f":"CONCATENATE(Statistics!J62,\" / 13\")","v":"0 / 13"},{"$f":"CONCATENATE(Statistics!R62,\" / 38\")","v":"0 / 38"}]
[{"$f":"Statistics!B63","v":"Page 49"},{"$f":"CONCATENATE(Statistics!F63,\" / 25\")","v":"0 / 25"},{"$f":"CONCATENATE(Statistics!J63,\" / 13\")","v":"0 / 13"},{"$f":"CONCATENATE(Statistics!R63,\" / 38\")","v":"0 / 38"}]
[{"$f":"Statistics!B64","v":"Page 50"},{"$f":"CONCATENATE(Statistics!F64,\" / 25\")","v":"0 / 25"},{"$f":"CONCATENATE(Statistics!J64,\" / 13\")","v":"0 / 13"},{"$f":"CONCATENATE(Statistics!R64,\" / 38\")","v":"0 / 38"}]